Workbook

Sheet Локальная смета 1
A1: ФОРМА № 4
A2: Наименование стройки -
A3: Объект
A4: ЛОКАЛЬНАЯ СМЕТА № 1.01
A5: на Разборку и омоноличивание балок
A6: Основание | M6: Сметная стоимость - | T6: 338,654 тыс.руб
A7: Чертежи №
A9: Составлена в ценах I квартала 2009 г
A10: № п/п | B10: Шифр и номер позиции норматива | C10: Наименование работ и затрат | E10: Количество | F10: Стоимость на единицу, руб | K10: Общая стоимость, руб. | V10: Затраты труда рабочих, чел.-ч. не занят. обсл. машин
F11: Всего | G11: Экспл. машин | I11: Материалы | K11: Всего | N11: Основной зарплаты | Q11: Экспл. машин | S11: Материалы | V11: обслуживающ. машины
E12: ед. изм.
F13: Основной зарплаты | G13: В т.ч. зарплаты | Q13: В т.ч. зарплаты | V13: На един. | X13: Всего
A14: №1 <Нет раздела>
A15: 1 | B15: 2 | C15: 3 | E15: 4 | F15: 5 | G15: 6 | I15: 7 | K15: 8 | N15: 9 | Q15: 10 | S15: 11 | V15: 12 | X15: 13
A16: 1 | B16: ФЕР46-04-003-05 | C16: Разборка бетонных конструкций объемом более 1 м3 при помощи отбойных молотков из бетона марки: 300 | E16: 2.1164 | F16: 3946.39 | G16: 3523.39 | I16: 0 | K16: 8352.14 | N16: 895.24 | Q16: 7456.9 | S16: 0 | V16: 49.59 | X16: 104.95
B17: (0) | E17: 1 м3 | F17: 423 | G17: 232.18 | Q17: 491.39 | V17: 23.08 | X17: 48.85
A18: 2 | B18: ССЦ01.2000 п.3 | C18: Погрузочные работы: Изделия из сборного железобетона, бетона, керамзитобетона массой до 3 т -Погрузка мусора от разборки | E18: 5.291 | F18: 7.46 | G18: 0 | I18: 0 | K18: 39.47 | N18: 39.47 | Q18: 0 | S18: 0
E19: тонн | F19: 7.46 | G19: 0 | Q19: 0
A20: 3 | B20: ССЦ01.2000 Табл.8-1 | C20: Расстояние перевозки - от 0,1 до 1 км, класс груза - 1, раздел таблицы - 8 | E20: 5.291 | F20: 2.6 | G20: 0 | I20: 0 | K20: 13.76 | N20: 0 | Q20: 0 | S20: 0
E21: тонн
A22: 4 | B22: ССЦ01.2000 п.3 | C22: Погрузочные работы: Изделия из сборного железобетона, бетона, керамзитобетона массой до 3 т Объем:((17,6017-2,1164)+3,84)*2,5 -Погрузка подготовленных балок | E22: 48.31325 | F22: 7.46 | G22: 7.46 | I22: 0 | K22: 360.42 | N22: 0 | Q22: 360.42 | S22: 0
E23: тонн | F23: 0 | G23: 1.21 | Q23: 58.46
A24: 5 | B24: ССЦ01.2000 Табл.8-1 | C24: Расстояние перевозки - от 0,1 до 1 км, класс груза - 1, раздел таблицы - 8 -перевозка балок со склада до места монтажа | E24: 48.31325 | F24: 2.6 | G24: 2.6 | I24: 0 | K24: 125.61 | N24: 0 | Q24: 125.61 | S24: 0
E25: тонн
A26: 6 | B26: ССЦ01.2000 п.3 | C26: Разгрузочные работы: Изделия из сборного железобетона, бетона, керамзитобетона массой до 3 т | E26: 48.31325 | F26: 7.46 | G26: 7.46 | I26: 0 | K26: 360.42 | N26: 0 | Q26: 360.42 | S26: 0
E27: тонн | F27: 0 | G27: 1.21 | Q27: 58.46
A28: 7 | B28: ФЕР46-03-001-01 | C28: Сверление кольцевыми алмазными сверлами в железобетонных конструкциях с применением охлаждающей жидкости (воды) вертикальных отверстий глубиной 200 мм диаметром 20 мм -сверление отв. Глубиной 160 мм диаметром 16 мм | E28: 3.2 | F28: 1964.83 | G28: 647.07 | I28: 1141.13 | K28: 6287.46 | N28: 565.22 | Q28: 2070.62 | S28: 3651.62 | V28: 17.3 | X28: 55.36
B29: (0) | E29: 100 отверстий | F29: 176.63 | G29: 173.62 | Q29: 555.58 | V29: 16.41 | X29: 52.51
A30: 8 | B30: ФЕР13-06-002-01 | C30: Очистка кварцевым песком сплошных наружных поверхностей отверстий | E30: 2.41152 | F30: 57.887 | G30: 45.7375 | I30: 8.32 | K30: 139.6 | N30: 9.23 | Q30: 110.3 | S30: 20.06 | V30: 0.4485 | X30: 1.08
B31: (0) | C31: ЗП=3,33*1,15; ЭММ=36,59*1,25; ЗПм=2,92*1,25; ТЗТ=0,39*1,15; ТЗТм=0,41*1,25 | E31: 1 м2 очищаемой поверхности | F31: 3.8295 | G31: 3.65 | Q31: 8.8 | V31: 0.5125 | X31: 1.24
A32: 9 | B32: ФЕР13-06-004-01 | C32: Обеспыливание поверхности отверстий | E32: 2.41152 | F32: 1.315 | G32: 0.3375 | I32: 0 | K32: 3.17 | N32: 2.36 | Q32: 0.81 | S32: 0 | V32: 0.115 | X32: 0.28
B33: (0) | C33: ЗП=0,85*1,15; ЭММ=0,27*1,25; ЗПм=0*1,25; ТЗТ=0,1*1,15; ТЗТм=0*1,25 | E33: 1 м2 обеспыливаемой поверхности | F33: 0.9775 | G33: 0 | Q33: 0 | V33: 0 | X33: 0
A34: 10 | B34: ФЕР04-02-007-01 | C34: Резка арматуры на элементы длиной 0,3 м | E34: 311 | F34: 4.42 | G34: 1.69 | I34: 1.19 | K34: 1374.62 | N34: 478.94 | Q34: 525.59 | S34: 370.09 | V34: 0.17 | X34: 52.87
B35: (0) | E35: 1 резка | F35: 1.54 | G35: 0 | Q35: 0 | V35: 0.02 | X35: 6.22
A36: 11 | B36: ФЕР06-01-015-01 | C36: Установка анкерных болтов в готовые гнезда с заделкой длиной до 1 м -установка арматуры длиной 0,3 м | E36: 0.085248 | F36: 13379.351 | G36: 69.875 | I36: 10103.46 | K36: 1140.56 | N36: 273.31 | Q36: 5.96 | S36: 861.3 | V36: 362.2615 | X36: 30.88
B37: (0) | C37: ЗП=2787,84*1,15; ЭММ=55,9*1,25; ЗПм=3,38*1,25; ТЗТ=315,01*1,15; ТЗТм=0,62*1,25 | E37: 1 т | F37: 3206.016 | G37: 4.225 | Q37: 0.36 | V37: 0.775 | X37: 0.07
A38: 11.1 | B38: [204-0059] | C38: Анкерные детали из прямых или гнутых круглых стержней с резьбой (в комплекте с шайбами и гайками или без них), поставляемые отдельно | E38: 0.085248 | G38: 1 | I38: -10100 | S38: -861
E39: т
A40: 11.2 | B40: [204-0022] | C40: Горячекатаная арматурная сталь периодического профиля класса А-III, диаметром 12 мм V=0,085248*1.01 | E40: 0.08610048 | G40: 1.01 | I40: 7997.23 | S40: 688.57
E41: т
...

Sheet SMW_Служебная
A1: Разборка балок и омоноличивание.smw
A2: ='Локальная смета 1'!A1 -> ФОРМА № 4 | B2: 0 | C2: 0 | D2: 0 | E2: 0 | F2: 700
A3: ='Локальная смета 1'!A2 -> Наименование стройки - | B3: 0 | C3: 1 | D3: 0 | E3: 0 | F3: 701
A4: ='Локальная смета 1'!A3 -> Объект | B4: 0 | C4: 2 | D4: 0 | E4: 0 | F4: 702
A5: ='Локальная смета 1'!A4 -> ЛОКАЛЬНАЯ СМЕТА № 1.01 | B5: 0 | C5: 3 | D5: 0 | E5: 0 | F5: 703
A6: ='Локальная смета 1'!A5 -> на Разборку и омоноличивание балок | B6: 0 | C6: 4 | D6: 0 | E6: 0 | F6: 704
A7: ='Локальная смета 1'!A6 -> Основание | B7: 0 | C7: 5 | D7: 0 | E7: 0 | F7: 705
A8: ='Локальная смета 1'!M6 -> Сметная стоимость - | B8: 0 | C8: 5 | D8: 1 | E8: 0 | F8: 705
A9: ='Локальная смета 1'!A7 -> Чертежи № | B9: 0 | C9: 6 | D9: 0 | E9: 0 | F9: 706
A10: ='Локальная смета 1'!M7 -> 0 | B10: 0 | C10: 6 | D10: 1 | E10: 0 | F10: 706
A11: ='Локальная смета 1'!A8 -> 0 | B11: 0 | C11: 7 | D11: 0 | E11: 0 | F11: 707
A12: ='Локальная смета 1'!M8 -> 0 | B12: 0 | C12: 7 | D12: 1 | E12: 0 | F12: 707
A13: ='Локальная смета 1'!A9 -> Составлена в ценах I квартала 2009 г | B13: 0 | C13: 8 | D13: 0 | E13: 0 | F13: 708
A14: ='Локальная смета 1'!A10 -> № п/п | B14: 0 | C14: 10 | D14: 0 | E14: 0 | F14: 11200
A15: ='Локальная смета 1'!B10 -> Шифр и номер позиции норматива | B15: 0 | C15: 10 | D15: 1 | E15: 0 | F15: 11200
A16: ='Локальная смета 1'!C10 -> Наименование работ и затрат | B16: 0 | C16: 10 | D16: 2 | E16: 0 | F16: 11200
A17: ='Локальная смета 1'!E10 -> Количество | B17: 0 | C17: 10 | D17: 3 | E17: 0 | F17: 11200
A18: ='Локальная смета 1'!E12 -> ед. изм. | B18: 0 | C18: 10 | D18: 4 | E18: 0 | F18: 11200
A19: ='Локальная смета 1'!F10 -> Стоимость на единицу, руб | B19: 0 | C19: 10 | D19: 5 | E19: 0 | F19: 11200
A20: ='Локальная смета 1'!F11 -> Всего | B20: 0 | C20: 10 | D20: 6 | E20: 0 | F20: 11200
A21: ='Локальная смета 1'!F13 -> Основной зарплаты | B21: 0 | C21: 10 | D21: 7 | E21: 0 | F21: 11200
A22: ='Локальная смета 1'!G11 -> Экспл. машин | B22: 0 | C22: 10 | D22: 8 | E22: 0 | F22: 11200
A23: ='Локальная смета 1'!G13 -> В т.ч. зарплаты | B23: 0 | C23: 10 | D23: 9 | E23: 0 | F23: 11200
A24: ='Локальная смета 1'!K10 -> Общая стоимость, руб. | B24: 0 | C24: 10 | D24: 10 | E24: 0 | F24: 11200
A25: ='Локальная смета 1'!K11 -> Всего | B25: 0 | C25: 10 | D25: 11 | E25: 0 | F25: 11200
A26: ='Локальная смета 1'!N11 -> Основной зарплаты | B26: 0 | C26: 10 | D26: 12 | E26: 0 | F26: 11200
A27: ='Локальная смета 1'!Q11 -> Экспл. машин | B27: 0 | C27: 10 | D27: 13 | E27: 0 | F27: 11200
A28: ='Локальная смета 1'!Q13 -> В т.ч. зарплаты | B28: 0 | C28: 10 | D28: 14 | E28: 0 | F28: 11200
A29: ='Локальная смета 1'!V10 -> Затраты труда рабочих, чел.-ч. не занят. обсл. машин | B29: 0 | C29: 10 | D29: 15 | E29: 0 | F29: 11200
A30: ='Локальная смета 1'!V11 -> обслуживающ. машины | B30: 0 | C30: 10 | D30: 16 | E30: 0 | F30: 11200
A31: ='Локальная смета 1'!V13 -> На един. | B31: 0 | C31: 10 | D31: 17 | E31: 0 | F31: 11200
A32: ='Локальная смета 1'!X13 -> Всего | B32: 0 | C32: 10 | D32: 18 | E32: 0 | F32: 11200
A33: ='Локальная смета 1'!I11 -> Материалы | B33: 0 | C33: 10 | D33: 19 | E33: 0 | F33: 11200
A34: ='Локальная смета 1'!S11 -> Материалы | B34: 0 | C34: 10 | D34: 20 | E34: 0 | F34: 11200
A35: ='Локальная смета 1'!A16 -> 1 | B35: 0 | C35: 180 | D35: 0 | E35: 0 | F35: 11202
A36: ='Локальная смета 1'!B16 -> ФЕР46-04-003-05 | B36: 0 | C36: 180 | D36: 1 | E36: 0 | F36: 11202
A37: ='Локальная смета 1'!C16 -> Разборка бетонных конструкций объемом более 1 м3 при помощи отбойных молотков из бетона марки: 300 | B37: 0 | C37: 180 | D37: 2 | E37: 0 | F37: 11202
A38: ='Локальная смета 1'!E17 -> 1 м3 | B38: 0 | C38: 180 | D38: 3 | E38: 0 | F38: 11202
A39: ='Локальная смета 1'!E16 -> 2.1164 | B39: 0 | C39: 180 | D39: 4 | E39: 0 | F39: 11202
A40: ='Локальная смета 1'!F17 -> 423 | B40: 0 | C40: 180 | D40: 6 | E40: 0 | F40: 11202
...
