Workbook

Sheet 1. СПС
A1: =Source!B1 -> Smeta.RU (495) 974-1589
J2: Форма № 4б
B3: "СОГЛАСОВАНО" | G3: "УТВЕРЖДАЮ"
B6: =CONCATENATE("______________________ ", IF(Source!AL12<>"", Source!AL12, "")) -> ______________________ | G6: =CONCATENATE("______________________ ", IF(Source!AH12<>"", Source!AH12, "")) -> ______________________
B7: "_____"________________ 2024 г. | G7: "_____"________________ 2024 г.
A10: на выполнение работ по замене СПС, СОУЭ и АГПТ
A11: (наименование стройки и/или объекта)
A13: =CONCATENATE( "ЛОКАЛЬНАЯ СМЕТА № ",IF(Source!F20<>"Новая локальная смета", Source!F20, "")) -> ЛОКАЛЬНАЯ СМЕТА № 1.
A15: =IF(Source!G20<>"Новая локальная смета", Source!G20, "") -> СПС
A16: (наименование работ и затрат)
A18: =CONCATENATE( "Основание: чертежи № ", Source!J20) -> Основание: чертежи №
I20: В базисном уровне цен | J20: В текущем уровне цен
E21: Сметная стоимость | I21: =I22+I23+I24+I25 -> 186092.08 | J21: =J22+J23+J24+J25 -> 2294057.7 | K21: руб.
E22: Строительные работы | I22: =ROUND((Source!F178), 2) -> 7558.38 | J22: =ROUND((Source!P178), 2) -> 98896.13 | K22: руб.
E23: Работы по монтажу оборудования | I23: =ROUND((Source!F179), 2) -> 92361.97 | J23: =ROUND((Source!P179), 2) -> 1534324.4 | K23: руб.
E24: Оборудование | I24: =ROUND((Source!F170), 2) -> 84041.94 | J24: =ROUND((Source!P170), 2) -> 597538.19 | K24: руб.
E25: Прочие работы и затраты | I25: =ROUND((Source!F180+Source!F181), 2) -> 2129.79 | J25: =ROUND((Source!P180+Source!P181), 2) -> 63299.03 | K25: руб.
E26: Средства на оплату труда | I26: =(Source!F176+ Source!F175) -> 14586.05 | J26: =((Source!P176 + Source!P175)) -> 503364.6 | K26: руб.
E27: Затраты труда | I27: =Source!F183 -> 1003.9574 | K27: чел.-ч.
E28: Кроме того:
E29: Возврат материалов | I29: =SUM(Y35:Y343) -> 0 | J29: =SUM(Z35:Z343) -> 0 | K29: руб.
A31: Составлен(а) по ТСН-2001 с учетом Дополнения №: 72
A32: № и период сборника коэффициентов (индексов) пересчета: Индексы ТСН-2001 МГЭ ремонт №212 июль 2024 года | AP32: № и период сборника коэффициентов (индексов) пересчета: Индексы ТСН-2001 МГЭ ремонт №212 июль 2024 года
A33: № п/п | B33: Шифр расценки и коды ресурсов | C33: Наименование работ и затрат | D33: Ед. изм. | E33: Кол-во единиц | F33: Цена на ед. изм., руб. | G33: Попра- вочные коэффи- циенты | H33: Коэффи- циенты зимних удорожа- ний | I33: Всего в ценах на январь 2000 года, руб. | J33: Коэффи- циенты (индек- сы) пере- счета, нормы НР и СП | K33: ВСЕГО затрат в текущем уровне цен, руб.
A34: 1 | B34: 2 | C34: 3 | D34: 4 | E34: 5 | F34: 6 | G34: 7 | H34: 8 | I34: 9 | J34: 10 | K34: 11
A36: =CONCATENATE("Раздел: ",IF(Source!G24<>"Новый раздел", Source!G24, "")) -> Раздел: 1. СПС
A37: 1 | B37: =Source!F28 -> 4.10-71-11 | C37: Монтаж пульта служебной связи и контроля | D37: =Source!H28 -> 1 ПУЛЬТ | E37: =Source!I28 -> 1 | Q37: =Source!X28 -> 978.3 | R37: =Source!X29 -> 23395.93 | S37: =Source!Y28 -> 574.97 | T37: =Source!Y29 -> 12142.19 | U37: =ROUND((175/100)*ROUND(Source!R28, 2), 2) -> 75.09 | V37: =ROUND((160/100)*ROUND(Source!R29, 2), 2) -> 2369.31 | AC37: 0
C38: ЗП | F38: =Source!AO28 -> 858.16 | G38: =Source!DG28 | H38: =Source!AV29 -> 1 | I38: =Source!S28 -> 858.16 | J38: =IF(Source!BA29<> 0, Source!BA29, 1) -> 34.51 | K38: =Source!S29 -> 29615.1
C39: ЭМ | F39: =Source!AM28 -> 390.42 | G39: =Source!DE28 | H39: =Source!AV29 -> 1 | I39: =Source!Q28 -> 390.42 | J39: =IF(Source!BB29<> 0, Source!BB29, 1) -> 12.62 | K39: =Source!Q29 -> 4927.1
C40: в т.ч. ЗПМ | F40: =Source!AN28 -> 42.91 | G40: =Source!DF28 | H40: =Source!AV29 -> 1 | I40: =Source!R28 -> 42.91 | J40: =IF(Source!BS29<> 0, Source!BS29, 1) -> 34.51 | K40: =Source!R29 -> 1480.82
C41: МР | F41: =Source!AL28 -> 14.44 | G41: =Source!DD28 | H41: =Source!AW29 -> 1 | I41: =Source!P28 -> 14.44 | J41: =IF(Source!BC29<> 0, Source!BC29, 1) -> 18.68 | K41: =Source!P29 -> 269.74
C42: НР от ЗП | D42: % | E42: =Source!DN29 -> 114 | I42: =SUM(Q37:Q41) -> 978.3 | J42: =Source!BZ29 -> 79 | K42: =SUM(R37:R41) -> 23395.93
C43: СП от ЗП | D43: % | E43: =Source!DO29 -> 67 | I43: =SUM(S37:S42) -> 574.97 | J43: =Source!CA29 -> 41 | K43: =SUM(T37:T42) -> 12142.19
C44: НР и СП от ЗПМ | D44: % | E44: =175 -> 175 | I44: =SUM(U37:U43) -> 75.09 | J44: =160 -> 160 | K44: =SUM(V37:V43) -> 2369.31
C45: ЗТР | D45: чел-ч | E45: =Source!AQ28 -> 68 | G45: =Source!DI28 | H45: =Source!AV29 -> 1 | I45: =Source!U28 -> 68
C46: ВСЕГО работ по позиции: | H46: =I38+I39+I41+I42+I43+I44+0-0-0 -> 2891.38 | J46: =K38+K39+K41+K42+K43+K44+0-0-0 -> 72719.37
C47: ВСЕГО оборудование по позиции: | H47: =0+0 -> 0 | J47: =0+0 -> 0
C48: ВСЕГО по позиции: | H48: =I38+I39+I41+I42+I43+I44+0 -> 2891.38 | J48: =K38+K39+K41+K42+K43+K44+0 -> 72719.37 | O48: =I38+I39+I41+I42+I43+I44+0 -> 2891.38 | P48: =K38+K39+K41+K42+K43+K44+0 -> 72719.37
A50: 2 | B50: =Source!F30 -> УПД | C50: ОБОРУДОВАНИЕ:_x000D_ Центральный прибор индикации и управления ЦПИУ «Рубеж», ЦПИУ "Рубеж" исп.1 68 667,78 = [562 064,4 / 1,2 / 7,11] + 1,2% Трансп + 3% Заг.скл | D50: =Source!H30 -> шт. | E50: =Source!I30 -> 1 | F50: =Source!AL30 -> 68667.78 | G50: =Source!DD30 | H50: =Source!AW31 -> 1 | I50: =Source!P30 -> 68667.78 | J50: =IF(Source!BC31<> 0, Source!BC31, 1) -> 7.11 | K50: =Source!P31 -> 488227.92 | Q50: =Source!X30 -> 0 | R50: =Source!X31 -> 0 | S50: =Source!Y30 -> 0 | T50: =Source!Y31 -> 0 | U50: =ROUND((175/100)*ROUND(Source!R30, 2), 2) -> 0 | V50: =ROUND((160/100)*ROUND(Source!R31, 2), 2) -> 0 | AC50: 5
C51: ВСЕГО по позиции: | H51: =I50+0 -> 68667.78 | J51: =K50+0 -> 488227.92 | O51: =I50+0 -> 68667.78 | P51: =K50+0 -> 488227.92
...

Sheet 2. СОУЭ
A1: =Source!B1 -> Smeta.RU (495) 974-1589
J2: Форма № 4б
B3: "СОГЛАСОВАНО" | G3: "УТВЕРЖДАЮ"
B6: =CONCATENATE("______________________ ", IF(Source!AL12<>"", Source!AL12, "")) -> ______________________ | G6: =CONCATENATE("______________________ ", IF(Source!AH12<>"", Source!AH12, "")) -> ______________________
B7: "_____"________________ 2024 г. | G7: "_____"________________ 2024 г.
A10: на выполнение работ по замене СПС, СОУЭ и АГПТ
A11: (наименование стройки и/или объекта)
A13: =CONCATENATE( "ЛОКАЛЬНАЯ СМЕТА № ",IF(Source!F194<>"Новая локальная смета", Source!F194, "")) -> ЛОКАЛЬНАЯ СМЕТА № 2.
A15: =IF(Source!G194<>"Новая локальная смета", Source!G194, "") -> СОУЭ
A16: (наименование работ и затрат)
A18: =CONCATENATE( "Основание: чертежи № ", Source!J194) -> Основание: чертежи №
I20: В базисном уровне цен | J20: В текущем уровне цен
E21: Сметная стоимость | I21: =I22+I23+I24+I25 -> 151646.66 | J21: =J22+J23+J24+J25 -> 1745511.1 | K21: руб.
E22: Строительные работы | I22: =ROUND((Source!F354), 2) -> 6932.92 | J22: =ROUND((Source!P354), 2) -> 110977.53 | K22: руб.
E23: Работы по монтажу оборудования | I23: =ROUND((Source!F355), 2) -> 56565.12 | J23: =ROUND((Source!P355), 2) -> 959640.64 | K23: руб.
E24: Оборудование | I24: =ROUND((Source!F346), 2) -> 86018.83 | J24: =ROUND((Source!P346), 2) -> 611593.89 | K24: руб.
E25: Прочие работы и затраты | I25: =ROUND((Source!F356+Source!F357), 2) -> 2129.79 | J25: =ROUND((Source!P356+Source!P357), 2) -> 63299.03 | K25: руб.
E26: Средства на оплату труда | I26: =(Source!F352+ Source!F351) -> 10251.37 | J26: =((Source!P352 + Source!P351)) -> 353774.78 | K26: руб.
E27: Затраты труда | I27: =Source!F359 -> 693.57918 | K27: чел.-ч.
E28: Кроме того:
E29: Возврат материалов | I29: =SUM(Y35:Y318) -> 0 | J29: =SUM(Z35:Z318) -> 0 | K29: руб.
A31: Составлен(а) по ТСН-2001 с учетом Дополнения №: 72
A32: № и период сборника коэффициентов (индексов) пересчета: Индексы ТСН-2001 МГЭ ремонт №212 июль 2024 года | AP32: № и период сборника коэффициентов (индексов) пересчета: Индексы ТСН-2001 МГЭ ремонт №212 июль 2024 года
A33: № п/п | B33: Шифр расценки и коды ресурсов | C33: Наименование работ и затрат | D33: Ед. изм. | E33: Кол-во единиц | F33: Цена на ед. изм., руб. | G33: Попра- вочные коэффи- циенты | H33: Коэффи- циенты зимних удорожа- ний | I33: Всего в ценах на январь 2000 года, руб. | J33: Коэффи- циенты (индек- сы) пере- счета, нормы НР и СП | K33: ВСЕГО затрат в текущем уровне цен, руб.
A34: 1 | B34: 2 | C34: 3 | D34: 4 | E34: 5 | F34: 6 | G34: 7 | H34: 8 | I34: 9 | J34: 10 | K34: 11
A36: =CONCATENATE("Раздел: ",IF(Source!G198<>"Новый раздел", Source!G198, "")) -> Раздел: 1. СОУЭ
A37: 1 | B37: =Source!F202 -> 4.10-76-7 | C37: Монтаж громкоговорителя или звуковой колонки в помещении | D37: =Source!H202 -> 1 ШТ. | E37: =Source!I202 -> 70 | Q37: =Source!X202 -> 1897.64 | R37: =Source!X203 -> 45381.83 | S37: =Source!Y202 -> 1115.28 | T37: =Source!Y203 -> 23552.59 | U37: =ROUND((175/100)*ROUND(Source!R202, 2), 2) -> 0 | V37: =ROUND((160/100)*ROUND(Source!R203, 2), 2) -> 0 | AC37: 0
C38: ЗП | F38: =Source!AO202 -> 23.78 | G38: =Source!DG202 | H38: =Source!AV203 -> 1 | I38: =Source!S202 -> 1664.6 | J38: =IF(Source!BA203<> 0, Source!BA203, 1) -> 34.51 | K38: =Source!S203 -> 57445.35
C39: МР | F39: =Source!AL202 -> 24.46 | G39: =Source!DD202 | H39: =Source!AW203 -> 1 | I39: =Source!P202 -> 1712.2 | J39: =IF(Source!BC203<> 0, Source!BC203, 1) -> 10.67 | K39: =Source!P203 -> 18269.17
C40: НР от ЗП | D40: % | E40: =Source!DN203 -> 114 | I40: =SUM(Q37:Q39) -> 1897.64 | J40: =Source!BZ203 -> 79 | K40: =SUM(R37:R39) -> 45381.83
C41: СП от ЗП | D41: % | E41: =Source!DO203 -> 67 | I41: =SUM(S37:S40) -> 1115.28 | J41: =Source!CA203 -> 41 | K41: =SUM(T37:T40) -> 23552.59
C42: ЗТР | D42: чел-ч | E42: =Source!AQ202 -> 2 | G42: =Source!DI202 | H42: =Source!AV203 -> 1 | I42: =Source!U202 -> 140
C43: ВСЕГО работ по позиции: | H43: =I38+I39+I40+I41+0-0-0 -> 6389.72 | J43: =K38+K39+K40+K41+0-0-0 -> 144648.94
C44: ВСЕГО оборудование по позиции: | H44: =0+0 -> 0 | J44: =0+0 -> 0
C45: ВСЕГО по позиции: | H45: =I38+I39+I40+I41+0 -> 6389.72 | J45: =K38+K39+K40+K41+0 -> 144648.94 | O45: =I38+I39+I40+I41+0 -> 6389.72 | P45: =K38+K39+K40+K41+0 -> 144648.94
A47: 2 | B47: =Source!F204 -> УПД | C47: ОБОРУДОВАНИЕ:_x000D_ Динамик, Sonar SWS-103W 601,37 = [4 922,4 / 1,2 / 7,11] + 1,2% Трансп + 3% Заг.скл | D47: =Source!H204 -> шт. | E47: =Source!I204 -> 70 | F47: =Source!AL204 -> 601.37 | G47: =Source!DD204 | H47: =Source!AW205 -> 1 | I47: =Source!P204 -> 42095.9 | J47: =IF(Source!BC205<> 0, Source!BC205, 1) -> 7.11 | K47: =Source!P205 -> 299301.85 | Q47: =Source!X204 -> 0 | R47: =Source!X205 -> 0 | S47: =Source!Y204 -> 0 | T47: =Source!Y205 -> 0 | U47: =ROUND((175/100)*ROUND(Source!R204, 2), 2) -> 0 | V47: =ROUND((160/100)*ROUND(Source!R205, 2), 2) -> 0 | AC47: 5
C48: ВСЕГО по позиции: | H48: =I47+0 -> 42095.9 | J48: =K47+0 -> 299301.85 | O48: =I47+0 -> 42095.9 | P48: =K47+0 -> 299301.85
A50: 3 | B50: =Source!F208 -> 4.10-176-1 | C50: Монтаж блока контроля датчиков (контроллер) | D50: =Source!H208 -> 10 шт. | E50: =Source!I208 -> 0.1 | Q50: =Source!X208 -> 53.68 | R50: =Source!X209 -> 1283.81 | S50: =Source!Y208 -> 31.55 | T50: =Source!Y209 -> 666.28 | U50: =ROUND((175/100)*ROUND(Source!R208, 2), 2) -> 0.02 | V50: =ROUND((160/100)*ROUND(Source!R209, 2), 2) -> 0.56 | AC50: 0
C51: ="Объем: "&Source!I208&"=1/"&"10" -> Объем: 0,1=1/10
C52: ЗП | F52: =Source!AO208 -> 470.94 | G52: =Source!DG208 | H52: =Source!AV209 -> 1 | I52: =Source!S208 -> 47.09 | J52: =IF(Source!BA209<> 0, Source!BA209, 1) -> 34.51 | K52: =Source!S209 -> 1625.08
...

Sheet 3. АПТ
A1: =Source!B1 -> Smeta.RU (495) 974-1589
J2: Форма № 4б
B3: "СОГЛАСОВАНО" | G3: "УТВЕРЖДАЮ"
B6: =CONCATENATE("______________________ ", IF(Source!AL12<>"", Source!AL12, "")) -> ______________________ | G6: =CONCATENATE("______________________ ", IF(Source!AH12<>"", Source!AH12, "")) -> ______________________
B7: "_____"________________ 2024 г. | G7: "_____"________________ 2024 г.
A10: на выполнение работ по замене СПС, СОУЭ и АГПТ
A11: (наименование стройки и/или объекта)
A13: =CONCATENATE( "ЛОКАЛЬНАЯ СМЕТА № ",IF(Source!F370<>"Новая локальная смета", Source!F370, "")) -> ЛОКАЛЬНАЯ СМЕТА № 3.
A15: =IF(Source!G370<>"Новая локальная смета", Source!G370, "") -> АПТ
A16: (наименование работ и затрат)
A18: =CONCATENATE( "Основание: чертежи № ", Source!J370) -> Основание: чертежи №
I20: В базисном уровне цен | J20: В текущем уровне цен
E21: Сметная стоимость | I21: =I22+I23+I24+I25 -> 116340.55 | J21: =J22+J23+J24+J25 -> 1171035.1 | K21: руб.
E22: Строительные работы | I22: =ROUND((Source!F564), 2) -> 7501.6 | J22: =ROUND((Source!P564), 2) -> 94304.84 | K22: руб.
E23: Работы по монтажу оборудования | I23: =ROUND((Source!F565), 2) -> 18914.6 | J23: =ROUND((Source!P565), 2) -> 389211.88 | K23: руб.
E24: Оборудование | I24: =ROUND((Source!F556), 2) -> 87794.56 | J24: =ROUND((Source!P556), 2) -> 624219.32 | K24: руб.
E25: Прочие работы и затраты | I25: =ROUND((Source!F566+Source!F567), 2) -> 2129.79 | J25: =ROUND((Source!P566+Source!P567), 2) -> 63299.03 | K25: руб.
E26: Средства на оплату труда | I26: =(Source!F562+ Source!F561) -> 5692.66 | J26: =((Source!P562 + Source!P561)) -> 196453.71 | K26: руб.
E27: Затраты труда | I27: =Source!F569 -> 344.4259 | K27: чел.-ч.
E28: Кроме того:
E29: Возврат материалов | I29: =SUM(Y35:Y386) -> 0 | J29: =SUM(Z35:Z386) -> 0 | K29: руб.
A31: Составлен(а) по ТСН-2001 с учетом Дополнения №: 72
A32: № и период сборника коэффициентов (индексов) пересчета: Индексы ТСН-2001 МГЭ ремонт №212 июль 2024 года | AP32: № и период сборника коэффициентов (индексов) пересчета: Индексы ТСН-2001 МГЭ ремонт №212 июль 2024 года
A33: № п/п | B33: Шифр расценки и коды ресурсов | C33: Наименование работ и затрат | D33: Ед. изм. | E33: Кол-во единиц | F33: Цена на ед. изм., руб. | G33: Попра- вочные коэффи- циенты | H33: Коэффи- циенты зимних удорожа- ний | I33: Всего в ценах на январь 2000 года, руб. | J33: Коэффи- циенты (индек- сы) пере- счета, нормы НР и СП | K33: ВСЕГО затрат в текущем уровне цен, руб.
A34: 1 | B34: 2 | C34: 3 | D34: 4 | E34: 5 | F34: 6 | G34: 7 | H34: 8 | I34: 9 | J34: 10 | K34: 11
A36: =CONCATENATE("Раздел: ",IF(Source!G374<>"Новый раздел", Source!G374, "")) -> Раздел: 1. АПТ
A37: 1 | B37: =Source!F378 -> 4.10-176-1 | C37: Монтаж блока контроля датчиков (контроллер) | D37: =Source!H378 -> 10 шт. | E37: =Source!I378 -> 0.1 | Q37: =Source!X378 -> 53.68 | R37: =Source!X379 -> 1283.81 | S37: =Source!Y378 -> 31.55 | T37: =Source!Y379 -> 666.28 | U37: =ROUND((175/100)*ROUND(Source!R378, 2), 2) -> 0.02 | V37: =ROUND((160/100)*ROUND(Source!R379, 2), 2) -> 0.56 | AC37: 0
C38: ="Объем: "&Source!I378&"=1/"&"10" -> Объем: 0,1=1/10
C39: ЗП | F39: =Source!AO378 -> 470.94 | G39: =Source!DG378 | H39: =Source!AV379 -> 1 | I39: =Source!S378 -> 47.09 | J39: =IF(Source!BA379<> 0, Source!BA379, 1) -> 34.51 | K39: =Source!S379 -> 1625.08
C40: ЭМ | F40: =Source!AM378 -> 1.11 | G40: =Source!DE378 | H40: =Source!AV379 -> 1 | I40: =Source!Q378 -> 0.11 | J40: =IF(Source!BB379<> 0, Source!BB379, 1) -> 11.81 | K40: =Source!Q379 -> 1.3
C41: в т.ч. ЗПМ | F41: =Source!AN378 -> 0.13 | G41: =Source!DF378 | H41: =Source!AV379 -> 1 | I41: =Source!R378 -> 0.01 | J41: =IF(Source!BS379<> 0, Source!BS379, 1) -> 34.51 | K41: =Source!R379 -> 0.35
C42: МР | F42: =Source!AL378 -> 1.29 | G42: =Source!DD378 | H42: =Source!AW379 -> 1 | I42: =Source!P378 -> 0.13 | J42: =IF(Source!BC379<> 0, Source!BC379, 1) -> 7.24 | K42: =Source!P379 -> 0.94
C43: НР от ЗП | D43: % | E43: =Source!DN379 -> 114 | I43: =SUM(Q37:Q42) -> 53.68 | J43: =Source!BZ379 -> 79 | K43: =SUM(R37:R42) -> 1283.81
C44: СП от ЗП | D44: % | E44: =Source!DO379 -> 67 | I44: =SUM(S37:S43) -> 31.55 | J44: =Source!CA379 -> 41 | K44: =SUM(T37:T43) -> 666.28
C45: НР и СП от ЗПМ | D45: % | E45: =175 -> 175 | I45: =SUM(U37:U44) -> 0.02 | J45: =160 -> 160 | K45: =SUM(V37:V44) -> 0.56
C46: ЗТР | D46: чел-ч | E46: =Source!AQ378 -> 29.96 | G46: =Source!DI378 | H46: =Source!AV379 -> 1 | I46: =Source!U378 -> 2.996
C47: ВСЕГО работ по позиции: | H47: =I39+I40+I42+I43+I44+I45+0-0-0 -> 132.58 | J47: =K39+K40+K42+K43+K44+K45+0-0-0 -> 3577.97
C48: ВСЕГО оборудование по позиции: | H48: =0+0 -> 0 | J48: =0+0 -> 0
C49: ВСЕГО по позиции: | H49: =I39+I40+I42+I43+I44+I45+0 -> 132.58 | J49: =K39+K40+K42+K43+K44+K45+0 -> 3577.97 | O49: =I39+I40+I42+I43+I44+I45+0 -> 132.58 | P49: =K39+K40+K42+K43+K44+K45+0 -> 3577.97
A51: 2 | B51: =Source!F380 -> УПД | C51: ОБОРУДОВАНИЕ:_x000D_ Модуль автоматики пожаротушения, МПТ-1 прот. R3 1 083,99 = [8 872,8 / 1,2 / 7,11] + 1,2% Трансп + 3% Заг.скл | D51: =Source!H380 -> шт. | E51: =Source!I380 -> 1 | F51: =Source!AL380 -> 1083.99 | G51: =Source!DD380 | H51: =Source!AW381 -> 1 | I51: =Source!P380 -> 1083.99 | J51: =IF(Source!BC381<> 0, Source!BC381, 1) -> 7.11 | K51: =Source!P381 -> 7707.17 | Q51: =Source!X380 -> 0 | R51: =Source!X381 -> 0 | S51: =Source!Y380 -> 0 | T51: =Source!Y381 -> 0 | U51: =ROUND((175/100)*ROUND(Source!R380, 2), 2) -> 0 | V51: =ROUND((160/100)*ROUND(Source!R381, 2), 2) -> 0 | AC51: 5
...

Sheet 4. Пусконаладочные работы
A1: =Source!B1 -> Smeta.RU (495) 974-1589
J2: Форма № 4б
B3: "СОГЛАСОВАНО" | G3: "УТВЕРЖДАЮ"
B6: =CONCATENATE("______________________ ", IF(Source!AL12<>"", Source!AL12, "")) -> ______________________ | G6: =CONCATENATE("______________________ ", IF(Source!AH12<>"", Source!AH12, "")) -> ______________________
B7: "_____"________________ 2024 г. | G7: "_____"________________ 2024 г.
A10: на выполнение работ по замене СПС, СОУЭ и АГПТ
A11: (наименование стройки и/или объекта)
A13: =CONCATENATE( "ЛОКАЛЬНАЯ СМЕТА № ",IF(Source!F580<>"Новая локальная смета", Source!F580, "")) -> ЛОКАЛЬНАЯ СМЕТА № 4.
A15: =IF(Source!G580<>"Новая локальная смета", Source!G580, "") -> Пусконаладочные работы
A16: (наименование работ и затрат)
A18: =CONCATENATE( "Основание: чертежи № ", Source!J580) -> Основание: чертежи №
I20: В базисном уровне цен | J20: В текущем уровне цен
E21: Сметная стоимость | I21: =I22+I23+I24+I25 -> 22677.77 | J21: =J22+J23+J24+J25 -> 674001.85 | K21: руб.
E22: Строительные работы | I22: =ROUND((Source!F758), 2) -> 0 | J22: =ROUND((Source!P758), 2) -> 0 | K22: руб.
E23: Работы по монтажу оборудования | I23: =ROUND((Source!F759), 2) -> 0 | J23: =ROUND((Source!P759), 2) -> 0 | K23: руб.
E24: Оборудование | I24: =ROUND((Source!F750), 2) -> 0 | J24: =ROUND((Source!P750), 2) -> 0 | K24: руб.
E25: Прочие работы и затраты | I25: =ROUND((Source!F760+Source!F761), 2) -> 22677.77 | J25: =ROUND((Source!P760+Source!P761), 2) -> 674001.85 | K25: руб.
E26: Средства на оплату труда | I26: =(Source!F756+ Source!F755) -> 9256.22 | J26: =((Source!P756 + Source!P755)) -> 319432.16 | K26: руб.
E27: Затраты труда | I27: =Source!F763 -> 554.472 | K27: чел.-ч.
E28: Кроме того:
E29: Возврат материалов | I29: =SUM(Y35:Y143) -> 0 | J29: =SUM(Z35:Z143) -> 0 | K29: руб.
A31: Составлен(а) по ТСН-2001 с учетом Дополнения №: 72
A32: № и период сборника коэффициентов (индексов) пересчета: Индексы ТСН-2001 МГЭ ремонт №212 июль 2024 года | AP32: № и период сборника коэффициентов (индексов) пересчета: Индексы ТСН-2001 МГЭ ремонт №212 июль 2024 года
A33: № п/п | B33: Шифр расценки и коды ресурсов | C33: Наименование работ и затрат | D33: Ед. изм. | E33: Кол-во единиц | F33: Цена на ед. изм., руб. | G33: Попра- вочные коэффи- циенты | H33: Коэффи- циенты зимних удорожа- ний | I33: Всего в ценах на январь 2000 года, руб. | J33: Коэффи- циенты (индек- сы) пере- счета, нормы НР и СП | K33: ВСЕГО затрат в текущем уровне цен, руб.
A34: 1 | B34: 2 | C34: 3 | D34: 4 | E34: 5 | F34: 6 | G34: 7 | H34: 8 | I34: 9 | J34: 10 | K34: 11
A36: =CONCATENATE("Раздел: ",IF(Source!G584<>"Новый раздел", Source!G584, "")) -> Раздел: 1. ПНР
A38: =CONCATENATE("Подраздел: ",IF(Source!G588<>"Новый подраздел", Source!G588, "")) -> Подраздел: 1. АПС
A39: 1 | B39: 5.2-35-1 Поправка: Гл.5.Прил.2.2.п.2.2.23_05.00.01.37.001 | C39: Комплексная пусконаладка системы | D39: =Source!H592 -> 1 ШТ. | E39: =Source!I592 -> 1 | Q39: =Source!X592 -> 18.47 | R39: =Source!X593 -> 594.75 | S39: =Source!Y592 -> 17.23 | T39: =Source!Y593 -> 348.35 | U39: =ROUND((175/100)*ROUND(Source!R592, 2), 2) -> 0 | V39: =ROUND((160/100)*ROUND(Source!R593, 2), 2) -> 0 | AC39: 0
C40: ЗП | F40: =Source!AO592 -> 30.78 | G40: =Source!DG592 -> )*0,8 | H40: =Source!AV593 -> 1 | I40: =Source!S592 -> 24.62 | J40: =IF(Source!BA593<> 0, Source!BA593, 1) -> 34.51 | K40: =Source!S593 -> 849.64
C41: НР от ЗП | D41: % | E41: =Source!DN593 -> 75 | I41: =SUM(Q39:Q40) -> 18.47 | J41: =Source!BZ593 -> 70 | K41: =SUM(R39:R40) -> 594.75
C42: СП от ЗП | D42: % | E42: =Source!DO593 -> 70 | I42: =SUM(S39:S41) -> 17.23 | J42: =Source!CA593 -> 41 | K42: =SUM(T39:T41) -> 348.35
C43: ЗТР | D43: чел-ч | E43: =Source!AQ592 -> 1.66 | G43: =Source!DI592 -> )*0,8 | H43: =Source!AV593 -> 1 | I43: =Source!U592 -> 1.328
C44: ВСЕГО работ по позиции: | H44: =I40+I41+I42+0-0-0 -> 60.32 | J44: =K40+K41+K42+0-0-0 -> 1792.74
C45: ВСЕГО оборудование по позиции: | H45: =0+0 -> 0 | J45: =0+0 -> 0
C46: ВСЕГО по позиции: | H46: =I40+I41+I42+0 -> 60.32 | J46: =K40+K41+K42+0 -> 1792.74 | O46: =I40+I41+I42+0 -> 60.32 | P46: =K40+K41+K42+0 -> 1792.74
A48: 2 | B48: 5.2-35-2 Поправка: Гл.5.Прил.2.2.п.2.2.23_05.00.01.37.001 | C48: Комплексная пусконаладка системы, добавлять к позиции 5.2-35-1 на каждое адресное устройство | D48: =Source!H594 -> 1 ШТ. | E48: =Source!I594 -> 263 | Q48: =Source!X594 -> 2920.88 | R48: =Source!X595 -> 94079.44 | S48: =Source!Y594 -> 2726.15 | T48: =Source!Y595 -> 55103.67 | U48: =ROUND((175/100)*ROUND(Source!R594, 2), 2) -> 0 | V48: =ROUND((160/100)*ROUND(Source!R595, 2), 2) -> 0 | AC48: 0
C49: ЗП | F49: =Source!AO594 -> 18.51 | G49: =Source!DG594 -> )*0,8 | H49: =Source!AV595 -> 1 | I49: =Source!S594 -> 3894.5 | J49: =IF(Source!BA595<> 0, Source!BA595, 1) -> 34.51 | K49: =Source!S595 -> 134399.2
C50: НР от ЗП | D50: % | E50: =Source!DN595 -> 75 | I50: =SUM(Q48:Q49) -> 2920.88 | J50: =Source!BZ595 -> 70 | K50: =SUM(R48:R49) -> 94079.44
C51: СП от ЗП | D51: % | E51: =Source!DO595 -> 70 | I51: =SUM(S48:S50) -> 2726.15 | J51: =Source!CA595 -> 41 | K51: =SUM(T48:T50) -> 55103.67
C52: ЗТР | D52: чел-ч | E52: =Source!AQ594 -> 1.27 | G52: =Source!DI594 -> )*0,8 | H52: =Source!AV595 -> 1 | I52: =Source!U594 -> 267.208
...

Sheet Дефектная ведомость
A1: =Source!B1 -> Smeta.RU (495) 974-1589
D3: "УТВЕРЖДАЮ"
C5: ___________________________
C7: ___________________________
C9: " ___ " ___________ 20 ___ г.
A11: =CONCATENATE("Дефектный акт ", IF(Source!AN15<>"", Source!AN15," ")) -> Дефектный акт
A12: =CONCATENATE("На капитальный ремонт ", Source!G12) -> На капитальный ремонт на выполнение работ по замене СПС, СОУЭ и АГПТ
B14: Мы, нижеподписавшиеся, произвели осмотр объекта
B15: и постановили произвести ремонт объекта в
B16: следующем объеме:
A17: № п/п | B17: Наименование работ и затрат | C17: Единица измерения | D17: Количество | E17: Примечание
A18: 1 | B18: 2 | C18: 3 | D18: 4 | E18: 5
A19: =CONCATENATE("Локальная смета: ", Source!G20) -> Локальная смета: СПС
A20: =CONCATENATE("Раздел: ", Source!G24) -> Раздел: 1. СПС
A21: 1 | B21: =Source!G28 -> Монтаж пульта служебной связи и контроля | C21: =Source!H28 -> 1 ПУЛЬТ | D21: =Source!I28 -> 1
A22: 2 | B22: =Source!G30 -> Центральный прибор индикации и управления ЦПИУ «Рубеж», ЦПИУ "Рубеж" исп.1 | C22: =Source!H30 -> шт. | D22: =Source!I30 -> 1
A23: 3 | B23: =Source!G32 -> Настройка синхронных цифровых систем передачи, настройка системы контроля и управления, установка операционной системы, программного обеспечения | C23: =Source!H32 -> 1 рабочая секция | D23: =Source!I32 -> 1
A24: 4 | B24: =Source!G34 -> Монтаж отдельно устанавливаемого преобразователя или блока питания | C24: =Source!H34 -> 1 ШТ. | D24: =Source!I34 -> 1
A25: 5 | B25: =Source!G36 -> Источник бесперебойного питания, SKAT-UPS 1000/600 | C25: =Source!H36 -> шт. | D25: =Source!I36 -> 1
A26: 6 | B26: =Source!G38 -> Аппараты приемные, приборы ПС приемно-контрольные, пусковые, концентратор, блок базовый на 20 лучей | C26: =Source!H38 -> 1 ШТ. | D26: =Source!I38 -> 1
A27: 7 | B27: =Source!G40 -> Прибор приемно-контрольный и управления охранно-пожар-ный адресный, R3-Рубеж-2ОП | C27: =Source!H40 -> шт. | D27: =Source!I40 -> 1
A28: 8 | B28: =Source!G44 -> Аппараты приемные, устройства промежуточные на 1 луч | C28: =Source!H44 -> 1 ШТ. | D28: =Source!I44 -> 1
A29: 9 | B29: =Source!G46 -> Блок индикации и управления, R3-Рубеж-БИУ | C29: =Source!H46 -> шт. | D29: =Source!I46 -> 1
A30: 10 | B30: =Source!G50 -> Монтаж отдельно устанавливаемого преобразователя или блока питания | C30: =Source!H50 -> 1 ШТ. | D30: =Source!I50 -> 2
A31: 11 | B31: =Source!G52 -> Бокс резервного питания "БР-12 исп. 2х40" | C31: =Source!H52 -> шт. | D31: =Source!I52 -> 1
A32: 12 | B32: =Source!G54 -> Источник бесперебойного питания, ИВЭПР 12/5 RS-R3 2x17 БР - R3 | C32: =Source!H54 -> шт. | D32: =Source!I54 -> 1
A33: 13 | B33: =Source!G58 -> Аккумулятор 12 В, 17 Ач, SF 1217 | C33: =Source!H58 -> шт. | D33: =Source!I58 -> 4
A34: 14 | B34: =Source!G60 -> Конструкция для установки извещателя | C34: =Source!H60 -> 1 ШТ. | D34: =Source!I60 -> 148
A35: 15 | B35: =Source!G62 -> Извещатели ПС автоматические, дымовой, фотоэлектрический, радиоизотопный, световой в нормальном исполнении | C35: =Source!H62 -> 1 ШТ. | D35: =Source!I62 -> 154
A36: 16 | B36: =Source!G64 -> Извещатель пожарный дымовой оптико-электронный адресно-аналоговый, ИП 212-64-R3 W1.02 | C36: =Source!H64 -> шт. | D36: =Source!I64 -> 146
A37: 17 | B37: =Source!G66 -> Извещатель пожарный ручной адресный со встроенным изо-лятором короткого замыкания, ИПР 513-11ИКЗ-А-R3 | C37: =Source!H66 -> шт. | D37: =Source!I66 -> 9
A38: 18 | B38: =Source!G68 -> Установка съемных и выдвижных блоков (модулей, ячеек, ТЭЗ) массой до 5 кг | C38: =Source!H68 -> 1 ШТ. | D38: =Source!I68 -> 46
A39: 19 | B39: =Source!G70 -> Изолятор шлейфа, ИЗ-1Б-R3 | C39: =Source!H70 -> шт. | D39: =Source!I70 -> 46
A40: 20 | B40: =Source!G72 -> Аппараты приемные, приборы приемно-контрольные объектовые на 1 луч | C40: =Source!H72 -> 1 ШТ. | D40: =Source!I72 -> 13
A41: 21 | B41: =Source!G74 -> Модуль автоматики дымоудаления, МДУ-1-R3 | C41: =Source!H74 -> шт. | D41: =Source!I74 -> 6
A42: 22 | B42: =Source!G76 -> Адресный релейный модуль, РМ-1-R3 | C42: =Source!H76 -> шт. | D42: =Source!I76 -> 7
A43: 23 | B43: =Source!G78 -> Затягивание провода в проложенные трубы и металлические рукава, первого одножильного или многожильного в общей оплетке, суммарное сечение до 2,5 мм2 | C43: =Source!H78 -> 100 м | D43: =Source!I78 -> 2.165
A44: 24 | B44: =Source!G80 -> Монтаж кабеля по установленным конструкциям и лоткам с установкой ответвительных коробок, 2-4-жильного, в помещениях с нормальной средой, сечением жилы до 10 мм2 | C44: =Source!H80 -> 100 М КАБЕЛЯ | D44: =Source!I80 -> 3.635
A45: 25 | B45: =Source!G82 -> Кабель огнестойкий для ОПС, СОУЭ и передачи данных с однопроволочными медными жилами, КПСЭнг(А)-FRLSLTx 1х2х0,75 | C45: =Source!H82 -> м | D45: =Source!I82 -> 591.6
A46: 26 | B46: =Source!G84 -> Прокладка металлического короба на конструкциях, кронштейнах, по фермам и колоннам, длина 2 м | C46: =Source!H84 -> 100 м | D46: =Source!I84 -> 3.63
...

Sheet RV_DATA
A1: BuildingFinished | B1: Trud | C1: Mash | D1: Mat | E1: MatZak | F1: Oborud | G1: OborudZak | H1: ZeroStoim | I1: NegativeKoll | J1: ReUnionKollResurcy | K1: UnionOneUchRes | L1: IdLevel | M1: ViewCodes | N1: UnionCodes | O1: PEREVOZKA
A2: 1 | B2: 1 | C2: 1 | D2: 1 | E2: 1 | F2: 1 | G2: 1 | H2: 1 | I2: 1 | J2: 0 | K2: 1 | L2: 151751235 | M2: 0 | N2: 0 | O2: 0
A4: TYPE | B4: SOURCE_LINK | C4: RABMAT_EX | D4: TIP_RAB | E4: TYPE_TRUD | F4: TAB | G4: NAME | H4: EDIZM | I4: KOLL | J4: UCH | K4: PRICE_B | L4: PRICE_ED | M4: STOIM_B | N4: PRICE_C | O4: STOIM_C | P4: ZPM_B | Q4: ZPM_ED | R4: STOIM_ZPM_B | S4: ZPM_C | T4: STOIM_ZPM_C | U4: RABMAT | V4: WBS | W4: CBSI | X4: CBSII | Y4: TechSpecCVORPP | Z4: CRC_GR_RES | AA4: CRC_B | AB4: CRC_C
A6: =Source!A20 -> 3 | B6: 20 | G6: =Source!G20 -> СПС
A7: =Source!A24 -> 4 | B7: 24 | G7: =Source!G24 -> 1. СПС
A8: 20 | B8: 14 | C8: 3 | D8: 0 | E8: =SmtRes!AV14 -> 0 | F8: =SmtRes!I14 -> 9999990002 | G8: =SmtRes!K14 -> Масса оборудования | H8: =SmtRes!O14 -> т | I8: =SmtRes!Y14*Source!I29 -> 0.5 | J8: =SmtRes!AO14 -> 1 | K8: =SmtRes!AE14 -> 0 | L8: =SmtRes!DB14 -> 0 | M8: =ROUND(ROUND(L8*Source!I29, 6)*1, 2) -> 0 | N8: =SmtRes!AA14 -> 0 | O8: =ROUND(ROUND(L8*Source!I29, 6)*SmtRes!DA14, 2) -> 0 | P8: =SmtRes!AG14 -> 0 | Q8: =SmtRes!DC14 -> 0 | R8: =ROUND(ROUND(Q8*Source!I29, 6)*1, 2) -> 0 | S8: =SmtRes!AC14 -> 0 | T8: =ROUND(ROUND(Q8*Source!I29, 6)*SmtRes!AK14, 2) -> 0 | U8: 3 | Z8: =SmtRes!X14 -> -783086922 | AA8: 711510557 | AB8: 711510557
A9: 20 | B9: 13 | C9: 3 | D9: 0 | E9: =SmtRes!AV13 -> 0 | F9: =SmtRes!I13 -> 1.21-5-1180 | G9: =SmtRes!K13 -> Бирка маркировочная для кабелей и проводов, типа У134 У3,5 | H9: =SmtRes!O13 -> 1000 шт. | I9: =SmtRes!Y13*Source!I29 -> 0.016 | J9: =SmtRes!AO13 -> 1 | K9: =SmtRes!AE13 -> 226.68 | L9: =SmtRes!DB13 -> 3.63 | M9: =ROUND(ROUND(L9*Source!I29, 6)*1, 2) -> 3.63 | N9: =SmtRes!AA13 -> 1360.08 | O9: =ROUND(ROUND(L9*Source!I29, 6)*SmtRes!DA13, 2) -> 21.78 | P9: =SmtRes!AG13 -> 0 | Q9: =SmtRes!DC13 -> 0 | R9: =ROUND(ROUND(Q9*Source!I29, 6)*1, 2) -> 0 | S9: =SmtRes!AC13 -> 0 | T9: =ROUND(ROUND(Q9*Source!I29, 6)*SmtRes!AK13, 2) -> 0 | U9: 3 | Z9: =SmtRes!X13 -> 833010814 | AA9: 1462361054 | AB9: -1573974870
A10: 20 | B10: 12 | C10: 3 | D10: 0 | E10: =SmtRes!AV12 -> 0 | F10: =SmtRes!I12 -> 1.1-2-63 | G10: =SmtRes!K12 -> Нитки суровые | H10: =SmtRes!O12 -> г | I10: =SmtRes!Y12*Source!I29 -> 1 | J10: =SmtRes!AO12 -> 1 | K10: =SmtRes!AE12 -> 0.07 | L10: =SmtRes!DB12 -> 0.07 | M10: =ROUND(ROUND(L10*Source!I29, 6)*1, 2) -> 0.07 | N10: =SmtRes!AA12 -> 0.37 | O10: =ROUND(ROUND(L10*Source!I29, 6)*SmtRes!DA12, 2) -> 0.37 | P10: =SmtRes!AG12 -> 0 | Q10: =SmtRes!DC12 -> 0 | R10: =ROUND(ROUND(Q10*Source!I29, 6)*1, 2) -> 0 | S10: =SmtRes!AC12 -> 0 | T10: =ROUND(ROUND(Q10*Source!I29, 6)*SmtRes!AK12, 2) -> 0 | U10: 3 | Z10: =SmtRes!X12 -> -710729592 | AA10: 1722689737 | AB10: 1300462346
A11: 20 | B11: 11 | C11: 3 | D11: 0 | E11: =SmtRes!AV11 -> 0 | F11: =SmtRes!I11 -> 1.1-1-944 | G11: =SmtRes!K11 -> Припой оловянно-свинцовый, в прутках, диаметр 8 мм, типа ПОС-30 | H11: =SmtRes!O11 -> т | I11: =SmtRes!Y11*Source!I29 -> 0.00016 | J11: =SmtRes!AO11 -> 1 | K11: =SmtRes!AE11 -> 60966 | L11: =SmtRes!DB11 -> 9.75 | M11: =ROUND(ROUND(L11*Source!I29, 6)*1, 2) -> 9.75 | N11: =SmtRes!AA11 -> 1496715.3 | O11: =ROUND(ROUND(L11*Source!I29, 6)*SmtRes!DA11, 2) -> 239.36 | P11: =SmtRes!AG11 -> 0 | Q11: =SmtRes!DC11 -> 0 | R11: =ROUND(ROUND(Q11*Source!I29, 6)*1, 2) -> 0 | S11: =SmtRes!AC11 -> 0 | T11: =ROUND(ROUND(Q11*Source!I29, 6)*SmtRes!AK11, 2) -> 0 | U11: 3 | Z11: =SmtRes!X11 -> 1488995423 | AA11: 909785373 | AB11: 1929592101
A12: 20 | B12: 10 | C12: 3 | D12: 0 | E12: =SmtRes!AV10 -> 0 | F12: =SmtRes!I10 -> 1.1-1-3648 | G12: =SmtRes!K10 -> Трубки резиновые, технические, типа ТМКЩ, диаметр от 6 до 40 мм, толщина стенки от 2 до 4 мм | H12: =SmtRes!O10 -> кг | I12: =SmtRes!Y10*Source!I29 -> 0.02 | J12: =SmtRes!AO10 -> 1 | K12: =SmtRes!AE10 -> 49.18 | L12: =SmtRes!DB10 -> 0.98 | M12: =ROUND(ROUND(L12*Source!I29, 6)*1, 2) -> 0.98 | N12: =SmtRes!AA10 -> 409.18 | O12: =ROUND(ROUND(L12*Source!I29, 6)*SmtRes!DA10, 2) -> 8.15 | P12: =SmtRes!AG10 -> 0 | Q12: =SmtRes!DC10 -> 0 | R12: =ROUND(ROUND(Q12*Source!I29, 6)*1, 2) -> 0 | S12: =SmtRes!AC10 -> 0 | T12: =ROUND(ROUND(Q12*Source!I29, 6)*SmtRes!AK10, 2) -> 0 | U12: 3 | Z12: =SmtRes!X10 -> 1726033629 | AA12: -1180003253 | AB12: -1269028055
A13: 20 | B13: 9 | C13: 2 | D13: 0 | E13: =SmtRes!AV9 -> 0 | F13: =SmtRes!I9 -> 2.1-4-12 | G13: =SmtRes!K9 -> Автопогрузчики вилочные, грузоподъемность до 5 т | H13: =SmtRes!O9 -> маш.-ч | I13: =SmtRes!Y9*Source!I29 -> 3.4 | J13: =SmtRes!AO9 -> 1 | K13: =SmtRes!AF9 -> 114.83 | L13: =SmtRes!DB9 -> 390.42 | M13: =ROUND(ROUND(L13*Source!I29, 6)*1, 2) -> 390.42 | N13: =SmtRes!AB9 -> 1517.26 | O13: =ROUND(ROUND(L13*Source!I29, 6)*SmtRes!DA9, 2) -> 4927.1 | P13: =SmtRes!AG9 -> 12.62 | Q13: =SmtRes!DC9 -> 42.91 | R13: =ROUND(ROUND(Q13*Source!I29, 6)*1, 2) -> 42.91 | S13: =SmtRes!AC9 -> 455.99 | T13: =ROUND(ROUND(Q13*Source!I29, 6)*SmtRes!AK9, 2) -> 1480.82 | U13: 2 | Z13: =SmtRes!X9 -> -32031357 | AA13: 777923228 | AB13: 846388292
A14: 20 | B14: 8 | C14: 1 | D14: 0 | E14: =SmtRes!AV8 -> 1 | F14: =SmtRes!I8 -> 9999990008 | G14: =SmtRes!K8 -> Трудозатраты рабочих | H14: =SmtRes!O8 -> чел.-ч. | I14: =SmtRes!Y8*Source!I29 -> 68 | J14: =SmtRes!AO8 -> 1 | K14: =SmtRes!AH8 -> 0 | L14: =SmtRes!DB8 -> 0 | M14: =ROUND(ROUND(L14*Source!I29, 6)*1, 2) -> 0 | N14: =SmtRes!AD8 -> 0 | O14: =ROUND(ROUND(L14*Source!I29, 6)*SmtRes!DA8, 2) -> 0 | P14: =SmtRes!AG8 -> 0 | Q14: =SmtRes!DC8 -> 0 | R14: =ROUND(ROUND(Q14*Source!I29, 6)*1, 2) -> 0 | S14: =SmtRes!AC8 -> 0 | T14: =ROUND(ROUND(Q14*Source!I29, 6)*SmtRes!AK8, 2) -> 0 | U14: 1 | Z14: =SmtRes!X8 -> 476480486 | AA14: -1751963544 | AB14: -1751963544
A15: =Source!A31 -> 17 | B15: 31 | C15: 5 | D15: =Source!BI31 -> 3 | E15: =Source!FS31 -> 0 | F15: =Source!F31 -> УПД | G15: =Source!G31 -> Центральный прибор индикации и управления ЦПИУ «Рубеж», ЦПИУ "Рубеж" исп.1 | H15: =Source!H31 -> шт. | I15: =Source!I31 -> 1 | J15: 1 | K15: =Source!AC31 -> 68667.78 | M15: =ROUND(K15*I15, 2) -> 68667.78 | N15: =Source!AC31*IF(Source!BC31<> 0, Source!BC31, 1) -> 488227.92 | O15: =ROUND(N15*I15, 2) -> 488227.92 | P15: =Source!AE31 -> 0 | R15: =ROUND(P15*I15, 2) -> 0 | S15: =Source!AE31*IF(Source!BS31<> 0, Source!BS31, 1) -> 0 | T15: =ROUND(S15*I15, 2) -> 0 | U15: 3 | Z15: =Source!GF31 -> 1274654728 | AA15: 182833959 | AB15: -1746039687
A16: 20 | B16: 16 | C16: 1 | D16: 0 | E16: =SmtRes!AV16 -> 1 | F16: =SmtRes!I16 -> 9999990008 | G16: =SmtRes!K16 -> Трудозатраты рабочих | H16: =SmtRes!O16 -> чел.-ч. | I16: =SmtRes!Y16*Source!I33 -> 145.6 | J16: =SmtRes!AO16 -> 1 | K16: =SmtRes!AH16 -> 0 | L16: =SmtRes!DB16 -> 0 | M16: =ROUND(ROUND(L16*Source!I33, 6)*1, 2) -> 0 | N16: =SmtRes!AD16 -> 0 | O16: =ROUND(ROUND(L16*Source!I33, 6)*SmtRes!DA16, 2) -> 0 | P16: =SmtRes!AG16 -> 0 | Q16: =SmtRes!DC16 -> 0 | R16: =ROUND(ROUND(Q16*Source!I33, 6)*1, 2) -> 0 | S16: =SmtRes!AC16 -> 0 | T16: =ROUND(ROUND(Q16*Source!I33, 6)*SmtRes!AK16, 2) -> 0 | U16: 1 | Z16: =SmtRes!X16 -> 476480486 | AA16: -1751963544 | AB16: -1751963544
A17: 20 | B17: 42 | C17: 3 | D17: 0 | E17: =SmtRes!AV42 -> 0 | F17: =SmtRes!I42 -> 9999990002 | G17: =SmtRes!K42 -> Масса оборудования | H17: =SmtRes!O42 -> т | I17: =SmtRes!Y42*Source!I35 -> 0.001 | J17: =SmtRes!AO42 -> 1 | K17: =SmtRes!AE42 -> 0 | L17: =SmtRes!DB42 -> 0 | M17: =ROUND(ROUND(L17*Source!I35, 6)*1, 2) -> 0 | N17: =SmtRes!AA42 -> 0 | O17: =ROUND(ROUND(L17*Source!I35, 6)*SmtRes!DA42, 2) -> 0 | P17: =SmtRes!AG42 -> 0 | Q17: =SmtRes!DC42 -> 0 | R17: =ROUND(ROUND(Q17*Source!I35, 6)*1, 2) -> 0 | S17: =SmtRes!AC42 -> 0 | T17: =ROUND(ROUND(Q17*Source!I35, 6)*SmtRes!AK42, 2) -> 0 | U17: 3 | Z17: =SmtRes!X42 -> -783086922 | AA17: 711510557 | AB17: 711510557
A18: 20 | B18: 41 | C18: 3 | D18: 0 | E18: =SmtRes!AV41 -> 0 | F18: =SmtRes!I41 -> 1.21-5-690 | G18: =SmtRes!K41 -> Скрепа для ленты, типа NC 10, CF 10 | H18: =SmtRes!O41 -> 100 шт. | I18: =SmtRes!Y41*Source!I35 -> 0.04 | J18: =SmtRes!AO41 -> 1 | K18: =SmtRes!AE41 -> 413.16 | L18: =SmtRes!DB41 -> 16.53 | M18: =ROUND(ROUND(L18*Source!I35, 6)*1, 2) -> 16.53 | N18: =SmtRes!AA41 -> 1958.38 | O18: =ROUND(ROUND(L18*Source!I35, 6)*SmtRes!DA41, 2) -> 78.35 | P18: =SmtRes!AG41 -> 0 | Q18: =SmtRes!DC41 -> 0 | R18: =ROUND(ROUND(Q18*Source!I35, 6)*1, 2) -> 0 | S18: =SmtRes!AC41 -> 0 | T18: =ROUND(ROUND(Q18*Source!I35, 6)*SmtRes!AK41, 2) -> 0 | U18: 3 | Z18: =SmtRes!X41 -> -1327613835 | AA18: 1978705020 | AB18: 606062180
A19: 20 | B19: 40 | C19: 3 | D19: 0 | E19: =SmtRes!AV40 -> 0 | F19: =SmtRes!I40 -> 1.21-5-1229 | G19: =SmtRes!K40 -> Лента электроизоляционная, термостойкая, ширина 26 мм, толщина от 0,5 до 0,8 мм, типа ЛЭТСАР | H19: =SmtRes!O40 -> кг | I19: =SmtRes!Y40*Source!I35 -> 0.02 | J19: =SmtRes!AO40 -> 1 | K19: =SmtRes!AE40 -> 493.08 | L19: =SmtRes!DB40 -> 9.86 | M19: =ROUND(ROUND(L19*Source!I35, 6)*1, 2) -> 9.86 | N19: =SmtRes!AA40 -> 3047.23 | O19: =ROUND(ROUND(L19*Source!I35, 6)*SmtRes!DA40, 2) -> 60.93 | P19: =SmtRes!AG40 -> 0 | Q19: =SmtRes!DC40 -> 0 | R19: =ROUND(ROUND(Q19*Source!I35, 6)*1, 2) -> 0 | S19: =SmtRes!AC40 -> 0 | T19: =ROUND(ROUND(Q19*Source!I35, 6)*SmtRes!AK40, 2) -> 0 | U19: 3 | Z19: =SmtRes!X40 -> 1313298043 | AA19: -1823750506 | AB19: 1282286202
A20: 20 | B20: 39 | C20: 3 | D20: 0 | E20: =SmtRes!AV39 -> 0 | F20: =SmtRes!I39 -> 1.21-5-1141 | G20: =SmtRes!K39 -> Трубка (кембрик) изоляционная из ПВХ пластиката, диаметр 5 мм | H20: =SmtRes!O39 -> м | I20: =SmtRes!Y39*Source!I35 -> 5.91 | J20: =SmtRes!AO39 -> 1 | K20: =SmtRes!AE39 -> 0.69 | L20: =SmtRes!DB39 -> 4.08 | M20: =ROUND(ROUND(L20*Source!I35, 6)*1, 2) -> 4.08 | N20: =SmtRes!AA39 -> 4.53 | O20: =ROUND(ROUND(L20*Source!I35, 6)*SmtRes!DA39, 2) -> 26.81 | P20: =SmtRes!AG39 -> 0 | Q20: =SmtRes!DC39 -> 0 | R20: =ROUND(ROUND(Q20*Source!I35, 6)*1, 2) -> 0 | S20: =SmtRes!AC39 -> 0 | T20: =ROUND(ROUND(Q20*Source!I35, 6)*SmtRes!AK39, 2) -> 0 | U20: 3 | Z20: =SmtRes!X39 -> 660143704 | AA20: 680570959 | AB20: 1812635077
A21: 20 | B21: 38 | C21: 3 | D21: 0 | E21: =SmtRes!AV38 -> 0 | F21: =SmtRes!I38 -> 1.1-1-953 | G21: =SmtRes!K38 -> Проволока медная, толщина от 1,0 до 1,5 мм | H21: =SmtRes!O38 -> т | I21: =SmtRes!Y38*Source!I35 -> 0.0001 | J21: =SmtRes!AO38 -> 1 | K21: =SmtRes!AE38 -> 81246.4 | L21: =SmtRes!DB38 -> 8.12 | M21: =ROUND(ROUND(L21*Source!I35, 6)*1, 2) -> 8.12 | N21: =SmtRes!AA38 -> 1198384.4 | O21: =ROUND(ROUND(L21*Source!I35, 6)*SmtRes!DA38, 2) -> 119.77 | P21: =SmtRes!AG38 -> 0 | Q21: =SmtRes!DC38 -> 0 | R21: =ROUND(ROUND(Q21*Source!I35, 6)*1, 2) -> 0 | S21: =SmtRes!AC38 -> 0 | T21: =ROUND(ROUND(Q21*Source!I35, 6)*SmtRes!AK38, 2) -> 0 | U21: 3 | Z21: =SmtRes!X38 -> 1034648933 | AA21: 1839804255 | AB21: 22278637
A22: 20 | B22: 37 | C22: 3 | D22: 0 | E22: =SmtRes!AV37 -> 0 | F22: =SmtRes!I37 -> 1.1-1-945 | G22: =SmtRes!K37 -> Припой оловянно-свинцовый, в прутках, диаметр 8 мм, типа ПОС-40 | H22: =SmtRes!O37 -> т | I22: =SmtRes!Y37*Source!I35 -> 6e-05 | J22: =SmtRes!AO37 -> 1 | K22: =SmtRes!AE37 -> 64128.62 | L22: =SmtRes!DB37 -> 3.85 | M22: =ROUND(ROUND(L22*Source!I35, 6)*1, 2) -> 3.85 | N22: =SmtRes!AA37 -> 1930271.5 | O22: =ROUND(ROUND(L22*Source!I35, 6)*SmtRes!DA37, 2) -> 115.89 | P22: =SmtRes!AG37 -> 0 | Q22: =SmtRes!DC37 -> 0 | R22: =ROUND(ROUND(Q22*Source!I35, 6)*1, 2) -> 0 | S22: =SmtRes!AC37 -> 0 | T22: =ROUND(ROUND(Q22*Source!I35, 6)*SmtRes!AK37, 2) -> 0 | U22: 3 | Z22: =SmtRes!X37 -> 403804236 | AA22: 818563243 | AB22: -78630505
A23: 20 | B23: 36 | C23: 3 | D23: 0 | E23: =SmtRes!AV36 -> 0 | F23: =SmtRes!I36 -> 1.1-1-8007 | G23: =SmtRes!K36 -> Дюбель пластмассовый с шурупом, диаметр 12 мм, длина 70 мм, диаметр шурупа 8 мм, длина шурупа 70 мм | H23: =SmtRes!O36 -> 100 шт. | I23: =SmtRes!Y36*Source!I35 -> 0.1 | J23: =SmtRes!AO36 -> 1 | K23: =SmtRes!AE36 -> 120.2 | L23: =SmtRes!DB36 -> 12.02 | M23: =ROUND(ROUND(L23*Source!I35, 6)*1, 2) -> 12.02 | N23: =SmtRes!AA36 -> 1615.49 | O23: =ROUND(ROUND(L23*Source!I35, 6)*SmtRes!DA36, 2) -> 161.55 | P23: =SmtRes!AG36 -> 0 | Q23: =SmtRes!DC36 -> 0 | R23: =ROUND(ROUND(Q23*Source!I35, 6)*1, 2) -> 0 | S23: =SmtRes!AC36 -> 0 | T23: =ROUND(ROUND(Q23*Source!I35, 6)*SmtRes!AK36, 2) -> 0 | U23: 3 | Z23: =SmtRes!X36 -> 57643539 | AA23: -2024754912 | AB23: 290239521
A24: 20 | B24: 35 | C24: 3 | D24: 0 | E24: =SmtRes!AV35 -> 0 | F24: =SmtRes!I35 -> 1.1-1-440 | G24: =SmtRes!K35 -> Краска водно-дисперсионная, акриловая, типа ВДА | H24: =SmtRes!O35 -> т | I24: =SmtRes!Y35*Source!I35 -> 2e-05 | J24: =SmtRes!AO35 -> 1 | K24: =SmtRes!AE35 -> 17729.79 | L24: =SmtRes!DB35 -> 0.35 | M24: =ROUND(ROUND(L24*Source!I35, 6)*1, 2) -> 0.35 | N24: =SmtRes!AA35 -> 127122.59 | O24: =ROUND(ROUND(L24*Source!I35, 6)*SmtRes!DA35, 2) -> 2.51 | P24: =SmtRes!AG35 -> 0 | Q24: =SmtRes!DC35 -> 0 | R24: =ROUND(ROUND(Q24*Source!I35, 6)*1, 2) -> 0 | S24: =SmtRes!AC35 -> 0 | T24: =ROUND(ROUND(Q24*Source!I35, 6)*SmtRes!AK35, 2) -> 0 | U24: 3 | Z24: =SmtRes!X35 -> -1917880410 | AA24: 476628198 | AB24: 1909860070
A25: 20 | B25: 34 | C25: 3 | D25: 0 | E25: =SmtRes!AV34 -> 0 | F25: =SmtRes!I34 -> 1.1-1-330 | G25: =SmtRes!K34 -> Канифоль | H25: =SmtRes!O34 -> кг | I25: =SmtRes!Y34*Source!I35 -> 0.01 | J25: =SmtRes!AO34 -> 1 | K25: =SmtRes!AE34 -> 16.7 | L25: =SmtRes!DB34 -> 0.17 | M25: =ROUND(ROUND(L25*Source!I35, 6)*1, 2) -> 0.17 | N25: =SmtRes!AA34 -> 464.93 | O25: =ROUND(ROUND(L25*Source!I35, 6)*SmtRes!DA34, 2) -> 4.73 | P25: =SmtRes!AG34 -> 0 | Q25: =SmtRes!DC34 -> 0 | R25: =ROUND(ROUND(Q25*Source!I35, 6)*1, 2) -> 0 | S25: =SmtRes!AC34 -> 0 | T25: =ROUND(ROUND(Q25*Source!I35, 6)*SmtRes!AK34, 2) -> 0 | U25: 3 | Z25: =SmtRes!X34 -> -286966143 | AA25: -1418869673 | AB25: 1282226774
A26: 20 | B26: 33 | C26: 3 | D26: 0 | E26: =SmtRes!AV33 -> 0 | F26: =SmtRes!I33 -> 1.1-1-2911 | G26: =SmtRes!K33 -> Лак электроизоляционный меламиноалкидный, типа МЛ-92 | H26: =SmtRes!O33 -> кг | I26: =SmtRes!Y33*Source!I35 -> 0.03 | J26: =SmtRes!AO33 -> 1 | K26: =SmtRes!AE33 -> 15.11 | L26: =SmtRes!DB33 -> 0.45 | M26: =ROUND(ROUND(L26*Source!I35, 6)*1, 2) -> 0.45 | N26: =SmtRes!AA33 -> 194.77 | O26: =ROUND(ROUND(L26*Source!I35, 6)*SmtRes!DA33, 2) -> 5.8 | P26: =SmtRes!AG33 -> 0 | Q26: =SmtRes!DC33 -> 0 | R26: =ROUND(ROUND(Q26*Source!I35, 6)*1, 2) -> 0 | S26: =SmtRes!AC33 -> 0 | T26: =ROUND(ROUND(Q26*Source!I35, 6)*SmtRes!AK33, 2) -> 0 | U26: 3 | Z26: =SmtRes!X33 -> 946507008 | AA26: 1713543608 | AB26: -1113958799
A27: 20 | B27: 32 | C27: 3 | D27: 0 | E27: =SmtRes!AV32 -> 0 | F27: =SmtRes!I32 -> 1.1-1-146 | G27: =SmtRes!K32 -> Гипс строительный | H27: =SmtRes!O32 -> т | I27: =SmtRes!Y32*Source!I35 -> 0.0003 | J27: =SmtRes!AO32 -> 1 | K27: =SmtRes!AE32 -> 1227.38 | L27: =SmtRes!DB32 -> 0.37 | M27: =ROUND(ROUND(L27*Source!I35, 6)*1, 2) -> 0.37 | N27: =SmtRes!AA32 -> 6836.51 | O27: =ROUND(ROUND(L27*Source!I35, 6)*SmtRes!DA32, 2) -> 2.06 | P27: =SmtRes!AG32 -> 0 | Q27: =SmtRes!DC32 -> 0 | R27: =ROUND(ROUND(Q27*Source!I35, 6)*1, 2) -> 0 | S27: =SmtRes!AC32 -> 0 | T27: =ROUND(ROUND(Q27*Source!I35, 6)*SmtRes!AK32, 2) -> 0 | U27: 3 | Z27: =SmtRes!X32 -> 1238321560 | AA27: 1832985152 | AB27: -1557696929
A28: 20 | B28: 31 | C28: 2 | D28: 0 | E28: =SmtRes!AV31 -> 0 | F28: =SmtRes!I31 -> 2.1-4-12 | G28: =SmtRes!K31 -> Автопогрузчики вилочные, грузоподъемность до 5 т | H28: =SmtRes!O31 -> маш.-ч | I28: =SmtRes!Y31*Source!I35 -> 0.4 | J28: =SmtRes!AO31 -> 1 | K28: =SmtRes!AF31 -> 114.83 | L28: =SmtRes!DB31 -> 45.93 | M28: =ROUND(ROUND(L28*Source!I35, 6)*1, 2) -> 45.93 | N28: =SmtRes!AB31 -> 1517.26 | O28: =ROUND(ROUND(L28*Source!I35, 6)*SmtRes!DA31, 2) -> 579.64 | P28: =SmtRes!AG31 -> 12.62 | Q28: =SmtRes!DC31 -> 5.05 | R28: =ROUND(ROUND(Q28*Source!I35, 6)*1, 2) -> 5.05 | S28: =SmtRes!AC31 -> 455.99 | T28: =ROUND(ROUND(Q28*Source!I35, 6)*SmtRes!AK31, 2) -> 174.28 | U28: 2 | Z28: =SmtRes!X31 -> -32031357 | AA28: 777923228 | AB28: 846388292
A29: 20 | B29: 30 | C29: 1 | D29: 0 | E29: =SmtRes!AV30 -> 1 | F29: =SmtRes!I30 -> 9999990008 | G29: =SmtRes!K30 -> Трудозатраты рабочих | H29: =SmtRes!O30 -> чел.-ч. | I29: =SmtRes!Y30*Source!I35 -> 9.3 | J29: =SmtRes!AO30 -> 1 | K29: =SmtRes!AH30 -> 0 | L29: =SmtRes!DB30 -> 0 | M29: =ROUND(ROUND(L29*Source!I35, 6)*1, 2) -> 0 | N29: =SmtRes!AD30 -> 0 | O29: =ROUND(ROUND(L29*Source!I35, 6)*SmtRes!DA30, 2) -> 0 | P29: =SmtRes!AG30 -> 0 | Q29: =SmtRes!DC30 -> 0 | R29: =ROUND(ROUND(Q29*Source!I35, 6)*1, 2) -> 0 | S29: =SmtRes!AC30 -> 0 | T29: =ROUND(ROUND(Q29*Source!I35, 6)*SmtRes!AK30, 2) -> 0 | U29: 1 | Z29: =SmtRes!X30 -> 476480486 | AA29: -1751963544 | AB29: -1751963544
A30: =Source!A37 -> 17 | B30: 37 | C30: 5 | D30: =Source!BI37 -> 3 | E30: =Source!FS37 -> 0 | F30: =Source!F37 -> УПД | G30: =Source!G37 -> Источник бесперебойного питания, SKAT-UPS 1000/600 | H30: =Source!H37 -> шт. | I30: =Source!I37 -> 1 | J30: 1 | K30: =Source!AC37 -> 4137.19 | M30: =ROUND(K30*I30, 2) -> 4137.19 | N30: =Source!AC37*IF(Source!BC37<> 0, Source!BC37, 1) -> 29415.421 | O30: =ROUND(N30*I30, 2) -> 29415.42 | P30: =Source!AE37 -> 0 | R30: =ROUND(P30*I30, 2) -> 0 | S30: =Source!AE37*IF(Source!BS37<> 0, Source!BS37, 1) -> 0 | T30: =ROUND(S30*I30, 2) -> 0 | U30: 3 | Z30: =Source!GF37 -> -769494491 | AA30: -1221198309 | AB30: 84026592
A31: 20 | B31: 44 | C31: 1 | D31: 0 | E31: =SmtRes!AV44 -> 1 | F31: =SmtRes!I44 -> 9999990008 | G31: =SmtRes!K44 -> Трудозатраты рабочих | H31: =SmtRes!O44 -> чел.-ч. | I31: =SmtRes!Y44*Source!I39 -> 11.7 | J31: =SmtRes!AO44 -> 1 | K31: =SmtRes!AH44 -> 0 | L31: =SmtRes!DB44 -> 0 | M31: =ROUND(ROUND(L31*Source!I39, 6)*1, 2) -> 0 | N31: =SmtRes!AD44 -> 0 | O31: =ROUND(ROUND(L31*Source!I39, 6)*SmtRes!DA44, 2) -> 0 | P31: =SmtRes!AG44 -> 0 | Q31: =SmtRes!DC44 -> 0 | R31: =ROUND(ROUND(Q31*Source!I39, 6)*1, 2) -> 0 | S31: =SmtRes!AC44 -> 0 | T31: =ROUND(ROUND(Q31*Source!I39, 6)*SmtRes!AK44, 2) -> 0 | U31: 1 | Z31: =SmtRes!X44 -> 476480486 | AA31: -1751963544 | AB31: -1751963544
A32: =Source!A41 -> 17 | B32: 41 | C32: 5 | D32: =Source!BI41 -> 3 | E32: =Source!FS41 -> 0 | F32: =Source!F41 -> УПД | G32: =Source!G41 -> Прибор приемно-контрольный и управления охранно-пожар-ный адресный, R3-Рубеж-2ОП | H32: =Source!H41 -> шт. | I32: =Source!I41 -> 1 | J32: 1 | K32: =Source!AC41 -> 6301.22 | M32: =ROUND(K32*I32, 2) -> 6301.22 | N32: =Source!AC41*IF(Source!BC41<> 0, Source!BC41, 1) -> 44801.674 | O32: =ROUND(N32*I32, 2) -> 44801.67 | P32: =Source!AE41 -> 0 | R32: =ROUND(P32*I32, 2) -> 0 | S32: =Source!AE41*IF(Source!BS41<> 0, Source!BS41, 1) -> 0 | T32: =ROUND(S32*I32, 2) -> 0 | U32: 3 | Z32: =Source!GF41 -> 1755136305 | AA32: 1417338398 | AB32: -289966871
A33: 20 | B33: 54 | C33: 1 | D33: 0 | E33: =SmtRes!AV54 -> 1 | F33: =SmtRes!I54 -> 9999990008 | G33: =SmtRes!K54 -> Трудозатраты рабочих | H33: =SmtRes!O54 -> чел.-ч. | I33: =SmtRes!Y54*Source!I45 -> 1.2 | J33: =SmtRes!AO54 -> 1 | K33: =SmtRes!AH54 -> 0 | L33: =SmtRes!DB54 -> 0 | M33: =ROUND(ROUND(L33*Source!I45, 6)*1, 2) -> 0 | N33: =SmtRes!AD54 -> 0 | O33: =ROUND(ROUND(L33*Source!I45, 6)*SmtRes!DA54, 2) -> 0 | P33: =SmtRes!AG54 -> 0 | Q33: =SmtRes!DC54 -> 0 | R33: =ROUND(ROUND(Q33*Source!I45, 6)*1, 2) -> 0 | S33: =SmtRes!AC54 -> 0 | T33: =ROUND(ROUND(Q33*Source!I45, 6)*SmtRes!AK54, 2) -> 0 | U33: 1 | Z33: =SmtRes!X54 -> 476480486 | AA33: -1751963544 | AB33: -1751963544
A34: =Source!A47 -> 17 | B34: 47 | C34: 5 | D34: =Source!BI47 -> 3 | E34: =Source!FS47 -> 0 | F34: =Source!F47 -> УПД | G34: =Source!G47 -> Блок индикации и управления, R3-Рубеж-БИУ | H34: =Source!H47 -> шт. | I34: =Source!I47 -> 1 | J34: 1 | K34: =Source!AC47 -> 3259.91 | M34: =ROUND(K34*I34, 2) -> 3259.91 | N34: =Source!AC47*IF(Source!BC47<> 0, Source!BC47, 1) -> 23177.96 | O34: =ROUND(N34*I34, 2) -> 23177.96 | P34: =Source!AE47 -> 0 | R34: =ROUND(P34*I34, 2) -> 0 | S34: =Source!AE47*IF(Source!BS47<> 0, Source!BS47, 1) -> 0 | T34: =ROUND(S34*I34, 2) -> 0 | U34: 3 | Z34: =Source!GF47 -> 6704842 | AA34: -648390725 | AB34: -837166025
A35: 20 | B35: 82 | C35: 3 | D35: 0 | E35: =SmtRes!AV82 -> 0 | F35: =SmtRes!I82 -> 9999990002 | G35: =SmtRes!K82 -> Масса оборудования | H35: =SmtRes!O82 -> т | I35: =SmtRes!Y82*Source!I51 -> 0.002 | J35: =SmtRes!AO82 -> 1 | K35: =SmtRes!AE82 -> 0 | L35: =SmtRes!DB82 -> 0 | M35: =ROUND(ROUND(L35*Source!I51, 6)*1, 2) -> 0 | N35: =SmtRes!AA82 -> 0 | O35: =ROUND(ROUND(L35*Source!I51, 6)*SmtRes!DA82, 2) -> 0 | P35: =SmtRes!AG82 -> 0 | Q35: =SmtRes!DC82 -> 0 | R35: =ROUND(ROUND(Q35*Source!I51, 6)*1, 2) -> 0 | S35: =SmtRes!AC82 -> 0 | T35: =ROUND(ROUND(Q35*Source!I51, 6)*SmtRes!AK82, 2) -> 0 | U35: 3 | Z35: =SmtRes!X82 -> -783086922 | AA35: 711510557 | AB35: 711510557
A36: 20 | B36: 81 | C36: 3 | D36: 0 | E36: =SmtRes!AV81 -> 0 | F36: =SmtRes!I81 -> 1.21-5-690 | G36: =SmtRes!K81 -> Скрепа для ленты, типа NC 10, CF 10 | H36: =SmtRes!O81 -> 100 шт. | I36: =SmtRes!Y81*Source!I51 -> 0.08 | J36: =SmtRes!AO81 -> 1 | K36: =SmtRes!AE81 -> 413.16 | L36: =SmtRes!DB81 -> 16.53 | M36: =ROUND(ROUND(L36*Source!I51, 6)*1, 2) -> 33.06 | N36: =SmtRes!AA81 -> 1958.38 | O36: =ROUND(ROUND(L36*Source!I51, 6)*SmtRes!DA81, 2) -> 156.7 | P36: =SmtRes!AG81 -> 0 | Q36: =SmtRes!DC81 -> 0 | R36: =ROUND(ROUND(Q36*Source!I51, 6)*1, 2) -> 0 | S36: =SmtRes!AC81 -> 0 | T36: =ROUND(ROUND(Q36*Source!I51, 6)*SmtRes!AK81, 2) -> 0 | U36: 3 | Z36: =SmtRes!X81 -> -1327613835 | AA36: 1978705020 | AB36: 606062180
A37: 20 | B37: 80 | C37: 3 | D37: 0 | E37: =SmtRes!AV80 -> 0 | F37: =SmtRes!I80 -> 1.21-5-1229 | G37: =SmtRes!K80 -> Лента электроизоляционная, термостойкая, ширина 26 мм, толщина от 0,5 до 0,8 мм, типа ЛЭТСАР | H37: =SmtRes!O80 -> кг | I37: =SmtRes!Y80*Source!I51 -> 0.04 | J37: =SmtRes!AO80 -> 1 | K37: =SmtRes!AE80 -> 493.08 | L37: =SmtRes!DB80 -> 9.86 | M37: =ROUND(ROUND(L37*Source!I51, 6)*1, 2) -> 19.72 | N37: =SmtRes!AA80 -> 3047.23 | O37: =ROUND(ROUND(L37*Source!I51, 6)*SmtRes!DA80, 2) -> 121.87 | P37: =SmtRes!AG80 -> 0 | Q37: =SmtRes!DC80 -> 0 | R37: =ROUND(ROUND(Q37*Source!I51, 6)*1, 2) -> 0 | S37: =SmtRes!AC80 -> 0 | T37: =ROUND(ROUND(Q37*Source!I51, 6)*SmtRes!AK80, 2) -> 0 | U37: 3 | Z37: =SmtRes!X80 -> 1313298043 | AA37: -1823750506 | AB37: 1282286202
A38: 20 | B38: 79 | C38: 3 | D38: 0 | E38: =SmtRes!AV79 -> 0 | F38: =SmtRes!I79 -> 1.21-5-1141 | G38: =SmtRes!K79 -> Трубка (кембрик) изоляционная из ПВХ пластиката, диаметр 5 мм | H38: =SmtRes!O79 -> м | I38: =SmtRes!Y79*Source!I51 -> 11.82 | J38: =SmtRes!AO79 -> 1 | K38: =SmtRes!AE79 -> 0.69 | L38: =SmtRes!DB79 -> 4.08 | M38: =ROUND(ROUND(L38*Source!I51, 6)*1, 2) -> 8.16 | N38: =SmtRes!AA79 -> 4.53 | O38: =ROUND(ROUND(L38*Source!I51, 6)*SmtRes!DA79, 2) -> 53.61 | P38: =SmtRes!AG79 -> 0 | Q38: =SmtRes!DC79 -> 0 | R38: =ROUND(ROUND(Q38*Source!I51, 6)*1, 2) -> 0 | S38: =SmtRes!AC79 -> 0 | T38: =ROUND(ROUND(Q38*Source!I51, 6)*SmtRes!AK79, 2) -> 0 | U38: 3 | Z38: =SmtRes!X79 -> 660143704 | AA38: 680570959 | AB38: 1812635077
A39: 20 | B39: 78 | C39: 3 | D39: 0 | E39: =SmtRes!AV78 -> 0 | F39: =SmtRes!I78 -> 1.1-1-953 | G39: =SmtRes!K78 -> Проволока медная, толщина от 1,0 до 1,5 мм | H39: =SmtRes!O78 -> т | I39: =SmtRes!Y78*Source!I51 -> 0.0002 | J39: =SmtRes!AO78 -> 1 | K39: =SmtRes!AE78 -> 81246.4 | L39: =SmtRes!DB78 -> 8.12 | M39: =ROUND(ROUND(L39*Source!I51, 6)*1, 2) -> 16.24 | N39: =SmtRes!AA78 -> 1198384.4 | O39: =ROUND(ROUND(L39*Source!I51, 6)*SmtRes!DA78, 2) -> 239.54 | P39: =SmtRes!AG78 -> 0 | Q39: =SmtRes!DC78 -> 0 | R39: =ROUND(ROUND(Q39*Source!I51, 6)*1, 2) -> 0 | S39: =SmtRes!AC78 -> 0 | T39: =ROUND(ROUND(Q39*Source!I51, 6)*SmtRes!AK78, 2) -> 0 | U39: 3 | Z39: =SmtRes!X78 -> 1034648933 | AA39: 1839804255 | AB39: 22278637
A40: 20 | B40: 77 | C40: 3 | D40: 0 | E40: =SmtRes!AV77 -> 0 | F40: =SmtRes!I77 -> 1.1-1-945 | G40: =SmtRes!K77 -> Припой оловянно-свинцовый, в прутках, диаметр 8 мм, типа ПОС-40 | H40: =SmtRes!O77 -> т | I40: =SmtRes!Y77*Source!I51 -> 0.00012 | J40: =SmtRes!AO77 -> 1 | K40: =SmtRes!AE77 -> 64128.62 | L40: =SmtRes!DB77 -> 3.85 | M40: =ROUND(ROUND(L40*Source!I51, 6)*1, 2) -> 7.7 | N40: =SmtRes!AA77 -> 1930271.5 | O40: =ROUND(ROUND(L40*Source!I51, 6)*SmtRes!DA77, 2) -> 231.77 | P40: =SmtRes!AG77 -> 0 | Q40: =SmtRes!DC77 -> 0 | R40: =ROUND(ROUND(Q40*Source!I51, 6)*1, 2) -> 0 | S40: =SmtRes!AC77 -> 0 | T40: =ROUND(ROUND(Q40*Source!I51, 6)*SmtRes!AK77, 2) -> 0 | U40: 3 | Z40: =SmtRes!X77 -> 403804236 | AA40: 818563243 | AB40: -78630505
A41: 20 | B41: 76 | C41: 3 | D41: 0 | E41: =SmtRes!AV76 -> 0 | F41: =SmtRes!I76 -> 1.1-1-8007 | G41: =SmtRes!K76 -> Дюбель пластмассовый с шурупом, диаметр 12 мм, длина 70 мм, диаметр шурупа 8 мм, длина шурупа 70 мм | H41: =SmtRes!O76 -> 100 шт. | I41: =SmtRes!Y76*Source!I51 -> 0.2 | J41: =SmtRes!AO76 -> 1 | K41: =SmtRes!AE76 -> 120.2 | L41: =SmtRes!DB76 -> 12.02 | M41: =ROUND(ROUND(L41*Source!I51, 6)*1, 2) -> 24.04 | N41: =SmtRes!AA76 -> 1615.49 | O41: =ROUND(ROUND(L41*Source!I51, 6)*SmtRes!DA76, 2) -> 323.1 | P41: =SmtRes!AG76 -> 0 | Q41: =SmtRes!DC76 -> 0 | R41: =ROUND(ROUND(Q41*Source!I51, 6)*1, 2) -> 0 | S41: =SmtRes!AC76 -> 0 | T41: =ROUND(ROUND(Q41*Source!I51, 6)*SmtRes!AK76, 2) -> 0 | U41: 3 | Z41: =SmtRes!X76 -> 57643539 | AA41: -2024754912 | AB41: 290239521
A42: 20 | B42: 75 | C42: 3 | D42: 0 | E42: =SmtRes!AV75 -> 0 | F42: =SmtRes!I75 -> 1.1-1-440 | G42: =SmtRes!K75 -> Краска водно-дисперсионная, акриловая, типа ВДА | H42: =SmtRes!O75 -> т | I42: =SmtRes!Y75*Source!I51 -> 4e-05 | J42: =SmtRes!AO75 -> 1 | K42: =SmtRes!AE75 -> 17729.79 | L42: =SmtRes!DB75 -> 0.35 | M42: =ROUND(ROUND(L42*Source!I51, 6)*1, 2) -> 0.7 | N42: =SmtRes!AA75 -> 127122.59 | O42: =ROUND(ROUND(L42*Source!I51, 6)*SmtRes!DA75, 2) -> 5.02 | P42: =SmtRes!AG75 -> 0 | Q42: =SmtRes!DC75 -> 0 | R42: =ROUND(ROUND(Q42*Source!I51, 6)*1, 2) -> 0 | S42: =SmtRes!AC75 -> 0 | T42: =ROUND(ROUND(Q42*Source!I51, 6)*SmtRes!AK75, 2) -> 0 | U42: 3 | Z42: =SmtRes!X75 -> -1917880410 | AA42: 476628198 | AB42: 1909860070
...

Sheet Расчет стоимости ресурсов
A2: Ресурсная ведомость на
A3: =CONCATENATE("Объект: ",IF(Source!G774<>"Новый объект", Source!G774, "")) -> Объект: на выполнение работ по замене СПС, СОУЭ и АГПТ | O3: Объект: на выполнение работ по замене СПС, СОУЭ и АГПТ
A4: Обоснование | B4: Наименование | C4: Единица измерения | D4: Объем | E4: Текущая
E6: цена | F6: стоимость
A7: 1 | B7: 2 | C7: 3 | D7: 4 | E7: 5 | F7: 6
A8: =CONCATENATE("Локальная смета: ",IF(Source!G22<>"Новая локальная смета", Source!G22, "")) -> Локальная смета: СПС
A9: =CONCATENATE("Раздел: ",IF(Source!G26<>"Новый раздел", Source!G26, "")) -> Раздел: 1. СПС
A10: Трудовые ресурсы
A11: 9999990008 | B11: Трудозатраты рабочих | C11: чел.-ч. | D11: =ROUND(SUMIF(RV_DATA!AB8:AB122, -1751963544, RV_DATA!I8:I122), 6) -> 1003.9574 | E11: =ROUND(RV_DATA!N14, 6) -> 0 | F11: =ROUND(SUMIF(RV_DATA!AB8:AB122, -1751963544, RV_DATA!O8:O122), 6) -> 0 | Q11: 1
A12: Итого трудовые ресурсы | E12: =SUMIF(Q11:Q11, 1, F11:F11) -> 0
A13: Машины и механизмы
A14: 2.1-13-14 | B14: Аппараты сварочные постоянного тока (выпрямители) для ручной дуговой сварки, сварочный ток до 500 А | C14: маш.-ч | D14: =ROUND(SUMIF(RV_DATA!AB8:AB122, -1927318577, RV_DATA!I8:I122), 6) -> 19.25319 | E14: =ROUND(RV_DATA!N78, 6) -> 79.5 | F14: =ROUND(SUMIF(RV_DATA!AB8:AB122, -1927318577, RV_DATA!O8:O122), 6) -> 1462.12 | Q14: 2
A15: 2.1-18-7 | B15: Автомобили грузовые бортовые, грузоподъемность до 5 т | C15: маш.-ч | D15: =ROUND(SUMIF(RV_DATA!AB8:AB122, -1462868675, RV_DATA!I8:I122), 6) -> 12.46214 | E15: =ROUND(RV_DATA!N55, 6) -> 1118.89 | F15: =ROUND(SUMIF(RV_DATA!AB8:AB122, -1462868675, RV_DATA!O8:O122), 6) -> 13318.52 | Q15: 2
A16: 2.1-30-10 | B16: Перфораторы, мощность до 800 Вт | C16: маш.-ч | D16: =ROUND(SUMIF(RV_DATA!AB8:AB122, 714070868, RV_DATA!I8:I122), 6) -> 28.80499 | E16: =ROUND(RV_DATA!N76, 6) -> 6.84 | F16: =ROUND(SUMIF(RV_DATA!AB8:AB122, 714070868, RV_DATA!O8:O122), 6) -> 188.19 | Q16: 2
A17: 2.1-3-38 | B17: Краны на автомобильном ходу, грузоподъемность до 16 т | C17: маш.-ч | D17: =ROUND(SUMIF(RV_DATA!AB8:AB122, -711566665, RV_DATA!I8:I122), 6) -> 0.02165 | E17: =ROUND(RV_DATA!N67, 6) -> 2149.79 | F17: =ROUND(SUMIF(RV_DATA!AB8:AB122, -711566665, RV_DATA!O8:O122), 6) -> 44.41 | Q17: 2
A18: 2.1-4-109 | B18: Подъемники ножничные несамоходные, высота подъема до 10 м | C18: маш.-ч | D18: =ROUND(SUMIF(RV_DATA!AB8:AB122, -524523805, RV_DATA!I8:I122), 6) -> 39.428 | E18: =ROUND(RV_DATA!N86, 6) -> 557.83 | F18: =ROUND(SUMIF(RV_DATA!AB8:AB122, -524523805, RV_DATA!O8:O122), 6) -> 21006.63 | Q18: 2
A19: 2.1-4-12 | B19: Автопогрузчики вилочные, грузоподъемность до 5 т | C19: маш.-ч | D19: =ROUND(SUMIF(RV_DATA!AB8:AB122, 846388292, RV_DATA!I8:I122), 6) -> 4.6 | E19: =ROUND(RV_DATA!N13, 6) -> 1517.26 | F19: =ROUND(SUMIF(RV_DATA!AB8:AB122, 846388292, RV_DATA!O8:O122), 6) -> 6666.01 | Q19: 2
A20: Итого машины и механизмы | E20: =SUMIF(Q14:Q19, 2, F14:F19) -> 42685.88
A21: Материальные ресурсы
A22: 1.1-1-1257 | B22: Тальк молотый | C22: кг | D22: =ROUND(SUMIF(RV_DATA!AB8:AB122, -705495717, RV_DATA!I8:I122), 6) -> 0.93095 | E22: =ROUND(RV_DATA!N66, 6) -> 12.58 | F22: =ROUND(SUMIF(RV_DATA!AB8:AB122, -705495717, RV_DATA!O8:O122), 6) -> 11.76 | Q22: 3
A23: 1.1-1-132 | B23: Гвозди строительные | C23: т | D23: =ROUND(SUMIF(RV_DATA!AB8:AB122, -1462969810, RV_DATA!I8:I122), 6) -> 0.00102 | E23: =ROUND(RV_DATA!N119, 6) -> 82595.61 | F23: =ROUND(SUMIF(RV_DATA!AB8:AB122, -1462969810, RV_DATA!O8:O122), 6) -> 84.06 | Q23: 3
A24: 1.1-1-146 | B24: Гипс строительный | C24: т | D24: =ROUND(SUMIF(RV_DATA!AB8:AB122, -1557696929, RV_DATA!I8:I122), 6) -> 0.0009 | E24: =ROUND(RV_DATA!N27, 6) -> 6836.51 | F24: =ROUND(SUMIF(RV_DATA!AB8:AB122, -1557696929, RV_DATA!O8:O122), 6) -> 6.18 | Q24: 3
A25: 1.1-1-1669 | B25: Электроды, типа Э-42А, диаметр от 4 до 6 мм | C25: т | D25: =ROUND(SUMIF(RV_DATA!AB8:AB122, -1987742182, RV_DATA!I8:I122), 6) -> 0.031902 | E25: =ROUND(RV_DATA!N75, 6) -> 157580.26 | F25: =ROUND(SUMIF(RV_DATA!AB8:AB122, -1987742182, RV_DATA!O8:O122), 6) -> 5026.64 | Q25: 3
A26: 1.1-1-1723 | B26: Лента изоляционная, прорезиненная, односторонняя | C26: кг | D26: =ROUND(SUMIF(RV_DATA!AB8:AB122, -722337738, RV_DATA!I8:I122), 6) -> 0.928 | E26: =ROUND(RV_DATA!N65, 6) -> 270.42 | F26: =ROUND(SUMIF(RV_DATA!AB8:AB122, -722337738, RV_DATA!O8:O122), 6) -> 250.94 | Q26: 3
A27: 1.1-1-221 | B27: Пиломатериал (доска) обрезной хвойных пород естественной влажности, сорт II, толщина 25 мм, ширина от 100 до 200 мм | C27: м3 | D27: =ROUND(SUMIF(RV_DATA!AB8:AB122, -1313657238, RV_DATA!I8:I122), 6) -> 0.02754 | E27: =ROUND(RV_DATA!N118, 6) -> 10077.19 | F27: =ROUND(SUMIF(RV_DATA!AB8:AB122, -1313657238, RV_DATA!O8:O122), 6) -> 276.97 | Q27: 3
A28: 1.1-1-237 | B28: Дюбель с патроном | C28: шт. | D28: =ROUND(SUMIF(RV_DATA!AB8:AB122, -614974749, RV_DATA!I8:I122), 6) -> 451.935 | E28: =ROUND(RV_DATA!N84, 6) -> 8.45 | F28: =ROUND(SUMIF(RV_DATA!AB8:AB122, -614974749, RV_DATA!O8:O122), 6) -> 3820.39 | Q28: 3
A29: 1.1-1-238 | B29: Дюбель пластмассовый | C29: шт. | D29: =ROUND(SUMIF(RV_DATA!AB8:AB122, 1523495228, RV_DATA!I8:I122), 6) -> 27.476 | E29: =ROUND(RV_DATA!N83, 6) -> 0.82 | F29: =ROUND(SUMIF(RV_DATA!AB8:AB122, 1523495228, RV_DATA!O8:O122), 6) -> 22.5 | Q29: 3
A30: 1.1-1-2381 | B30: Винты с полукруглой головкой, М6х10 | C30: т | D30: =ROUND(SUMIF(RV_DATA!AB8:AB122, 609349578, RV_DATA!I8:I122), 6) -> 0.00029 | E30: =ROUND(RV_DATA!N82, 6) -> 103793.65 | F30: =ROUND(SUMIF(RV_DATA!AB8:AB122, 609349578, RV_DATA!O8:O122), 6) -> 30.22 | Q30: 3
A31: 1.1-1-2911 | B31: Лак электроизоляционный меламиноалкидный, типа МЛ-92 | C31: кг | D31: =ROUND(SUMIF(RV_DATA!AB8:AB122, -1113958799, RV_DATA!I8:I122), 6) -> 0.09 | E31: =ROUND(RV_DATA!N26, 6) -> 194.77 | F31: =ROUND(SUMIF(RV_DATA!AB8:AB122, -1113958799, RV_DATA!O8:O122), 6) -> 17.4 | Q31: 3
A32: 1.1-1-330 | B32: Канифоль | C32: кг | D32: =ROUND(SUMIF(RV_DATA!AB8:AB122, 1282226774, RV_DATA!I8:I122), 6) -> 0.03 | E32: =ROUND(RV_DATA!N25, 6) -> 464.93 | F32: =ROUND(SUMIF(RV_DATA!AB8:AB122, 1282226774, RV_DATA!O8:O122), 6) -> 14.2 | Q32: 3
A33: 1.1-1-3588 | B33: Лента для уплотнения резьбы при монтаже инженерных сетей, типа ФУМ | C33: кг | D33: =ROUND(SUMIF(RV_DATA!AB8:AB122, -1720620010, RV_DATA!I8:I122), 6) -> 0.00474 | E33: =ROUND(RV_DATA!N106, 6) -> 1072.27 | F33: =ROUND(SUMIF(RV_DATA!AB8:AB122, -1720620010, RV_DATA!O8:O122), 6) -> 5.08 | Q33: 3
A34: 1.1-1-3607 | B34: Шурупы с полукруглой головкой, диаметр 4 мм, длина 40 мм | C34: т | D34: =ROUND(SUMIF(RV_DATA!AB8:AB122, -1775504617, RV_DATA!I8:I122), 6) -> 0.37026 | E34: =ROUND(RV_DATA!N81, 6) -> 141029.96 | F34: =ROUND(SUMIF(RV_DATA!AB8:AB122, -1775504617, RV_DATA!O8:O122), 6) -> 52217.53 | Q34: 3
A35: 1.1-1-3648 | B35: Трубки резиновые, технические, типа ТМКЩ, диаметр от 6 до 40 мм, толщина стенки от 2 до 4 мм | C35: кг | D35: =ROUND(SUMIF(RV_DATA!AB8:AB122, -1269028055, RV_DATA!I8:I122), 6) -> 0.02 | E35: =ROUND(RV_DATA!N12, 6) -> 409.18 | F35: =ROUND(SUMIF(RV_DATA!AB8:AB122, -1269028055, RV_DATA!O8:O122), 6) -> 8.15 | Q35: 3
