Workbook

Sheet Смета СН-2012 по гл. 1-5
A1: =CONCATENATE(Source!B1, " СН-2012 (© ОАО МЦЦС 'Мосстройцены', ", "2024", ")") -> Smeta.RU (495) 974-1589 СН-2012 (© ОАО МЦЦС 'Мосстройцены', 2024)
J2: Форма № 1а (глава 1-5)
B3: "СОГЛАСОВАНО" | G3: "УТВЕРЖДАЮ"
B6: =CONCATENATE("______________________ ", IF(Source!AL12<>"", Source!AL12, "")) -> ______________________ | G6: =CONCATENATE("______________________ ", IF(Source!AH12<>"", Source!AH12, "")) -> ______________________
B7: "_____"________________ 2024 г. | G7: "_____"________________ 2024 г.
A10: =CONCATENATE( "ЛОКАЛЬНАЯ СМЕТА № ",IF(Source!F12<>"Новый объект", Source!F12, "")) -> ЛОКАЛЬНАЯ СМЕТА №
A11: (локальный сметный расчет)
A15: =IF(Source!G12<>"Новый объект", Source!G12, "") -> Техническое обслуживание ГБУЗ "ГП №6 ДЗМ"
A16: (наименование работ и затрат, наименование объекта)
A18: =CONCATENATE( "Основание: чертежи № ", Source!J12) -> Основание: чертежи №
F20: Сметная стоимость | I20: =I21+I22+I23+I24 -> 5869.03 | K20: тыс.руб
F21: Строительные работы | I21: =ROUND((Source!F1266)/1000, 2) -> 0 | K21: тыс.руб
F22: Монтажные работы | I22: =ROUND((Source!F1267)/1000, 2) -> 0 | K22: тыс.руб
F23: Оборудование | I23: =ROUND((Source!F1258)/1000, 2) -> 0 | K23: тыс.руб
F24: Прочие работы | I24: =ROUND((Source!F1268+Source!F1269)/1000, 2) -> 5869.03 | K24: тыс.руб
F25: Средства на оплату труда | I25: =(Source!F1264+ Source!F1263)/1000 -> 3077.9839 | K25: тыс.руб
A26: Составлен(а) в уровне текущих (прогнозных) цен на январь 2024 года
A27: №№ п/п | B27: Шифр расценки и коды ресурсов | C27: Наименование работ и затрат | D27: Единица измерения | E27: Кол-во единиц | F27: Цена на ед. изм. руб. | G27: Попра-вочные коэфф. | H27: Коэфф. зимних удоро-жаний | I27: Коэфф. пересчета | J27: ВСЕГО затрат, руб. | K27: Справочно
K28: ЗТР, всего чел.-час
K29: Ст-ть ед. с начислен.
A30: 1 | B30: 2 | C30: 3 | D30: 4 | E30: 5 | F30: 6 | G30: 7 | H30: 8 | I30: 9 | J30: 10 | K30: 11
A32: =CONCATENATE("Локальная смета: ",IF(Source!G20<>"Новая локальная смета", Source!G20, "")) -> Локальная смета:
A34: =CONCATENATE("Раздел: ",IF(Source!G24<>"Новый раздел", Source!G24, "")) -> Раздел: г. Москва, 3-й Михалковский пер., д.22
A36: =CONCATENATE("Подраздел: ",IF(Source!G28<>"Новый подраздел", Source!G28, "")) -> Подраздел: АПС
A37: 1 | B37: 3.1-2203-26-1/1 Поправка: СН-2012. Гл.1 Сб.22 п.3.6.2 | C37: =Source!G32 -> Техническое обслуживание прибора приемно-контрольного "Сигнал-20П" (ППКОПУ R3-Рубеж-2ОП (R3-Link), ППКОПУ Рубеж-2ОП (RS-485)) | D37: =Source!H32 -> шт. | E37: =Source!I32 -> 6 | Q37: =ROUND((Source!BZ32/100)*ROUND((Source!AF32*Source!AV32)*Source!I32, 2), 2) -> 1563.96 | R37: =Source!X32 -> 1563.96 | S37: =ROUND((Source!CA32/100)*ROUND((Source!AF32*Source!AV32)*Source!I32, 2), 2) -> 223.42 | T37: =Source!Y32 -> 223.42 | U37: =ROUND((175/100)*ROUND((Source!AE32*Source!AV32)*Source!I32, 2), 2) -> 606.24 | V37: =ROUND((108/100)*ROUND(Source!CS32*Source!I32, 2), 2) -> 374.13
C38: ="Объем: "&Source!I32&"=4+"&"2" -> Объем: 6=4+2
C39: ЗП | F39: =Source!AO32 -> 531.96 | G39: =Source!DG32 -> )*0,70 | H39: =Source!AV32 -> 1 | I39: =IF(Source!BA32<> 0, Source!BA32, 1) -> 1 | J39: =Source!S32 -> 2234.23
C40: ЭМ | F40: =Source!AM32 -> 126.38 | G40: =Source!DE32 -> )*0,70 | H40: =Source!AV32 -> 1 | I40: =IF(Source!BB32<> 0, Source!BB32, 1) -> 1 | J40: =Source!Q32 -> 530.8
C41: в т.ч. ЗПМ | F41: =Source!AN32 -> 82.48 | G41: =Source!DF32 -> )*0,70 | H41: =Source!AV32 -> 1 | I41: =IF(Source!BS32<> 0, Source!BS32, 1) -> 1 | J41: =Source!R32 -> 346.42
C42: МР | F42: =Source!AL32 -> 8.46 | G42: =Source!DD32 -> )*1 | H42: =Source!AW32 -> 1 | I42: =IF(Source!BC32<> 0, Source!BC32, 1) -> 1 | J42: =Source!P32 -> 50.76
C43: НР от ЗП | D43: % | E43: =Source!AT32 -> 70 | J43: =SUM(R37:R42) -> 1563.96
C44: СП от ЗП | D44: % | E44: =Source!AU32 -> 10 | J44: =SUM(T37:T43) -> 223.42
C45: НР и СП от ЗПМ | D45: % | E45: =108 -> 108 | J45: =SUM(V37:V44) -> 374.13
C46: ЗТР | D46: чел-ч | E46: =Source!AQ32 -> 1.37 | G46: =Source!DI32 -> )*0,70 | H46: =Source!AV32 -> 1 | K46: =Source!U32 -> 5.754
I47: =J39+J40+J42+J43+J44+J45 -> 4977.3 | K47: =IF(Source!I32<>0, ROUND(I47/Source!I32, 2), 0) -> 829.55 | P47: =I47 -> 4977.3
A48: 2 | B48: 3.1-2201-25-1/1 Поправка: СН-2012. Гл.1 Сб.22 п.3.6.1 | C48: =Source!G33 -> Технический осмотр прибора приемно-контрольного "Сигнал-20П" (ППКОПУ R3-Рубеж-2ОП (R3-Link), ППКОПУ Рубеж-2ОП (RS-485)) | D48: =Source!H33 -> шт. | E48: =Source!I33 -> 6 | Q48: =ROUND((Source!BZ33/100)*ROUND((Source!AF33*Source!AV33)*Source!I33, 2), 2) -> 1076.23 | R48: =Source!X33 -> 1076.23 | S48: =ROUND((Source!CA33/100)*ROUND((Source!AF33*Source!AV33)*Source!I33, 2), 2) -> 153.75 | T48: =Source!Y33 -> 153.75 | U48: =ROUND((175/100)*ROUND((Source!AE33*Source!AV33)*Source!I33, 2), 2) -> 446.99 | V48: =ROUND((108/100)*ROUND(Source!CS33*Source!I33, 2), 2) -> 275.85
C49: ="Объем: "&Source!I33&"=4+"&"2" -> Объем: 6=4+2
C50: ЗП | F50: =Source!AO33 -> 31.06 | G50: =Source!DG33 -> )*0,75)*11 | H50: =Source!AV33 -> 1 | I50: =IF(Source!BA33<> 0, Source!BA33, 1) -> 1 | J50: =Source!S33 -> 1537.47
C51: ЭМ | F51: =Source!AM33 -> 7.9 | G51: =Source!DE33 -> )*0,75)*11 | H51: =Source!AV33 -> 1 | I51: =IF(Source!BB33<> 0, Source!BB33, 1) -> 1 | J51: =Source!Q33 -> 391.05
C52: в т.ч. ЗПМ | F52: =Source!AN33 -> 5.16 | G52: =Source!DF33 -> )*0,75)*11 | H52: =Source!AV33 -> 1 | I52: =IF(Source!BS33<> 0, Source!BS33, 1) -> 1 | J52: =Source!R33 -> 255.42
...

Sheet Дефектная ведомость
A1: =Source!B1 -> Smeta.RU (495) 974-1589
D3: "УТВЕРЖДАЮ"
C5: ___________________________
C7: ___________________________
C9: " ___ " ___________ 20 ___ г.
A11: =CONCATENATE("Дефектный акт ", IF(Source!AN15<>"", Source!AN15," ")) -> Дефектный акт
A12: =CONCATENATE("На капитальный ремонт ", Source!G12) -> На капитальный ремонт Техническое обслуживание ГБУЗ "ГП №6 ДЗМ"
B14: Мы, нижеподписавшиеся, произвели осмотр объекта
B15: и постановили произвести ремонт объекта в
B16: следующем объеме:
A17: № п/п | B17: Наименование работ и затрат | C17: Единица измерения | D17: Количество | E17: Примечание
A18: 1 | B18: 2 | C18: 3 | D18: 4 | E18: 5
A19: =CONCATENATE("Локальная смета: ", Source!G20) -> Локальная смета: Новая локальная смета
A20: =CONCATENATE("Раздел: ", Source!G24) -> Раздел: г. Москва, 3-й Михалковский пер., д.22
A21: =CONCATENATE("Подраздел: ", Source!G28) -> Подраздел: АПС
A22: 1 | B22: =Source!G32 -> Техническое обслуживание прибора приемно-контрольного "Сигнал-20П" (ППКОПУ R3-Рубеж-2ОП (R3-Link), ППКОПУ Рубеж-2ОП (RS-485)) | C22: =Source!H32 -> шт. | D22: =Source!I32 -> 6
A23: 2 | B23: =Source!G33 -> Технический осмотр прибора приемно-контрольного "Сигнал-20П" (ППКОПУ R3-Рубеж-2ОП (R3-Link), ППКОПУ Рубеж-2ОП (RS-485)) | C23: =Source!H33 -> шт. | D23: =Source!I33 -> 6
A24: 3 | B24: =Source!G34 -> Техническое обслуживание приборов системы охранно-пожарной сигнализации на базе оборудования С2000, блок индикации С2000-БКИ (С2000-БИ) - годовое (R3-Рубеж-БИУ (R3-LINK), Рубеж-БИУ (RS-485)) | C24: =Source!H34 -> шт. | D24: =Source!I34 -> 2
A25: 4 | B25: =Source!G35 -> Техническое обслуживание источника вторичного электропитания резервированного "ИБП 1200\2400" | C25: =Source!H35 -> шт. | D25: =Source!I35 -> 4
A26: 5 | B26: =Source!G36 -> Технический осмотр Источник вторичного электропитания резервированного "ИБП 1200\2400" | C26: =Source!H36 -> шт. | D26: =Source!I36 -> 4
A27: 6 | B27: =Source!G37 -> Техническое обслуживание сетевого контроллера шлейфов сигнализации "СКШС-01" (ИЗ-1-R3) | C27: =Source!H37 -> шт. | D27: =Source!I37 -> 45
A28: 7 | B28: =Source!G38 -> Технический осмотр сетевого контроллера шлейфов сигнализации "СКШС-01" (ИЗ-1-R3) | C28: =Source!H38 -> шт. | D28: =Source!I38 -> 45
A29: 8 | B29: =Source!G39 -> Техническое обслуживание извещателя пожарного дымового оптико-электронного адресно-аналогового ИП 212-34А "ДИП-34А" - годовое | C29: =Source!H39 -> шт. | D29: =Source!I39 -> 561
A30: 9 | B30: =Source!G40 -> Техническое обслуживание извещателя пожарного ручного адресного "ИПР513-3А" | C30: =Source!H40 -> шт. | D30: =Source!I40 -> 14
A31: 10 | B31: =Source!G41 -> Технический осмотр извещателя пожарного ручного адресного "ИПР513-3А" | C31: =Source!H41 -> шт. | D31: =Source!I41 -> 14
A32: 11 | B32: =Source!G42 -> Техническое обслуживание устройства сигнально-пускового пожарного адресуемого типа УСПП 01041-2-1 "Гамма-А" Устройство дистанционного пуска адресное УДП513-11 | C32: =Source!H42 -> шт. | D32: =Source!I42 -> 40
A33: 12 | B33: =Source!G43 -> Технический осмотр устройства сигнально-пускового пожарного адресуемого типа УСПП 01041-2-1 "Гамма-А" Устройство дистанционного пуска адресное УДП513-11 | C33: =Source!H43 -> шт. | D33: =Source!I43 -> 40
... A38: 17 | B38: =Source!G48 -> Техническое обслуживание приборов системы охранно-пожарной сигнализации, резервированный источник питания "РИП-24" - годовое | C38: =Source!H48 -> шт. | D38: =Source!I48 -> 1
A39: =CONCATENATE("Подраздел: ", Source!G80) -> Подраздел: Система оповещения
A40: 18 | B40: =Source!G84 -> Техническое обслуживание прибора приемно-контрольного "Сигнал-20П" | C40: =Source!H84 -> шт. | D40: =Source!I84 -> 1
A41: 19 | B41: =Source!G85 -> Технический осмотр прибора приемно-контрольного "Сигнал-20П" | C41: =Source!H85 -> шт. | D41: =Source!I85 -> 1
A42: 20 | B42: =Source!G86 -> Техническое обслуживание приборов системы оповещения, громкоговоритель настенный типа SWS-03 - годовое | C42: =Source!H86 -> шт. | D42: =Source!I86 -> 280
A43: 21 | B43: =Source!G87 -> Техническое обслуживание системы оповещения и управления эвакуацией (СОУЭ) на базе оборудования типа "Сонар", микрофонная консоль - ежемесячное | C43: =Source!H87 -> шт. | D43: =Source!I87 -> 1
A44: 22 | B44: =Source!G89 -> Технический осмотр приборов системы оповещения и управления эвакуацией людей (СОУЭ), оповещатель световой - ежемесячный | C44: =Source!H89 -> 10 шт. | D44: =Source!I89 -> 4.7
A45: 23 | B45: =Source!G90 -> Технический осмотр приборов системы оповещения и управления эвакуацией людей (СОУЭ), оповещатель световой пульсирующий типа строб - ежемесячный | C45: =Source!H90 -> 10 шт. | D45: =Source!I90 -> 10.3
A46: 24 | B46: =Source!G91 -> Техническое обслуживание оповещателя пожарного светового типа "Гамма-С" | C46: =Source!H91 -> 10 шт. | D46: =Source!I91 -> 1.5
A47: 25 | B47: =Source!G92 -> Технический осмотр оповещателя пожарного светового типа "Гамма-С" | C47: =Source!H92 -> 10 шт. | D47: =Source!I92 -> 15
A48: 26 | B48: =Source!G93 -> Техническое обслуживание релейного модуля "РМ-1" (РМ-1-R3, РМ-4-R3, РМ-4К) | C48: =Source!H93 -> шт. | D48: =Source!I93 -> 2
A49: 27 | B49: =Source!G94 -> Технический осмотр Релейный модуль "РМ-1" (РМ-1-R3, РМ-4-R3, РМ-4К) | C49: =Source!H94 -> шт. | D49: =Source!I94 -> 2
A50: =CONCATENATE("Подраздел: ", Source!G126) -> Подраздел: Система пожаротушения
...

Sheet ОСР январь 2024 года
A1: =SourceObSm!B1 -> Smeta.RU (495) 974-1589
J2: Форма 3
B4: =IF(SourceObSm!G4<>"",SourceObSm!G4,IF(SourceObSm!F4<>"",SourceObSm!F4,IF(SourceObSm!G5<>"",SourceObSm!G5,IF(SourceObSm!F5<>"",SourceObSm!F5,IF(SourceObSm!G6<>"",SourceObSm!G6,IF(SourceObSm!G12<>"",SourceObSm!G12," ")))))) -> Техническое обслуживание ГБУЗ "ГП №6 ДЗМ"
B5: (Наименование стройки)
B7: =CONCATENATE( "ОБЪЕКТНЫЙ СМЕТНЫЙ РАСЧЕТ № ", SourceObSm!F12) -> ОБЪЕКТНЫЙ СМЕТНЫЙ РАСЧЕТ № Новый объект
B8: (объектная смета)
B10: =CONCATENATE( "на строительство (капитальный ремонт) ",IF(SourceObSm!G12<>"",SourceObSm!G12,IF(SourceObSm!F12<>"",SourceObSm!F12," "))) -> на строительство (капитальный ремонт) Техническое обслуживание ГБУЗ "ГП №6 ДЗМ"
B12: Сметная стоимость | D12: =H24 -> 5869030 | E12: руб.
B14: Средства на оплату труда | D14: =I24 -> 3077980 | E14: руб.
B16: Расчетный измеритель единичной стоимости | D16: =SourceObSm!I12 -> 0 | E16: =SourceObSm!H12
B18: Составлен(а) в базисном уровне цен
J19: руб.
A20: № п/п | B20: Номера сметных расчетов (смет) | C20: Наименование работ и затрат | D20: Сметная стоимость, руб. | I20: Средства на оплату труда | J20: Показатели единичной стоимости
D21: строите-льных работ | E21: монтажных работ | F21: оборудо-вания, мебели, инвентаря | G21: прочих затрат | H21: Всего
A22: 1 | B22: 2 | C22: 3 | D22: 4 | E22: 5 | F22: 6 | G22: 7 | H22: 8 | I22: 9 | J22: 10
A23: 1 | B23: =SourceObSm!C16 | C23: =SourceObSm!D16 -> Новая локальная смета | D23: =IF(SourceObSm!E16*1000=0,0, ROUND(SourceObSm!E16*1000,6)) -> 0 | E23: =IF(SourceObSm!F16*1000=0,0, ROUND(SourceObSm!F16*1000,6)) -> 0 | F23: =IF(SourceObSm!G16*1000=0,0, ROUND(SourceObSm!G16*1000,6)) -> 0 | G23: =IF(SourceObSm!H16*1000=0,0, ROUND(SourceObSm!H16*1000,6)) -> 5869030 | H23: =IF(SourceObSm!I16*1000=0,0, ROUND(SourceObSm!I16*1000,6)) -> 5869030 | I23: =IF(SourceObSm!J16*1000=0,0, ROUND(SourceObSm!J16*1000,6)) -> 3077980 | J23: =IF(H23="-","-",IF(SourceObSm!I12=0,0,H23/SourceObSm!I12)) -> 0
C24: ИТОГО: | D24: =IF(SourceObSm!E18*1000=0,0, ROUND(SourceObSm!E18*1000,6)) -> 0 | E24: =IF(SourceObSm!F18*1000=0,0, ROUND(SourceObSm!F18*1000,6)) -> 0 | F24: =IF(SourceObSm!G18*1000=0,0, ROUND(SourceObSm!G18*1000,6)) -> 0 | G24: =IF(SourceObSm!H18*1000=0,0, ROUND(SourceObSm!H18*1000,6)) -> 5869030 | H24: =IF(SourceObSm!I18*1000=0,0, ROUND(SourceObSm!I18*1000,6)) -> 5869030 | I24: =IF(SourceObSm!J18*1000=0,0, ROUND(SourceObSm!J18*1000,6)) -> 3077980
C25: в том числе
B26: =SourceObSm!N47 | C26: =SourceObSm!H47 -> Итого | H26: =ROUND(SourceObSm!F47,6) -> 5869034.3
B27: =SourceObSm!N48 | C27: =SourceObSm!H48 -> НДС 20% | H27: =ROUND(SourceObSm!F48,6) -> 1173806.9
B28: =SourceObSm!N49 | C28: =SourceObSm!H49 -> Всего | H28: =ROUND(SourceObSm!F49,6) -> 7042841.2
B31: Главный инженер проекта | G31: =IF(SourceObSm!X12<>"",SourceObSm!X12,"")
C32: [подпись(инициалы,фамилия)]
B34: Начальник | C34: =IF(SourceObSm!AA12<>"",SourceObSm!AA12,"") | D34: отдела | G34: =IF(SourceObSm!Y12<>"",SourceObSm!Y12,"")
C35: (наименование) | E35: [подпись(инициалы,фамилия)]
B37: Составил | C37: =IF(SourceObSm!AC12<>"",SourceObSm!AC12,"") | G37: =IF(SourceObSm!AB12<>"",SourceObSm!AB12,"")
C38: [должность,подпись(инициалы,фамилия)]
B40: Проверил: | C40: =IF(SourceObSm!AE12<>"",SourceObSm!AE12,"") | G40: =IF(SourceObSm!AD12<>"",SourceObSm!AD12,"")
C41: [должность,подпись(инициалы,фамилия)]

Sheet RV_DATA
A1: BuildingFinished | B1: Trud | C1: Mash | D1: Mat | E1: MatZak | F1: Oborud | G1: OborudZak | H1: ZeroStoim | I1: NegativeKoll | J1: ReUnionKollResurcy | K1: UnionOneUchRes | L1: IdLevel | M1: ViewCodes | N1: UnionCodes | O1: PEREVOZKA
A2: 1 | B2: 1 | C2: 1 | D2: 1 | E2: 1 | F2: 1 | G2: 1 | H2: 1 | I2: 1 | J2: 0 | K2: 1 | L2: 150194011 | M2: 0 | N2: 0 | O2: 0
A4: TYPE | B4: SOURCE_LINK | C4: RABMAT_EX | D4: TIP_RAB | E4: TYPE_TRUD | F4: TAB | G4: NAME | H4: EDIZM | I4: KOLL | J4: UCH | K4: PRICE_B | L4: PRICE_ED | M4: STOIM_B | N4: PRICE_C | O4: STOIM_C | P4: ZPM_B | Q4: ZPM_ED | R4: STOIM_ZPM_B | S4: ZPM_C | T4: STOIM_ZPM_C | U4: RABMAT | V4: WBS | W4: CBSI | X4: CBSII | Y4: TechSpecCVORPP | Z4: CRC_GR_RES | AA4: CRC_B | AB4: CRC_C
A6: =Source!A20 -> 3 | B6: 20 | G6: =Source!G20 -> Новая локальная смета
A7: =Source!A24 -> 4 | B7: 24 | G7: =Source!G24 -> г. Москва, 3-й Михалковский пер., д.22
A8: =Source!A28 -> 5 | B8: 28 | G8: =Source!G28 -> АПС
A9: 20 | B9: 7 | C9: 3 | D9: 0 | E9: =SmtRes!AV7 -> 0 | F9: =SmtRes!I7 -> 21.1-20-1 | G9: =SmtRes!K7 -> Бязь | H9: =SmtRes!O7 -> м2 | I9: =SmtRes!Y7*Source!I32 -> 0.12 | J9: =SmtRes!AO7 -> 1 | K9: =SmtRes!AE7 -> 48.08 | L9: =SmtRes!DB7 -> 0.96 | M9: =ROUND(ROUND(L9*Source!I32, 6)*1, 2) -> 5.76 | N9: =SmtRes!AA7 -> 48.08 | O9: =ROUND(ROUND(L9*Source!I32, 6)*SmtRes!DA7, 2) -> 5.76 | P9: =SmtRes!AG7 -> 0 | Q9: =SmtRes!DC7 -> 0 | R9: =ROUND(ROUND(Q9*Source!I32, 6)*1, 2) -> 0 | S9: =SmtRes!AC7 -> 0 | T9: =ROUND(ROUND(Q9*Source!I32, 6)*SmtRes!AK7, 2) -> 0 | U9: 3 | Z9: =SmtRes!X7 -> 1402440005 | AA9: -1894729877 | AB9: -1894729877
A10: 20 | B10: 6 | C10: 3 | D10: 0 | E10: =SmtRes!AV6 -> 0 | F10: =SmtRes!I6 -> 21.1-16-41 | G10: =SmtRes!K6 -> Канифоль | H10: =SmtRes!O6 -> кг | I10: =SmtRes!Y6*Source!I32 -> 0.021 | J10: =SmtRes!AO6 -> 1 | K10: =SmtRes!AE6 -> 404.48 | L10: =SmtRes!DB6 -> 1.42 | M10: =ROUND(ROUND(L10*Source!I32, 6)*1, 2) -> 8.52 | N10: =SmtRes!AA6 -> 404.48 | O10: =ROUND(ROUND(L10*Source!I32, 6)*SmtRes!DA6, 2) -> 8.52 | P10: =SmtRes!AG6 -> 0 | Q10: =SmtRes!DC6 -> 0 | R10: =ROUND(ROUND(Q10*Source!I32, 6)*1, 2) -> 0 | S10: =SmtRes!AC6 -> 0 | T10: =ROUND(ROUND(Q10*Source!I32, 6)*SmtRes!AK6, 2) -> 0 | U10: 3 | Z10: =SmtRes!X6 -> -1116031774 | AA10: -843402697 | AB10: -843402697
A11: 20 | B11: 5 | C11: 3 | D11: 0 | E11: =SmtRes!AV5 -> 0 | F11: =SmtRes!I5 -> 21.1-16-11 | G11: =SmtRes!K5 -> Ацетон химически чистый | H11: =SmtRes!O5 -> кг | I11: =SmtRes!Y5*Source!I32 -> 0.012 | J11: =SmtRes!AO5 -> 1 | K11: =SmtRes!AE5 -> 271.96 | L11: =SmtRes!DB5 -> 0.54 | M11: =ROUND(ROUND(L11*Source!I32, 6)*1, 2) -> 3.24 | N11: =SmtRes!AA5 -> 271.96 | O11: =ROUND(ROUND(L11*Source!I32, 6)*SmtRes!DA5, 2) -> 3.24 | P11: =SmtRes!AG5 -> 0 | Q11: =SmtRes!DC5 -> 0 | R11: =ROUND(ROUND(Q11*Source!I32, 6)*1, 2) -> 0 | S11: =SmtRes!AC5 -> 0 | T11: =ROUND(ROUND(Q11*Source!I32, 6)*SmtRes!AK5, 2) -> 0 | U11: 3 | Z11: =SmtRes!X5 -> -1814974188 | AA11: -214032763 | AB11: -214032763
A12: 20 | B12: 4 | C12: 3 | D12: 0 | E12: =SmtRes!AV4 -> 0 | F12: =SmtRes!I4 -> 21.1-16-104 | G12: =SmtRes!K4 -> Спирт этиловый технический | H12: =SmtRes!O4 -> кг | I12: =SmtRes!Y4*Source!I32 -> 0.024 | J12: =SmtRes!AO4 -> 1 | K12: =SmtRes!AE4 -> 412.97 | L12: =SmtRes!DB4 -> 1.65 | M12: =ROUND(ROUND(L12*Source!I32, 6)*1, 2) -> 9.9 | N12: =SmtRes!AA4 -> 412.97 | O12: =ROUND(ROUND(L12*Source!I32, 6)*SmtRes!DA4, 2) -> 9.9 | P12: =SmtRes!AG4 -> 0 | Q12: =SmtRes!DC4 -> 0 | R12: =ROUND(ROUND(Q12*Source!I32, 6)*1, 2) -> 0 | S12: =SmtRes!AC4 -> 0 | T12: =ROUND(ROUND(Q12*Source!I32, 6)*SmtRes!AK4, 2) -> 0 | U12: 3 | Z12: =SmtRes!X4 -> 1286462142 | AA12: 1664821204 | AB12: 1664821204
A13: 20 | B13: 3 | C13: 3 | D13: 0 | E13: =SmtRes!AV3 -> 0 | F13: =SmtRes!I3 -> 21.1-15-46 | G13: =SmtRes!K3 -> Припои оловянно-свинцовые в прутках, размеры 8-10х10-15х250-500 мм, марка ПОС-61 | H13: =SmtRes!O3 -> т | I13: =SmtRes!Y3*Source!I32 -> 1.2e-05 | J13: =SmtRes!AO3 -> 1 | K13: =SmtRes!AE3 -> 1945282.4 | L13: =SmtRes!DB3 -> 3.89 | M13: =ROUND(ROUND(L13*Source!I32, 6)*1, 2) -> 23.34 | N13: =SmtRes!AA3 -> 1945282.4 | O13: =ROUND(ROUND(L13*Source!I32, 6)*SmtRes!DA3, 2) -> 23.34 | P13: =SmtRes!AG3 -> 0 | Q13: =SmtRes!DC3 -> 0 | R13: =ROUND(ROUND(Q13*Source!I32, 6)*1, 2) -> 0 | S13: =SmtRes!AC3 -> 0 | T13: =ROUND(ROUND(Q13*Source!I32, 6)*SmtRes!AK3, 2) -> 0 | U13: 3 | Z13: =SmtRes!X3 -> 2010614181 | AA13: 1211539097 | AB13: 1211539097
A14: 20 | B14: 2 | C14: 2 | D14: 0 | E14: =SmtRes!AV2 -> 0 | F14: =SmtRes!I2 -> 22.1-18-24 | G14: =SmtRes!K2 -> Автомобили полупассажирские типа ГАЗ, грузоподъемность до 2 т | H14: =SmtRes!O2 -> маш.-ч | I14: =SmtRes!Y2*Source!I32 -> 0.672 | J14: =SmtRes!AO2 -> 1 | K14: =SmtRes!AF2 -> 789.86 | L14: =SmtRes!DB2 -> 88.466 | M14: =ROUND(ROUND(L14*Source!I32, 6)*1, 2) -> 530.8 | N14: =SmtRes!AB2 -> 789.86 | O14: =ROUND(ROUND(L14*Source!I32, 6)*SmtRes!DA2, 2) -> 530.8 | P14: =SmtRes!AG2 -> 515.51 | Q14: =SmtRes!DC2 -> 57.736 | R14: =ROUND(ROUND(Q14*Source!I32, 6)*1, 2) -> 346.42 | S14: =SmtRes!AC2 -> 515.51 | T14: =ROUND(ROUND(Q14*Source!I32, 6)*SmtRes!AK2, 2) -> 346.42 | U14: 2 | Z14: =SmtRes!X2 -> -1123321947 | AA14: -1084138170 | AB14: -1084138170
A15: 20 | B15: 1 | C15: 1 | D15: 0 | E15: =SmtRes!AV1 -> 1 | F15: =SmtRes!I1 -> 9999990008 | G15: =SmtRes!K1 -> Трудозатраты рабочих | H15: =SmtRes!O1 -> чел.-ч. | I15: =SmtRes!Y1*Source!I32 -> 5.754 | J15: =SmtRes!AO1 -> 1 | K15: =SmtRes!AH1 -> 0 | L15: =SmtRes!DB1 -> 0 | M15: =ROUND(ROUND(L15*Source!I32, 6)*1, 2) -> 0 | N15: =SmtRes!AD1 -> 0 | O15: =ROUND(ROUND(L15*Source!I32, 6)*SmtRes!DA1, 2) -> 0 | P15: =SmtRes!AG1 -> 0 | Q15: =SmtRes!DC1 -> 0 | R15: =ROUND(ROUND(Q15*Source!I32, 6)*1, 2) -> 0 | S15: =SmtRes!AC1 -> 0 | T15: =ROUND(ROUND(Q15*Source!I32, 6)*SmtRes!AK1, 2) -> 0 | U15: 1 | Z15: =SmtRes!X1 -> 476480486 | AA15: -1751963544 | AB15: -1751963544
A16: 20 | B16: 11 | C16: 3 | D16: 0 | E16: =SmtRes!AV11 -> 0 | F16: =SmtRes!I11 -> 21.1-20-1 | G16: =SmtRes!K11 -> Бязь | H16: =SmtRes!O11 -> м2 | I16: =SmtRes!Y11*Source!I33 -> 1.32 | J16: =SmtRes!AO11 -> 1 | K16: =SmtRes!AE11 -> 48.08 | L16: =SmtRes!DB11 -> 10.56 | M16: =ROUND(ROUND(L16*Source!I33, 6)*1, 2) -> 63.36 | N16: =SmtRes!AA11 -> 48.08 | O16: =ROUND(ROUND(L16*Source!I33, 6)*SmtRes!DA11, 2) -> 63.36 | P16: =SmtRes!AG11 -> 0 | Q16: =SmtRes!DC11 -> 0 | R16: =ROUND(ROUND(Q16*Source!I33, 6)*1, 2) -> 0 | S16: =SmtRes!AC11 -> 0 | T16: =ROUND(ROUND(Q16*Source!I33, 6)*SmtRes!AK11, 2) -> 0 | U16: 3 | Z16: =SmtRes!X11 -> 1402440005 | AA16: -1894729877 | AB16: -1894729877
A17: 20 | B17: 10 | C17: 3 | D17: 0 | E17: =SmtRes!AV10 -> 0 | F17: =SmtRes!I10 -> 21.1-16-104 | G17: =SmtRes!K10 -> Спирт этиловый технический | H17: =SmtRes!O10 -> кг | I17: =SmtRes!Y10*Source!I33 -> 0.132 | J17: =SmtRes!AO10 -> 1 | K17: =SmtRes!AE10 -> 412.97 | L17: =SmtRes!DB10 -> 9.13 | M17: =ROUND(ROUND(L17*Source!I33, 6)*1, 2) -> 54.78 | N17: =SmtRes!AA10 -> 412.97 | O17: =ROUND(ROUND(L17*Source!I33, 6)*SmtRes!DA10, 2) -> 54.78 | P17: =SmtRes!AG10 -> 0 | Q17: =SmtRes!DC10 -> 0 | R17: =ROUND(ROUND(Q17*Source!I33, 6)*1, 2) -> 0 | S17: =SmtRes!AC10 -> 0 | T17: =ROUND(ROUND(Q17*Source!I33, 6)*SmtRes!AK10, 2) -> 0 | U17: 3 | Z17: =SmtRes!X10 -> 1286462142 | AA17: 1664821204 | AB17: 1664821204
A18: 20 | B18: 9 | C18: 2 | D18: 0 | E18: =SmtRes!AV9 -> 0 | F18: =SmtRes!I9 -> 22.1-18-24 | G18: =SmtRes!K9 -> Автомобили полупассажирские типа ГАЗ, грузоподъемность до 2 т | H18: =SmtRes!O9 -> маш.-ч | I18: =SmtRes!Y9*Source!I33 -> 0.495 | J18: =SmtRes!AO9 -> 1 | K18: =SmtRes!AF9 -> 789.86 | L18: =SmtRes!DB9 -> 65.175 | M18: =ROUND(ROUND(L18*Source!I33, 6)*1, 2) -> 391.05 | N18: =SmtRes!AB9 -> 789.86 | O18: =ROUND(ROUND(L18*Source!I33, 6)*SmtRes!DA9, 2) -> 391.05 | P18: =SmtRes!AG9 -> 515.51 | Q18: =SmtRes!DC9 -> 42.57 | R18: =ROUND(ROUND(Q18*Source!I33, 6)*1, 2) -> 255.42 | S18: =SmtRes!AC9 -> 515.51 | T18: =ROUND(ROUND(Q18*Source!I33, 6)*SmtRes!AK9, 2) -> 255.42 | U18: 2 | Z18: =SmtRes!X9 -> -1123321947 | AA18: -1084138170 | AB18: -1084138170
A19: 20 | B19: 8 | C19: 1 | D19: 0 | E19: =SmtRes!AV8 -> 1 | F19: =SmtRes!I8 -> 9999990008 | G19: =SmtRes!K8 -> Трудозатраты рабочих | H19: =SmtRes!O8 -> чел.-ч. | I19: =SmtRes!Y8*Source!I33 -> 3.96 | J19: =SmtRes!AO8 -> 1 | K19: =SmtRes!AH8 -> 0 | L19: =SmtRes!DB8 -> 0 | M19: =ROUND(ROUND(L19*Source!I33, 6)*1, 2) -> 0 | N19: =SmtRes!AD8 -> 0 | O19: =ROUND(ROUND(L19*Source!I33, 6)*SmtRes!DA8, 2) -> 0 | P19: =SmtRes!AG8 -> 0 | Q19: =SmtRes!DC8 -> 0 | R19: =ROUND(ROUND(Q19*Source!I33, 6)*1, 2) -> 0 | S19: =SmtRes!AC8 -> 0 | T19: =ROUND(ROUND(Q19*Source!I33, 6)*SmtRes!AK8, 2) -> 0 | U19: 1 | Z19: =SmtRes!X8 -> 476480486 | AA19: -1751963544 | AB19: -1751963544
A20: 20 | B20: 14 | C20: 3 | D20: 0 | E20: =SmtRes!AV14 -> 0 | F20: =SmtRes!I14 -> 21.1-4-7 | G20: =SmtRes!K14 -> Газ негорючий жидкий (воздух сжатый) Clean 360 | H20: =SmtRes!O14 -> л | I20: =SmtRes!Y14*Source!I34 -> 0.006 | J20: =SmtRes!AO14 -> 1 | K20: =SmtRes!AE14 -> 13856.59 | L20: =SmtRes!DB14 -> 41.57 | M20: =ROUND(ROUND(L20*Source!I34, 6)*1, 2) -> 83.14 | N20: =SmtRes!AA14 -> 13856.59 | O20: =ROUND(ROUND(L20*Source!I34, 6)*SmtRes!DA14, 2) -> 83.14 | P20: =SmtRes!AG14 -> 0 | Q20: =SmtRes!DC14 -> 0 | R20: =ROUND(ROUND(Q20*Source!I34, 6)*1, 2) -> 0 | S20: =SmtRes!AC14 -> 0 | T20: =ROUND(ROUND(Q20*Source!I34, 6)*SmtRes!AK14, 2) -> 0 | U20: 3 | Z20: =SmtRes!X14 -> -1791503361 | AA20: 613166462 | AB20: 613166462
A21: 20 | B21: 13 | C21: 3 | D21: 0 | E21: =SmtRes!AV13 -> 0 | F21: =SmtRes!I13 -> 21.1-20-7 | G21: =SmtRes!K13 -> Ветошь | H21: =SmtRes!O13 -> кг | I21: =SmtRes!Y13*Source!I34 -> 0.006 | J21: =SmtRes!AO13 -> 1 | K21: =SmtRes!AE13 -> 29.29 | L21: =SmtRes!DB13 -> 0.09 | M21: =ROUND(ROUND(L21*Source!I34, 6)*1, 2) -> 0.18 | N21: =SmtRes!AA13 -> 29.29 | O21: =ROUND(ROUND(L21*Source!I34, 6)*SmtRes!DA13, 2) -> 0.18 | P21: =SmtRes!AG13 -> 0 | Q21: =SmtRes!DC13 -> 0 | R21: =ROUND(ROUND(Q21*Source!I34, 6)*1, 2) -> 0 | S21: =SmtRes!AC13 -> 0 | T21: =ROUND(ROUND(Q21*Source!I34, 6)*SmtRes!AK13, 2) -> 0 | U21: 3 | Z21: =SmtRes!X13 -> -20334964 | AA21: -854210182 | AB21: -854210182
A22: 20 | B22: 12 | C22: 1 | D22: 0 | E22: =SmtRes!AV12 -> 1 | F22: =SmtRes!I12 -> 9999990008 | G22: =SmtRes!K12 -> Трудозатраты рабочих | H22: =SmtRes!O12 -> чел.-ч. | I22: =SmtRes!Y12*Source!I34 -> 0.6 | J22: =SmtRes!AO12 -> 1 | K22: =SmtRes!AH12 -> 0 | L22: =SmtRes!DB12 -> 0 | M22: =ROUND(ROUND(L22*Source!I34, 6)*1, 2) -> 0 | N22: =SmtRes!AD12 -> 0 | O22: =ROUND(ROUND(L22*Source!I34, 6)*SmtRes!DA12, 2) -> 0 | P22: =SmtRes!AG12 -> 0 | Q22: =SmtRes!DC12 -> 0 | R22: =ROUND(ROUND(Q22*Source!I34, 6)*1, 2) -> 0 | S22: =SmtRes!AC12 -> 0 | T22: =ROUND(ROUND(Q22*Source!I34, 6)*SmtRes!AK12, 2) -> 0 | U22: 1 | Z22: =SmtRes!X12 -> 476480486 | AA22: -1751963544 | AB22: -1751963544
A23: 20 | B23: 21 | C23: 3 | D23: 0 | E23: =SmtRes!AV21 -> 0 | F23: =SmtRes!I21 -> 21.1-20-1 | G23: =SmtRes!K21 -> Бязь | H23: =SmtRes!O21 -> м2 | I23: =SmtRes!Y21*Source!I35 -> 0.08 | J23: =SmtRes!AO21 -> 1 | K23: =SmtRes!AE21 -> 48.08 | L23: =SmtRes!DB21 -> 0.96 | M23: =ROUND(ROUND(L23*Source!I35, 6)*1, 2) -> 3.84 | N23: =SmtRes!AA21 -> 48.08 | O23: =ROUND(ROUND(L23*Source!I35, 6)*SmtRes!DA21, 2) -> 3.84 | P23: =SmtRes!AG21 -> 0 | Q23: =SmtRes!DC21 -> 0 | R23: =ROUND(ROUND(Q23*Source!I35, 6)*1, 2) -> 0 | S23: =SmtRes!AC21 -> 0 | T23: =ROUND(ROUND(Q23*Source!I35, 6)*SmtRes!AK21, 2) -> 0 | U23: 3 | Z23: =SmtRes!X21 -> 1402440005 | AA23: -1894729877 | AB23: -1894729877
A24: 20 | B24: 20 | C24: 3 | D24: 0 | E24: =SmtRes!AV20 -> 0 | F24: =SmtRes!I20 -> 21.1-16-41 | G24: =SmtRes!K20 -> Канифоль | H24: =SmtRes!O20 -> кг | I24: =SmtRes!Y20*Source!I35 -> 0.014 | J24: =SmtRes!AO20 -> 1 | K24: =SmtRes!AE20 -> 404.48 | L24: =SmtRes!DB20 -> 1.42 | M24: =ROUND(ROUND(L24*Source!I35, 6)*1, 2) -> 5.68 | N24: =SmtRes!AA20 -> 404.48 | O24: =ROUND(ROUND(L24*Source!I35, 6)*SmtRes!DA20, 2) -> 5.68 | P24: =SmtRes!AG20 -> 0 | Q24: =SmtRes!DC20 -> 0 | R24: =ROUND(ROUND(Q24*Source!I35, 6)*1, 2) -> 0 | S24: =SmtRes!AC20 -> 0 | T24: =ROUND(ROUND(Q24*Source!I35, 6)*SmtRes!AK20, 2) -> 0 | U24: 3 | Z24: =SmtRes!X20 -> -1116031774 | AA24: -843402697 | AB24: -843402697
A25: 20 | B25: 19 | C25: 3 | D25: 0 | E25: =SmtRes!AV19 -> 0 | F25: =SmtRes!I19 -> 21.1-16-11 | G25: =SmtRes!K19 -> Ацетон химически чистый | H25: =SmtRes!O19 -> кг | I25: =SmtRes!Y19*Source!I35 -> 0.008 | J25: =SmtRes!AO19 -> 1 | K25: =SmtRes!AE19 -> 271.96 | L25: =SmtRes!DB19 -> 0.54 | M25: =ROUND(ROUND(L25*Source!I35, 6)*1, 2) -> 2.16 | N25: =SmtRes!AA19 -> 271.96 | O25: =ROUND(ROUND(L25*Source!I35, 6)*SmtRes!DA19, 2) -> 2.16 | P25: =SmtRes!AG19 -> 0 | Q25: =SmtRes!DC19 -> 0 | R25: =ROUND(ROUND(Q25*Source!I35, 6)*1, 2) -> 0 | S25: =SmtRes!AC19 -> 0 | T25: =ROUND(ROUND(Q25*Source!I35, 6)*SmtRes!AK19, 2) -> 0 | U25: 3 | Z25: =SmtRes!X19 -> -1814974188 | AA25: -214032763 | AB25: -214032763
A26: 20 | B26: 18 | C26: 3 | D26: 0 | E26: =SmtRes!AV18 -> 0 | F26: =SmtRes!I18 -> 21.1-16-104 | G26: =SmtRes!K18 -> Спирт этиловый технический | H26: =SmtRes!O18 -> кг | I26: =SmtRes!Y18*Source!I35 -> 0.016 | J26: =SmtRes!AO18 -> 1 | K26: =SmtRes!AE18 -> 412.97 | L26: =SmtRes!DB18 -> 1.65 | M26: =ROUND(ROUND(L26*Source!I35, 6)*1, 2) -> 6.6 | N26: =SmtRes!AA18 -> 412.97 | O26: =ROUND(ROUND(L26*Source!I35, 6)*SmtRes!DA18, 2) -> 6.6 | P26: =SmtRes!AG18 -> 0 | Q26: =SmtRes!DC18 -> 0 | R26: =ROUND(ROUND(Q26*Source!I35, 6)*1, 2) -> 0 | S26: =SmtRes!AC18 -> 0 | T26: =ROUND(ROUND(Q26*Source!I35, 6)*SmtRes!AK18, 2) -> 0 | U26: 3 | Z26: =SmtRes!X18 -> 1286462142 | AA26: 1664821204 | AB26: 1664821204
A27: 20 | B27: 17 | C27: 3 | D27: 0 | E27: =SmtRes!AV17 -> 0 | F27: =SmtRes!I17 -> 21.1-15-46 | G27: =SmtRes!K17 -> Припои оловянно-свинцовые в прутках, размеры 8-10х10-15х250-500 мм, марка ПОС-61 | H27: =SmtRes!O17 -> т | I27: =SmtRes!Y17*Source!I35 -> 8e-06 | J27: =SmtRes!AO17 -> 1 | K27: =SmtRes!AE17 -> 1945282.4 | L27: =SmtRes!DB17 -> 3.89 | M27: =ROUND(ROUND(L27*Source!I35, 6)*1, 2) -> 15.56 | N27: =SmtRes!AA17 -> 1945282.4 | O27: =ROUND(ROUND(L27*Source!I35, 6)*SmtRes!DA17, 2) -> 15.56 | P27: =SmtRes!AG17 -> 0 | Q27: =SmtRes!DC17 -> 0 | R27: =ROUND(ROUND(Q27*Source!I35, 6)*1, 2) -> 0 | S27: =SmtRes!AC17 -> 0 | T27: =ROUND(ROUND(Q27*Source!I35, 6)*SmtRes!AK17, 2) -> 0 | U27: 3 | Z27: =SmtRes!X17 -> 2010614181 | AA27: 1211539097 | AB27: 1211539097
A28: 20 | B28: 16 | C28: 2 | D28: 0 | E28: =SmtRes!AV16 -> 0 | F28: =SmtRes!I16 -> 22.1-18-24 | G28: =SmtRes!K16 -> Автомобили полупассажирские типа ГАЗ, грузоподъемность до 2 т | H28: =SmtRes!O16 -> маш.-ч | I28: =SmtRes!Y16*Source!I35 -> 0.112 | J28: =SmtRes!AO16 -> 1 | K28: =SmtRes!AF16 -> 789.86 | L28: =SmtRes!DB16 -> 22.113 | M28: =ROUND(ROUND(L28*Source!I35, 6)*1, 2) -> 88.45 | N28: =SmtRes!AB16 -> 789.86 | O28: =ROUND(ROUND(L28*Source!I35, 6)*SmtRes!DA16, 2) -> 88.45 | P28: =SmtRes!AG16 -> 515.51 | Q28: =SmtRes!DC16 -> 14.434 | R28: =ROUND(ROUND(Q28*Source!I35, 6)*1, 2) -> 57.74 | S28: =SmtRes!AC16 -> 515.51 | T28: =ROUND(ROUND(Q28*Source!I35, 6)*SmtRes!AK16, 2) -> 57.74 | U28: 2 | Z28: =SmtRes!X16 -> -1123321947 | AA28: -1084138170 | AB28: -1084138170
A29: 20 | B29: 15 | C29: 1 | D29: 0 | E29: =SmtRes!AV15 -> 1 | F29: =SmtRes!I15 -> 9999990008 | G29: =SmtRes!K15 -> Трудозатраты рабочих | H29: =SmtRes!O15 -> чел.-ч. | I29: =SmtRes!Y15*Source!I35 -> 0.98 | J29: =SmtRes!AO15 -> 1 | K29: =SmtRes!AH15 -> 0 | L29: =SmtRes!DB15 -> 0 | M29: =ROUND(ROUND(L29*Source!I35, 6)*1, 2) -> 0 | N29: =SmtRes!AD15 -> 0 | O29: =ROUND(ROUND(L29*Source!I35, 6)*SmtRes!DA15, 2) -> 0 | P29: =SmtRes!AG15 -> 0 | Q29: =SmtRes!DC15 -> 0 | R29: =ROUND(ROUND(Q29*Source!I35, 6)*1, 2) -> 0 | S29: =SmtRes!AC15 -> 0 | T29: =ROUND(ROUND(Q29*Source!I35, 6)*SmtRes!AK15, 2) -> 0 | U29: 1 | Z29: =SmtRes!X15 -> 476480486 | AA29: -1751963544 | AB29: -1751963544
A30: 20 | B30: 26 | C30: 3 | D30: 0 | E30: =SmtRes!AV26 -> 0 | F30: =SmtRes!I26 -> 21.1-20-1 | G30: =SmtRes!K26 -> Бязь | H30: =SmtRes!O26 -> м2 | I30: =SmtRes!Y26*Source!I36 -> 0.88 | J30: =SmtRes!AO26 -> 1 | K30: =SmtRes!AE26 -> 48.08 | L30: =SmtRes!DB26 -> 10.56 | M30: =ROUND(ROUND(L30*Source!I36, 6)*1, 2) -> 42.24 | N30: =SmtRes!AA26 -> 48.08 | O30: =ROUND(ROUND(L30*Source!I36, 6)*SmtRes!DA26, 2) -> 42.24 | P30: =SmtRes!AG26 -> 0 | Q30: =SmtRes!DC26 -> 0 | R30: =ROUND(ROUND(Q30*Source!I36, 6)*1, 2) -> 0 | S30: =SmtRes!AC26 -> 0 | T30: =ROUND(ROUND(Q30*Source!I36, 6)*SmtRes!AK26, 2) -> 0 | U30: 3 | Z30: =SmtRes!X26 -> 1402440005 | AA30: -1894729877 | AB30: -1894729877
A31: 20 | B31: 25 | C31: 3 | D31: 0 | E31: =SmtRes!AV25 -> 0 | F31: =SmtRes!I25 -> 21.1-16-11 | G31: =SmtRes!K25 -> Ацетон химически чистый | H31: =SmtRes!O25 -> кг | I31: =SmtRes!Y25*Source!I36 -> 0.044 | J31: =SmtRes!AO25 -> 1 | K31: =SmtRes!AE25 -> 271.96 | L31: =SmtRes!DB25 -> 2.97 | M31: =ROUND(ROUND(L31*Source!I36, 6)*1, 2) -> 11.88 | N31: =SmtRes!AA25 -> 271.96 | O31: =ROUND(ROUND(L31*Source!I36, 6)*SmtRes!DA25, 2) -> 11.88 | P31: =SmtRes!AG25 -> 0 | Q31: =SmtRes!DC25 -> 0 | R31: =ROUND(ROUND(Q31*Source!I36, 6)*1, 2) -> 0 | S31: =SmtRes!AC25 -> 0 | T31: =ROUND(ROUND(Q31*Source!I36, 6)*SmtRes!AK25, 2) -> 0 | U31: 3 | Z31: =SmtRes!X25 -> -1814974188 | AA31: -214032763 | AB31: -214032763
A32: 20 | B32: 24 | C32: 3 | D32: 0 | E32: =SmtRes!AV24 -> 0 | F32: =SmtRes!I24 -> 21.1-16-104 | G32: =SmtRes!K24 -> Спирт этиловый технический | H32: =SmtRes!O24 -> кг | I32: =SmtRes!Y24*Source!I36 -> 0.088 | J32: =SmtRes!AO24 -> 1 | K32: =SmtRes!AE24 -> 412.97 | L32: =SmtRes!DB24 -> 9.13 | M32: =ROUND(ROUND(L32*Source!I36, 6)*1, 2) -> 36.52 | N32: =SmtRes!AA24 -> 412.97 | O32: =ROUND(ROUND(L32*Source!I36, 6)*SmtRes!DA24, 2) -> 36.52 | P32: =SmtRes!AG24 -> 0 | Q32: =SmtRes!DC24 -> 0 | R32: =ROUND(ROUND(Q32*Source!I36, 6)*1, 2) -> 0 | S32: =SmtRes!AC24 -> 0 | T32: =ROUND(ROUND(Q32*Source!I36, 6)*SmtRes!AK24, 2) -> 0 | U32: 3 | Z32: =SmtRes!X24 -> 1286462142 | AA32: 1664821204 | AB32: 1664821204
A33: 20 | B33: 23 | C33: 2 | D33: 0 | E33: =SmtRes!AV23 -> 0 | F33: =SmtRes!I23 -> 22.1-18-24 | G33: =SmtRes!K23 -> Автомобили полупассажирские типа ГАЗ, грузоподъемность до 2 т | H33: =SmtRes!O23 -> маш.-ч | I33: =SmtRes!Y23*Source!I36 -> 0.33 | J33: =SmtRes!AO23 -> 1 | K33: =SmtRes!AF23 -> 789.86 | L33: =SmtRes!DB23 -> 65.175 | M33: =ROUND(ROUND(L33*Source!I36, 6)*1, 2) -> 260.7 | N33: =SmtRes!AB23 -> 789.86 | O33: =ROUND(ROUND(L33*Source!I36, 6)*SmtRes!DA23, 2) -> 260.7 | P33: =SmtRes!AG23 -> 515.51 | Q33: =SmtRes!DC23 -> 42.57 | R33: =ROUND(ROUND(Q33*Source!I36, 6)*1, 2) -> 170.28 | S33: =SmtRes!AC23 -> 515.51 | T33: =ROUND(ROUND(Q33*Source!I36, 6)*SmtRes!AK23, 2) -> 170.28 | U33: 2 | Z33: =SmtRes!X23 -> -1123321947 | AA33: -1084138170 | AB33: -1084138170
A34: 20 | B34: 22 | C34: 1 | D34: 0 | E34: =SmtRes!AV22 -> 1 | F34: =SmtRes!I22 -> 9999990008 | G34: =SmtRes!K22 -> Трудозатраты рабочих | H34: =SmtRes!O22 -> чел.-ч. | I34: =SmtRes!Y22*Source!I36 -> 1.98 | J34: =SmtRes!AO22 -> 1 | K34: =SmtRes!AH22 -> 0 | L34: =SmtRes!DB22 -> 0 | M34: =ROUND(ROUND(L34*Source!I36, 6)*1, 2) -> 0 | N34: =SmtRes!AD22 -> 0 | O34: =ROUND(ROUND(L34*Source!I36, 6)*SmtRes!DA22, 2) -> 0 | P34: =SmtRes!AG22 -> 0 | Q34: =SmtRes!DC22 -> 0 | R34: =ROUND(ROUND(Q34*Source!I36, 6)*1, 2) -> 0 | S34: =SmtRes!AC22 -> 0 | T34: =ROUND(ROUND(Q34*Source!I36, 6)*SmtRes!AK22, 2) -> 0 | U34: 1 | Z34: =SmtRes!X22 -> 476480486 | AA34: -1751963544 | AB34: -1751963544
A35: 20 | B35: 33 | C35: 3 | D35: 0 | E35: =SmtRes!AV33 -> 0 | F35: =SmtRes!I33 -> 21.1-20-1 | G35: =SmtRes!K33 -> Бязь | H35: =SmtRes!O33 -> м2 | I35: =SmtRes!Y33*Source!I37 -> 0.9 | J35: =SmtRes!AO33 -> 1 | K35: =SmtRes!AE33 -> 48.08 | L35: =SmtRes!DB33 -> 0.96 | M35: =ROUND(ROUND(L35*Source!I37, 6)*1, 2) -> 43.2 | N35: =SmtRes!AA33 -> 48.08 | O35: =ROUND(ROUND(L35*Source!I37, 6)*SmtRes!DA33, 2) -> 43.2 | P35: =SmtRes!AG33 -> 0 | Q35: =SmtRes!DC33 -> 0 | R35: =ROUND(ROUND(Q35*Source!I37, 6)*1, 2) -> 0 | S35: =SmtRes!AC33 -> 0 | T35: =ROUND(ROUND(Q35*Source!I37, 6)*SmtRes!AK33, 2) -> 0 | U35: 3 | Z35: =SmtRes!X33 -> 1402440005 | AA35: -1894729877 | AB35: -1894729877
A36: 20 | B36: 32 | C36: 3 | D36: 0 | E36: =SmtRes!AV32 -> 0 | F36: =SmtRes!I32 -> 21.1-16-41 | G36: =SmtRes!K32 -> Канифоль | H36: =SmtRes!O32 -> кг | I36: =SmtRes!Y32*Source!I37 -> 0.1575 | J36: =SmtRes!AO32 -> 1 | K36: =SmtRes!AE32 -> 404.48 | L36: =SmtRes!DB32 -> 1.42 | M36: =ROUND(ROUND(L36*Source!I37, 6)*1, 2) -> 63.9 | N36: =SmtRes!AA32 -> 404.48 | O36: =ROUND(ROUND(L36*Source!I37, 6)*SmtRes!DA32, 2) -> 63.9 | P36: =SmtRes!AG32 -> 0 | Q36: =SmtRes!DC32 -> 0 | R36: =ROUND(ROUND(Q36*Source!I37, 6)*1, 2) -> 0 | S36: =SmtRes!AC32 -> 0 | T36: =ROUND(ROUND(Q36*Source!I37, 6)*SmtRes!AK32, 2) -> 0 | U36: 3 | Z36: =SmtRes!X32 -> -1116031774 | AA36: -843402697 | AB36: -843402697
A37: 20 | B37: 31 | C37: 3 | D37: 0 | E37: =SmtRes!AV31 -> 0 | F37: =SmtRes!I31 -> 21.1-16-11 | G37: =SmtRes!K31 -> Ацетон химически чистый | H37: =SmtRes!O31 -> кг | I37: =SmtRes!Y31*Source!I37 -> 0.09 | J37: =SmtRes!AO31 -> 1 | K37: =SmtRes!AE31 -> 271.96 | L37: =SmtRes!DB31 -> 0.54 | M37: =ROUND(ROUND(L37*Source!I37, 6)*1, 2) -> 24.3 | N37: =SmtRes!AA31 -> 271.96 | O37: =ROUND(ROUND(L37*Source!I37, 6)*SmtRes!DA31, 2) -> 24.3 | P37: =SmtRes!AG31 -> 0 | Q37: =SmtRes!DC31 -> 0 | R37: =ROUND(ROUND(Q37*Source!I37, 6)*1, 2) -> 0 | S37: =SmtRes!AC31 -> 0 | T37: =ROUND(ROUND(Q37*Source!I37, 6)*SmtRes!AK31, 2) -> 0 | U37: 3 | Z37: =SmtRes!X31 -> -1814974188 | AA37: -214032763 | AB37: -214032763
A38: 20 | B38: 30 | C38: 3 | D38: 0 | E38: =SmtRes!AV30 -> 0 | F38: =SmtRes!I30 -> 21.1-16-104 | G38: =SmtRes!K30 -> Спирт этиловый технический | H38: =SmtRes!O30 -> кг | I38: =SmtRes!Y30*Source!I37 -> 0.18 | J38: =SmtRes!AO30 -> 1 | K38: =SmtRes!AE30 -> 412.97 | L38: =SmtRes!DB30 -> 1.65 | M38: =ROUND(ROUND(L38*Source!I37, 6)*1, 2) -> 74.25 | N38: =SmtRes!AA30 -> 412.97 | O38: =ROUND(ROUND(L38*Source!I37, 6)*SmtRes!DA30, 2) -> 74.25 | P38: =SmtRes!AG30 -> 0 | Q38: =SmtRes!DC30 -> 0 | R38: =ROUND(ROUND(Q38*Source!I37, 6)*1, 2) -> 0 | S38: =SmtRes!AC30 -> 0 | T38: =ROUND(ROUND(Q38*Source!I37, 6)*SmtRes!AK30, 2) -> 0 | U38: 3 | Z38: =SmtRes!X30 -> 1286462142 | AA38: 1664821204 | AB38: 1664821204
A39: 20 | B39: 29 | C39: 3 | D39: 0 | E39: =SmtRes!AV29 -> 0 | F39: =SmtRes!I29 -> 21.1-15-46 | G39: =SmtRes!K29 -> Припои оловянно-свинцовые в прутках, размеры 8-10х10-15х250-500 мм, марка ПОС-61 | H39: =SmtRes!O29 -> т | I39: =SmtRes!Y29*Source!I37 -> 9e-05 | J39: =SmtRes!AO29 -> 1 | K39: =SmtRes!AE29 -> 1945282.4 | L39: =SmtRes!DB29 -> 3.89 | M39: =ROUND(ROUND(L39*Source!I37, 6)*1, 2) -> 175.05 | N39: =SmtRes!AA29 -> 1945282.4 | O39: =ROUND(ROUND(L39*Source!I37, 6)*SmtRes!DA29, 2) -> 175.05 | P39: =SmtRes!AG29 -> 0 | Q39: =SmtRes!DC29 -> 0 | R39: =ROUND(ROUND(Q39*Source!I37, 6)*1, 2) -> 0 | S39: =SmtRes!AC29 -> 0 | T39: =ROUND(ROUND(Q39*Source!I37, 6)*SmtRes!AK29, 2) -> 0 | U39: 3 | Z39: =SmtRes!X29 -> 2010614181 | AA39: 1211539097 | AB39: 1211539097
A40: 20 | B40: 28 | C40: 2 | D40: 0 | E40: =SmtRes!AV28 -> 0 | F40: =SmtRes!I28 -> 22.1-18-24 | G40: =SmtRes!K28 -> Автомобили полупассажирские типа ГАЗ, грузоподъемность до 2 т | H40: =SmtRes!O28 -> маш.-ч | I40: =SmtRes!Y28*Source!I37 -> 8.82 | J40: =SmtRes!AO28 -> 1 | K40: =SmtRes!AF28 -> 789.86 | L40: =SmtRes!DB28 -> 154.812 | M40: =ROUND(ROUND(L40*Source!I37, 6)*1, 2) -> 6966.54 | N40: =SmtRes!AB28 -> 789.86 | O40: =ROUND(ROUND(L40*Source!I37, 6)*SmtRes!DA28, 2) -> 6966.54 | P40: =SmtRes!AG28 -> 515.51 | Q40: =SmtRes!DC28 -> 101.038 | R40: =ROUND(ROUND(Q40*Source!I37, 6)*1, 2) -> 4546.71 | S40: =SmtRes!AC28 -> 515.51 | T40: =ROUND(ROUND(Q40*Source!I37, 6)*SmtRes!AK28, 2) -> 4546.71 | U40: 2 | Z40: =SmtRes!X28 -> -1123321947 | AA40: -1084138170 | AB40: -1084138170
A41: 20 | B41: 27 | C41: 1 | D41: 0 | E41: =SmtRes!AV27 -> 1 | F41: =SmtRes!I27 -> 9999990008 | G41: =SmtRes!K27 -> Трудозатраты рабочих | H41: =SmtRes!O27 -> чел.-ч. | I41: =SmtRes!Y27*Source!I37 -> 74.655 | J41: =SmtRes!AO27 -> 1 | K41: =SmtRes!AH27 -> 0 | L41: =SmtRes!DB27 -> 0 | M41: =ROUND(ROUND(L41*Source!I37, 6)*1, 2) -> 0 | N41: =SmtRes!AD27 -> 0 | O41: =ROUND(ROUND(L41*Source!I37, 6)*SmtRes!DA27, 2) -> 0 | P41: =SmtRes!AG27 -> 0 | Q41: =SmtRes!DC27 -> 0 | R41: =ROUND(ROUND(Q41*Source!I37, 6)*1, 2) -> 0 | S41: =SmtRes!AC27 -> 0 | T41: =ROUND(ROUND(Q41*Source!I37, 6)*SmtRes!AK27, 2) -> 0 | U41: 1 | Z41: =SmtRes!X27 -> 476480486 | AA41: -1751963544 | AB41: -1751963544
A42: 20 | B42: 37 | C42: 3 | D42: 0 | E42: =SmtRes!AV37 -> 0 | F42: =SmtRes!I37 -> 21.1-20-1 | G42: =SmtRes!K37 -> Бязь | H42: =SmtRes!O37 -> м2 | I42: =SmtRes!Y37*Source!I38 -> 9.9 | J42: =SmtRes!AO37 -> 1 | K42: =SmtRes!AE37 -> 48.08 | L42: =SmtRes!DB37 -> 10.56 | M42: =ROUND(ROUND(L42*Source!I38, 6)*1, 2) -> 475.2 | N42: =SmtRes!AA37 -> 48.08 | O42: =ROUND(ROUND(L42*Source!I38, 6)*SmtRes!DA37, 2) -> 475.2 | P42: =SmtRes!AG37 -> 0 | Q42: =SmtRes!DC37 -> 0 | R42: =ROUND(ROUND(Q42*Source!I38, 6)*1, 2) -> 0 | S42: =SmtRes!AC37 -> 0 | T42: =ROUND(ROUND(Q42*Source!I38, 6)*SmtRes!AK37, 2) -> 0 | U42: 3 | Z42: =SmtRes!X37 -> 1402440005 | AA42: -1894729877 | AB42: -1894729877
...

Sheet Расчет стоимости ресурсов
A2: Ресурсная ведомость на
A3: =CONCATENATE("Объект: ",IF(Source!G1249<>"Новый объект", Source!G1249, "")) -> Объект: Техническое обслуживание ГБУЗ "ГП №6 ДЗМ" | O3: Объект: Техническое обслуживание ГБУЗ "ГП №6 ДЗМ"
A4: Обоснование | B4: Наименование | C4: Единица измерения | D4: Объем | E4: Текущая
E6: цена | F6: стоимость
A7: 1 | B7: 2 | C7: 3 | D7: 4 | E7: 5 | F7: 6
A8: =CONCATENATE("Локальная смета: ",IF(Source!G22<>"Новая локальная смета", Source!G22, "")) -> Локальная смета:
A9: =CONCATENATE("Раздел: ",IF(Source!G26<>"Новый раздел", Source!G26, "")) -> Раздел: г. Москва, 3-й Михалковский пер., д.22
A10: =CONCATENATE("Подраздел: ",IF(Source!G30<>"Новый подраздел", Source!G30, "")) -> Подраздел: АПС
A11: Трудовые ресурсы
A12: 9999990008 | B12: Трудозатраты рабочих | C12: чел.-ч. | D12: =ROUND(SUMIF(RV_DATA!AB9:AB83, -1751963544, RV_DATA!I9:I83), 6) -> 339.983 | E12: =ROUND(RV_DATA!N15, 6) -> 0 | F12: =ROUND(SUMIF(RV_DATA!AB9:AB83, -1751963544, RV_DATA!O9:O83), 6) -> 0 | Q12: 1
A13: Итого трудовые ресурсы | E13: =SUMIF(Q12:Q12, 1, F12:F12) -> 0
A14: Машины и механизмы
A15: 22.1-18-24 | B15: Автомобили полупассажирские типа ГАЗ, грузоподъемность до 2 т | C15: маш.-ч | D15: =ROUND(SUMIF(RV_DATA!AB9:AB83, -1084138170, RV_DATA!I9:I83), 6) -> 16.579 | E15: =ROUND(RV_DATA!N14, 6) -> 789.86 | F15: =ROUND(SUMIF(RV_DATA!AB9:AB83, -1084138170, RV_DATA!O9:O83), 6) -> 13096.05 | Q15: 2
A16: Итого машины и механизмы | E16: =SUMIF(Q15:Q15, 2, F15:F15) -> 13096.05
A17: Материальные ресурсы
A18: 21.1-15-46 | B18: Припои оловянно-свинцовые в прутках, размеры 8-10х10-15х250-500 мм, марка ПОС-61 | C18: т | D18: =ROUND(SUMIF(RV_DATA!AB9:AB83, 1211539097, RV_DATA!I9:I83), 6) -> 0.000112 | E18: =ROUND(RV_DATA!N13, 6) -> 1945282.4 | F18: =ROUND(SUMIF(RV_DATA!AB9:AB83, 1211539097, RV_DATA!O9:O83), 6) -> 217.84 | Q18: 3
A19: 21.1-16-103 | B19: Спирт этиловый ректификат | C19: кг | D19: =ROUND(SUMIF(RV_DATA!AB9:AB83, -235644289, RV_DATA!I9:I83), 6) -> 0.00028 | E19: =ROUND(RV_DATA!N49, 6) -> 471.7 | F19: =ROUND(SUMIF(RV_DATA!AB9:AB83, -235644289, RV_DATA!O9:O83), 6) -> 0.14 | Q19: 3
A20: 21.1-16-104 | B20: Спирт этиловый технический | C20: кг | D20: =ROUND(SUMIF(RV_DATA!AB9:AB83, 1664821204, RV_DATA!I9:I83), 6) -> 1.48512 | E20: =ROUND(RV_DATA!N12, 6) -> 412.97 | F20: =ROUND(SUMIF(RV_DATA!AB9:AB83, 1664821204, RV_DATA!O9:O83), 6) -> 616.64 | Q20: 3
A21: 21.1-16-11 | B21: Ацетон химически чистый | C21: кг | D21: =ROUND(SUMIF(RV_DATA!AB9:AB83, -214032763, RV_DATA!I9:I83), 6) -> 0.167 | E21: =ROUND(RV_DATA!N11, 6) -> 271.96 | F21: =ROUND(SUMIF(RV_DATA!AB9:AB83, -214032763, RV_DATA!O9:O83), 6) -> 45.09 | Q21: 3
A22: 21.1-16-41 | B22: Канифоль | C22: кг | D22: =ROUND(SUMIF(RV_DATA!AB9:AB83, -843402697, RV_DATA!I9:I83), 6) -> 0.196 | E22: =ROUND(RV_DATA!N10, 6) -> 404.48 | F22: =ROUND(SUMIF(RV_DATA!AB9:AB83, -843402697, RV_DATA!O9:O83), 6) -> 79.52 | Q22: 3
A23: 21.1-20-1 | B23: Бязь | C23: м2 | D23: =ROUND(SUMIF(RV_DATA!AB9:AB83, -1894729877, RV_DATA!I9:I83), 6) -> 64.14 | E23: =ROUND(RV_DATA!N9, 6) -> 48.08 | F23: =ROUND(SUMIF(RV_DATA!AB9:AB83, -1894729877, RV_DATA!O9:O83), 6) -> 3083.12 | Q23: 3
A24: 21.1-20-7 | B24: Ветошь | C24: кг | D24: =ROUND(SUMIF(RV_DATA!AB9:AB83, -854210182, RV_DATA!I9:I83), 6) -> 47.129 | E24: =ROUND(RV_DATA!N21, 6) -> 29.29 | F24: =ROUND(SUMIF(RV_DATA!AB9:AB83, -854210182, RV_DATA!O9:O83), 6) -> 1381.47 | Q24: 3
A25: 21.1-4-7 | B25: Газ негорючий жидкий (воздух сжатый) Clean 360 | C25: л | D25: =ROUND(SUMIF(RV_DATA!AB9:AB83, 613166462, RV_DATA!I9:I83), 6) -> 0.009 | E25: =ROUND(RV_DATA!N20, 6) -> 13856.59 | F25: =ROUND(SUMIF(RV_DATA!AB9:AB83, 613166462, RV_DATA!O9:O83), 6) -> 124.71 | Q25: 3
A26: Итого материальные ресурсы | E26: =SUMIF(Q18:Q25, 3, F18:F25) -> 5548.53
A27: =CONCATENATE("Подраздел: ",IF(Source!G82<>"Новый подраздел", Source!G82, "")) -> Подраздел: Система оповещения
A28: Трудовые ресурсы
A29: 9999990008 | B29: Трудозатраты рабочих | C29: чел.-ч. | D29: =ROUND(SUMIF(RV_DATA!AB85:AB120, -1751963544, RV_DATA!I85:I120), 6) -> 562.288 | E29: =ROUND(RV_DATA!N91, 6) -> 0 | F29: =ROUND(SUMIF(RV_DATA!AB85:AB120, -1751963544, RV_DATA!O85:O120), 6) -> 0 | Q29: 1
A30: Итого трудовые ресурсы | E30: =SUMIF(Q29:Q29, 1, F29:F29) -> 0
A31: Машины и механизмы
A32: 22.1-18-24 | B32: Автомобили полупассажирские типа ГАЗ, грузоподъемность до 2 т | C32: маш.-ч | D32: =ROUND(SUMIF(RV_DATA!AB85:AB120, -1084138170, RV_DATA!I85:I120), 6) -> 0.23 | E32: =ROUND(RV_DATA!N90, 6) -> 789.86 | F32: =ROUND(SUMIF(RV_DATA!AB85:AB120, -1084138170, RV_DATA!O85:O120), 6) -> 181.7 | Q32: 2
A33: Итого машины и механизмы | E33: =SUMIF(Q32:Q32, 2, F32:F32) -> 181.7
A34: Материальные ресурсы
A35: 21.1-15-46 | B35: Припои оловянно-свинцовые в прутках, размеры 8-10х10-15х250-500 мм, марка ПОС-61 | C35: т | D35: =ROUND(SUMIF(RV_DATA!AB85:AB120, 1211539097, RV_DATA!I85:I120), 6) -> 2e-06 | E35: =ROUND(RV_DATA!N89, 6) -> 1945282.4 | F35: =ROUND(SUMIF(RV_DATA!AB85:AB120, 1211539097, RV_DATA!O85:O120), 6) -> 3.89 | Q35: 3
A36: 21.1-16-104 | B36: Спирт этиловый технический | C36: кг | D36: =ROUND(SUMIF(RV_DATA!AB85:AB120, 1664821204, RV_DATA!I85:I120), 6) -> 0.00648 | E36: =ROUND(RV_DATA!N88, 6) -> 412.97 | F36: =ROUND(SUMIF(RV_DATA!AB85:AB120, 1664821204, RV_DATA!O85:O120), 6) -> 2.72 | Q36: 3
A37: 21.1-16-11 | B37: Ацетон химически чистый | C37: кг | D37: =ROUND(SUMIF(RV_DATA!AB85:AB120, -214032763, RV_DATA!I85:I120), 6) -> 0.002 | E37: =ROUND(RV_DATA!N87, 6) -> 271.96 | F37: =ROUND(SUMIF(RV_DATA!AB85:AB120, -214032763, RV_DATA!O85:O120), 6) -> 0.54 | Q37: 3
A38: 21.1-16-41 | B38: Канифоль | C38: кг | D38: =ROUND(SUMIF(RV_DATA!AB85:AB120, -843402697, RV_DATA!I85:I120), 6) -> 0.0035 | E38: =ROUND(RV_DATA!N86, 6) -> 404.48 | F38: =ROUND(SUMIF(RV_DATA!AB85:AB120, -843402697, RV_DATA!O85:O120), 6) -> 1.42 | Q38: 3
A39: 21.1-20-1 | B39: Бязь | C39: м2 | D39: =ROUND(SUMIF(RV_DATA!AB85:AB120, -1894729877, RV_DATA!I85:I120), 6) -> 83.53 | E39: =ROUND(RV_DATA!N85, 6) -> 48.08 | F39: =ROUND(SUMIF(RV_DATA!AB85:AB120, -1894729877, RV_DATA!O85:O120), 6) -> 4016.1 | Q39: 3
A40: 21.1-20-7 | B40: Ветошь | C40: кг | D40: =ROUND(SUMIF(RV_DATA!AB85:AB120, -854210182, RV_DATA!I85:I120), 6) -> 90.178 | E40: =ROUND(RV_DATA!N97, 6) -> 29.29 | F40: =ROUND(SUMIF(RV_DATA!AB85:AB120, -854210182, RV_DATA!O85:O120), 6) -> 2642.22 | Q40: 3
A41: 21.1-25-389 | B41: Шкурка шлифовальная на тканевой основе водостойкая | C41: м2 | D41: =ROUND(SUMIF(RV_DATA!AB85:AB120, 2112690946, RV_DATA!I85:I120), 6) -> 0.15 | E41: =ROUND(RV_DATA!N106, 6) -> 429.34 | F41: =ROUND(SUMIF(RV_DATA!AB85:AB120, 2112690946, RV_DATA!O85:O120), 6) -> 64.4 | Q41: 3
A42: 21.1-4-7 | B42: Газ негорючий жидкий (воздух сжатый) Clean 360 | C42: л | D42: =ROUND(SUMIF(RV_DATA!AB85:AB120, 613166462, RV_DATA!I85:I120), 6) -> 0.56 | E42: =ROUND(RV_DATA!N96, 6) -> 13856.59 | F42: =ROUND(SUMIF(RV_DATA!AB85:AB120, 613166462, RV_DATA!O85:O120), 6) -> 7758.8 | Q42: 3
...

Sheet Source
A1: 0 | B1: Smeta.RU (495) 974-1589 | D1: _PS_ | F1: 0 | G1: 0 | H1: 0 | I1: Smeta.RU | K1: 1 | L1: 46812 | M1: 97460402 | N1: 11 | O1: 8 | P1: 0 | Q1: 1
A12: 1 | B12: 1291 | C12: 0 | D12: =ROW(A1249) -> 1249 | E12: 0 | F12: Новый объект | G12: Техническое обслуживание ГБУЗ "ГП №6 ДЗМ" | I12: 0 | K12: 0 | L12: 0 | M12: 2 | O12: 0 | P12: 0 | Q12: 0 | R12: 108 | T12: 1 | V12: 0 | BB12: 0 | BH12: Сметные нормы списания | BI12: Коды ОКП для СН-2012 - 2024 г. (в ценах на 01.01.2024 г) | BJ12: 1 | BK12: 1 | BL12: 0 | BM12: 0 | BN12: 1 | BO12: 0 | BP12: 6 | BQ12: 2 | BR12: 1 | BS12: 1 | BT12: 0 | BU12: 0 | BV12: 0 | BW12: 0 | BX12: 0 | BZ12: Типовой расчет для СН-2012 - 2022 г | CA12: СН-2012-2024 г. База данных "Сборник стоимостных нормативов" (в ценах на 01.01.2024 г) | CB12: СН-2012-2024 г. База данных "Сборник стоимостных нормативов" (в ценах на 01.01.2024 г) | CC12: СН-2012-2024 г. База данных "Сборник стоимостных нормативов" (в ценах на 01.01.2024 г) | CD12: СН-2012-2024 г. База данных "Сборник стоимостных нормативов" (в ценах на 01.01.2024 г) | CE12: Поправки для СН-2012-2024 г. (в ценах на 01.01.2024 г) И0 (05.03.2024) | CF12: 0 | CG12: 0 | CH12: 8 | CK12: 2 | CY12: 0 | EC12: 0
A15: 15 | B15: 1
A18: 52 | B18: =B1249 -> 1291 | C18: =C1249 -> 1 | D18: =D1249 -> 12 | E18: =E1249 -> 0 | F18: =F1249 -> Новый объект | G18: =G1249 -> Техническое обслуживание ГБУЗ "ГП №6 ДЗМ" | O18: =O1249 -> 3336750.2 | P18: =P1249 -> 125966.26 | Q18: =Q1249 -> 382431.94 | R18: =R1249 -> 249631.95 | S18: =S1249 -> 2828352 | T18: =T1249 -> 0 | U18: =U1249 -> 7586.915 | V18: =V1249 -> 0 | ... GX18: =GX1249 -> 0
A20: 3 | B20: 1 | D20: =ROW(A1219) -> 1219 | F20: Новая локальная смета | G20: Новая локальная смета | I20: 0 | K20: 0 | S20: 0 | V20: 0 | BX20: 0 | CF20: 0 | CG20: 0
A22: 52 | B22: =B1219 -> 1 | C22: =C1219 -> 3 | D22: =D1219 -> 20 | E22: =E1219 -> 0 | F22: =F1219 -> Новая локальная смета | G22: =G1219 -> Новая локальная смета | O22: =O1219 -> 3336750.2 | P22: =P1219 -> 125966.26 | Q22: =Q1219 -> 382431.94 | R22: =R1219 -> 249631.95 | S22: =S1219 -> 2828352 | T22: =T1219 -> 0 | U22: =U1219 -> 7586.915 | V22: =V1219 -> 0 | ... GX22: =GX1219 -> 0
A24: 4 | B24: 1 | D24: =ROW(A212) -> 212 | F24: Новый раздел | G24: г. Москва, 3-й Михалковский пер., д.22 | I24: 0 | K24: 0 | S24: 0 | V24: 0 | BX24: 0 | CJ24: 0
A26: 52 | B26: =B212 -> 1 | C26: =C212 -> 4 | D26: =D212 -> 24 | E26: =E212 -> 0 | F26: =F212 -> Новый раздел | G26: =G212 -> г. Москва, 3-й Михалковский пер., д.22 | O26: =O212 -> 474410.3 | P26: =P212 -> 24184.08 | Q26: =Q212 -> 20672.4 | R26: =R212 -> 13494.92 | S26: =S212 -> 429553.82 | T26: =T212 -> 0 | U26: =U212 -> 1164.555 | V26: =V212 -> 0 | ... GX26: =GX212 -> 0
A28: 5 | B28: 1 | D28: =ROW(A50) -> 50 | F28: Новый подраздел | G28: АПС | I28: 0 | K28: 0 | S28: 0 | V28: 0 | BX28: 0 | CJ28: 0
A30: 52 | B30: =B50 -> 1 | C30: =C50 -> 5 | D30: =D50 -> 28 | E30: =E50 -> 0 | F30: =F50 -> Новый подраздел | G30: =G50 -> АПС | O30: =O50 -> 145606.84 | P30: =P50 -> 5548.53 | Q30: =Q50 -> 13096.05 | R30: =R50 -> 8549.62 | S30: =S50 -> 126962.26 | T30: =T50 -> 0 | U30: =U50 -> 339.983 | V30: =V50 -> 0 | ... GX30: =GX50 -> 0
A32: 17 | B32: 1 | C32: =ROW(SmtRes!A7) -> 7 | D32: =ROW(EtalonRes!A7) -> 7 | E32: 1 | F32: 3.1-2203-26-1/1 | G32: Техническое обслуживание прибора приемно-контрольного "Сигнал-20П" (ППКОПУ R3-Рубеж-2ОП (R3-Link), ППКОПУ Рубеж-2ОП (RS-485)) | H32: шт. | I32: =ROUND(4+2,9) -> 6 | J32: 0 | K32: =ROUND(4+2,9) -> 6 | O32: =ROUND(CP32,2) -> 2815.79 | P32: =ROUND(CQ32*I32,2) -> 50.76 | Q32: =ROUND(CR32*I32,2) -> 530.8 | R32: =ROUND(CS32*I32,2) -> 346.42 | S32: =ROUND(CT32*I32,2) -> 2234.23 | T32: =ROUND(CU32*I32,2) -> 0 | U32: =CV32*I32 -> 5.754 | V32: =CW32*I32 -> 0 | W32: =ROUND(CX32*I32,2) -> 0 | X32: =ROUND(CY32,2) -> 1563.96 | Y32: =ROUND(CZ32,2) -> 223.42 | AA32: 150194011 | AB32: =ROUND((AC32+AD32+AF32),6) -> 469.298 | AC32: =ROUND(((ES32*1)),6) -> 8.46 | AD32: =ROUND(((((ET32*0.7))-((EU32*0.7)))+AE32),6) -> 88.466 | AE32: =ROUND(((EU32*0.7)),6) -> 57.736 | AF32: =ROUND(((EV32*0.7)),6) -> 372.372 | AG32: =ROUND((AP32),6) -> 0 | AH32: =((EW32*0.7)) -> 0.959 | AI32: =((EX32*0.7)) -> 0 | AJ32: =(AS32) -> 0 | AK32: 666.8 | AL32: 8.46 | AM32: 126.38 | AN32: 82.48 | AO32: 531.96 | AP32: 0 | AQ32: 1.37 | AR32: 0 | AS32: 0 | AT32: 70 | AU32: 10 | AV32: 1 | AW32: 1 | AZ32: 1 | BA32: 1 | BB32: 1 | BC32: 1 | BH32: 0 | BI32: 4 | BJ32: СН-2012-2024.3. Доп.1. Сб.1-2203-26-1/1 | BM32: 0 | BN32: 0 | BP32: 0 | BQ32: 1 | BR32: 0 | BS32: 1 | BT32: 1 | BU32: 1 | BV32: 1 | BW32: 1 | BX32: 1 | BZ32: 70 | CA32: 10 | CE32: 0 | CF32: 0 | CG32: 0 | CM32: 0 | CN32: Поправка: СН-2012. Гл.1 Сб.22 п.3.6.2 Наименование: При применении стоимостных нормативов для сетей и приборов, расположенных в транспортных развязках, в том числе на 3-ем транспортном кольце, для выполнения аналогичных работ в административных и общественных зданиях, по: техническому обслуживанию | CO32: 0 | CP32: =(P32+Q32+S32) -> 2815.79 | CQ32: =(AC32*BC32*AW32) -> 8.46 | CR32: =(((((ET32*0.7))*BB32-((EU32*0.7))*BS32)+AE32*BS32)*AV32) -> 88.466 | CS32: =(AE32*BS32*AV32) -> 57.736 | CT32: =(AF32*BA32*AV32) -> 372.372 | CU32: =AG32 -> 0 | CV32: =(AH32*AV32) -> 0.959 | CW32: =AI32 -> 0 | CX32: =AJ32 -> 0 | CY32: =((S32*BZ32)/100) -> 1563.961 | CZ32: =((S32*CA32)/100) -> 223.423 | DD32: )*1 | DE32: )*0,70 | DF32: )*0,70 | DG32: )*0,70 | DI32: )*0,70 | DJ32: )*0,70 | DN32: 0 | DO32: 0 | DP32: 1 | DQ32: 1 | DU32: 1010 | DV32: шт. | DW32: шт. | DX32: 1 | EE32: 113434998 | EF32: 1 | EG32: СН-2012 | EH32: 0 | EJ32: 4 | EK32: 0 | EL32: Подрядные работы, гл. 1-5,7 | EM32: работа | EO32: Поправка: СН-2012. Гл.1 Сб.22 п.3.6.2 | EQ32: 131072 | ER32: 666.8 | ES32: 8.46 | ET32: 126.38 | EU32: 82.48 | EV32: 531.96 | EW32: 1.37 | EX32: 0 | EY32: 0 | FQ32: 0 | FR32: =ROUND(IF(BI32=3,GM32,0),2) -> 0 | FS32: 0 | FX32: 70 | FY32: 10 | GD32: 0 | GF32: 2009278084 | GG32: 2 | GH32: 1 | GI32: -2 | GJ32: 0 | GK32: =ROUND(R32*(R12)/100,2) -> 374.13 | GL32: =ROUND(IF(AND(BH32=3,BI32=3,FS32<>0),P32,0),2) -> 0 | GM32: =ROUND(O32+X32+Y32+GK32,2)+GX32 -> 4977.3 | GN32: =IF(OR(BI32=0,BI32=1),GM32,0) -> 0 | GO32: =IF(BI32=2,GM32,0) -> 0 | GP32: =IF(BI32=4,GM32+GX32,0) -> 4977.3 | GR32: 0 | GS32: 0 | GT32: 0 | GV32: =ROUND((GT32),6) -> 0 | GW32: 1 | GX32: =ROUND(HC32*I32,2) -> 0 | HA32: 0 | HB32: 0 | HC32: =GV32*GW32 -> 0 | IK32: 0
A33: 17 | B33: 1 | C33: =ROW(SmtRes!A11) -> 11 | D33: =ROW(EtalonRes!A11) -> 11 | E33: 2 | F33: 3.1-2201-25-1/1 | G33: Технический осмотр прибора приемно-контрольного "Сигнал-20П" (ППКОПУ R3-Рубеж-2ОП (R3-Link), ППКОПУ Рубеж-2ОП (RS-485)) | H33: шт. | I33: =ROUND(4+2,9) -> 6 | J33: 0 | K33: =ROUND(4+2,9) -> 6 | O33: =ROUND(CP33,2) -> 2046.66 | P33: =ROUND(CQ33*I33,2) -> 118.14 | Q33: =ROUND(CR33*I33,2) -> 391.05 | R33: =ROUND(CS33*I33,2) -> 255.42 | S33: =ROUND(CT33*I33,2) -> 1537.47 | T33: =ROUND(CU33*I33,2) -> 0 | U33: =CV33*I33 -> 3.96 | V33: =CW33*I33 -> 0 | W33: =ROUND(CX33*I33,2) -> 0 | X33: =ROUND(CY33,2) -> 1076.23 | Y33: =ROUND(CZ33,2) -> 153.75 | AA33: 150194011 | AB33: =ROUND((AC33+AD33+AF33),6) -> 341.11 | AC33: =ROUND((((ES33*1)*11)),6) -> 19.69 | AD33: =ROUND((((((ET33*0.75)*11))-(((EU33*0.75)*11)))+AE33),6) -> 65.175 | AE33: =ROUND((((EU33*0.75)*11)),6) -> 42.57 | AF33: =ROUND((((EV33*0.75)*11)),6) -> 256.245 | AG33: =ROUND((AP33),6) -> 0 | AH33: =(((EW33*0.75)*11)) -> 0.66 | AI33: =(((EX33*0.75)*11)) -> 0 | AJ33: =(AS33) -> 0 | AK33: 40.75 | AL33: 1.79 | AM33: 7.9 | AN33: 5.16 | AO33: 31.06 | AP33: 0 | AQ33: 0.08 | AR33: 0 | AS33: 0 | AT33: 70 | AU33: 10 | AV33: 1 | AW33: 1 | AZ33: 1 | BA33: 1 | BB33: 1 | BC33: 1 | BH33: 0 | BI33: 4 | BJ33: СН-2012-2024.3. Доп.1. Сб.1-2201-25-1/1 | BM33: 0 | BN33: 0 | BP33: 0 | BQ33: 1 | BR33: 0 | BS33: 1 | BT33: 1 | BU33: 1 | BV33: 1 | BW33: 1 | BX33: 1 | BZ33: 70 | CA33: 10 | CE33: 0 | CF33: 0 | CG33: 0 | CM33: 0 | CN33: Поправка: СН-2012. Гл.1 Сб.22 п.3.6.1 Наименование: При применении стоимостных нормативов для сетей и приборов, расположенных в транспортных развязках, в том числе на 3-ем транспортном кольце, для выполнения аналогичных работ в административных и общественных зданиях, по: техническому осмотру | CO33: 0 | CP33: =(P33+Q33+S33) -> 2046.66 | CQ33: =(AC33*BC33*AW33) -> 19.69 | CR33: =((((((ET33*0.75)*11))*BB33-(((EU33*0.75)*11))*BS33)+AE33*BS33)*AV33) -> 65.175 | CS33: =(AE33*BS33*AV33) -> 42.57 | CT33: =(AF33*BA33*AV33) -> 256.245 | CU33: =AG33 -> 0 | CV33: =(AH33*AV33) -> 0.66 | CW33: =AI33 -> 0 | CX33: =AJ33 -> 0 | CY33: =((S33*BZ33)/100) -> 1076.229 | CZ33: =((S33*CA33)/100) -> 153.747 | DD33: )*1)*11 | DE33: )*0,75)*11 | DF33: )*0,75)*11 | DG33: )*0,75)*11 | DI33: )*0,75)*11 | DJ33: )*0,75)*11 | DL33: )*11 | DM33: )*11 | DN33: 0 | DO33: 0 | DP33: 1 | DQ33: 1 | DU33: 1010 | DV33: шт. | DW33: шт. | DX33: 1 | EE33: 113434998 | EF33: 1 | EG33: СН-2012 | EH33: 0 | EJ33: 4 | EK33: 0 | EL33: Подрядные работы, гл. 1-5,7 | EM33: работа | EO33: Поправка: СН-2012. Гл.1 Сб.22 п.3.6.1 | EQ33: 131072 | ER33: 40.75 | ES33: 1.79 | ET33: 7.9 | EU33: 5.16 | EV33: 31.06 | EW33: 0.08 | EX33: 0 | EY33: 0 | FQ33: 0 | FR33: =ROUND(IF(BI33=3,GM33,0),2) -> 0 | FS33: 0 | FX33: 770 | FY33: 110 | GD33: 0 | GF33: 1061751414 | GG33: 2 | GH33: 1 | GI33: -2 | GJ33: 0 | GK33: =ROUND(R33*(R12)/100,2) -> 275.85 | GL33: =ROUND(IF(AND(BH33=3,BI33=3,FS33<>0),P33,0),2) -> 0 | GM33: =ROUND(O33+X33+Y33+GK33,2)+GX33 -> 3552.49 | GN33: =IF(OR(BI33=0,BI33=1),GM33,0) -> 0 | GO33: =IF(BI33=2,GM33,0) -> 0 | GP33: =IF(BI33=4,GM33+GX33,0) -> 3552.49 | GR33: 0 | GS33: 0 | GT33: 0 | GU33: )*11 | GV33: =ROUND(((GT33*11)),6) -> 0 | GW33: 1 | GX33: =ROUND(HC33*I33,2) -> 0 | HA33: 0 | HB33: 0 | HC33: =GV33*GW33 -> 0 | IK33: 0
A34: 17 | B34: 1 | C34: =ROW(SmtRes!A14) -> 14 | D34: =ROW(EtalonRes!A14) -> 14 | E34: 3 | F34: 1.22-2203-104-6/1 | G34: Техническое обслуживание приборов системы охранно-пожарной сигнализации на базе оборудования С2000, блок индикации С2000-БКИ (С2000-БИ) - годовое (R3-Рубеж-БИУ (R3-LINK), Рубеж-БИУ (RS-485)) | H34: шт. | I34: 2 | J34: 0 | K34: 2 | O34: =ROUND(CP34,2) -> 301.16 | P34: =ROUND(CQ34*I34,2) -> 83.32 | Q34: =ROUND(CR34*I34,2) -> 0 | R34: =ROUND(CS34*I34,2) -> 0 | S34: =ROUND(CT34*I34,2) -> 217.84 | T34: =ROUND(CU34*I34,2) -> 0 | U34: =CV34*I34 -> 0.6 | V34: =CW34*I34 -> 0 | W34: =ROUND(CX34*I34,2) -> 0 | X34: =ROUND(CY34,2) -> 152.49 | Y34: =ROUND(CZ34,2) -> 21.78 | AA34: 150194011 | AB34: =ROUND((AC34+AD34+AF34),6) -> 150.58 | AC34: =ROUND((ES34),6) -> 41.66 | AD34: =ROUND((((ET34)-(EU34))+AE34),6) -> 0 | AE34: =ROUND((EU34),6) -> 0 | AF34: =ROUND((EV34),6) -> 108.92 | AG34: =ROUND((AP34),6) -> 0 | AH34: =(EW34) -> 0.3 | AI34: =(EX34) -> 0 | AJ34: =(AS34) -> 0 | AK34: 150.58 | AL34: 41.66 | AM34: 0 | AN34: 0 | AO34: 108.92 | AP34: 0 | AQ34: 0.3 | AR34: 0 | AS34: 0 | AT34: 70 | AU34: 10 | AV34: 1 | AW34: 1 | AZ34: 1 | BA34: 1 | BB34: 1 | BC34: 1 | BH34: 0 | BI34: 4 | BJ34: СН-2012-2024.1. Доп.1. Сб.22-2203-104-6/1 | BM34: 0 | BN34: 0 | BP34: 0 | BQ34: 1 | BR34: 0 | BS34: 1 | BT34: 1 | BU34: 1 | BV34: 1 | BW34: 1 | BX34: 1 | BZ34: 70 | CA34: 10 | CE34: 0 | CF34: 0 | CG34: 0 | CM34: 0 | CO34: 0 | CP34: =(P34+Q34+S34) -> 301.16 | CQ34: =(AC34*BC34*AW34) -> 41.66 | CR34: =((((ET34)*BB34-(EU34)*BS34)+AE34*BS34)*AV34) -> 0 | CS34: =(AE34*BS34*AV34) -> 0 | CT34: =(AF34*BA34*AV34) -> 108.92 | CU34: =AG34 -> 0 | CV34: =(AH34*AV34) -> 0.3 | CW34: =AI34 -> 0 | CX34: =AJ34 -> 0 | CY34: =((S34*BZ34)/100) -> 152.488 | CZ34: =((S34*CA34)/100) -> 21.784 | DN34: 0 | DO34: 0 | DP34: 1 | DQ34: 1 | DU34: 1010 | DV34: шт. | DW34: шт. | DX34: 1 | EE34: 113434998 | EF34: 1 | EG34: СН-2012 | EH34: 0 | EJ34: 4 | EK34: 0 | EL34: Подрядные работы, гл. 1-5,7 | EM34: работа | EQ34: 131072 | ER34: 150.58 | ES34: 41.66 | ET34: 0 | EU34: 0 | EV34: 108.92 | EW34: 0.3 | EX34: 0 | EY34: 0 | FQ34: 0 | FR34: =ROUND(IF(BI34=3,GM34,0),2) -> 0 | FS34: 0 | FX34: 70 | FY34: 10 | GD34: 0 | GF34: 589570795 | GG34: 2 | GH34: 1 | GI34: -2 | GJ34: 0 | GK34: =ROUND(R34*(R12)/100,2) -> 0 | GL34: =ROUND(IF(AND(BH34=3,BI34=3,FS34<>0),P34,0),2) -> 0 | GM34: =ROUND(O34+X34+Y34+GK34,2)+GX34 -> 475.43 | GN34: =IF(OR(BI34=0,BI34=1),GM34,0) -> 0 | GO34: =IF(BI34=2,GM34,0) -> 0 | GP34: =IF(BI34=4,GM34+GX34,0) -> 475.43 | GR34: 0 | GS34: 0 | GT34: 0 | GV34: =ROUND((GT34),6) -> 0 | GW34: 1 | GX34: =ROUND(HC34*I34,2) -> 0 | HA34: 0 | HB34: 0 | HC34: =GV34*GW34 -> 0 | IK34: 0
