Workbook

Sheet Смета по ТСН-2001(с доп.67
A1: =Source!B1 -> Smeta.RU (495) 974-1589
J2: Форма № 4б
B3: "СОГЛАСОВАНО" | G3: "УТВЕРЖДАЮ"
B6: =CONCATENATE("______________________ ", IF(Source!AL12<>"", Source!AL12, "")) -> ______________________ | G6: =CONCATENATE("______________________ ", IF(Source!AH12<>"", Source!AH12, "")) -> ______________________
B7: "_____"________________ 2023 г. | G7: "_____"________________ 2023 г.
A11: (наименование стройки и/или объекта)
A13: =CONCATENATE( "ЛОКАЛЬНАЯ СМЕТА № ",IF(Source!F12<>"Новый объект", Source!F12, "")) -> ЛОКАЛЬНАЯ СМЕТА № Новый объект_(Копия)
A16: (наименование работ и затрат)
A18: =CONCATENATE( "Основание: чертежи № ", Source!J12) -> Основание: чертежи №
I20: В базисном уровне цен | J20: В текущем уровне цен
E21: Сметная стоимость | I21: =I22+I23+I24+I25 -> 112.87 | J21: =J22+J23+J24+J25 -> 2313.12 | K21: тыс.руб.
E22: Строительные работы | I22: =ROUND((Source!F1532)/1000, 2) -> 88.27 | J22: =ROUND((Source!P1532)/1000, 2) -> 1847.55 | K22: тыс.руб.
E23: Работы по монтажу оборудования | I23: =ROUND((Source!F1533)/1000, 2) -> 19.84 | J23: =ROUND((Source!P1533)/1000, 2) -> 305.61 | K23: тыс.руб.
E24: Оборудование | I24: =ROUND((Source!F1524)/1000, 2) -> 2.33 | J24: =ROUND((Source!P1524)/1000, 2) -> 131.71 | K24: тыс.руб.
E25: Прочие работы и затраты | I25: =ROUND((Source!F1534+Source!F1535)/1000, 2) -> 2.43 | J25: =ROUND((Source!P1534+Source!P1535)/1000, 2) -> 28.25 | K25: тыс.руб.
E26: Средства на оплату труда | I26: =(Source!F1530+ Source!F1529)/1000 -> 15.2571 | J26: =((Source!P1530 + Source!P1529)/1000) -> 442.91367 | K26: тыс.руб.
E27: Затраты труда | I27: =Source!F1537 -> 1169.1732 | K27: чел.-ч.
E28: Кроме того:
E29: Возврат материалов | I29: =SUM(Y1:Y1698)/1000 -> 1.94632 | J29: =SUM(Z1:Z1698)/1000 -> 24.05652 | K29: тыс.руб.
A31: Составлен(а) по ТСН-2001 с учетом Дополнения №: 68
A32: № и период сборника коэффициентов (индексов) пересчета: Индексы ТСН-2001 МГЭ ремонт №201 июнь 2023 года и Индекс к Главе 13.2 ТСН-2001 МГЭ июнь 2023 года | AP32: № и период сборника коэффициентов (индексов) пересчета: Индексы ТСН-2001 МГЭ ремонт №201 июнь 2023 года и Индекс к Главе 13.2 ТСН-2001 МГЭ июнь 2023 года
A33: № п/п | B33: Шифр расценки и коды ресурсов | C33: Наименование работ и затрат | D33: Ед. изм. | E33: Кол-во единиц | F33: Цена на ед. изм., руб. | G33: Попра- вочные коэффи- циенты | H33: Коэффи- циенты зимних удорожа- ний | I33: Всего в ценах на январь 2000 года, руб. | J33: Коэффи- циенты (индек- сы) пере- счета, нормы НР и СП | K33: ВСЕГО затрат в текущем уровне цен, руб.
A34: 1 | B34: 2 | C34: 3 | D34: 4 | E34: 5 | F34: 6 | G34: 7 | H34: 8 | I34: 9 | J34: 10 | K34: 11
A36: =CONCATENATE("Локальная смета: ",IF(Source!G20<>"Новая локальная смета", Source!G20, "")) -> Локальная смета: ПЗУ
A38: =CONCATENATE("Раздел: ",IF(Source!G24<>"Новый раздел", Source!G24, "")) -> Раздел: Демонтажные работы
A39: 1 | B39: =Source!F28 -> 3.1-51-1 | C39: Разработка грунта вручную в траншеях глубиной до 2 м без креплений с откосами группа грунтов 1-3 | D39: =Source!H28 -> 100 м3 грунта | E39: =Source!I28 -> 0.026 | Q39: =Source!X28 -> 48.33 | R39: =Source!X29 -> 1156.34 | S39: =Source!Y28 -> 35.58 | T39: =Source!Y29 -> 632.13 | U39: =ROUND((175/100)*ROUND(Source!R28, 2), 2) -> 0 | V39: =ROUND((160/100)*ROUND(Source!R29, 2), 2) -> 0 | AC39: 0
C40: ЗП | F40: =Source!AO28 -> 2042.62 | G40: =Source!DG28 | H40: =Source!AV29 -> 1 | I40: =Source!S28 -> 53.11 | J40: =IF(Source!BA29<> 0, Source!BA29, 1) -> 29.03 | K40: =Source!S29 -> 1541.78
C41: НР от ЗП | D41: % | E41: =Source!DN29 -> 91 | I41: =SUM(Q39:Q40) -> 48.33 | J41: =Source!BZ29 -> 75 | K41: =SUM(R39:R40) -> 1156.34
C42: СП от ЗП | D42: % | E42: =Source!DO29 -> 67 | I42: =SUM(S39:S41) -> 35.58 | J42: =Source!CA29 -> 41 | K42: =SUM(T39:T41) -> 632.13
C43: ЗТР | D43: чел-ч | E43: =Source!AQ28 -> 192.7 | G43: =Source!DI28 | H43: =Source!AV29 -> 1 | I43: =Source!U28 -> 5.0102
C44: ВСЕГО работ по позиции: | H44: =I40+I41+I42+0-0-0 -> 137.02 | J44: =K40+K41+K42+0-0-0 -> 3330.25
C45: ВСЕГО оборудование по позиции: | H45: =0+0 -> 0 | J45: =0+0 -> 0
C46: ВСЕГО по позиции: | H46: =I40+I41+I42+0 -> 137.02 | J46: =K40+K41+K42+0 -> 3330.25 | O46: =I40+I41+I42+0 -> 137.02 | P46: =K40+K41+K42+0 -> 3330.25
A49: =CONCATENATE("Итого по разделу: ",IF(Source!G31<>"Новый раздел", Source!G31, "")) -> Итого по разделу: Демонтажные работы | H49: =SUM(O38:O48) -> 137.02 | J49: =SUM(P38:P48) -> 3330.25
A50: Итого по ТСН-2001.16 | I50: =SUM(W38:W49) -> 0 | J50: =SUM(X38:X49) -> 0
A51: Итого возвратных сумм | I51: =SUM(Y38:Y50) -> 0 | J51: =SUM(Z38:Z50) -> 0
A53: =CONCATENATE("Раздел: ",IF(Source!G61<>"Новый раздел", Source!G61, "")) -> Раздел: Монтажные работы
A54: 2 | B54: 3.27-12-1 Поправка: ТСН-2001.6. О.П. п.11 | C54: Устройство подстилающих и выравнивающих слоев оснований из песка | D54: =Source!H65 -> 100 м3 материала основания (в плотном теле) | E54: =Source!I65 -> 0.0264 | Q54: =Source!X65 -> 6.44 | R54: =Source!X66 -> 153.57 | S54: =Source!Y65 -> 3.63 | T54: =Source!Y66 -> 54.75 | U54: =ROUND((175/100)*ROUND(Source!R65, 2), 2) -> 6.13 | V54: =ROUND((160/100)*ROUND(Source!R66, 2), 2) -> 162.58 | AC54: 0
C55: ЗП | F55: =Source!AO65 -> 151.49 | G55: =Source!DG65 -> )*1,15 | H55: =Source!AV66 -> 1 | I55: =Source!S65 -> 4.6 | J55: =IF(Source!BA66<> 0, Source!BA66, 1) -> 29.03 | K55: =Source!S66 -> 133.54
C56: ЭМ | F56: =Source!AM65 -> 745.18 | G56: =Source!DE65 -> )*1,25 | H56: =Source!AV66 -> 1 | I56: =Source!Q65 -> 24.59 | J56: =IF(Source!BB66<> 0, Source!BB66, 1) -> 10.56 | K56: =Source!Q66 -> 259.67
...

Sheet Дефектная ведомость
A1: =Source!B1 -> Smeta.RU (495) 974-1589
D3: "УТВЕРЖДАЮ"
C5: ___________________________
C7: ___________________________
C9: " ___ " ___________ 20 ___ г.
A11: =CONCATENATE("Дефектный акт ", IF(Source!AN15<>"", Source!AN15," ")) -> Дефектный акт
A12: =CONCATENATE("На капитальный ремонт ", Source!F12, " ", Source!G12) -> На капитальный ремонт Новый объект_(Копия) Ерамешанцева_(Копия)
B14: Мы, нижеподписавшиеся, произвели осмотр объекта
B15: и постановили произвести ремонт объекта в
B16: следующем объеме:
A17: № п/п | B17: Наименование работ и затрат | C17: Единица измерения | D17: Количество | E17: Примечание
A18: 1 | B18: 2 | C18: 3 | D18: 4 | E18: 5
A19: =CONCATENATE("Локальная смета: ", Source!G20) -> Локальная смета: ПЗУ
A20: =CONCATENATE("Раздел: ", Source!G24) -> Раздел: Демонтажные работы
A21: 1 | B21: =Source!G28 -> Разработка грунта вручную в траншеях глубиной до 2 м без креплений с откосами группа грунтов 1-3 | C21: =Source!H28 -> 100 м3 грунта | D21: =Source!I28 -> 0.026
A22: =CONCATENATE("Раздел: ", Source!G61) -> Раздел: Монтажные работы
A23: 2 | B23: =Source!G65 -> Устройство подстилающих и выравнивающих слоев оснований из песка | C23: =Source!H65 -> 100 м3 материала основания (в плотном теле) | D23: =Source!I65 -> 0.0264
A24: 2.1 | B24: =Source!G67 -> Песок для строительных работ, рядовой | C24: =Source!H67 -> м3 | D24: =Source!I67 -> 2.904
A25: 3 | B25: =Source!G69 -> Устройство подстилающих и выравнивающих слоев оснований из щебня | C25: =Source!H69 -> 100 м3 материала основания (в плотном теле) | D25: =Source!I69 -> 0.0198
A26: 3.1 | B26: =Source!G71 -> Щебень из естественного камня для дорожных работ, марка 1200 - 800, фракция 10 - 20 мм | C26: =Source!H71 -> м3 | D26: =Source!I71 -> 2.4948
A27: 4 | B27: =Source!G73 -> Устройство асфальтобетонных покрытий дорожек и тротуаров однослойных из литой мелкозернистой асфальтобетонной смеси толщиной 3 см | C27: =Source!H73 -> 100 м2 покрытия | D27: =Source!I73 -> 0.132
A28: 4.1 | B28: =Source!G75 -> Смеси асфальтобетонные дорожные горячие мелкозернистые, марка II, тип В | C28: =Source!H75 -> т | D28: =Source!I75 -> 0.94248
A29: 5 | B29: =Source!G77 -> Устройство асфальтобетонных покрытий дорожек и тротуаров однослойных из литой мелкозернистой асфальтобетонной смеси, добавлять или исключать на каждые 0,5 см изменения толщины слоя | C29: =Source!H77 -> 100 м2 покрытия | D29: =Source!I77 -> 0.134
A30: 5.1 | B30: =Source!G79 -> Смеси асфальтобетонные дорожные горячие мелкозернистые, марка II, тип В | C30: =Source!H79 -> т | D30: =Source!I79 -> 1.45926
A31: 6 | B31: =Source!G81 -> Установка бортовых камней бетонных при других видах покрытий | C31: =Source!H81 -> 100 м бортового камня | D31: =Source!I81 -> 0.103
A32: 6.1 | B32: =Source!G83 -> Камни бетонные бортовые, марка БР 100.20.8 | C32: =Source!H83 -> м3 | D32: =Source!I83 -> 0.4429
A33: =CONCATENATE("Локальная смета: ", Source!G146) -> Локальная смета: Архитектурные решения
A34: =CONCATENATE("Раздел: ", Source!G150) -> Раздел: Демонтажные работы
A35: 1 | B35: =Source!G154 -> Монтаж конструкций дверей и люков | C35: =Source!H154 -> 1 т конструкций | D35: =Source!I154 -> 0.1736
A36: 2 | B36: =Source!G156 -> Разборка деревянных заполнений проемов дверных, воротных | C36: =Source!H156 -> 100 м2 | D36: =Source!I156 -> 0.0809
A37: 3 | B37: =Source!G158 -> Разборка деревянных заполнений проемов оконных без подоконных досок | C37: =Source!H158 -> 100 м2 | D37: =Source!I158 -> 0.0218
A38: 4 | B38: =Source!G160 -> Разборка кирпичных перегородок | C38: =Source!H160 -> 1 м3 кладки | D38: =Source!I160 -> 6.2
A39: 4.1 | B39: =Source!G162 -> Масса мусора | C39: =Source!H162 -> т | D39: =Source!I162 -> -12.4
A40: 5 | B40: =Source!G164 -> Разборка фундаментов железобетонных | C40: =Source!H164 -> 1 м3 | D40: =Source!I164 -> 7.5
A41: 5.1 | B41: =Source!G166 -> Масса мусора | C41: =Source!H166 -> т | D41: =Source!I166 -> -18.75
A42: 6 | B42: =Source!G168 -> Разборка металлических лестничных решеток, массой 1 м решетки до 60 кг | C42: =Source!H168 -> 100 м решетки | D42: =Source!I168 -> 0.01
A43: 6.1 | B43: =Source!G170 -> Масса мусора | C43: =Source!H170 -> т | D43: =Source!I170 -> -0.025
A44: 7 | B44: =Source!G172 -> Монтаж мелких конструкций из стали различного профиля массой до 20 кг | C44: =Source!H172 -> 1 Т | D44: =Source!I172 -> 0.05
A45: 8 | B45: =Source!G174 -> Разборка покрытий из керамических плиток | C45: =Source!H174 -> 100 м2 покрытия | D45: =Source!I174 -> 0.061
A46: 8.1 | B46: =Source!G176 -> Масса мусора | C46: =Source!H176 -> т | D46: =Source!I176 -> -0.3172
...

Sheet Объектная смета
A1: =SourceObSm!B1 -> Smeta.RU (495) 974-1589
J2: Форма 3
B4: =IF(SourceObSm!G4<>"",SourceObSm!G4,IF(SourceObSm!F4<>"",SourceObSm!F4,IF(SourceObSm!G5<>"",SourceObSm!G5,IF(SourceObSm!F5<>"",SourceObSm!F5,IF(SourceObSm!G6<>"",SourceObSm!G6,IF(SourceObSm!G12<>"",SourceObSm!G12," ")))))) -> Ерамешанцева_(Копия)
B5: (Наименование стройки)
B7: =CONCATENATE( "ОБЪЕКТНЫЙ СМЕТНЫЙ РАСЧЕТ № ", SourceObSm!F12) -> ОБЪЕКТНЫЙ СМЕТНЫЙ РАСЧЕТ № Новый объект_(Копия)
B8: (объектная смета)
B10: =CONCATENATE( "на строительство (капитальный ремонт) ",IF(SourceObSm!G12<>"",SourceObSm!G12,IF(SourceObSm!F12<>"",SourceObSm!F12," "))) -> на строительство (капитальный ремонт) Ерамешанцева_(Копия)
B12: Сметная стоимость | D12: =H31 -> 2313.12 | E12: тыс.руб.
B14: Средства на оплату труда | D14: =I31 -> 442.92 | E14: тыс.руб.
B16: Расчетный измеритель единичной стоимости | D16: =SourceObSm!I12 -> 0 | E16: =SourceObSm!H12
B18: Составлен(а) в уровне текущих (прогнозных) цен Индексы ТСН-2001 МГЭ ремонт №201 июнь 2023 года и Индекс к Главе 13.2 ТСН-2001 МГЭ июнь 2023 года | AD18: Составлен(а) в уровне текущих (прогнозных) цен Индексы ТСН-2001 МГЭ ремонт №201 июнь 2023 года и Индекс к Главе 13.2 ТСН-2001 МГЭ июнь 2023 года
J19: руб.
A20: № п/п | B20: Номера сметных расчетов (смет) | C20: Наименование работ и затрат | D20: Сметная стоимость, тыс.руб. | I20: Средства на оплату труда | J20: Показатели единичной стоимости
D21: строите-льных работ | E21: монтажных работ | F21: оборудо-вания, мебели, инвентаря | G21: прочих затрат | H21: Всего
A22: 1 | B22: 2 | C22: 3 | D22: 4 | E22: 5 | F22: 6 | G22: 7 | H22: 8 | I22: 9 | J22: 10
A23: 1 | B23: =SourceObSm!C16 -> 02-01-01 | C23: =SourceObSm!D16 -> ПЗУ | D23: =IF(SourceObSm!E16=0,0, ROUND(SourceObSm!E16,6)) -> 47.54 | E23: =IF(SourceObSm!F16=0,0, ROUND(SourceObSm!F16,6)) -> 0 | F23: =IF(SourceObSm!G16=0,0, ROUND(SourceObSm!G16,6)) -> 0 | G23: =IF(SourceObSm!H16=0,0, ROUND(SourceObSm!H16,6)) -> 0 | H23: =IF(SourceObSm!I16=0,0, ROUND(SourceObSm!I16,6)) -> 47.54 | I23: =IF(SourceObSm!J16=0,0, ROUND(SourceObSm!J16,6)) -> 6.83 | J23: =IF(H23="-","-",IF(SourceObSm!I12=0,0,H23/SourceObSm!I12)) -> 0
A24: 2 | B24: =SourceObSm!C17 -> 02-01-02 | C24: =SourceObSm!D17 -> Архитектурные решения | D24: =IF(SourceObSm!E17=0,0, ROUND(SourceObSm!E17,6)) -> 1059.11 | E24: =IF(SourceObSm!F17=0,0, ROUND(SourceObSm!F17,6)) -> 0 | F24: =IF(SourceObSm!G17=0,0, ROUND(SourceObSm!G17,6)) -> 0 | G24: =IF(SourceObSm!H17=0,0, ROUND(SourceObSm!H17,6)) -> 28.16 | H24: =IF(SourceObSm!I17=0,0, ROUND(SourceObSm!I17,6)) -> 1087.27 | I24: =IF(SourceObSm!J17=0,0, ROUND(SourceObSm!J17,6)) -> 233.93 | J24: =IF(H24="-","-",IF(SourceObSm!I12=0,0,H24/SourceObSm!I12)) -> 0
A25: 3 | B25: =SourceObSm!C18 -> 02-01-03 | C25: =SourceObSm!D18 -> Конструктивные решения | D25: =IF(SourceObSm!E18=0,0, ROUND(SourceObSm!E18,6)) -> 227.7 | E25: =IF(SourceObSm!F18=0,0, ROUND(SourceObSm!F18,6)) -> 0 | F25: =IF(SourceObSm!G18=0,0, ROUND(SourceObSm!G18,6)) -> 0 | G25: =IF(SourceObSm!H18=0,0, ROUND(SourceObSm!H18,6)) -> 0 | H25: =IF(SourceObSm!I18=0,0, ROUND(SourceObSm!I18,6)) -> 227.7 | I25: =IF(SourceObSm!J18=0,0, ROUND(SourceObSm!J18,6)) -> 47.45 | J25: =IF(H25="-","-",IF(SourceObSm!I12=0,0,H25/SourceObSm!I12)) -> 0
A26: 4 | B26: =SourceObSm!C19 -> 02-01-04 | C26: =SourceObSm!D19 -> Система связи | D26: =IF(SourceObSm!E19=0,0, ROUND(SourceObSm!E19,6)) -> 74.83 | E26: =IF(SourceObSm!F19=0,0, ROUND(SourceObSm!F19,6)) -> 76.29 | F26: =IF(SourceObSm!G19=0,0, ROUND(SourceObSm!G19,6)) -> 14.21 | G26: =IF(SourceObSm!H19=0,0, ROUND(SourceObSm!H19,6)) -> 0 | H26: =IF(SourceObSm!I19=0,0, ROUND(SourceObSm!I19,6)) -> 165.33 | I26: =IF(SourceObSm!J19=0,0, ROUND(SourceObSm!J19,6)) -> 26.84 | J26: =IF(H26="-","-",IF(SourceObSm!I12=0,0,H26/SourceObSm!I12)) -> 0
A27: 5 | B27: =SourceObSm!C20 -> 02-01-05 | C27: =SourceObSm!D20 -> Система электроснабжения | D27: =IF(SourceObSm!E20=0,0, ROUND(SourceObSm!E20,6)) -> 2.13 | E27: =IF(SourceObSm!F20=0,0, ROUND(SourceObSm!F20,6)) -> 114.56 | F27: =IF(SourceObSm!G20=0,0, ROUND(SourceObSm!G20,6)) -> 0 | G27: =IF(SourceObSm!H20=0,0, ROUND(SourceObSm!H20,6)) -> 0 | H27: =IF(SourceObSm!I20=0,0, ROUND(SourceObSm!I20,6)) -> 116.69 | I27: =IF(SourceObSm!J20=0,0, ROUND(SourceObSm!J20,6)) -> 21.1 | J27: =IF(H27="-","-",IF(SourceObSm!I12=0,0,H27/SourceObSm!I12)) -> 0
A28: 6 | B28: =SourceObSm!C21 -> 02-01-06 | C28: =SourceObSm!D21 -> Система водоснабжения и водоотведения | D28: =IF(SourceObSm!E21=0,0, ROUND(SourceObSm!E21,6)) -> 177.28 | E28: =IF(SourceObSm!F21=0,0, ROUND(SourceObSm!F21,6)) -> 0 | F28: =IF(SourceObSm!G21=0,0, ROUND(SourceObSm!G21,6)) -> 0 | G28: =IF(SourceObSm!H21=0,0, ROUND(SourceObSm!H21,6)) -> 0.09 | H28: =IF(SourceObSm!I21=0,0, ROUND(SourceObSm!I21,6)) -> 177.37 | I28: =IF(SourceObSm!J21=0,0, ROUND(SourceObSm!J21,6)) -> 28.41 | J28: =IF(H28="-","-",IF(SourceObSm!I12=0,0,H28/SourceObSm!I12)) -> 0
A29: 7 | B29: =SourceObSm!C22 -> 02-01-07 | C29: =SourceObSm!D22 -> Мероприятия по обеспечению доступа инвалидов | D29: =IF(SourceObSm!E22=0,0, ROUND(SourceObSm!E22,6)) -> 258.96 | E29: =IF(SourceObSm!F22=0,0, ROUND(SourceObSm!F22,6)) -> 114.76 | F29: =IF(SourceObSm!G22=0,0, ROUND(SourceObSm!G22,6)) -> 117.5 | G29: =IF(SourceObSm!H22=0,0, ROUND(SourceObSm!H22,6)) -> 0 | H29: =IF(SourceObSm!I22=0,0, ROUND(SourceObSm!I22,6)) -> 491.22 | I29: =IF(SourceObSm!J22=0,0, ROUND(SourceObSm!J22,6)) -> 78.36 | J29: =IF(H29="-","-",IF(SourceObSm!I12=0,0,H29/SourceObSm!I12)) -> 0
A30: 8 | B30: =SourceObSm!C23 -> 02-01-08 | C30: =SourceObSm!D23 -> Возврат материалов | D30: =IF(SourceObSm!E23=0,0, ROUND(SourceObSm!E23,6)) -> 0 | E30: =IF(SourceObSm!F23=0,0, ROUND(SourceObSm!F23,6)) -> 0 | F30: =IF(SourceObSm!G23=0,0, ROUND(SourceObSm!G23,6)) -> 0 | G30: =IF(SourceObSm!H23=0,0, ROUND(SourceObSm!H23,6)) -> 0 | H30: =IF(SourceObSm!I23=0,0, ROUND(SourceObSm!I23,6)) -> 0 | I30: =IF(SourceObSm!J23=0,0, ROUND(SourceObSm!J23,6)) -> 0 | J30: =IF(H30="-","-",IF(SourceObSm!I12=0,0,H30/SourceObSm!I12)) -> 0
C31: ИТОГО: | D31: =IF(SourceObSm!E25=0,0, ROUND(SourceObSm!E25,6)) -> 1847.55 | E31: =IF(SourceObSm!F25=0,0, ROUND(SourceObSm!F25,6)) -> 305.61 | F31: =IF(SourceObSm!G25=0,0, ROUND(SourceObSm!G25,6)) -> 131.71 | G31: =IF(SourceObSm!H25=0,0, ROUND(SourceObSm!H25,6)) -> 28.25 | H31: =IF(SourceObSm!I25=0,0, ROUND(SourceObSm!I25,6)) -> 2313.12 | I31: =IF(SourceObSm!J25=0,0, ROUND(SourceObSm!J25,6)) -> 442.92
B35: Главный инженер проекта | G35: =IF(SourceObSm!X12<>"",SourceObSm!X12,"")
C36: [подпись(инициалы,фамилия)]
B38: Начальник | C38: =IF(SourceObSm!AA12<>"",SourceObSm!AA12,"") | D38: отдела | G38: =IF(SourceObSm!Y12<>"",SourceObSm!Y12,"")
C39: (наименование) | E39: [подпись(инициалы,фамилия)]
B41: Составил | C41: =IF(SourceObSm!AC12<>"",SourceObSm!AC12,"") | G41: =IF(SourceObSm!AB12<>"",SourceObSm!AB12,"")
C42: [должность,подпись(инициалы,фамилия)]
B44: Проверил: | C44: =IF(SourceObSm!AE12<>"",SourceObSm!AE12,"") | G44: =IF(SourceObSm!AD12<>"",SourceObSm!AD12,"")
C45: [должность,подпись(инициалы,фамилия)]
A46: =SourceObSm!B1 -> Smeta.RU (495) 974-1589
J47: Форма 3
B49: =IF(SourceObSm!G4<>"",SourceObSm!G4,IF(SourceObSm!F4<>"",SourceObSm!F4,IF(SourceObSm!G5<>"",SourceObSm!G5,IF(SourceObSm!F5<>"",SourceObSm!F5,IF(SourceObSm!G6<>"",SourceObSm!G6,IF(SourceObSm!G12<>"",SourceObSm!G12," ")))))) -> Ерамешанцева_(Копия)
B50: (Наименование стройки)
B52: =CONCATENATE( "ОБЪЕКТНЫЙ СМЕТНЫЙ РАСЧЕТ № ", SourceObSm!F12) -> ОБЪЕКТНЫЙ СМЕТНЫЙ РАСЧЕТ № Новый объект_(Копия)
B53: (объектная смета)
B55: =CONCATENATE( "на строительство (капитальный ремонт) ",IF(SourceObSm!G12<>"",SourceObSm!G12,IF(SourceObSm!F12<>"",SourceObSm!F12," "))) -> на строительство (капитальный ремонт) Ерамешанцева_(Копия)
B57: Сметная стоимость | D57: =H76 -> 112.87 | E57: тыс.руб.
...

Sheet RV_DATA
A1: BuildingFinished | B1: Trud | C1: Mash | D1: Mat | E1: MatZak | F1: Oborud | G1: OborudZak | H1: ZeroStoim | I1: NegativeKoll | J1: ReUnionKollResurcy | K1: UnionOneUchRes | L1: IdLevel | M1: ViewCodes | N1: UnionCodes
A2: 1 | B2: 1 | C2: 1 | D2: 1 | E2: 1 | F2: 1 | G2: 0 | H2: 1 | I2: 1 | J2: 0 | K2: 1 | L2: 129761633 | M2: 0 | N2: 0
A4: TYPE | B4: SOURCE_LINK | C4: RABMAT_EX | D4: TIP_RAB | E4: TYPE_TRUD | F4: TAB | G4: NAME | H4: EDIZM | I4: KOLL | J4: UCH | K4: PRICE_B | L4: PRICE_ED | M4: STOIM_B | N4: PRICE_C | O4: STOIM_C | P4: ZPM_B | Q4: ZPM_ED | R4: STOIM_ZPM_B | S4: ZPM_C | T4: STOIM_ZPM_C | U4: RABMAT | V4: WBS | W4: CBSI | X4: CBSII | Y4: CRC_GR_RES | Z4: CRC_B | AA4: CRC_C
A6: =Source!A20 -> 3 | B6: 20 | G6: =Source!G20 -> ПЗУ
A7: =Source!A24 -> 4 | B7: 24 | G7: =Source!G24 -> Демонтажные работы
A8: 20 | B8: 2 | C8: 1 | D8: 0 | E8: =SmtRes!AV2 -> 1 | F8: =SmtRes!I2 -> 9999990008 | G8: =SmtRes!K2 -> Трудозатраты рабочих | H8: =SmtRes!O2 -> чел.-ч. | I8: =SmtRes!Y2*Source!I29 -> 5.0102 | J8: =SmtRes!AO2 -> 1 | K8: =SmtRes!AH2 -> 0 | L8: =SmtRes!DB2 -> 0 | M8: =ROUND(ROUND(L8*Source!I29, 6)*1, 2) -> 0 | N8: =SmtRes!AD2 -> 0 | O8: =ROUND(ROUND(L8*Source!I29, 6)*SmtRes!DA2, 2) -> 0 | P8: =SmtRes!AG2 -> 0 | Q8: =SmtRes!DC2 -> 0 | R8: =ROUND(ROUND(Q8*Source!I29, 6)*1, 2) -> 0 | S8: =SmtRes!AC2 -> 0 | T8: =ROUND(ROUND(Q8*Source!I29, 6)*SmtRes!AK2, 2) -> 0 | U8: 1 | Y8: =SmtRes!X2 -> 476480486 | Z8: 1499241640 | AA8: 1499241640
A9: =Source!A61 -> 4 | B9: 61 | G9: =Source!G61 -> Монтажные работы
A10: 20 | B10: 17 | C10: 3 | D10: 0 | E10: =SmtRes!AV17 -> 0 | F10: =SmtRes!I17 -> 1.1-1-118 | G10: =SmtRes!K17 -> Вода | H10: =SmtRes!O17 -> м3 | I10: =SmtRes!Y17*Source!I66 -> 0.132 | J10: =SmtRes!AO17 -> 1 | K10: =SmtRes!AE17 -> 7.07 | L10: =SmtRes!DB17 -> 35.35 | M10: =ROUND(ROUND(L10*Source!I66, 6)*1, 2) -> 0.93 | N10: =SmtRes!AA17 -> 42.5 | O10: =ROUND(ROUND(L10*Source!I66, 6)*SmtRes!DA17, 2) -> 5.6 | P10: =SmtRes!AG17 -> 0 | Q10: =SmtRes!DC17 -> 0 | R10: =ROUND(ROUND(Q10*Source!I66, 6)*1, 2) -> 0 | S10: =SmtRes!AC17 -> 0 | T10: =ROUND(ROUND(Q10*Source!I66, 6)*SmtRes!AK17, 2) -> 0 | U10: 3 | Y10: =SmtRes!X17 -> -862991314 | Z10: -1421290593 | AA10: -1489187206
A11: 20 | B11: 16 | C11: 2 | D11: 0 | E11: =SmtRes!AV16 -> 0 | F11: =SmtRes!I16 -> 2.1-5-7 | G11: =SmtRes!K16 -> Катки дорожные самоходные на пневмоколесном ходу, масса до 16 т | H11: =SmtRes!O16 -> маш.-ч. | I11: =SmtRes!Y16*Source!I66 -> 0.01716 | J11: =SmtRes!AO16 -> 1 | K11: =SmtRes!AF16 -> 177.54 | L11: =SmtRes!DB16 -> 115.4 | M11: =ROUND(ROUND(L11*Source!I66, 6)*1, 2) -> 3.05 | N11: =SmtRes!AB16 -> 2026.14 | O11: =ROUND(ROUND(L11*Source!I66, 6)*SmtRes!DA16, 2) -> 33.21 | P11: =SmtRes!AG16 -> 17.42 | Q11: =SmtRes!DC16 -> 11.325 | R11: =ROUND(ROUND(Q11*Source!I66, 6)*1, 2) -> 0.3 | S11: =SmtRes!AC16 -> 529.47 | T11: =ROUND(ROUND(Q11*Source!I66, 6)*SmtRes!AK16, 2) -> 8.68 | U11: 2 | Y11: =SmtRes!X16 -> -646811103 | Z11: -134693179 | AA11: -1385780307
A12: 20 | B12: 15 | C12: 2 | D12: 0 | E12: =SmtRes!AV15 -> 0 | F12: =SmtRes!I15 -> 2.1-5-48 | G12: =SmtRes!K15 -> Автогрейдеры, мощность 99-147 кВт (130-200 л.с.) | H12: =SmtRes!O15 -> маш.-ч. | I12: =SmtRes!Y15*Source!I66 -> 0.05115 | J12: =SmtRes!AO15 -> 1 | K12: =SmtRes!AF15 -> 125.13 | L12: =SmtRes!DB15 -> 242.4375 | M12: =ROUND(ROUND(L12*Source!I66, 6)*1, 2) -> 6.4 | N12: =SmtRes!AB15 -> 1407.06 | O12: =ROUND(ROUND(L12*Source!I66, 6)*SmtRes!DA15, 2) -> 68.74 | P12: =SmtRes!AG15 -> 24.74 | Q12: =SmtRes!DC15 -> 47.9375 | R12: =ROUND(ROUND(Q12*Source!I66, 6)*1, 2) -> 1.27 | S12: =SmtRes!AC15 -> 751.96 | T12: =ROUND(ROUND(Q12*Source!I66, 6)*SmtRes!AK15, 2) -> 36.74 | U12: 2 | Y12: =SmtRes!X15 -> 856318566 | Z12: 1834934566 | AA12: 1772781083
A13: 20 | B13: 14 | C13: 2 | D13: 0 | E13: =SmtRes!AV14 -> 0 | F13: =SmtRes!I14 -> 2.1-5-18 | G13: =SmtRes!K14 -> Машины поливомоечные, емкость цистерны до 8 м3 | H13: =SmtRes!O14 -> маш.-ч. | I13: =SmtRes!Y14*Source!I66 -> 0.02145 | J13: =SmtRes!AO14 -> 1 | K13: =SmtRes!AF14 -> 246.68 | L13: =SmtRes!DB14 -> 200.425 | M13: =ROUND(ROUND(L13*Source!I66, 6)*1, 2) -> 5.29 | N13: =SmtRes!AB14 -> 2693.8 | O13: =ROUND(ROUND(L13*Source!I66, 6)*SmtRes!DA14, 2) -> 55.19 | P13: =SmtRes!AG14 -> 13.37 | Q13: =SmtRes!DC14 -> 10.8625 | R13: =ROUND(ROUND(Q13*Source!I66, 6)*1, 2) -> 0.29 | S13: =SmtRes!AC14 -> 406.37 | T13: =ROUND(ROUND(Q13*Source!I66, 6)*SmtRes!AK14, 2) -> 8.32 | U13: 2 | Y13: =SmtRes!X14 -> 366114799 | Z13: -609368706 | AA13: 1582930142
A14: 20 | B14: 13 | C14: 2 | D14: 0 | E14: =SmtRes!AV13 -> 0 | F14: =SmtRes!I13 -> 2.1-5-15 | G14: =SmtRes!K13 -> Катки прицепные пневмоколесные, масса до 50 т | H14: =SmtRes!O13 -> маш.-ч. | I14: =SmtRes!Y13*Source!I66 -> 0.05478 | J14: =SmtRes!AO13 -> 1 | K14: =SmtRes!AF13 -> 62.97 | L14: =SmtRes!DB13 -> 130.6625 | M14: =ROUND(ROUND(L14*Source!I66, 6)*1, 2) -> 3.45 | N14: =SmtRes!AB13 -> 65.93 | O14: =ROUND(ROUND(L14*Source!I66, 6)*SmtRes!DA13, 2) -> 3.45 | P14: =SmtRes!AG13 -> 6.64 | Q14: =SmtRes!DC13 -> 13.775 | R14: =ROUND(ROUND(Q14*Source!I66, 6)*1, 2) -> 0.36 | S14: =SmtRes!AC13 -> 6.95 | T14: =ROUND(ROUND(Q14*Source!I66, 6)*SmtRes!AK13, 2) -> 0.36 | U14: 2 | Y14: =SmtRes!X13 -> 142191915 | Z14: 276339441 | AA14: -1966971311
A15: 20 | B15: 12 | C15: 2 | D15: 0 | E15: =SmtRes!AV12 -> 0 | F15: =SmtRes!I12 -> 2.1-2-1 | G15: =SmtRes!K12 -> Тракторы на гусеничном ходу, мощность до 60 кВт (81 л.с.) | H15: =SmtRes!O12 -> маш.-ч. | I15: =SmtRes!Y12*Source!I66 -> 0.05478 | J15: =SmtRes!AO12 -> 1 | K15: =SmtRes!AF12 -> 116.89 | L15: =SmtRes!DB12 -> 242.55 | M15: =ROUND(ROUND(L15*Source!I66, 6)*1, 2) -> 6.4 | N15: =SmtRes!AB12 -> 1335.21 | O15: =ROUND(ROUND(L15*Source!I66, 6)*SmtRes!DA12, 2) -> 69.86 | P15: =SmtRes!AG12 -> 23.41 | Q15: =SmtRes!DC12 -> 48.575 | R15: =ROUND(ROUND(Q15*Source!I66, 6)*1, 2) -> 1.28 | S15: =SmtRes!AC12 -> 711.53 | T15: =ROUND(ROUND(Q15*Source!I66, 6)*SmtRes!AK12, 2) -> 37.23 | U15: 2 | Y15: =SmtRes!X12 -> 1928543733 | Z15: 527369301 | AA15: -937377343
A16: 20 | B16: 11 | C16: 1 | D16: 0 | E16: =SmtRes!AV11 -> 1 | F16: =SmtRes!I11 -> 9999990008 | G16: =SmtRes!K11 -> Трудозатраты рабочих | H16: =SmtRes!O11 -> чел.-ч. | I16: =SmtRes!Y11*Source!I66 -> 0.437184 | J16: =SmtRes!AO11 -> 1 | K16: =SmtRes!AH11 -> 0 | L16: =SmtRes!DB11 -> 0 | M16: =ROUND(ROUND(L16*Source!I66, 6)*1, 2) -> 0 | N16: =SmtRes!AD11 -> 0 | O16: =ROUND(ROUND(L16*Source!I66, 6)*SmtRes!DA11, 2) -> 0 | P16: =SmtRes!AG11 -> 0 | Q16: =SmtRes!DC11 -> 0 | R16: =ROUND(ROUND(Q16*Source!I66, 6)*1, 2) -> 0 | S16: =SmtRes!AC11 -> 0 | T16: =ROUND(ROUND(Q16*Source!I66, 6)*SmtRes!AK11, 2) -> 0 | U16: 1 | Y16: =SmtRes!X11 -> 476480486 | Z16: 1499241640 | AA16: 1499241640
A17: =Source!A68 -> 18 | B17: 68 | C17: 3 | D17: =Source!BI68 -> 1 | E17: =Source!FS68 -> 0 | F17: =Source!F68 -> 1.1-1-766 | G17: =Source!G68 -> Песок для строительных работ, рядовой | H17: =Source!H68 -> м3 | I17: =Source!I68 -> 2.904 | J17: 1 | K17: =Source!AC68 -> 104.99 | M17: =ROUND(K17*I17, 2) -> 304.89 | N17: =Source!AC68*IF(Source!BC68<> 0, Source!BC68, 1) -> 722.3312 | O17: =ROUND(N17*I17, 2) -> 2097.65 | P17: =Source!AE68 -> 0 | R17: =ROUND(P17*I17, 2) -> 0 | S17: =Source!AE68*IF(Source!BS68<> 0, Source!BS68, 1) -> 0 | T17: =ROUND(S17*I17, 2) -> 0 | U17: 3 | Y17: =Source!GF68 -> 2069056849 | Z17: -1085618096 | AA17: -2049674672
A18: 20 | B18: 35 | C18: 3 | D18: 0 | E18: =SmtRes!AV35 -> 0 | F18: =SmtRes!I35 -> 1.1-1-118 | G18: =SmtRes!K35 -> Вода | H18: =SmtRes!O35 -> м3 | I18: =SmtRes!Y35*Source!I70 -> 0.1386 | J18: =SmtRes!AO35 -> 1 | K18: =SmtRes!AE35 -> 7.07 | L18: =SmtRes!DB35 -> 49.49 | M18: =ROUND(ROUND(L18*Source!I70, 6)*1, 2) -> 0.98 | N18: =SmtRes!AA35 -> 42.5 | O18: =ROUND(ROUND(L18*Source!I70, 6)*SmtRes!DA35, 2) -> 5.88 | P18: =SmtRes!AG35 -> 0 | Q18: =SmtRes!DC35 -> 0 | R18: =ROUND(ROUND(Q18*Source!I70, 6)*1, 2) -> 0 | S18: =SmtRes!AC35 -> 0 | T18: =ROUND(ROUND(Q18*Source!I70, 6)*SmtRes!AK35, 2) -> 0 | U18: 3 | Y18: =SmtRes!X35 -> -862991314 | Z18: -1421290593 | AA18: -1489187206
A19: 20 | B19: 34 | C19: 2 | D19: 0 | E19: =SmtRes!AV34 -> 0 | F19: =SmtRes!I34 -> 2.1-5-7 | G19: =SmtRes!K34 -> Катки дорожные самоходные на пневмоколесном ходу, масса до 16 т | H19: =SmtRes!O34 -> маш.-ч. | I19: =SmtRes!Y34*Source!I70 -> 0.01287 | J19: =SmtRes!AO34 -> 1 | K19: =SmtRes!AF34 -> 177.54 | L19: =SmtRes!DB34 -> 115.4 | M19: =ROUND(ROUND(L19*Source!I70, 6)*1, 2) -> 2.28 | N19: =SmtRes!AB34 -> 2026.14 | O19: =ROUND(ROUND(L19*Source!I70, 6)*SmtRes!DA34, 2) -> 24.91 | P19: =SmtRes!AG34 -> 17.42 | Q19: =SmtRes!DC34 -> 11.325 | R19: =ROUND(ROUND(Q19*Source!I70, 6)*1, 2) -> 0.22 | S19: =SmtRes!AC34 -> 529.47 | T19: =ROUND(ROUND(Q19*Source!I70, 6)*SmtRes!AK34, 2) -> 6.51 | U19: 2 | Y19: =SmtRes!X34 -> -646811103 | Z19: -134693179 | AA19: -1385780307
A20: 20 | B20: 33 | C20: 2 | D20: 0 | E20: =SmtRes!AV33 -> 0 | F20: =SmtRes!I33 -> 2.1-5-48 | G20: =SmtRes!K33 -> Автогрейдеры, мощность 99-147 кВт (130-200 л.с.) | H20: =SmtRes!O33 -> маш.-ч. | I20: =SmtRes!Y33*Source!I70 -> 0.0443025 | J20: =SmtRes!AO33 -> 1 | K20: =SmtRes!AF33 -> 125.13 | L20: =SmtRes!DB33 -> 279.975 | M20: =ROUND(ROUND(L20*Source!I70, 6)*1, 2) -> 5.54 | N20: =SmtRes!AB33 -> 1407.06 | O20: =ROUND(ROUND(L20*Source!I70, 6)*SmtRes!DA33, 2) -> 59.54 | P20: =SmtRes!AG33 -> 24.74 | Q20: =SmtRes!DC33 -> 55.35 | R20: =ROUND(ROUND(Q20*Source!I70, 6)*1, 2) -> 1.1 | S20: =SmtRes!AC33 -> 751.96 | T20: =ROUND(ROUND(Q20*Source!I70, 6)*SmtRes!AK33, 2) -> 31.81 | U20: 2 | Y20: =SmtRes!X33 -> 856318566 | Z20: 1834934566 | AA20: 1772781083
A21: 20 | B21: 32 | C21: 2 | D21: 0 | E21: =SmtRes!AV32 -> 0 | F21: =SmtRes!I32 -> 2.1-5-3 | G21: =SmtRes!K32 -> Катки самоходные вибрационные, масса до 14 т | H21: =SmtRes!O32 -> маш.-ч. | I21: =SmtRes!Y32*Source!I70 -> 0.36135 | J21: =SmtRes!AO32 -> 1 | K21: =SmtRes!AF32 -> 219.5 | L21: =SmtRes!DB32 -> 4005.875 | M21: =ROUND(ROUND(L21*Source!I70, 6)*1, 2) -> 79.32 | N21: =SmtRes!AB32 -> 2376.3 | O21: =ROUND(ROUND(L21*Source!I70, 6)*SmtRes!DA32, 2) -> 820.13 | P21: =SmtRes!AG32 -> 17.51 | Q21: =SmtRes!DC32 -> 319.5625 | R21: =ROUND(ROUND(Q21*Source!I70, 6)*1, 2) -> 6.33 | S21: =SmtRes!AC32 -> 532.21 | T21: =ROUND(ROUND(Q21*Source!I70, 6)*SmtRes!AK32, 2) -> 183.68 | U21: 2 | Y21: =SmtRes!X32 -> -1920329426 | Z21: 1971369267 | AA21: -1025915691
A22: 20 | B22: 31 | C22: 2 | D22: 0 | E22: =SmtRes!AV31 -> 0 | F22: =SmtRes!I31 -> 2.1-5-2 | G22: =SmtRes!K31 -> Катки самоходные вибрационные, масса до 8 т | H22: =SmtRes!O31 -> маш.-ч. | I22: =SmtRes!Y31*Source!I70 -> 0.1774575 | J22: =SmtRes!AO31 -> 1 | K22: =SmtRes!AF31 -> 169.44 | L22: =SmtRes!DB31 -> 1518.6 | M22: =ROUND(ROUND(L22*Source!I70, 6)*1, 2) -> 30.07 | N22: =SmtRes!AB31 -> 1899.99 | O22: =ROUND(ROUND(L22*Source!I70, 6)*SmtRes!DA31, 2) -> 322.03 | P22: =SmtRes!AG31 -> 15.02 | Q22: =SmtRes!DC31 -> 134.6125 | R22: =ROUND(ROUND(Q22*Source!I70, 6)*1, 2) -> 2.67 | S22: =SmtRes!AC31 -> 456.52 | T22: =ROUND(ROUND(Q22*Source!I70, 6)*SmtRes!AK31, 2) -> 77.37 | U22: 2 | Y22: =SmtRes!X31 -> -1882480599 | Z22: -1785152756 | AA22: 2121464141
A23: 20 | B23: 30 | C23: 2 | D23: 0 | E23: =SmtRes!AV30 -> 0 | F23: =SmtRes!I30 -> 2.1-5-18 | G23: =SmtRes!K30 -> Машины поливомоечные, емкость цистерны до 8 м3 | H23: =SmtRes!O30 -> маш.-ч. | I23: =SmtRes!Y30*Source!I70 -> 0.0225225 | J23: =SmtRes!AO30 -> 1 | K23: =SmtRes!AF30 -> 246.68 | L23: =SmtRes!DB30 -> 280.6 | M23: =ROUND(ROUND(L23*Source!I70, 6)*1, 2) -> 5.56 | N23: =SmtRes!AB30 -> 2693.8 | O23: =ROUND(ROUND(L23*Source!I70, 6)*SmtRes!DA30, 2) -> 57.95 | P23: =SmtRes!AG30 -> 13.37 | Q23: =SmtRes!DC30 -> 15.2125 | R23: =ROUND(ROUND(Q23*Source!I70, 6)*1, 2) -> 0.3 | S23: =SmtRes!AC30 -> 406.37 | T23: =ROUND(ROUND(Q23*Source!I70, 6)*SmtRes!AK30, 2) -> 8.74 | U23: 2 | Y23: =SmtRes!X30 -> 366114799 | Z23: -609368706 | AA23: 1582930142
A24: 20 | B24: 29 | C24: 2 | D24: 0 | E24: =SmtRes!AV29 -> 0 | F24: =SmtRes!I29 -> 2.1-1-43 | G24: =SmtRes!K29 -> Бульдозеры гусеничные, мощность до 59 кВт (80 л.с.) | H24: =SmtRes!O29 -> маш.-ч. | I24: =SmtRes!Y29*Source!I70 -> 0.0581625 | J24: =SmtRes!AO29 -> 1 | K24: =SmtRes!AF29 -> 163.48 | L24: =SmtRes!DB29 -> 480.225 | M24: =ROUND(ROUND(L24*Source!I70, 6)*1, 2) -> 9.51 | N24: =SmtRes!AB29 -> 1857.12 | O24: =ROUND(ROUND(L24*Source!I70, 6)*SmtRes!DA29, 2) -> 103.17 | P24: =SmtRes!AG29 -> 15.47 | Q24: =SmtRes!DC29 -> 45.4375 | R24: =ROUND(ROUND(Q24*Source!I70, 6)*1, 2) -> 0.9 | S24: =SmtRes!AC29 -> 470.2 | T24: =ROUND(ROUND(Q24*Source!I70, 6)*SmtRes!AK29, 2) -> 26.12 | U24: 2 | Y24: =SmtRes!X29 -> -1500897512 | Z24: -1343593355 | AA24: -877601771
A25: 20 | B25: 28 | C25: 1 | D25: 0 | E25: =SmtRes!AV28 -> 1 | F25: =SmtRes!I28 -> 9999990008 | G25: =SmtRes!K28 -> Трудозатраты рабочих | H25: =SmtRes!O28 -> чел.-ч. | I25: =SmtRes!Y28*Source!I70 -> 0.491832 | J25: =SmtRes!AO28 -> 1 | K25: =SmtRes!AH28 -> 0 | L25: =SmtRes!DB28 -> 0 | M25: =ROUND(ROUND(L25*Source!I70, 6)*1, 2) -> 0 | N25: =SmtRes!AD28 -> 0 | O25: =ROUND(ROUND(L25*Source!I70, 6)*SmtRes!DA28, 2) -> 0 | P25: =SmtRes!AG28 -> 0 | Q25: =SmtRes!DC28 -> 0 | R25: =ROUND(ROUND(Q25*Source!I70, 6)*1, 2) -> 0 | S25: =SmtRes!AC28 -> 0 | T25: =ROUND(ROUND(Q25*Source!I70, 6)*SmtRes!AK28, 2) -> 0 | U25: 1 | Y25: =SmtRes!X28 -> 476480486 | Z25: 1499241640 | AA25: 1499241640
A26: =Source!A72 -> 18 | B26: 72 | C26: 3 | D26: =Source!BI72 -> 1 | E26: =Source!FS72 -> 0 | F26: =Source!F72 -> 1.1-1-1554 | G26: =Source!G72 -> Щебень из естественного камня для дорожных работ, марка 1200 - 800, фракция 10 - 20 мм | H26: =Source!H72 -> м3 | I26: =Source!I72 -> 2.4948 | J26: 1 | K26: =Source!AC72 -> 165.8 | M26: =ROUND(K26*I26, 2) -> 413.64 | N26: =Source!AC72*IF(Source!BC72<> 0, Source!BC72, 1) -> 3478.484 | O26: =ROUND(N26*I26, 2) -> 8678.12 | P26: =Source!AE72 -> 0 | R26: =ROUND(P26*I26, 2) -> 0 | S26: =Source!AE72*IF(Source!BS72<> 0, Source!BS72, 1) -> 0 | T26: =ROUND(S26*I26, 2) -> 0 | U26: 3 | Y26: =Source!GF72 -> 489817369 | Z26: -349926889 | AA26: -597181493
A27: 20 | B27: 43 | C27: 3 | D27: 0 | E27: =SmtRes!AV43 -> 0 | F27: =SmtRes!I43 -> 1.1-1-766 | G27: =SmtRes!K43 -> Песок для строительных работ, рядовой | H27: =SmtRes!O43 -> м3 | I27: =SmtRes!Y43*Source!I74 -> 0.066 | J27: =SmtRes!AO43 -> 1 | K27: =SmtRes!AE43 -> 104.99 | L27: =SmtRes!DB43 -> 52.5 | M27: =ROUND(ROUND(L27*Source!I74, 6)*1, 2) -> 6.93 | N27: =SmtRes!AA43 -> 722.33 | O27: =ROUND(ROUND(L27*Source!I74, 6)*SmtRes!DA43, 2) -> 47.68 | P27: =SmtRes!AG43 -> 0 | Q27: =SmtRes!DC43 -> 0 | R27: =ROUND(ROUND(Q27*Source!I74, 6)*1, 2) -> 0 | S27: =SmtRes!AC43 -> 0 | T27: =ROUND(ROUND(Q27*Source!I74, 6)*SmtRes!AK43, 2) -> 0 | U27: 3 | Y27: =SmtRes!X43 -> 2069056849 | Z27: -1085618096 | AA27: 746727013
A28: 20 | B28: 42 | C28: 3 | D28: 0 | E28: =SmtRes!AV42 -> 0 | F28: =SmtRes!I42 -> 1.1-1-46 | G28: =SmtRes!K42 -> Битумы нефтяные, дорожные жидкие, марка МГ, СГ | H28: =SmtRes!O42 -> т | I28: =SmtRes!Y42*Source!I74 -> 0.00792 | J28: =SmtRes!AO42 -> 1 | K28: =SmtRes!AE42 -> 3501.78 | L28: =SmtRes!DB42 -> 210.11 | M28: =ROUND(ROUND(L28*Source!I74, 6)*1, 2) -> 27.73 | N28: =SmtRes!AA42 -> 37258.94 | O28: =ROUND(ROUND(L28*Source!I74, 6)*SmtRes!DA42, 2) -> 295.1 | P28: =SmtRes!AG42 -> 0 | Q28: =SmtRes!DC42 -> 0 | R28: =ROUND(ROUND(Q28*Source!I74, 6)*1, 2) -> 0 | S28: =SmtRes!AC42 -> 0 | T28: =ROUND(ROUND(Q28*Source!I74, 6)*SmtRes!AK42, 2) -> 0 | U28: 3 | Y28: =SmtRes!X42 -> 435343267 | Z28: 864375477 | AA28: -1320521069
A29: 20 | B29: 41 | C29: 1 | D29: 0 | E29: =SmtRes!AV41 -> 1 | F29: =SmtRes!I41 -> 9999990008 | G29: =SmtRes!K41 -> Трудозатраты рабочих | H29: =SmtRes!O41 -> чел.-ч. | I29: =SmtRes!Y41*Source!I74 -> 2.18592 | J29: =SmtRes!AO41 -> 1 | K29: =SmtRes!AH41 -> 0 | L29: =SmtRes!DB41 -> 0 | M29: =ROUND(ROUND(L29*Source!I74, 6)*1, 2) -> 0 | N29: =SmtRes!AD41 -> 0 | O29: =ROUND(ROUND(L29*Source!I74, 6)*SmtRes!DA41, 2) -> 0 | P29: =SmtRes!AG41 -> 0 | Q29: =SmtRes!DC41 -> 0 | R29: =ROUND(ROUND(Q29*Source!I74, 6)*1, 2) -> 0 | S29: =SmtRes!AC41 -> 0 | T29: =ROUND(ROUND(Q29*Source!I74, 6)*SmtRes!AK41, 2) -> 0 | U29: 1 | Y29: =SmtRes!X41 -> 476480486 | Z29: 1499241640 | AA29: 1499241640
A30: =Source!A76 -> 18 | B30: 76 | C30: 3 | D30: =Source!BI76 -> 1 | E30: =Source!FS76 -> 0 | F30: =Source!F76 -> 1.3-3-9 | G30: =Source!G76 -> Смеси асфальтобетонные дорожные горячие мелкозернистые, марка II, тип В | H30: =Source!H76 -> т | I30: =Source!I76 -> 0.94248 | J30: 1 | K30: =Source!AC76 -> 317.29 | M30: =ROUND(K30*I30, 2) -> 299.04 | N30: =Source!AC76*IF(Source!BC76<> 0, Source!BC76, 1) -> 3772.5781 | O30: =ROUND(N30*I30, 2) -> 3555.58 | P30: =Source!AE76 -> 0 | R30: =ROUND(P30*I30, 2) -> 0 | S30: =Source!AE76*IF(Source!BS76<> 0, Source!BS76, 1) -> 0 | T30: =ROUND(S30*I30, 2) -> 0 | U30: 3 | Y30: =Source!GF76 -> 164969463 | Z30: 1420598167 | AA30: 1192786114
A31: 20 | B31: 47 | C31: 1 | D31: 0 | E31: =SmtRes!AV47 -> 1 | F31: =SmtRes!I47 -> 9999990008 | G31: =SmtRes!K47 -> Трудозатраты рабочих | H31: =SmtRes!O47 -> чел.-ч. | I31: =SmtRes!Y47*Source!I78 -> 3.217608 | J31: =SmtRes!AO47 -> 1 | K31: =SmtRes!AH47 -> 0 | L31: =SmtRes!DB47 -> 0 | M31: =ROUND(ROUND(L31*Source!I78, 6)*1, 2) -> 0 | N31: =SmtRes!AD47 -> 0 | O31: =ROUND(ROUND(L31*Source!I78, 6)*SmtRes!DA47, 2) -> 0 | P31: =SmtRes!AG47 -> 0 | Q31: =SmtRes!DC47 -> 0 | R31: =ROUND(ROUND(Q31*Source!I78, 6)*1, 2) -> 0 | S31: =SmtRes!AC47 -> 0 | T31: =ROUND(ROUND(Q31*Source!I78, 6)*SmtRes!AK47, 2) -> 0 | U31: 1 | Y31: =SmtRes!X47 -> 476480486 | Z31: 1499241640 | AA31: 1499241640
A32: =Source!A80 -> 18 | B32: 80 | C32: 3 | D32: =Source!BI80 -> 1 | E32: =Source!FS80 -> 0 | F32: =Source!F80 -> 1.3-3-9 | G32: =Source!G80 -> Смеси асфальтобетонные дорожные горячие мелкозернистые, марка II, тип В | H32: =Source!H80 -> т | I32: =Source!I80 -> 1.45926 | J32: 1 | K32: =Source!AC80 -> 317.29 | M32: =ROUND(K32*I32, 2) -> 463.01 | N32: =Source!AC80*IF(Source!BC80<> 0, Source!BC80, 1) -> 3772.5781 | O32: =ROUND(N32*I32, 2) -> 5505.17 | P32: =Source!AE80 -> 0 | R32: =ROUND(P32*I32, 2) -> 0 | S32: =Source!AE80*IF(Source!BS80<> 0, Source!BS80, 1) -> 0 | T32: =ROUND(S32*I32, 2) -> 0 | U32: 3 | Y32: =Source!GF80 -> 164969463 | Z32: 1420598167 | AA32: 1192786114
A33: 20 | B33: 60 | C33: 3 | D33: 0 | E33: =SmtRes!AV60 -> 0 | F33: =SmtRes!I60 -> 9999990006 | G33: =SmtRes!K60 -> Стоимость прочих материалов (ЭСН) | H33: =SmtRes!O60 -> руб. | I33: =SmtRes!Y60*Source!I82 -> 11.98302 | J33: =SmtRes!AO60 -> 1 | K33: =SmtRes!AE60 -> 1 | L33: =SmtRes!DB60 -> 116.34 | M33: =ROUND(ROUND(L33*Source!I82, 6)*1, 2) -> 11.98 | N33: =SmtRes!AA60 -> 8.7 | O33: =ROUND(ROUND(L33*Source!I82, 6)*SmtRes!DA60, 2) -> 103.65 | P33: =SmtRes!AG60 -> 0 | Q33: =SmtRes!DC60 -> 0 | R33: =ROUND(ROUND(Q33*Source!I82, 6)*1, 2) -> 0 | S33: =SmtRes!AC60 -> 0 | T33: =ROUND(ROUND(Q33*Source!I82, 6)*SmtRes!AK60, 2) -> 0 | U33: 3 | Y33: =SmtRes!X60 -> -94250534 | Z33: -1771809642 | AA33: -2070296124
A34: 20 | B34: 58 | C34: 3 | D34: 0 | E34: =SmtRes!AV58 -> 0 | F34: =SmtRes!I58 -> 1.3-2-5 | G34: =SmtRes!K58 -> Растворы цементные, марка 100 | H34: =SmtRes!O58 -> м3 | I34: =SmtRes!Y58*Source!I82 -> 0.00618 | J34: =SmtRes!AO58 -> 1 | K34: =SmtRes!AE58 -> 451.14 | L34: =SmtRes!DB58 -> 27.07 | M34: =ROUND(ROUND(L34*Source!I82, 6)*1, 2) -> 2.79 | N34: =SmtRes!AA58 -> 3953.01 | O34: =ROUND(ROUND(L34*Source!I82, 6)*SmtRes!DA58, 2) -> 24.29 | P34: =SmtRes!AG58 -> 0 | Q34: =SmtRes!DC58 -> 0 | R34: =ROUND(ROUND(Q34*Source!I82, 6)*1, 2) -> 0 | S34: =SmtRes!AC58 -> 0 | T34: =ROUND(ROUND(Q34*Source!I82, 6)*SmtRes!AK58, 2) -> 0 | U34: 3 | Y34: =SmtRes!X58 -> -718781615 | Z34: 419082255 | AA34: 745988685
A35: 20 | B35: 57 | C35: 3 | D35: 0 | E35: =SmtRes!AV57 -> 0 | F35: =SmtRes!I57 -> 1.3-1-38 | G35: =SmtRes!K57 -> Смеси бетонные, БСГ, тяжелого бетона на гранитном щебне, класс прочности В15 (М200); П3, фракция 5-20, F50-100, W0-2 | H35: =SmtRes!O57 -> м3 | I35: =SmtRes!Y57*Source!I82 -> 0.6077 | J35: =SmtRes!AO57 -> 1 | K35: =SmtRes!AE57 -> 704.89 | L35: =SmtRes!DB57 -> 4158.85 | M35: =ROUND(ROUND(L35*Source!I82, 6)*1, 2) -> 428.36 | N35: =SmtRes!AA57 -> 5899.87 | O35: =ROUND(ROUND(L35*Source!I82, 6)*SmtRes!DA57, 2) -> 3563.97 | P35: =SmtRes!AG57 -> 0 | Q35: =SmtRes!DC57 -> 0 | R35: =ROUND(ROUND(Q35*Source!I82, 6)*1, 2) -> 0 | S35: =SmtRes!AC57 -> 0 | T35: =ROUND(ROUND(Q35*Source!I82, 6)*SmtRes!AK57, 2) -> 0 | U35: 3 | Y35: =SmtRes!X57 -> -758282629 | Z35: 190655327 | AA35: 2010091897
A36: 20 | B36: 56 | C36: 2 | D36: 0 | E36: =SmtRes!AV56 -> 0 | F36: =SmtRes!I56 -> 2.1-3-38 | G36: =SmtRes!K56 -> Краны на автомобильном ходу, грузоподъемность до 16 т | H36: =SmtRes!O56 -> маш.-ч. | I36: =SmtRes!Y56*Source!I82 -> 0.0785375 | J36: =SmtRes!AO56 -> 1 | K36: =SmtRes!AF56 -> 190.93 | L36: =SmtRes!DB56 -> 145.5875 | M36: =ROUND(ROUND(L36*Source!I82, 6)*1, 2) -> 15 | N36: =SmtRes!AB56 -> 2059.01 | O36: =ROUND(ROUND(L36*Source!I82, 6)*SmtRes!DA56, 2) -> 154.45 | P36: =SmtRes!AG56 -> 18.15 | Q36: =SmtRes!DC56 -> 13.8375 | R36: =ROUND(ROUND(Q36*Source!I82, 6)*1, 2) -> 1.43 | S36: =SmtRes!AC56 -> 551.66 | T36: =ROUND(ROUND(Q36*Source!I82, 6)*SmtRes!AK56, 2) -> 41.38 | U36: 2 | Y36: =SmtRes!X56 -> -266174272 | Z36: -2048655808 | AA36: 2105875465
A37: 20 | B37: 55 | C37: 1 | D37: 0 | E37: =SmtRes!AV55 -> 1 | F37: =SmtRes!I55 -> 9999990008 | G37: =SmtRes!K55 -> Трудозатраты рабочих | H37: =SmtRes!O55 -> чел.-ч. | I37: =SmtRes!Y55*Source!I82 -> 8.26781 | J37: =SmtRes!AO55 -> 1 | K37: =SmtRes!AH55 -> 0 | L37: =SmtRes!DB55 -> 0 | M37: =ROUND(ROUND(L37*Source!I82, 6)*1, 2) -> 0 | N37: =SmtRes!AD55 -> 0 | O37: =ROUND(ROUND(L37*Source!I82, 6)*SmtRes!DA55, 2) -> 0 | P37: =SmtRes!AG55 -> 0 | Q37: =SmtRes!DC55 -> 0 | R37: =ROUND(ROUND(Q37*Source!I82, 6)*1, 2) -> 0 | S37: =SmtRes!AC55 -> 0 | T37: =ROUND(ROUND(Q37*Source!I82, 6)*SmtRes!AK55, 2) -> 0 | U37: 1 | Y37: =SmtRes!X55 -> 476480486 | Z37: 1499241640 | AA37: 1499241640
A38: =Source!A84 -> 18 | B38: 84 | C38: 3 | D38: =Source!BI84 -> 1 | E38: =Source!FS84 -> 0 | F38: =Source!F84 -> 1.5-3-499 | G38: =Source!G84 -> Камни бетонные бортовые, марка БР 100.20.8 | H38: =Source!H84 -> м3 | I38: =Source!I84 -> 0.4429 | J38: 1 | K38: =Source!AC84 -> 2385.71 | M38: =ROUND(K38*I38, 2) -> 1056.63 | N38: =Source!AC84*IF(Source!BC84<> 0, Source!BC84, 1) -> 12310.264 | O38: =ROUND(N38*I38, 2) -> 5452.22 | P38: =Source!AE84 -> 0 | R38: =ROUND(P38*I38, 2) -> 0 | S38: =Source!AE84*IF(Source!BS84<> 0, Source!BS84, 1) -> 0 | T38: =ROUND(S38*I38, 2) -> 0 | U38: 3 | Y38: =Source!GF84 -> 889553512 | Z38: -2119348798 | AA38: -1089126221
A39: =Source!A146 -> 3 | B39: 146 | G39: =Source!G146 -> Архитектурные решения
A40: =Source!A150 -> 4 | B40: 150 | G40: =Source!G150 -> Демонтажные работы
A41: 20 | B41: 72 | C41: 3 | D41: 0 | E41: =SmtRes!AV72 -> 0 | F41: =SmtRes!I72 -> 9999990006 | G41: =SmtRes!K72 -> Стоимость прочих материалов (ЭСН) | H41: =SmtRes!O72 -> руб. | I41: =SmtRes!Y72*Source!I155 -> 4.1122368 | J41: =SmtRes!AO72 -> 1 | K41: =SmtRes!AE72 -> 1 | L41: =SmtRes!DB72 -> 23.688 | M41: =ROUND(ROUND(L41*Source!I155, 6)*1, 2) -> 4.11 | N41: =SmtRes!AA72 -> 8.65 | O41: =ROUND(ROUND(L41*Source!I155, 6)*SmtRes!DA72, 2) -> 35.57 | P41: =SmtRes!AG72 -> 0 | Q41: =SmtRes!DC72 -> 0 | R41: =ROUND(ROUND(Q41*Source!I155, 6)*1, 2) -> 0 | S41: =SmtRes!AC72 -> 0 | T41: =ROUND(ROUND(Q41*Source!I155, 6)*SmtRes!AK72, 2) -> 0 | U41: 3 | Y41: =SmtRes!X72 -> -94250534 | Z41: -1771809642 | AA41: 19367311
A42: 20 | B42: 71 | C42: 3 | D42: 0 | E42: =SmtRes!AV71 -> 0 | F42: =SmtRes!I71 -> 1.1-1-1566 | G42: =SmtRes!K71 -> Электроды, тип Э-42, 46, 50, диаметр 4 - 6 мм | H42: =SmtRes!O71 -> т | I42: =SmtRes!Y71*Source!I155 -> 7.2912e-05 | J42: =SmtRes!AO71 -> 1 | K42: =SmtRes!AE71 -> 7191.81 | L42: =SmtRes!DB71 -> 3.018 | M42: =ROUND(ROUND(L42*Source!I155, 6)*1, 2) -> 0.52 | N42: =SmtRes!AA71 -> 145777.99 | O42: =ROUND(ROUND(L42*Source!I155, 6)*SmtRes!DA71, 2) -> 10.62 | P42: =SmtRes!AG71 -> 0 | Q42: =SmtRes!DC71 -> 0 | R42: =ROUND(ROUND(Q42*Source!I155, 6)*1, 2) -> 0 | S42: =SmtRes!AC71 -> 0 | T42: =ROUND(ROUND(Q42*Source!I155, 6)*SmtRes!AK71, 2) -> 0 | U42: 3 | Y42: =SmtRes!X71 -> 1310716689 | Z42: 1563916378 | AA42: 2138865355
...

Sheet Расчет стоимости ресурсов
A2: Ресурсная ведомость на
A3: =CONCATENATE("Объект: ",IF(Source!G1515<>"Новый объект", Source!G1515, "")) -> Объект: Ерамешанцева_(Копия)
A4: Обоснование | B4: Наименование | C4: Единица измерения | D4: Объем | E4: Текущая
E6: цена | F6: стоимость
A7: 1 | B7: 2 | C7: 3 | D7: 4 | E7: 5 | F7: 6
A8: =CONCATENATE("Локальная смета: ",IF(Source!G22<>"Новая локальная смета", Source!G22, "")) -> Локальная смета: ПЗУ
A9: =CONCATENATE("Раздел: ",IF(Source!G26<>"Новый раздел", Source!G26, "")) -> Раздел: Демонтажные работы
A10: Трудовые ресурсы
A11: 9999990008 | B11: Трудозатраты рабочих | C11: чел.-ч. | D11: =ROUND(SUMIF(RV_DATA!AA8:'RV_DATA'!AA8, 1499241640, RV_DATA!I8:'RV_DATA'!I8), 6) -> 5.0102 | E11: =ROUND(RV_DATA!N8, 6) -> 0 | F11: =ROUND(SUMIF(RV_DATA!AA8:'RV_DATA'!AA8, 1499241640, RV_DATA!O8:'RV_DATA'!O8), 6) -> 0 | Q11: 1
A12: Итого трудовые ресурсы | E12: =SUMIF(Q11:Q11, 1, F11:F11) -> 0
A13: =CONCATENATE("Раздел: ",IF(Source!G63<>"Новый раздел", Source!G63, "")) -> Раздел: Монтажные работы
A14: Трудовые ресурсы
A15: 9999990008 | B15: Трудозатраты рабочих | C15: чел.-ч. | D15: =ROUND(SUMIF(RV_DATA!AA10:'RV_DATA'!AA38, 1499241640, RV_DATA!I10:'RV_DATA'!I38), 6) -> 14.600354 | E15: =ROUND(RV_DATA!N16, 6) -> 0 | F15: =ROUND(SUMIF(RV_DATA!AA10:'RV_DATA'!AA38, 1499241640, RV_DATA!O10:'RV_DATA'!O38), 6) -> 0 | Q15: 1
A16: Итого трудовые ресурсы | E16: =SUMIF(Q15:Q15, 1, F15:F15) -> 0
A17: Машины и механизмы
A18: 2.1-1-43 | B18: Бульдозеры гусеничные, мощность до 59 кВт (80 л.с.) | C18: маш.-ч. | D18: =ROUND(SUMIF(RV_DATA!AA10:'RV_DATA'!AA38, -877601771, RV_DATA!I10:'RV_DATA'!I38), 6) -> 0.058163 | E18: =ROUND(RV_DATA!N24, 6) -> 1857.12 | F18: =ROUND(SUMIF(RV_DATA!AA10:'RV_DATA'!AA38, -877601771, RV_DATA!O10:'RV_DATA'!O38), 6) -> 103.17 | Q18: 2
A19: 2.1-2-1 | B19: Тракторы на гусеничном ходу, мощность до 60 кВт (81 л.с.) | C19: маш.-ч. | D19: =ROUND(SUMIF(RV_DATA!AA10:'RV_DATA'!AA38, -937377343, RV_DATA!I10:'RV_DATA'!I38), 6) -> 0.05478 | E19: =ROUND(RV_DATA!N15, 6) -> 1335.21 | F19: =ROUND(SUMIF(RV_DATA!AA10:'RV_DATA'!AA38, -937377343, RV_DATA!O10:'RV_DATA'!O38), 6) -> 69.86 | Q19: 2
A20: 2.1-3-38 | B20: Краны на автомобильном ходу, грузоподъемность до 16 т | C20: маш.-ч. | D20: =ROUND(SUMIF(RV_DATA!AA10:'RV_DATA'!AA38, 2105875465, RV_DATA!I10:'RV_DATA'!I38), 6) -> 0.078538 | E20: =ROUND(RV_DATA!N36, 6) -> 2059.01 | F20: =ROUND(SUMIF(RV_DATA!AA10:'RV_DATA'!AA38, 2105875465, RV_DATA!O10:'RV_DATA'!O38), 6) -> 154.45 | Q20: 2
A21: 2.1-5-15 | B21: Катки прицепные пневмоколесные, масса до 50 т | C21: маш.-ч. | D21: =ROUND(SUMIF(RV_DATA!AA10:'RV_DATA'!AA38, -1966971311, RV_DATA!I10:'RV_DATA'!I38), 6) -> 0.05478 | E21: =ROUND(RV_DATA!N14, 6) -> 65.93 | F21: =ROUND(SUMIF(RV_DATA!AA10:'RV_DATA'!AA38, -1966971311, RV_DATA!O10:'RV_DATA'!O38), 6) -> 3.45 | Q21: 2
A22: 2.1-5-18 | B22: Машины поливомоечные, емкость цистерны до 8 м3 | C22: маш.-ч. | D22: =ROUND(SUMIF(RV_DATA!AA10:'RV_DATA'!AA38, 1582930142, RV_DATA!I10:'RV_DATA'!I38), 6) -> 0.043973 | E22: =ROUND(RV_DATA!N13, 6) -> 2693.8 | F22: =ROUND(SUMIF(RV_DATA!AA10:'RV_DATA'!AA38, 1582930142, RV_DATA!O10:'RV_DATA'!O38), 6) -> 113.14 | Q22: 2
A23: 2.1-5-2 | B23: Катки самоходные вибрационные, масса до 8 т | C23: маш.-ч. | D23: =ROUND(SUMIF(RV_DATA!AA10:'RV_DATA'!AA38, 2121464141, RV_DATA!I10:'RV_DATA'!I38), 6) -> 0.177458 | E23: =ROUND(RV_DATA!N22, 6) -> 1899.99 | F23: =ROUND(SUMIF(RV_DATA!AA10:'RV_DATA'!AA38, 2121464141, RV_DATA!O10:'RV_DATA'!O38), 6) -> 322.03 | Q23: 2
A24: 2.1-5-3 | B24: Катки самоходные вибрационные, масса до 14 т | C24: маш.-ч. | D24: =ROUND(SUMIF(RV_DATA!AA10:'RV_DATA'!AA38, -1025915691, RV_DATA!I10:'RV_DATA'!I38), 6) -> 0.36135 | E24: =ROUND(RV_DATA!N21, 6) -> 2376.3 | F24: =ROUND(SUMIF(RV_DATA!AA10:'RV_DATA'!AA38, -1025915691, RV_DATA!O10:'RV_DATA'!O38), 6) -> 820.13 | Q24: 2
A25: 2.1-5-48 | B25: Автогрейдеры, мощность 99-147 кВт (130-200 л.с.) | C25: маш.-ч. | D25: =ROUND(SUMIF(RV_DATA!AA10:'RV_DATA'!AA38, 1772781083, RV_DATA!I10:'RV_DATA'!I38), 6) -> 0.095453 | E25: =ROUND(RV_DATA!N12, 6) -> 1407.06 | F25: =ROUND(SUMIF(RV_DATA!AA10:'RV_DATA'!AA38, 1772781083, RV_DATA!O10:'RV_DATA'!O38), 6) -> 128.28 | Q25: 2
A26: 2.1-5-7 | B26: Катки дорожные самоходные на пневмоколесном ходу, масса до 16 т | C26: маш.-ч. | D26: =ROUND(SUMIF(RV_DATA!AA10:'RV_DATA'!AA38, -1385780307, RV_DATA!I10:'RV_DATA'!I38), 6) -> 0.03003 | E26: =ROUND(RV_DATA!N11, 6) -> 2026.14 | F26: =ROUND(SUMIF(RV_DATA!AA10:'RV_DATA'!AA38, -1385780307, RV_DATA!O10:'RV_DATA'!O38), 6) -> 58.12 | Q26: 2
A27: Итого машины и механизмы | E27: =SUMIF(Q18:Q26, 2, F18:F26) -> 1772.63
A28: Материальные ресурсы
A29: 1.1-1-118 | B29: Вода | C29: м3 | D29: =ROUND(SUMIF(RV_DATA!AA10:'RV_DATA'!AA38, -1489187206, RV_DATA!I10:'RV_DATA'!I38), 6) -> 0.2706 | E29: =ROUND(RV_DATA!N10, 6) -> 42.5 | F29: =ROUND(SUMIF(RV_DATA!AA10:'RV_DATA'!AA38, -1489187206, RV_DATA!O10:'RV_DATA'!O38), 6) -> 11.48 | Q29: 3
A30: 1.1-1-1554 | B30: Щебень из естественного камня для дорожных работ, марка 1200 - 800, фракция 10 - 20 мм | C30: м3 | D30: =ROUND(SUMIF(RV_DATA!AA10:'RV_DATA'!AA38, -597181493, RV_DATA!I10:'RV_DATA'!I38), 6) -> 2.4948 | E30: =ROUND(RV_DATA!N26, 6) -> 3478.484 | F30: =ROUND(SUMIF(RV_DATA!AA10:'RV_DATA'!AA38, -597181493, RV_DATA!O10:'RV_DATA'!O38), 6) -> 8678.12 | Q30: 3
A31: 1.1-1-46 | B31: Битумы нефтяные, дорожные жидкие, марка МГ, СГ | C31: т | D31: =ROUND(SUMIF(RV_DATA!AA10:'RV_DATA'!AA38, -1320521069, RV_DATA!I10:'RV_DATA'!I38), 6) -> 0.00792 | E31: =ROUND(RV_DATA!N28, 6) -> 37258.94 | F31: =ROUND(SUMIF(RV_DATA!AA10:'RV_DATA'!AA38, -1320521069, RV_DATA!O10:'RV_DATA'!O38), 6) -> 295.1 | Q31: 3
A32: 1.1-1-766 | B32: Песок для строительных работ, рядовой | C32: м3 | D32: =ROUND(SUMIF(RV_DATA!AA10:'RV_DATA'!AA38, -2049674672, RV_DATA!I10:'RV_DATA'!I38), 6) -> 2.904 | E32: =ROUND(RV_DATA!N17, 6) -> 722.3312 | F32: =ROUND(SUMIF(RV_DATA!AA10:'RV_DATA'!AA38, -2049674672, RV_DATA!O10:'RV_DATA'!O38), 6) -> 2097.65 | Q32: 3
A33: 1.1-1-766 | B33: Песок для строительных работ, рядовой | C33: м3 | D33: =ROUND(SUMIF(RV_DATA!AA10:'RV_DATA'!AA38, 746727013, RV_DATA!I10:'RV_DATA'!I38), 6) -> 0.066 | E33: =ROUND(RV_DATA!N27, 6) -> 722.33 | F33: =ROUND(SUMIF(RV_DATA!AA10:'RV_DATA'!AA38, 746727013, RV_DATA!O10:'RV_DATA'!O38), 6) -> 47.68 | Q33: 3
A34: 1.3-1-38 | B34: Смеси бетонные, БСГ, тяжелого бетона на гранитном щебне, класс прочности В15 (М200); П3, фракция 5-20, F50-100, W0-2 | C34: м3 | D34: =ROUND(SUMIF(RV_DATA!AA10:'RV_DATA'!AA38, 2010091897, RV_DATA!I10:'RV_DATA'!I38), 6) -> 0.6077 | E34: =ROUND(RV_DATA!N35, 6) -> 5899.87 | F34: =ROUND(SUMIF(RV_DATA!AA10:'RV_DATA'!AA38, 2010091897, RV_DATA!O10:'RV_DATA'!O38), 6) -> 3563.97 | Q34: 3
A35: 1.3-2-5 | B35: Растворы цементные, марка 100 | C35: м3 | D35: =ROUND(SUMIF(RV_DATA!AA10:'RV_DATA'!AA38, 745988685, RV_DATA!I10:'RV_DATA'!I38), 6) -> 0.00618 | E35: =ROUND(RV_DATA!N34, 6) -> 3953.01 | F35: =ROUND(SUMIF(RV_DATA!AA10:'RV_DATA'!AA38, 745988685, RV_DATA!O10:'RV_DATA'!O38), 6) -> 24.29 | Q35: 3
A36: 1.3-3-9 | B36: Смеси асфальтобетонные дорожные горячие мелкозернистые, марка II, тип В | C36: т | D36: =ROUND(SUMIF(RV_DATA!AA10:'RV_DATA'!AA38, 1192786114, RV_DATA!I10:'RV_DATA'!I38), 6) -> 2.40174 | E36: =ROUND(RV_DATA!N30, 6) -> 3772.5781 | F36: =ROUND(SUMIF(RV_DATA!AA10:'RV_DATA'!AA38, 1192786114, RV_DATA!O10:'RV_DATA'!O38), 6) -> 9060.75 | Q36: 3
A37: 1.5-3-499 | B37: Камни бетонные бортовые, марка БР 100.20.8 | C37: м3 | D37: =ROUND(SUMIF(RV_DATA!AA10:'RV_DATA'!AA38, -1089126221, RV_DATA!I10:'RV_DATA'!I38), 6) -> 0.4429 | E37: =ROUND(RV_DATA!N38, 6) -> 12310.264 | F37: =ROUND(SUMIF(RV_DATA!AA10:'RV_DATA'!AA38, -1089126221, RV_DATA!O10:'RV_DATA'!O38), 6) -> 5452.22 | Q37: 3
A38: 9999990006 | B38: Стоимость прочих материалов (ЭСН) | C38: руб. | D38: =ROUND(SUMIF(RV_DATA!AA10:'RV_DATA'!AA38, -2070296124, RV_DATA!I10:'RV_DATA'!I38), 6) -> 11.98302 | E38: =ROUND(RV_DATA!N33, 6) -> 8.7 | F38: =ROUND(SUMIF(RV_DATA!AA10:'RV_DATA'!AA38, -2070296124, RV_DATA!O10:'RV_DATA'!O38), 6) -> 103.65 | Q38: 3
A39: Итого материальные ресурсы | E39: =SUMIF(Q29:Q38, 3, F29:F38) -> 29334.91
A41: =CONCATENATE("Итого по локальной смете:",IF(Source!G116<>"Новая локальная смета", Source!G116, "")) -> Итого по локальной смете:ПЗУ
A42: Итого трудовые ресурсы | E42: =SUMIF(Q1:Q41, 1, F1:F41) -> 0
A43: Итого машины и механизмы | E43: =SUMIF(Q1:Q42, 2, F1:F42) -> 1772.63
...

Sheet Source
A1: 0 | B1: Smeta.RU (495) 974-1589 | D1: _PS_ | F1: 0 | G1: 0 | H1: 0 | I1: Smeta.RU | K1: 1 | L1: 46812 | M1: 97460402 | N1: 11 | O1: 6 | P1: 2 | Q1: 0
A12: 1 | B12: 1554 | C12: 0 | D12: =ROW(A1515) -> 1515 | E12: 0 | F12: Новый объект_(Копия) | G12: Ерамешанцева_(Копия) | I12: 0 | K12: 0 | L12: 0 | M12: 2 | O12: 0 | P12: 0 | Q12: 0 | R12: 175 | S12: 160 | T12: 1 | V12: 0 | BB12: 0 | BH12: Сметные нормы списания | BI12: Коды ОКП для ТСН-2001 МГЭ | BJ12: 1 | BK12: 1 | BL12: 0 | BM12: 0 | BN12: 1 | BO12: 0 | BP12: 6 | BQ12: 2 | BR12: 1 | BS12: 1 | BT12: 0 | BU12: 0 | BV12: 0 | BW12: 0 | BX12: 0 | BY12: ТСН-2001 МГЭ ремонт(Доп-53) | BZ12: Типовой расчет для ТСН-2001 МГЭ, Новая методика с выпуска доп. 43 (Ремонт), Доп 68 | CA12: Территориальные сметные нормативы для Москвы ТСН-2001 (МГЭ) | CB12: Территориальные сметные нормативы для Москвы ТСН-2001 (МГЭ) | CC12: Территориальные сметные нормативы для Москвы ТСН-2001 (МГЭ) | CD12: Территориальные сметные нормативы для Москвы ТСН-2001 (МГЭ) | CE12: Поправки для ТСН-2001 от 15.07.2022 г. доп.65 | CF12: 0 | CG12: 0 | CH12: 16785416 | CK12: 68 | CQ12: Территориальные сметные нормативы для Москвы (ТСН-2001) | CR12: ТЕР | CS12: 41660 | CT12: 1 | CU12: 68 | CY12: 0 | EC12: 0
A15: 15 | B15: 1
A18: 52 | B18: =B1515 -> 1554 | C18: =C1515 -> 1 | D18: =D1515 -> 12 | E18: =E1515 -> 0 | F18: =F1515 -> Новый объект_(Копия) | G18: =G1515 -> Ерамешанцева_(Копия) | O18: =O1515 -> 88262.99 | P18: =P1515 -> 66507.12 | Q18: =Q1515 -> 7412.84 | R18: =R1515 -> 914.07 | S18: =S1515 -> 14343.03 | T18: =T1515 -> 1946.32 | U18: =U1515 -> 1169.1732 | V18: =V1515 -> 0 | ... GX18: =GX1515 -> 0
A20: 3 | B20: 1 | D20: =ROW(A116) -> 116 | F20: 02-01-01 | G20: ПЗУ | I20: 0 | K20: -1 | S20: 0 | T20: 0 | V20: 0 | BX20: 0 | CF20: 0 | CG20: 0
A22: 52 | B22: =B116 -> 1 | C22: =C116 -> 3 | D22: =D116 -> 20 | E22: =E116 -> 0 | F22: =F116 -> 02-01-01 | G22: =G116 -> ПЗУ | O22: =O116 -> 3407.53 | P22: =P116 -> 3016.91 | Q22: =Q116 -> 171.87 | R22: =R116 -> 16.44 | S22: =S116 -> 218.75 | T22: =T116 -> 0 | U22: =U116 -> 19.610554 | V22: =V116 -> 0 | ... GX22: =GX116 -> 0
A24: 4 | B24: 1 | D24: =ROW(A31) -> 31 | F24: Новый раздел | G24: Демонтажные работы | I24: 0 | K24: 0 | S24: 0 | T24: 0 | V24: 0 | BX24: 0 | CJ24: 0
A26: 52 | B26: =B31 -> 1 | C26: =C31 -> 4 | D26: =D31 -> 24 | E26: =E31 -> 0 | F26: =F31 -> Новый раздел | G26: =G31 -> Демонтажные работы | O26: =O31 -> 53.11 | P26: =P31 -> 0 | Q26: =Q31 -> 0 | R26: =R31 -> 0 | S26: =S31 -> 53.11 | T26: =T31 -> 0 | U26: =U31 -> 5.0102 | V26: =V31 -> 0 | ... GX26: =GX31 -> 0
A28: 17 | B28: 1 | C28: =ROW(SmtRes!A1) -> 1 | D28: =ROW(EtalonRes!A1) -> 1 | E28: 1 | F28: 3.1-51-1 | G28: Разработка грунта вручную в траншеях глубиной до 2 м без креплений с откосами группа грунтов 1-3 | H28: 100 м3 грунта | I28: 0.026 | J28: 0 | K28: 0.026 | O28: =ROUND(CP28,2) -> 53.11 | P28: =ROUND((ROUND((AC28*AW28*I28),2)*BC28),2) -> 0 | Q28: =(ROUND((ROUND(((ET28)*AV28*I28),2)*BB28),2)+ROUND((ROUND(((AE28-(EU28))*AV28*I28),2)*BS28),2)) -> 0 | R28: =ROUND((ROUND((AE28*AV28*I28),2)*BS28),2) -> 0 | S28: =ROUND((ROUND((AF28*AV28*I28),2)*BA28),2) -> 53.11 | T28: =ROUND(CU28*I28,2) -> 0 | U28: =CV28*I28 -> 5.0102 | V28: =CW28*I28 -> 0 | W28: =ROUND(CX28*I28,2) -> 0 | X28: =ROUND(CY28,2) -> 48.33 | Y28: =ROUND(CZ28,2) -> 35.58 | AA28: 129761636 | AB28: =ROUND((AC28+AD28+AF28),6) -> 2042.62 | AC28: =ROUND((ES28),6) -> 0 | AD28: =ROUND((((ET28)-(EU28))+AE28),6) -> 0 | AE28: =ROUND((EU28),6) -> 0 | AF28: =ROUND((EV28),6) -> 2042.62 | AG28: =ROUND((AP28),6) -> 0 | AH28: =(EW28) -> 192.7 | AI28: =(EX28) -> 0 | AJ28: =(AS28) -> 0 | AK28: 2042.62 | AL28: 0 | AM28: 0 | AN28: 0 | AO28: 2042.62 | AP28: 0 | AQ28: 192.7 | AR28: 0 | AS28: 0 | AT28: 91 | AU28: 67 | AV28: 1 | AW28: 1 | AZ28: 1 | BA28: 1 | BB28: 1 | BC28: 1 | BH28: 0 | BI28: 1 | BJ28: ТСН-2001.3. Доп. 1-42. Сб. 1, т. 51, поз. 1 | BM28: 16 | BN28: 0 | BP28: 0 | BQ28: 30 | BR28: 0 | BS28: 1 | BT28: 1 | BU28: 1 | BV28: 1 | BW28: 1 | BX28: 1 | BZ28: 91 | CA28: 67 | CE28: 30 | CF28: 0 | CG28: 0 | CM28: 0 | CO28: 0 | CP28: =(P28+Q28+S28) -> 53.11 | CQ28: =ROUND((ROUND((AC28*AW28*1),2)*BC28),2) -> 0 | CR28: =(ROUND((ROUND(((ET28)*AV28*1),2)*BB28),2)+ROUND((ROUND(((AE28-(EU28))*AV28*1),2)*BS28),2)) -> 0 | CS28: =ROUND((ROUND((AE28*AV28*1),2)*BS28),2) -> 0 | CT28: =ROUND((ROUND((AF28*AV28*1),2)*BA28),2) -> 2042.62 | CU28: =AG28 -> 0 | CV28: =(AH28*AV28) -> 192.7 | CW28: =AI28 -> 0 | CX28: =AJ28 -> 0 | CY28: =((S28*BZ28)/100) -> 48.3301 | CZ28: =((S28*CA28)/100) -> 35.5837 | DN28: 0 | DO28: 0 | DP28: 1 | DQ28: 1 | DU28: 1013 | DV28: 100 м3 грунта | DW28: 100 м3 грунта | DX28: 1 | EE28: 126053478 | EF28: 30 | EG28: Строительные работы | EH28: 0 | EJ28: 1 | EK28: 16 | EL28: ТСН-2001.3-1. 1-49...1-55 | EM28: ТСН-2001.3-1-15 | EQ28: 131072 | ER28: 2042.62 | ES28: 0 | ET28: 0 | EU28: 0 | EV28: 2042.62 | EW28: 192.7 | EX28: 0 | EY28: 0 | FQ28: 0 | FR28: =ROUND(IF(AND(BH28=3,BI28=3),P28,0),2) -> 0 | FS28: 0 | FX28: 91 | FY28: 67 | GD28: 0 | GF28: -1632341149 | GG28: 2 | GH28: 1 | GI28: -2 | GJ28: 0 | GK28: =ROUND(R28*(R12)/100,2) -> 0 | GL28: =ROUND(IF(AND(BH28=3,BI28=3,FS28<>0),P28,0),2) -> 0 | GM28: =ROUND(O28+X28+Y28+GK28,2)+GX28 -> 137.02 | GN28: =IF(OR(BI28=0,BI28=1),ROUND(O28+X28+Y28+GK28,2),0) -> 137.02 | GO28: =IF(BI28=2,ROUND(O28+X28+Y28+GK28,2),0) -> 0 | GP28: =IF(BI28=4,ROUND(O28+X28+Y28+GK28,2)+GX28,0) -> 0 | GR28: 0 | GS28: 0 | GT28: 0 | GV28: =ROUND((GT28),6) -> 0 | GW28: 1 | GX28: =ROUND(HC28*I28,2) -> 0 | HA28: 0 | HB28: 0 | HC28: =GV28*GW28 -> 0 | IK28: 0
A29: 17 | B29: 1 | C29: =ROW(SmtRes!A2) -> 2 | D29: =ROW(EtalonRes!A2) -> 2 | E29: 1 | F29: 3.1-51-1 | G29: Разработка грунта вручную в траншеях глубиной до 2 м без креплений с откосами группа грунтов 1-3 | H29: 100 м3 грунта | I29: 0.026 | J29: 0 | K29: 0.026 | O29: =ROUND(CP29,2) -> 1541.78 | P29: =ROUND((ROUND((AC29*AW29*I29),2)*BC29),2) -> 0 | Q29: =(ROUND((ROUND(((ET29)*AV29*I29),2)*BB29),2)+ROUND((ROUND(((AE29-(EU29))*AV29*I29),2)*BS29),2)) -> 0 | R29: =ROUND((ROUND((AE29*AV29*I29),2)*BS29),2) -> 0 | S29: =ROUND((ROUND((AF29*AV29*I29),2)*BA29),2) -> 1541.78 | T29: =ROUND(CU29*I29,2) -> 0 | U29: =CV29*I29 -> 5.0102 | V29: =CW29*I29 -> 0 | W29: =ROUND(CX29*I29,2) -> 0 | X29: =ROUND(CY29,2) -> 1156.34 | Y29: =ROUND(CZ29,2) -> 632.13 | AA29: 129761633 | AB29: =ROUND((AC29+AD29+AF29),6) -> 2042.62 | AC29: =ROUND((ES29),6) -> 0 | AD29: =ROUND((((ET29)-(EU29))+AE29),6) -> 0 | AE29: =ROUND((EU29),6) -> 0 | AF29: =ROUND((EV29),6) -> 2042.62 | AG29: =ROUND((AP29),6) -> 0 | AH29: =(EW29) -> 192.7 | AI29: =(EX29) -> 0 | AJ29: =(AS29) -> 0 | AK29: 2042.62 | AL29: 0 | AM29: 0 | AN29: 0 | AO29: 2042.62 | AP29: 0 | AQ29: 192.7 | AR29: 0 | AS29: 0 | AT29: 75 | AU29: 41 | AV29: 1 | AW29: 1 | AZ29: 1 | BA29: 29.03 | BB29: 1 | BC29: 1 | BH29: 0 | BI29: 1 | BJ29: ТСН-2001.3. Доп. 1-42. Сб. 1, т. 51, поз. 1 | BM29: 16 | BN29: 0 | BO29: 3.1-51-1 | BP29: 1 | BQ29: 30 | BR29: 0 | BS29: 29.03 | BT29: 1 | BU29: 1 | BV29: 1 | BW29: 1 | BX29: 1 | BZ29: 75 | CA29: 41 | CE29: 30 | CF29: 0 | CG29: 0 | CM29: 0 | CO29: 0 | CP29: =(P29+Q29+S29) -> 1541.78 | CQ29: =ROUND((ROUND((AC29*AW29*1),2)*BC29),2) -> 0 | CR29: =(ROUND((ROUND(((ET29)*AV29*1),2)*BB29),2)+ROUND((ROUND(((AE29-(EU29))*AV29*1),2)*BS29),2)) -> 0 | CS29: =ROUND((ROUND((AE29*AV29*1),2)*BS29),2) -> 0 | CT29: =ROUND((ROUND((AF29*AV29*1),2)*BA29),2) -> 59297.26 | CU29: =AG29 -> 0 | CV29: =(AH29*AV29) -> 192.7 | CW29: =AI29 -> 0 | CX29: =AJ29 -> 0 | CY29: =S29*(BZ29/100) -> 1156.335 | CZ29: =S29*(CA29/100) -> 632.1298 | DN29: 91 | DO29: 67 | DP29: 1 | DQ29: 1 | DU29: 1013 | DV29: 100 м3 грунта | DW29: 100 м3 грунта | DX29: 1 | EE29: 126053478 | EF29: 30 | EG29: Строительные работы | EH29: 0 | EJ29: 1 | EK29: 16 | EL29: ТСН-2001.3-1. 1-49...1-55 | EM29: ТСН-2001.3-1-15 | EQ29: 131072 | ER29: 2042.62 | ES29: 0 | ET29: 0 | EU29: 0 | EV29: 2042.62 | EW29: 192.7 | EX29: 0 | EY29: 0 | FQ29: 0 | FR29: =ROUND(IF(AND(BH29=3,BI29=3),P29,0),2) -> 0 | FS29: 0 | FX29: 91 | FY29: 67 | GD29: 0 | GF29: -1632341149 | GG29: 2 | GH29: 1 | GI29: 2 | GJ29: 0 | GK29: =ROUND(R29*(S12)/100,2) -> 0 | GL29: =ROUND(IF(AND(BH29=3,BI29=3,FS29<>0),P29,0),2) -> 0 | GM29: =ROUND(O29+X29+Y29+GK29,2)+GX29 -> 3330.25 | GN29: =IF(OR(BI29=0,BI29=1),ROUND(O29+X29+Y29+GK29,2),0) -> 3330.25 | GO29: =IF(BI29=2,ROUND(O29+X29+Y29+GK29,2),0) -> 0 | GP29: =IF(BI29=4,ROUND(O29+X29+Y29+GK29,2)+GX29,0) -> 0 | GR29: 0 | GS29: 3 | GT29: 0 | GV29: =ROUND((GT29),6) -> 0 | GW29: 1 | GX29: =ROUND(HC29*I29,2) -> 0 | HA29: 0 | HB29: 0 | HC29: =GV29*GW29 -> 0 | IK29: 0
