Workbook

Sheet Смета по ФЕР 421пр (12гр.)
A1: =Source!B1 -> АтомСмета
B3: "СОГЛАСОВАНО" | H3: "УТВЕРЖДАЮ"
B6: =CONCATENATE("______________________ ", IF(Source!AL12<>"", Source!AL12, "")) -> ______________________ | H6: =CONCATENATE("______________________ ", IF(Source!AH12<>"", Source!AH12, "")) -> ______________________
B7: "_____"________________ 2023 г. | H7: "_____"________________ 2023 г.
A10: =CONCATENATE( "Наименование редакции сметных нормативов: ", Source!CQ12) -> Наименование редакции сметных нормативов: ГОСУДАРСТВЕННЫЕ СМЕТНЫЕ НОРМАТИВЫ (ФЕР-2020), утвержденные приказами Минстроя России от 26 декабря 2019 г. № 876/пр (в редакции приказов Минстроя РФ от 30 марта 2020 г. № 172/пр, от 1 июня 2020 г. № 294/пр, от 30 июня 2020 г. № 352/пр, от 20 октября 2020 г. № 636/пр, от 9 февраля 2021 г. № 51/пр, от 24 мая 2021 г. № 321/пр, от 24 июня 2021 г. № 408/пр, от 14 октября 2021 № 746/пр, от 20 декабря 2021 № 962/пр) | CP10: =CONCATENATE( "Наименование редакции сметных нормативов: ", Source!CQ12) -> Наименование редакции сметных нормативов: ГОСУДАРСТВЕННЫЕ СМЕТНЫЕ НОРМАТИВЫ (ФЕР-2020), утвержденные приказами Минстроя России от 26 декабря 2019 г. № 876/пр (в редакции приказов Минстроя РФ от 30 марта 2020 г. № 172/пр, от 1 июня 2020 г. № 294/пр, от 30 июня 2020 г. № 352/пр, от 20 октября 2020 г. № 636/пр, от 9 февраля 2021 г. № 51/пр, от 24 мая 2021 г. № 321/пр, от 24 июня 2021 г. № 408/пр, от 14 октября 2021 № 746/пр, от 20 декабря 2021 № 962/пр)
A12: Наименование программного продукта: Программа для ЭВМ «Программа: «АтомСмета» версия 11»
B16: (наименование стройки)
B18: =IF(Source!G12<>"Новый объект", Source!G12, "") -> Системы автоматической установки аэрозольного пожаротушения, автоматической пожарной сигнализации | CN18: =IF(Source!G12<>"Новый объект", Source!G12, "") -> Системы автоматической установки аэрозольного пожаротушения, автоматической пожарной сигнализации
B19: (наименование объекта капитального строительства)
B21: =CONCATENATE( "ЛОКАЛЬНАЯ СМЕТА № ", Source!F20, " ",Source!CM20) -> ЛОКАЛЬНАЯ СМЕТА №
B23: =IF(Source!G20<>"Новая локальная смета", Source!G20, "")
B24: (наименование конструктивного решения)
A27: Составлен | C27: Базисно-индексным | D27: методом
A29: Основание | C29: 1
C30: (проектная и (или) иная техническая документация)
A32: Составлена в ценах IV квартал 2021 года (1.01.2000)
A34: Сметная стоимость | C34: =C37+C38+C39+C40 -> 5402.356 | D34: =D37+D38+D39+D40 -> 737.08623 | F34: тыс. руб.
G35: Средства на оплату труда
B36: в том числе: | G36: рабочих | I36: =ROUND((ROUND(SUM(R47:R747)*Source!C539, 0)+ROUND(SUM(S47:S747)*Source!K539, 0)+ROUND(SUM(T47:T747)*Source!I539, 0))/1000, 6) -> 791.302 | J36: =ROUND((SUM(Q47:Q747))/1000, 6) -> 34.40003 | K36: тыс. руб.
B37: строительных работ | C37: =ROUND((ROUND(SUM(AN47:AN747)*Source!C539, 0)+ROUND(SUM(AR47:AR747)*Source!L539, 0))/1000, 6) -> 285.255 | D37: =ROUND((SUM(AN47:AN747)+SUM(AR47:AR747))/1000, 6) -> 26.5107 | F37: тыс. руб. | G37: Нормативные затраты труда рабочих | J37: =Source!P462 -> 2967.7063 | K37: чел.-ч.
B38: монтажных работ | C38: =ROUND((ROUND(SUM(AX47:AX747)*Source!C539, 0)+ROUND(SUM(BB47:BB747)*Source!L539, 0))/1000, 6) -> 992.124 | D38: =ROUND((SUM(AX47:AX747)+SUM(BB47:BB747))/1000, 6) -> 92.20487 | F38: тыс. руб. | G38: Нормативные затраты труда машинистов | J38: =Source!P463 -> 19.67517 | K38: чел.-ч.
B39: оборудования | C39: =ROUND((ROUND(SUM(BH47:BH747)*Source!H539, 0)+ROUND(SUM(BI47:BI747)*Source!L539, 0))/1000, 6) -> 2822.055 | D39: =ROUND((SUM(BH47:BH747)+SUM(BI47:BI747))/1000, 6) -> 579.47746 | F39: тыс. руб. | G39: Расчетный измеритель
B40: прочих затрат | C40: =ROUND((ROUND(SUM(BM47:BM747)*Source!I539, 0)+ROUND(SUM(BN47:BN747)*Source!K539, 0)+ROUND(SUM(BO47:BO747)*Source!H539, 0)+ROUND(SUM(BP47:BP747)*Source!L539, 0))/1000, 6) -> 1302.922 | D40: =ROUND((SUM(BM47:BM747)+SUM(BN47:BN747)+SUM(BO47:BO747)+SUM(BP47:BP747))/1000, 6) -> 38.8932 | F40: тыс. руб. | G40: конструктивного решения | I40: =Source!I20 -> 0 | J40: =Source!H20
A42: № п/п | B42: Обоснование | C42: Наименование работ и затрат | D42: Единица измерения | E42: Количество | H42: Сметная стоимость в базисном уровне цен (в текущем уровне цен (гр.8) для ресурсов, отсутствующих в СНБ), руб. | K42: Индексы | L42: Сметная стоимость в текущем уровне цен, руб.
E45: на единицу | F45: коэффициенты | G45: всего с учетом коэффициентов | H45: на единицу | I45: коэффициенты | J45: всего
A46: 1 | B46: 2 | C46: 3 | D46: 4 | E46: 5 | F46: 6 | G46: 7 | H46: 8 | I46: 9 | J46: 10 | K46: 11 | L46: 12
A48: Раздел: Автоматическая установка аэрозольного пожаротушения
A50: Подраздел: Монтажные работы
A51: 1 | B51: =Source!F33 -> м11-05-001-01 | C51: Механизм исполнительный, масса: до 20 кг Поправки к: ЭМ )*1,35; ОТм )*1,35; ОТ )*1,35; ЗТ )*1,35; ЗТм )*1,35 | D51: =Source!H33 -> ШТ | E51: =Source!K33 -> 28 | G51: =Source!I33 -> 28 | AG51: =Source!X33 -> 250.72 | AH51: =Source!X33 -> 250.72 | AI51: =Source!Y33 -> 128.15 | AJ51: =Source!Y33 -> 128.15 | AS51: =IF(Source!BI33<=1,AH51, 0) -> 0 | AT51: =IF(Source!BI33<=1,AJ51, 0) -> 0 | BC51: =IF(Source!BI33=2,AH51, 0) -> 250.72 | BD51: =IF(Source!BI33=2,AJ51, 0) -> 128.15
B52: =Source!EO33 -> Поправка: Мет.421/пр 04.08.20 Пр.10 Т.3 п. 1.2 | C52: =Source!CN33 -> Поправка: Мет.421/пр 04.08.20 Пр.10 Т.3 п. 1.2 Наименование: Производство ремонтно-строительных работ осуществляется в помещениях эксплуатируемого объекта капитального строительства без остановки рабочего процесса, при этом: в зоне производства ремонтно-строительных работ имеются действующее технологическое или лабораторное оборудование, мебель и иные загромождающие помещения предметы
B53: 1 | C53: ОТ | H53: =Source!AO33 -> 4.44 | I53: =ROUND(1.35,7) -> 1.35 | J53: =ROUND(Source!AF33*Source!I33, 2) -> 167.83
B54: 3 | C54: ЭМ | H54: =Source!AM33 -> 29.85 | I54: =ROUND(1.35,7) -> 1.35 | J54: =ROUND(Source!AD33*Source!I33, 2) -> 1128.33
B55: 2 | C55: в т.ч. ОТм | H55: =Source!AN33 -> 2.93 | I55: =ROUND(1.35,7) -> 1.35 | J55: =ROUND(Source!AE33*Source!I33, 2) -> 110.75
B56: 4 | C56: М | H56: =Source!AL33 -> 8.33 | J56: =ROUND(Source!AC33*Source!I33, 2) -> 233.24
C57: ЗТ | D57: чел-ч | E57: =Source!AQ33 -> 0.52 | F57: =ROUND(1.35,7) -> 1.35 | G57: =ROUND(Source!U33, 7) -> 19.656
C58: ЗТм | D58: чел-ч | E58: =Source!AR33 -> 0.22 | F58: =ROUND(1.35,7) -> 1.35 | G58: =ROUND(Source!V33, 7) -> 8.316
C59: Итого по расценке | H59: =H53+H54+H56 -> 42.62 | J59: =J53+J54+J56 -> 1529.4
C60: ФОТ | J60: =SUM(Q51:Q63)+SUM(V51:V63)+SUM(X51:X63)+SUM(Y51:Y63) -> 278.58
B61: Пр/812-053.0-1 | C61: НР Приборы, средства автоматизации и вычислительной техники | D61: % | E61: =Source!BZ33 -> 90 | G61: =Source!AT33 -> 90 | J61: =SUM(AG51:AG63) -> 250.72
B62: Пр/774-053.0 | C62: СП Приборы, средства автоматизации и вычислительной техники | D62: % | E62: =Source!CA33 -> 46 | G62: =Source!AU33 -> 46 | J62: =SUM(AI51:AI63) -> 128.15
...

Sheet Source
A1: 0 | B1: АтомСмета | D1: _PS_ | F1: 0 | G1: 3 | H1: 0 | I1: АтомСмета | K1: 1 | L1: 71734 | M1: 10 | N1: 11 | O1: 3 | P1: 4 | Q1: 4
A12: 1 | B12: 538 | C12: 0 | D12: =ROW(A474) -> 474 | E12: 0 | F12: 1_(Копия)_(Копия)_(Копия) | G12: Системы автоматической установки аэрозольного пожаротушения, автоматической пожарной сигнализации | I12: 0 | K12: 1 | L12: 1 | M12: 5 | O12: 0 | P12: 0 | Q12: 0 | R12: 0 | S12: 0 | T12: 2 | V12: 0 | BB12: 0 | BH12: Сметные нормы списания | BI12: Коды ценников | BJ12: 1 | BK12: 1 | BL12: 0 | BM12: 1 | BN12: 1 | BO12: 0 | BP12: 6 | BQ12: 2 | BR12: 1 | BS12: 1 | BT12: 0 | BU12: 0 | BV12: 1 | BW12: 0 | BX12: 0 | BY12: ФЕР-2020 И9 | BZ12: Версия 1.3.3 ГСН (ГЭСН, ФЕР) и ТЕР (Методики НР (812/пр и 636/пр) и СП (774/пр) с 22.10.2021 г.) | CA12: ФЕР-2020 - изменения И9 | CB12: ФЕР-2020 - изменения И9 | CC12: ФЕР-2020 - изменения И9 | CD12: ФЕР-2020 - изменения И9 | CE12: Поправки для ГСН (ФЕР) 2020 от 10.01.2022 г И9 Капитальный ремонт производственных зданий | CF12: 0 | CG12: 0 | CH12: 403185672 | CK12: 9 | CQ12: ГОСУДАРСТВЕННЫЕ СМЕТНЫЕ НОРМАТИВЫ (ФЕР-2020), утвержденные приказами Минстроя России от 26 декабря 2019 г. № 876/пр (в редакции приказов Минстроя РФ от 30 марта 2020 г. № 172/пр, от 1 июня 2020 г. № 294/пр, от 30 июня 2020 г. № 352/пр, от 20 октября 2020 г. № 636/пр, от 9 февраля 2021 г. № 51/пр, от 24 мая 2021 г. № 321/пр, от 24 июня 2021 г. № 408/пр, от 14 октября 2021 № 746/пр, от 20 декабря 2021 № 962/пр) | CR12: ГСН | CS12: 44551 | CT12: 395 | EC12: 0
A15: 15 | B15: 1
A18: 52 | B18: =B474 -> 538 | C18: =C474 -> 1 | D18: =D474 -> 12 | E18: =E474 -> 0 | F18: =F474 -> 1_(Копия)_(Копия)_(Копия) | G18: =G474 -> Системы автоматической установки аэрозольного пожаротушения, автоматической пожарной сигнализации | O18: =O474 -> 3051948.9 | P18: =P474 -> 3012354.3 | Q18: =Q474 -> 5194.55 | R18: =R474 -> 252.14 | S18: =S474 -> 34400.03 | T18: =T474 -> 0 | U18: =U474 -> 2967.7063 | V18: =V474 -> 19.67517 | ... GX18: =GX474 -> 0
A20: 3 | B20: 1 | D20: =ROW(A434) -> 434 | I20: 0 | K20: -1 | S20: 0 | T20: 41727980 | V20: 0 | BX20: 0 | CF20: 0 | CG20: 0 | CL20: 1
A22: 52 | B22: =B434 -> 1 | C22: =C434 -> 3 | D22: =D434 -> 20 | E22: =E434 -> 0 | F22: =F434 | G22: =G434 | O22: =O434 -> 3051948.9 | P22: =P434 -> 3012354.3 | Q22: =Q434 -> 5194.55 | R22: =R434 -> 252.14 | S22: =S434 -> 34400.03 | T22: =T434 -> 0 | U22: =U434 -> 2967.7063 | V22: =V434 -> 19.67517 | ... GX22: =GX434 -> 0
A24: 4 | B24: 1 | D24: =ROW(A214) -> 214 | F24: Новый раздел | G24: Автоматическая установка аэрозольного пожаротушения | I24: 0 | K24: -1 | S24: 0 | T24: 41727980 | V24: 0 | BX24: 0 | CJ24: 0
A26: 52 | B26: =B214 -> 1 | C26: =C214 -> 4 | D26: =D214 -> 24 | E26: =E214 -> 0 | F26: =F214 -> Новый раздел | G26: =G214 -> Автоматическая установка аэрозольного пожаротушения | O26: =O214 -> 2841711.5 | P26: =P214 -> 2810207.9 | Q26: =Q214 -> 3595.97 | R26: =R214 -> 199.29 | S26: =S214 -> 27907.6 | T26: =T214 -> 0 | U26: =U214 -> 2286.8435 | V26: =V214 -> 15.46803 | ... GX26: =GX214 -> 0
A28: 5 | B28: 1 | D28: =ROW(A139) -> 139 | F28: Новый подраздел | G28: Монтажные работы | I28: 0 | K28: -1 | S28: 0 | T28: 41727980 | V28: 0 | BX28: 0 | CJ28: 0
A30: 52 | B30: =B139 -> 1 | C30: =C139 -> 5 | D30: =D139 -> 28 | E30: =E139 -> 0 | F30: =F139 -> Новый подраздел | G30: =G139 -> Монтажные работы | O30: =O139 -> 2823190.9 | P30: =P139 -> 2810207.9 | Q30: =Q139 -> 3595.97 | R30: =R139 -> 199.29 | S30: =S139 -> 9387.03 | T30: =T139 -> 0 | U30: =U139 -> 980.74355 | V30: =V139 -> 15.46803 | ... GX30: =GX139 -> 0
A32: 17 | B32: 1 | C32: =ROW(SmtRes!A6) -> 6 | D32: =ROW(EtalonRes!A6) -> 6 | E32: 1 | F32: м11-05-001-01 | G32: Механизм исполнительный, масса: до 20 кг | H32: ШТ | I32: 28 | J32: 0 | K32: 28 | O32: =ROUND(CP32,2) -> 1529.4 | P32: =ROUND(CQ32*I32,2) -> 233.24 | Q32: =ROUND(CR32*I32,2) -> 1128.33 | R32: =ROUND(CS32*I32,2) -> 110.75 | S32: =ROUND(CT32*I32,2) -> 167.83 | T32: =ROUND(CU32*I32,2) -> 0 | U32: =CV32*I32 -> 19.656 | V32: =CW32*I32 -> 8.316 | W32: =ROUND(CX32*I32,2) -> 0 | X32: =ROUND(CY32,2) -> 250.72 | Y32: =ROUND(CZ32,2) -> 128.15 | AA32: 41727981 | AB32: =ROUND((AC32+AD32+AF32),6) -> 54.6215 | AC32: =ROUND((ES32),6) -> 8.33 | AD32: =ROUND(((((ET32*ROUND(1.35,7)))-((EU32*ROUND(1.35,7))))+AE32),6) -> 40.2975 | AE32: =ROUND(((EU32*ROUND(1.35,7))),6) -> 3.9555 | AF32: =ROUND(((EV32*ROUND(1.35,7))),6) -> 5.994 | AG32: =ROUND((AP32),6) -> 0 | AH32: =((EW32*ROUND(1.35,7))) -> 0.702 | AI32: =((EX32*ROUND(1.35,7))) -> 0.297 | AJ32: =(AS32) -> 0 | AK32: 42.62 | AL32: 8.33 | AM32: 29.85 | AN32: 2.93 | AO32: 4.44 | AP32: 0 | AQ32: 0.52 | AR32: 0.22 | AS32: 0 | AT32: 90 | AU32: 46 | AV32: 1 | AW32: 1 | AZ32: 1 | BA32: 1 | BB32: 1 | BC32: 1 | BH32: 0 | BI32: 2 | BJ32: ФЕРм-2001, м11-05-001-01, приказ Минстроя России № 876/пр от 26.12.2019 | BM32: 111003 | BN32: 0 | BP32: 0 | BQ32: 3 | BR32: 0 | BS32: 1 | BT32: 1 | BU32: 1 | BV32: 1 | BW32: 1 | BX32: 1 | BZ32: 90 | CA32: 46 | CE32: 0 | CF32: 0 | CG32: 0 | CM32: 0 | CN32: Поправка: Мет.421/пр 04.08.20 Пр.10 Т.3 п. 1.2 Наименование: Производство ремонтно-строительных работ осуществляется в помещениях эксплуатируемого объекта капитального строительства без остановки рабочего процесса, при этом: в зоне производства ремонтно-строительных работ имеются действующее технологическое или лабораторное оборудование, мебель и иные загромождающие помещения предметы | CO32: 0 | CP32: =(P32+Q32+S32) -> 1529.4 | CQ32: =AC32*BC32 -> 8.33 | CR32: =AD32*BB32 -> 40.2975 | CS32: =AE32 -> 3.9555 | CT32: =AF32 -> 5.994 | CU32: =AG32 -> 0 | CV32: =AH32 -> 0.702 | CW32: =AI32 -> 0.297 | CX32: =AJ32 -> 0 | CY32: =(((S32+R32)*AT32)/100) -> 250.722 | CZ32: =(((S32+R32)*AU32)/100) -> 128.1468 | DE32: )*1,35 | DF32: )*1,35 | DG32: )*1,35 | DI32: )*1,35 | DJ32: )*1,35 | DN32: 0 | DO32: 0 | DP32: 1 | DQ32: 1 | DU32: 1013 | DV32: ШТ | DW32: ШТ | DX32: 1 | EE32: 37164044 | EF32: 3 | EG32: Монтажные работы | EH32: 0 | EJ32: 2 | EK32: 111003 | EL32: Приборы, средства автоматизации и вычислительной техники | EM32: мФЕР-11 | EO32: Поправка: Мет.421/пр 04.08.20 Пр.10 Т.3 п. 1.2 | EQ32: 512 | ER32: 42.62 | ES32: 8.33 | ET32: 29.85 | EU32: 2.93 | EV32: 4.44 | EW32: 0.52 | EX32: 0.22 | EY32: 0 | FQ32: 0 | FR32: =ROUND(IF(AND(BH32=3,BI32=3),P32,0),2) -> 0 | FS32: 0 | FX32: 90 | FY32: 46 | GD32: 1 | GF32: 827992875 | GG32: 2 | GH32: 1 | GI32: -2 | GJ32: 0 | GK32: 0 | GL32: =ROUND(IF(AND(BH32=3,BI32=3,FS32<>0),P32,0),2) -> 0 | GM32: =ROUND(O32+X32+Y32,2)+GX32 -> 1908.27 | GN32: =IF(OR(BI32=0,BI32=1),ROUND(O32+X32+Y32,2),0) -> 0 | GO32: =IF(BI32=2,ROUND(O32+X32+Y32,2),0) -> 1908.27 | GP32: =IF(BI32=4,ROUND(O32+X32+Y32,2)+GX32,0) -> 0 | GR32: 0 | GS32: 3 | GT32: 0 | GV32: =ROUND((GT32),6) -> 0 | GW32: 1 | GX32: =ROUND(HC32*I32,2) -> 0 | HA32: 0 | HB32: 0 | HC32: =GV32*GW32 -> 0 | HN32: Пр/812-053.0-1 | HO32: Пр/774-053.0 | HP32: Приборы, средства автоматизации и вычислительной техники | HQ32: Приборы, средства автоматизации и вычислительной техники | IK32: 0
A33: 17 | B33: 1 | C33: =ROW(SmtRes!A12) -> 12 | D33: =ROW(EtalonRes!A12) -> 12 | E33: 1 | F33: м11-05-001-01 | G33: Механизм исполнительный, масса: до 20 кг | H33: ШТ | I33: 28 | J33: 0 | K33: 28 | O33: =ROUND(CP33,2) -> 1529.4 | P33: =ROUND(CQ33*I33,2) -> 233.24 | Q33: =ROUND(CR33*I33,2) -> 1128.33 | R33: =ROUND(CS33*I33,2) -> 110.75 | S33: =ROUND(CT33*I33,2) -> 167.83 | T33: =ROUND(CU33*I33,2) -> 0 | U33: =CV33*I33 -> 19.656 | V33: =CW33*I33 -> 8.316 | W33: =ROUND(CX33*I33,2) -> 0 | X33: =ROUND(CY33,2) -> 250.72 | Y33: =ROUND(CZ33,2) -> 128.15 | AA33: 41727979 | AB33: =ROUND((AC33+AD33+AF33),6) -> 54.6215 | AC33: =ROUND((ES33),6) -> 8.33 | AD33: =ROUND(((((ET33*ROUND(1.35,7)))-((EU33*ROUND(1.35,7))))+AE33),6) -> 40.2975 | AE33: =ROUND(((EU33*ROUND(1.35,7))),6) -> 3.9555 | AF33: =ROUND(((EV33*ROUND(1.35,7))),6) -> 5.994 | AG33: =ROUND((AP33),6) -> 0 | AH33: =((EW33*ROUND(1.35,7))) -> 0.702 | AI33: =((EX33*ROUND(1.35,7))) -> 0.297 | AJ33: =(AS33) -> 0 | AK33: 42.62 | AL33: 8.33 | AM33: 29.85 | AN33: 2.93 | AO33: 4.44 | AP33: 0 | AQ33: 0.52 | AR33: 0.22 | AS33: 0 | AT33: 90 | AU33: 46 | AV33: 1 | AW33: 1 | AZ33: 1 | BA33: 1 | BB33: 1 | BC33: 1 | BH33: 0 | BI33: 2 | BJ33: ФЕРм-2001, м11-05-001-01, приказ Минстроя России № 876/пр от 26.12.2019 | BM33: 111003 | BN33: 0 | BO33: Письмо Минстроя России от 15.12.2021 №55265-ИФ/09 | BP33: 1 | BQ33: 3 | BR33: 0 | BS33: 1 | BT33: 1 | BU33: 1 | BV33: 1 | BW33: 1 | BX33: 1 | BZ33: 90 | CA33: 46 | CE33: 0 | CF33: 0 | CG33: 0 | CM33: 0 | CN33: Поправка: Мет.421/пр 04.08.20 Пр.10 Т.3 п. 1.2 Наименование: Производство ремонтно-строительных работ осуществляется в помещениях эксплуатируемого объекта капитального строительства без остановки рабочего процесса, при этом: в зоне производства ремонтно-строительных работ имеются действующее технологическое или лабораторное оборудование, мебель и иные загромождающие помещения предметы | CO33: 0 | CP33: =(P33+Q33+S33) -> 1529.4 | CQ33: =AC33*BC33 -> 8.33 | CR33: =AD33*BB33 -> 40.2975 | CS33: =AE33 -> 3.9555 | CT33: =AF33 -> 5.994 | CU33: =AG33 -> 0 | CV33: =AH33 -> 0.702 | CW33: =AI33 -> 0.297 | CX33: =AJ33 -> 0 | CY33: =(((S33+R33)*AT33)/100) -> 250.722 | CZ33: =(((S33+R33)*AU33)/100) -> 128.1468 | DE33: )*1,35 | DF33: )*1,35 | DG33: )*1,35 | DI33: )*1,35 | DJ33: )*1,35 | DN33: 0 | DO33: 0 | DP33: 1 | DQ33: 1 | DU33: 1013 | DV33: ШТ | DW33: ШТ | DX33: 1 | EE33: 37164044 | EF33: 3 | EG33: Монтажные работы | EH33: 0 | EJ33: 2 | EK33: 111003 | EL33: Приборы, средства автоматизации и вычислительной техники | EM33: мФЕР-11 | EO33: Поправка: Мет.421/пр 04.08.20 Пр.10 Т.3 п. 1.2 | EQ33: 512 | ER33: 42.62 | ES33: 8.33 | ET33: 29.85 | EU33: 2.93 | EV33: 4.44 | EW33: 0.52 | EX33: 0.22 | EY33: 0 | FQ33: 0 | FR33: =ROUND(IF(AND(BH33=3,BI33=3),P33,0),2) -> 0 | FS33: 0 | FX33: 90 | FY33: 46 | GD33: 1 | GF33: 827992875 | GG33: 1 | GH33: 1 | GI33: 4 | GJ33: 0 | GK33: 0 | GL33: =ROUND(IF(AND(BH33=3,BI33=3,FS33<>0),P33,0),2) -> 0 | GM33: =ROUND(O33+X33+Y33,2)+GX33 -> 1908.27 | GN33: =IF(OR(BI33=0,BI33=1),ROUND(O33+X33+Y33,2),0) -> 0 | GO33: =IF(BI33=2,ROUND(O33+X33+Y33,2),0) -> 1908.27 | GP33: =IF(BI33=4,ROUND(O33+X33+Y33,2)+GX33,0) -> 0 | GR33: 0 | GS33: 3 | GT33: 0 | GV33: =ROUND((GT33),6) -> 0 | GW33: 1 | GX33: =ROUND(HC33*I33,2) -> 0 | HA33: 0 | HB33: 0 | HC33: =GV33*GW33 -> 0 | HN33: Пр/812-053.0-1 | HO33: Пр/774-053.0 | HP33: Приборы, средства автоматизации и вычислительной техники | HQ33: Приборы, средства автоматизации и вычислительной техники | IK33: 0
A34: 17 | B34: 1 | E34: 2 | F34: Цена поставщика | G34: Генератор огнетушащего аэрозоля FR 750E | H34: ШТ | I34: 17 | J34: 0 | K34: 17 | O34: =ROUND(CP34,2) -> 698247 | P34: =ROUND(ROUND(CQ34*I34,0)/BC34,2) -> 698247 | Q34: =ROUND(CR34*I34,2) -> 0 | R34: =ROUND(CS34*I34,2) -> 0 | S34: =ROUND(CT34*I34,2) -> 0 | T34: =ROUND(CU34*I34,2) -> 0 | U34: =CV34*I34 -> 0 | V34: =CW34*I34 -> 0 | W34: =ROUND(CX34*I34,2) -> 0 | X34: =ROUND(CY34,2) -> 0 | Y34: =ROUND(CZ34,2) -> 0 | AA34: 41727981 | AB34: =ROUND((AC34+AD34+AF34),6) -> 41073.33 | AC34: =ROUND((ES34),6) -> 41073.33 | AD34: =ROUND((((ET34)-(EU34))+AE34),6) -> 0 | AE34: =ROUND((EU34),6) -> 0 | AF34: =ROUND((EV34),6) -> 0 | AG34: =ROUND((AP34),6) -> 0 | AH34: =(EW34) -> 0 | AI34: =(EX34) -> 0 | AJ34: =(AS34) -> 0 | AK34: 41073.33 | AL34: 41073.33 | AM34: 0 | AN34: 0 | AO34: 0 | AP34: 0 | AQ34: 0 | AR34: 0 | AS34: 0 | AT34: 0 | AU34: 0 | AV34: 1 | AW34: 1 | AZ34: 1 | BA34: 1 | BB34: 1 | BC34: 1 | BH34: 3 | BI34: 3 | BM34: 1100 | BN34: 0 | BP34: 0 | BQ34: 8 | BR34: 0 | BS34: 1 | BT34: 1 | BU34: 1 | BV34: 1 | BW34: 1 | BX34: 1 | BZ34: 0 | CA34: 0 | CE34: 0 | CF34: 0 | CG34: 0 | CM34: 0 | CO34: 0 | CP34: =(P34+Q34+S34) -> 698247 | CQ34: =AC34 -> 41073.33 | CR34: =AD34*BB34 -> 0 | CS34: =AE34 -> 0 | CT34: =AF34 -> 0 | CU34: =AG34 -> 0 | CV34: =AH34 -> 0 | CW34: =AI34 -> 0 | CX34: =AJ34 -> 0 | CY34: =(((S34+R34)*AT34)/100) -> 0 | CZ34: =(((S34+R34)*AU34)/100) -> 0 | DN34: 0 | DO34: 0 | DP34: 1 | DQ34: 1 | DU34: 1013 | DV34: ШТ | DW34: ШТ | DX34: 1 | EE34: 37164457 | EF34: 8 | EG34: Материалы строительные | EH34: 0 | EJ34: 1 | EK34: 1100 | EL34: Материалы, изделия и конструкции | EM34: материалы (03) | EQ34: 0 | ER34: 0 | ES34: 41073.33 | ET34: 0 | EU34: 0 | EV34: 0 | EW34: 0 | EX34: 0 | EY34: 0 | EZ34: 5 | FC34: 1 | FD34: 18 | FF34: 49288 | FQ34: 0 | FR34: =ROUND(IF(AND(BH34=3,BI34=3),P34,0),2) -> 698247 | FS34: 0 | FX34: 0 | FY34: 0 | GA34: [49 288 / 1,2] | GD34: 1 | GF34: -240708330 | GG34: 2 | GH34: 3 | GI34: -2 | GJ34: 0 | GK34: 0 | GL34: =ROUND(IF(AND(BH34=3,BI34=3,FS34<>0),P34,0),2) -> 0 | GM34: =ROUND(O34+X34+Y34,2)+GX34 -> 698247 | GN34: =IF(OR(BI34=0,BI34=1),ROUND(O34+X34+Y34,2),0) -> 0 | GO34: =IF(BI34=2,ROUND(O34+X34+Y34,2),0) -> 0 | GP34: =IF(BI34=4,ROUND(O34+X34+Y34,2)+GX34,0) -> 0 | GR34: 1 | GS34: 1 | GT34: 0 | GV34: =ROUND((GT34),6) -> 0 | GW34: 1 | GX34: =ROUND(HC34*I34,2) -> 0 | HA34: 0 | HB34: 0 | HC34: =GV34*GW34 -> 0 | HE34: 0 | HF34: 0 | HH34: =ROUND(AC34*I34,0) -> 698247 | IK34: 0
A35: 17 | B35: 1 | E35: 2 | F35: Цена поставщика | G35: Генератор огнетушащего аэрозоля FR 750E | H35: ШТ | I35: 17 | J35: 0 | K35: 17 | O35: =ROUND(CP35,2) -> 149450.51 | P35: =ROUND(ROUND(CQ35*I35,0)/BC35,2) -> 149450.51 | Q35: =ROUND(CR35*I35,2) -> 0 | R35: =ROUND(CS35*I35,2) -> 0 | S35: =ROUND(CT35*I35,2) -> 0 | T35: =ROUND(CU35*I35,2) -> 0 | U35: =CV35*I35 -> 0 | V35: =CW35*I35 -> 0 | W35: =ROUND(CX35*I35,2) -> 0 | X35: =ROUND(CY35,2) -> 0 | Y35: =ROUND(CZ35,2) -> 0 | AA35: 41727979 | AB35: =ROUND((AC35+AD35+AF35),6) -> 42813.2 | AC35: =ROUND((ES35),6) -> 42813.2 | AD35: =ROUND((((ET35)-(EU35))+AE35),6) -> 0 | AE35: =ROUND((EU35),6) -> 0 | AF35: =ROUND((EV35),6) -> 0 | AG35: =ROUND((AP35),6) -> 0 | AH35: =(EW35) -> 0 | AI35: =(EX35) -> 0 | AJ35: =(AS35) -> 0 | AK35: 42813.2 | AL35: 42813.2 | AM35: 0 | AN35: 0 | AO35: 0 | AP35: 0 | AQ35: 0 | AR35: 0 | AS35: 0 | AT35: 0 | AU35: 0 | AV35: 1 | AW35: 1 | AZ35: 4.87 | BA35: 1 | BB35: 1 | BC35: 4.87 | BH35: 3 | BI35: 3 | BM35: 1100 | BN35: 0 | BO35: Письмо Минстроя России от 22.11.2021 №50719-ИФ/09 | BP35: 1 | BQ35: 8 | BR35: 0 | BS35: 1 | BT35: 1 | BU35: 1 | BV35: 1 | BW35: 1 | BX35: 1 | BZ35: 0 | CA35: 0 | CE35: 0 | CF35: 0 | CG35: 0 | CM35: 0 | CO35: 0 | CP35: =(P35+Q35+S35) -> 149450.51 | CQ35: =AC35 -> 42813.2 | CR35: =AD35*BB35 -> 0 | CS35: =AE35 -> 0 | CT35: =AF35 -> 0 | CU35: =AG35 -> 0 | CV35: =AH35 -> 0 | CW35: =AI35 -> 0 | CX35: =AJ35 -> 0 | CY35: =(((S35+R35)*AT35)/100) -> 0 | CZ35: =(((S35+R35)*AU35)/100) -> 0 | DN35: 0 | DO35: 0 | DP35: 1 | DQ35: 1 | DU35: 1013 | DV35: ШТ | DW35: ШТ | DX35: 1 | EE35: 37164457 | EF35: 8 | EG35: Материалы строительные | EH35: 0 | EJ35: 1 | EK35: 1100 | EL35: Материалы, изделия и конструкции | EM35: материалы (03) | EQ35: 0 | ER35: 42813.2 | ES35: 42813.2 | ET35: 0 | EU35: 0 | EV35: 0 | EW35: 0 | EX35: 0 | EY35: 0 | EZ35: 5 | FC35: 1 | FD35: 18 | FF35: 49288 | FQ35: 0 | FR35: =ROUND(IF(AND(BH35=3,BI35=3),P35,0),2) -> 149450.51 | FS35: 0 | FX35: 0 | FY35: 0 | GA35: [49 288 / 1,2] + 3% Трансп + 1,2% Заг.скл | GD35: 1 | GF35: -240708330 | GG35: 1 | GH35: 3 | GI35: 4 | GJ35: 0 | GK35: 0 | GL35: =ROUND(IF(AND(BH35=3,BI35=3,FS35<>0),P35,0),2) -> 0 | GM35: =ROUND(O35+X35+Y35,2)+GX35 -> 149450.51 | GN35: =IF(OR(BI35=0,BI35=1),ROUND(O35+X35+Y35,2),0) -> 0 | GO35: =IF(BI35=2,ROUND(O35+X35+Y35,2),0) -> 0 | GP35: =IF(BI35=4,ROUND(O35+X35+Y35,2)+GX35,0) -> 0 | GR35: 1 | GS35: 1 | GT35: 0 | GV35: =ROUND((GT35),6) -> 0 | GW35: 1 | GX35: =ROUND(HC35*I35,2) -> 0 | HA35: 0 | HB35: 0 | HC35: =GV35*GW35 -> 0 | HE35: 3 | HF35: 1,2 | HH35: =ROUND(AC35*I35,0) -> 727824 | IK35: 0
A36: 17 | B36: 1 | E36: 3 | F36: Цена поставщика | G36: Генератор огнетушащего аэрозоля FR 750E(ЗИП) | H36: ШТ | I36: 17 | J36: 0 | K36: 17 | O36: =ROUND(CP36,2) -> 698247 | P36: =ROUND(ROUND(CQ36*I36,0)/BC36,2) -> 698247 | Q36: =ROUND(CR36*I36,2) -> 0 | R36: =ROUND(CS36*I36,2) -> 0 | S36: =ROUND(CT36*I36,2) -> 0 | T36: =ROUND(CU36*I36,2) -> 0 | U36: =CV36*I36 -> 0 | V36: =CW36*I36 -> 0 | W36: =ROUND(CX36*I36,2) -> 0 | X36: =ROUND(CY36,2) -> 0 | Y36: =ROUND(CZ36,2) -> 0 | AA36: 41727981 | AB36: =ROUND((AC36+AD36+AF36),6) -> 41073.33 | AC36: =ROUND((ES36),6) -> 41073.33 | AD36: =ROUND((((ET36)-(EU36))+AE36),6) -> 0 | AE36: =ROUND((EU36),6) -> 0 | AF36: =ROUND((EV36),6) -> 0 | AG36: =ROUND((AP36),6) -> 0 | AH36: =(EW36) -> 0 | AI36: =(EX36) -> 0 | AJ36: =(AS36) -> 0 | AK36: 41073.33 | AL36: 41073.33 | AM36: 0 | AN36: 0 | AO36: 0 | AP36: 0 | AQ36: 0 | AR36: 0 | AS36: 0 | AT36: 0 | AU36: 0 | AV36: 1 | AW36: 1 | AZ36: 1 | BA36: 1 | BB36: 1 | BC36: 1 | BH36: 3 | BI36: 3 | BM36: 1100 | BN36: 0 | BP36: 0 | BQ36: 8 | BR36: 0 | BS36: 1 | BT36: 1 | BU36: 1 | BV36: 1 | BW36: 1 | BX36: 1 | BZ36: 0 | CA36: 0 | CE36: 0 | CF36: 0 | CG36: 0 | CM36: 0 | CO36: 0 | CP36: =(P36+Q36+S36) -> 698247 | CQ36: =AC36 -> 41073.33 | CR36: =AD36*BB36 -> 0 | CS36: =AE36 -> 0 | CT36: =AF36 -> 0 | CU36: =AG36 -> 0 | CV36: =AH36 -> 0 | CW36: =AI36 -> 0 | CX36: =AJ36 -> 0 | CY36: =(((S36+R36)*AT36)/100) -> 0 | CZ36: =(((S36+R36)*AU36)/100) -> 0 | DN36: 0 | DO36: 0 | DP36: 1 | DQ36: 1 | DU36: 1013 | DV36: ШТ | DW36: ШТ | DX36: 1 | EE36: 37164457 | EF36: 8 | EG36: Материалы строительные | EH36: 0 | EJ36: 1 | EK36: 1100 | EL36: Материалы, изделия и конструкции | EM36: материалы (03) | EQ36: 0 | ER36: 0 | ES36: 41073.33 | ET36: 0 | EU36: 0 | EV36: 0 | EW36: 0 | EX36: 0 | EY36: 0 | EZ36: 5 | FC36: 1 | FD36: 18 | FF36: 49288 | FQ36: 0 | FR36: =ROUND(IF(AND(BH36=3,BI36=3),P36,0),2) -> 698247 | FS36: 0 | FX36: 0 | FY36: 0 | GA36: [49 288 / 1,2] | GD36: 1 | GF36: -11720255 | GG36: 2 | GH36: 3 | GI36: -2 | GJ36: 0 | GK36: 0 | GL36: =ROUND(IF(AND(BH36=3,BI36=3,FS36<>0),P36,0),2) -> 0 | GM36: =ROUND(O36+X36+Y36,2)+GX36 -> 698247 | GN36: =IF(OR(BI36=0,BI36=1),ROUND(O36+X36+Y36,2),0) -> 0 | GO36: =IF(BI36=2,ROUND(O36+X36+Y36,2),0) -> 0 | GP36: =IF(BI36=4,ROUND(O36+X36+Y36,2)+GX36,0) -> 0 | GR36: 1 | GS36: 1 | GT36: 0 | GV36: =ROUND((GT36),6) -> 0 | GW36: 1 | GX36: =ROUND(HC36*I36,2) -> 0 | HA36: 0 | HB36: 0 | HC36: =GV36*GW36 -> 0 | HE36: 0 | HF36: 0 | HH36: =ROUND(AC36*I36,0) -> 698247 | IK36: 0
A37: 17 | B37: 1 | E37: 3 | F37: Цена поставщика | G37: Генератор огнетушащего аэрозоля FR 750E(ЗИП) | H37: ШТ | I37: 17 | J37: 0 | K37: 17 | O37: =ROUND(CP37,2) -> 149450.51 | P37: =ROUND(ROUND(CQ37*I37,0)/BC37,2) -> 149450.51 | Q37: =ROUND(CR37*I37,2) -> 0 | R37: =ROUND(CS37*I37,2) -> 0 | S37: =ROUND(CT37*I37,2) -> 0 | T37: =ROUND(CU37*I37,2) -> 0 | U37: =CV37*I37 -> 0 | V37: =CW37*I37 -> 0 | W37: =ROUND(CX37*I37,2) -> 0 | X37: =ROUND(CY37,2) -> 0 | Y37: =ROUND(CZ37,2) -> 0 | AA37: 41727979 | AB37: =ROUND((AC37+AD37+AF37),6) -> 42813.2 | AC37: =ROUND((ES37),6) -> 42813.2 | AD37: =ROUND((((ET37)-(EU37))+AE37),6) -> 0 | AE37: =ROUND((EU37),6) -> 0 | AF37: =ROUND((EV37),6) -> 0 | AG37: =ROUND((AP37),6) -> 0 | AH37: =(EW37) -> 0 | AI37: =(EX37) -> 0 | AJ37: =(AS37) -> 0 | AK37: 42813.2 | AL37: 42813.2 | AM37: 0 | AN37: 0 | AO37: 0 | AP37: 0 | AQ37: 0 | AR37: 0 | AS37: 0 | AT37: 0 | AU37: 0 | AV37: 1 | AW37: 1 | AZ37: 4.87 | BA37: 1 | BB37: 1 | BC37: 4.87 | BH37: 3 | BI37: 3 | BM37: 1100 | BN37: 0 | BO37: Письмо Минстроя России от 22.11.2021 №50719-ИФ/09 | BP37: 1 | BQ37: 8 | BR37: 0 | BS37: 1 | BT37: 1 | BU37: 1 | BV37: 1 | BW37: 1 | BX37: 1 | BZ37: 0 | CA37: 0 | CE37: 0 | CF37: 0 | CG37: 0 | CM37: 0 | CO37: 0 | CP37: =(P37+Q37+S37) -> 149450.51 | CQ37: =AC37 -> 42813.2 | CR37: =AD37*BB37 -> 0 | CS37: =AE37 -> 0 | CT37: =AF37 -> 0 | CU37: =AG37 -> 0 | CV37: =AH37 -> 0 | CW37: =AI37 -> 0 | CX37: =AJ37 -> 0 | CY37: =(((S37+R37)*AT37)/100) -> 0 | CZ37: =(((S37+R37)*AU37)/100) -> 0 | DN37: 0 | DO37: 0 | DP37: 1 | DQ37: 1 | DU37: 1013 | DV37: ШТ | DW37: ШТ | DX37: 1 | EE37: 37164457 | EF37: 8 | EG37: Материалы строительные | EH37: 0 | EJ37: 1 | EK37: 1100 | EL37: Материалы, изделия и конструкции | EM37: материалы (03) | EQ37: 0 | ER37: 42813.2 | ES37: 42813.2 | ET37: 0 | EU37: 0 | EV37: 0 | EW37: 0 | EX37: 0 | EY37: 0 | EZ37: 5 | FC37: 1 | FD37: 18 | FF37: 49288 | FQ37: 0 | FR37: =ROUND(IF(AND(BH37=3,BI37=3),P37,0),2) -> 149450.51 | FS37: 0 | FX37: 0 | FY37: 0 | GA37: [49 288 / 1,2] + 3% Трансп + 1,2% Заг.скл | GD37: 1 | GF37: -11720255 | GG37: 1 | GH37: 3 | GI37: 4 | GJ37: 0 | GK37: 0 | GL37: =ROUND(IF(AND(BH37=3,BI37=3,FS37<>0),P37,0),2) -> 0 | GM37: =ROUND(O37+X37+Y37,2)+GX37 -> 149450.51 | GN37: =IF(OR(BI37=0,BI37=1),ROUND(O37+X37+Y37,2),0) -> 0 | GO37: =IF(BI37=2,ROUND(O37+X37+Y37,2),0) -> 0 | GP37: =IF(BI37=4,ROUND(O37+X37+Y37,2)+GX37,0) -> 0 | GR37: 1 | GS37: 1 | GT37: 0 | GV37: =ROUND((GT37),6) -> 0 | GW37: 1 | GX37: =ROUND(HC37*I37,2) -> 0 | HA37: 0 | HB37: 0 | HC37: =GV37*GW37 -> 0 | HE37: 3 | HF37: 1,2 | HH37: =ROUND(AC37*I37,0) -> 727824 | IK37: 0
A38: 17 | B38: 1 | E38: 4 | F38: Цена поставщика | G38: Генератор огнетушащего аэрозоля FR-3500E | H38: ШТ | I38: 11 | J38: 0 | K38: 11 | O38: =ROUND(CP38,2) -> 524022 | P38: =ROUND(ROUND(CQ38*I38,0)/BC38,2) -> 524022 | Q38: =ROUND(CR38*I38,2) -> 0 | R38: =ROUND(CS38*I38,2) -> 0 | S38: =ROUND(CT38*I38,2) -> 0 | T38: =ROUND(CU38*I38,2) -> 0 | U38: =CV38*I38 -> 0 | V38: =CW38*I38 -> 0 | W38: =ROUND(CX38*I38,2) -> 0 | X38: =ROUND(CY38,2) -> 0 | Y38: =ROUND(CZ38,2) -> 0 | AA38: 41727981 | AB38: =ROUND((AC38+AD38+AF38),6) -> 47638.33 | AC38: =ROUND((ES38),6) -> 47638.33 | AD38: =ROUND((((ET38)-(EU38))+AE38),6) -> 0 | AE38: =ROUND((EU38),6) -> 0 | AF38: =ROUND((EV38),6) -> 0 | AG38: =ROUND((AP38),6) -> 0 | AH38: =(EW38) -> 0 | AI38: =(EX38) -> 0 | AJ38: =(AS38) -> 0 | AK38: 47638.33 | AL38: 47638.33 | AM38: 0 | AN38: 0 | AO38: 0 | AP38: 0 | AQ38: 0 | AR38: 0 | AS38: 0 | AT38: 0 | AU38: 0 | AV38: 1 | AW38: 1 | AZ38: 1 | BA38: 1 | BB38: 1 | BC38: 1 | BH38: 3 | BI38: 3 | BM38: 1100 | BN38: 0 | BP38: 0 | BQ38: 8 | BR38: 0 | BS38: 1 | BT38: 1 | BU38: 1 | BV38: 1 | BW38: 1 | BX38: 1 | BZ38: 0 | CA38: 0 | CE38: 0 | CF38: 0 | CG38: 0 | CM38: 0 | CO38: 0 | CP38: =(P38+Q38+S38) -> 524022 | CQ38: =AC38 -> 47638.33 | CR38: =AD38*BB38 -> 0 | CS38: =AE38 -> 0 | CT38: =AF38 -> 0 | CU38: =AG38 -> 0 | CV38: =AH38 -> 0 | CW38: =AI38 -> 0 | CX38: =AJ38 -> 0 | CY38: =(((S38+R38)*AT38)/100) -> 0 | CZ38: =(((S38+R38)*AU38)/100) -> 0 | DN38: 0 | DO38: 0 | DP38: 1 | DQ38: 1 | DU38: 1013 | DV38: ШТ | DW38: ШТ | DX38: 1 | EE38: 37164457 | EF38: 8 | EG38: Материалы строительные | EH38: 0 | EJ38: 1 | EK38: 1100 | EL38: Материалы, изделия и конструкции | EM38: материалы (03) | EQ38: 0 | ER38: 0 | ES38: 47638.33 | ET38: 0 | EU38: 0 | EV38: 0 | EW38: 0 | EX38: 0 | EY38: 0 | EZ38: 5 | FC38: 1 | FD38: 18 | FF38: 57166 | FQ38: 0 | FR38: =ROUND(IF(AND(BH38=3,BI38=3),P38,0),2) -> 524022 | FS38: 0 | FX38: 0 | FY38: 0 | GA38: [57 166 / 1,2] | GD38: 1 | GF38: -83441628 | GG38: 2 | GH38: 3 | GI38: -2 | GJ38: 0 | GK38: 0 | GL38: =ROUND(IF(AND(BH38=3,BI38=3,FS38<>0),P38,0),2) -> 0 | GM38: =ROUND(O38+X38+Y38,2)+GX38 -> 524022 | GN38: =IF(OR(BI38=0,BI38=1),ROUND(O38+X38+Y38,2),0) -> 0 | GO38: =IF(BI38=2,ROUND(O38+X38+Y38,2),0) -> 0 | GP38: =IF(BI38=4,ROUND(O38+X38+Y38,2)+GX38,0) -> 0 | GR38: 1 | GS38: 1 | GT38: 0 | GV38: =ROUND((GT38),6) -> 0 | GW38: 1 | GX38: =ROUND(HC38*I38,2) -> 0 | HA38: 0 | HB38: 0 | HC38: =GV38*GW38 -> 0 | HE38: 0 | HF38: 0 | HH38: =ROUND(AC38*I38,0) -> 524022 | IK38: 0
A39: 17 | B39: 1 | E39: 4 | F39: Цена поставщика | G39: Генератор огнетушащего аэрозоля FR-3500E | H39: ШТ | I39: 11 | J39: 0 | K39: 11 | O39: =ROUND(CP39,2) -> 112159.96 | P39: =ROUND(ROUND(CQ39*I39,0)/BC39,2) -> 112159.96 | Q39: =ROUND(CR39*I39,2) -> 0 | R39: =ROUND(CS39*I39,2) -> 0 | S39: =ROUND(CT39*I39,2) -> 0 | T39: =ROUND(CU39*I39,2) -> 0 | U39: =CV39*I39 -> 0 | V39: =CW39*I39 -> 0 | W39: =ROUND(CX39*I39,2) -> 0 | X39: =ROUND(CY39,2) -> 0 | Y39: =ROUND(CZ39,2) -> 0 | AA39: 41727979 | AB39: =ROUND((AC39+AD39+AF39),6) -> 49656.29 | AC39: =ROUND((ES39),6) -> 49656.29 | AD39: =ROUND((((ET39)-(EU39))+AE39),6) -> 0 | AE39: =ROUND((EU39),6) -> 0 | AF39: =ROUND((EV39),6) -> 0 | AG39: =ROUND((AP39),6) -> 0 | AH39: =(EW39) -> 0 | AI39: =(EX39) -> 0 | AJ39: =(AS39) -> 0 | AK39: 49656.29 | AL39: 49656.29 | AM39: 0 | AN39: 0 | AO39: 0 | AP39: 0 | AQ39: 0 | AR39: 0 | AS39: 0 | AT39: 0 | AU39: 0 | AV39: 1 | AW39: 1 | AZ39: 4.87 | BA39: 1 | BB39: 1 | BC39: 4.87 | BH39: 3 | BI39: 3 | BM39: 1100 | BN39: 0 | BO39: Письмо Минстроя России от 22.11.2021 №50719-ИФ/09 | BP39: 1 | BQ39: 8 | BR39: 0 | BS39: 1 | BT39: 1 | BU39: 1 | BV39: 1 | BW39: 1 | BX39: 1 | BZ39: 0 | CA39: 0 | CE39: 0 | CF39: 0 | CG39: 0 | CM39: 0 | CO39: 0 | CP39: =(P39+Q39+S39) -> 112159.96 | CQ39: =AC39 -> 49656.29 | CR39: =AD39*BB39 -> 0 | CS39: =AE39 -> 0 | CT39: =AF39 -> 0 | CU39: =AG39 -> 0 | CV39: =AH39 -> 0 | CW39: =AI39 -> 0 | CX39: =AJ39 -> 0 | CY39: =(((S39+R39)*AT39)/100) -> 0 | CZ39: =(((S39+R39)*AU39)/100) -> 0 | DN39: 0 | DO39: 0 | DP39: 1 | DQ39: 1 | DU39: 1013 | DV39: ШТ | DW39: ШТ | DX39: 1 | EE39: 37164457 | EF39: 8 | EG39: Материалы строительные | EH39: 0 | EJ39: 1 | EK39: 1100 | EL39: Материалы, изделия и конструкции | EM39: материалы (03) | EQ39: 0 | ER39: 49656.29 | ES39: 49656.29 | ET39: 0 | EU39: 0 | EV39: 0 | EW39: 0 | EX39: 0 | EY39: 0 | EZ39: 5 | FC39: 1 | FD39: 18 | FF39: 57166 | FQ39: 0 | FR39: =ROUND(IF(AND(BH39=3,BI39=3),P39,0),2) -> 112159.96 | FS39: 0 | FX39: 0 | FY39: 0 | GA39: [57 166 / 1,2] + 3% Трансп + 1,2% Заг.скл | GD39: 1 | GF39: -83441628 | GG39: 1 | GH39: 3 | GI39: 4 | GJ39: 0 | GK39: 0 | GL39: =ROUND(IF(AND(BH39=3,BI39=3,FS39<>0),P39,0),2) -> 0 | GM39: =ROUND(O39+X39+Y39,2)+GX39 -> 112159.96 | GN39: =IF(OR(BI39=0,BI39=1),ROUND(O39+X39+Y39,2),0) -> 0 | GO39: =IF(BI39=2,ROUND(O39+X39+Y39,2),0) -> 0 | GP39: =IF(BI39=4,ROUND(O39+X39+Y39,2)+GX39,0) -> 0 | GR39: 1 | GS39: 1 | GT39: 0 | GV39: =ROUND((GT39),6) -> 0 | GW39: 1 | GX39: =ROUND(HC39*I39,2) -> 0 | HA39: 0 | HB39: 0 | HC39: =GV39*GW39 -> 0 | HE39: 3 | HF39: 1,2 | HH39: =ROUND(AC39*I39,0) -> 546219 | IK39: 0
A40: 17 | B40: 1 | E40: 5 | F40: Цена поставщика | G40: Генератор огнетушащего аэрозоля FR-3500E(ЗИП) | H40: ШТ | I40: 11 | J40: 0 | K40: 11 | O40: =ROUND(CP40,2) -> 524022 | P40: =ROUND(ROUND(CQ40*I40,0)/BC40,2) -> 524022 | Q40: =ROUND(CR40*I40,2) -> 0 | R40: =ROUND(CS40*I40,2) -> 0 | S40: =ROUND(CT40*I40,2) -> 0 | T40: =ROUND(CU40*I40,2) -> 0 | U40: =CV40*I40 -> 0 | V40: =CW40*I40 -> 0 | W40: =ROUND(CX40*I40,2) -> 0 | X40: =ROUND(CY40,2) -> 0 | Y40: =ROUND(CZ40,2) -> 0 | AA40: 41727981 | AB40: =ROUND((AC40+AD40+AF40),6) -> 47638.33 | AC40: =ROUND((ES40),6) -> 47638.33 | AD40: =ROUND((((ET40)-(EU40))+AE40),6) -> 0 | AE40: =ROUND((EU40),6) -> 0 | AF40: =ROUND((EV40),6) -> 0 | AG40: =ROUND((AP40),6) -> 0 | AH40: =(EW40) -> 0 | AI40: =(EX40) -> 0 | AJ40: =(AS40) -> 0 | AK40: 47638.33 | AL40: 47638.33 | AM40: 0 | AN40: 0 | AO40: 0 | AP40: 0 | AQ40: 0 | AR40: 0 | AS40: 0 | AT40: 0 | AU40: 0 | AV40: 1 | AW40: 1 | AZ40: 1 | BA40: 1 | BB40: 1 | BC40: 1 | BH40: 3 | BI40: 3 | BM40: 1100 | BN40: 0 | BP40: 0 | BQ40: 8 | BR40: 0 | BS40: 1 | BT40: 1 | BU40: 1 | BV40: 1 | BW40: 1 | BX40: 1 | BZ40: 0 | CA40: 0 | CE40: 0 | CF40: 0 | CG40: 0 | CM40: 0 | CO40: 0 | CP40: =(P40+Q40+S40) -> 524022 | CQ40: =AC40 -> 47638.33 | CR40: =AD40*BB40 -> 0 | CS40: =AE40 -> 0 | CT40: =AF40 -> 0 | CU40: =AG40 -> 0 | CV40: =AH40 -> 0 | CW40: =AI40 -> 0 | CX40: =AJ40 -> 0 | CY40: =(((S40+R40)*AT40)/100) -> 0 | CZ40: =(((S40+R40)*AU40)/100) -> 0 | DN40: 0 | DO40: 0 | DP40: 1 | DQ40: 1 | DU40: 1013 | DV40: ШТ | DW40: ШТ | DX40: 1 | EE40: 37164457 | EF40: 8 | EG40: Материалы строительные | EH40: 0 | EJ40: 1 | EK40: 1100 | EL40: Материалы, изделия и конструкции | EM40: материалы (03) | EQ40: 0 | ER40: 0 | ES40: 47638.33 | ET40: 0 | EU40: 0 | EV40: 0 | EW40: 0 | EX40: 0 | EY40: 0 | EZ40: 5 | FC40: 1 | FD40: 18 | FF40: 57166 | FQ40: 0 | FR40: =ROUND(IF(AND(BH40=3,BI40=3),P40,0),2) -> 524022 | FS40: 0 | FX40: 0 | FY40: 0 | GA40: [57 166 / 1,2] | GD40: 1 | GF40: 1419382682 | GG40: 2 | GH40: 3 | GI40: -2 | GJ40: 0 | GK40: 0 | GL40: =ROUND(IF(AND(BH40=3,BI40=3,FS40<>0),P40,0),2) -> 0 | GM40: =ROUND(O40+X40+Y40,2)+GX40 -> 524022 | GN40: =IF(OR(BI40=0,BI40=1),ROUND(O40+X40+Y40,2),0) -> 0 | GO40: =IF(BI40=2,ROUND(O40+X40+Y40,2),0) -> 0 | GP40: =IF(BI40=4,ROUND(O40+X40+Y40,2)+GX40,0) -> 0 | GR40: 1 | GS40: 1 | GT40: 0 | GV40: =ROUND((GT40),6) -> 0 | GW40: 1 | GX40: =ROUND(HC40*I40,2) -> 0 | HA40: 0 | HB40: 0 | HC40: =GV40*GW40 -> 0 | HE40: 0 | HF40: 0 | HH40: =ROUND(AC40*I40,0) -> 524022 | IK40: 0
A41: 17 | B41: 1 | E41: 5 | F41: Цена поставщика | G41: Генератор огнетушащего аэрозоля FR-3500E(ЗИП) | H41: ШТ | I41: 11 | J41: 0 | K41: 11 | O41: =ROUND(CP41,2) -> 112159.96 | P41: =ROUND(ROUND(CQ41*I41,0)/BC41,2) -> 112159.96 | Q41: =ROUND(CR41*I41,2) -> 0 | R41: =ROUND(CS41*I41,2) -> 0 | S41: =ROUND(CT41*I41,2) -> 0 | T41: =ROUND(CU41*I41,2) -> 0 | U41: =CV41*I41 -> 0 | V41: =CW41*I41 -> 0 | W41: =ROUND(CX41*I41,2) -> 0 | X41: =ROUND(CY41,2) -> 0 | Y41: =ROUND(CZ41,2) -> 0 | AA41: 41727979 | AB41: =ROUND((AC41+AD41+AF41),6) -> 49656.29 | AC41: =ROUND((ES41),6) -> 49656.29 | AD41: =ROUND((((ET41)-(EU41))+AE41),6) -> 0 | AE41: =ROUND((EU41),6) -> 0 | AF41: =ROUND((EV41),6) -> 0 | AG41: =ROUND((AP41),6) -> 0 | AH41: =(EW41) -> 0 | AI41: =(EX41) -> 0 | AJ41: =(AS41) -> 0 | AK41: 49656.29 | AL41: 49656.29 | AM41: 0 | AN41: 0 | AO41: 0 | AP41: 0 | AQ41: 0 | AR41: 0 | AS41: 0 | AT41: 0 | AU41: 0 | AV41: 1 | AW41: 1 | AZ41: 4.87 | BA41: 1 | BB41: 1 | BC41: 4.87 | BH41: 3 | BI41: 3 | BM41: 1100 | BN41: 0 | BO41: Письмо Минстроя России от 22.11.2021 №50719-ИФ/09 | BP41: 1 | BQ41: 8 | BR41: 0 | BS41: 1 | BT41: 1 | BU41: 1 | BV41: 1 | BW41: 1 | BX41: 1 | BZ41: 0 | CA41: 0 | CE41: 0 | CF41: 0 | CG41: 0 | CM41: 0 | CO41: 0 | CP41: =(P41+Q41+S41) -> 112159.96 | CQ41: =AC41 -> 49656.29 | CR41: =AD41*BB41 -> 0 | CS41: =AE41 -> 0 | CT41: =AF41 -> 0 | CU41: =AG41 -> 0 | CV41: =AH41 -> 0 | CW41: =AI41 -> 0 | CX41: =AJ41 -> 0 | CY41: =(((S41+R41)*AT41)/100) -> 0 | CZ41: =(((S41+R41)*AU41)/100) -> 0 | DN41: 0 | DO41: 0 | DP41: 1 | DQ41: 1 | DU41: 1013 | DV41: ШТ | DW41: ШТ | DX41: 1 | EE41: 37164457 | EF41: 8 | EG41: Материалы строительные | EH41: 0 | EJ41: 1 | EK41: 1100 | EL41: Материалы, изделия и конструкции | EM41: материалы (03) | EQ41: 0 | ER41: 49656.29 | ES41: 49656.29 | ET41: 0 | EU41: 0 | EV41: 0 | EW41: 0 | EX41: 0 | EY41: 0 | EZ41: 5 | FC41: 1 | FD41: 18 | FF41: 57166 | FQ41: 0 | FR41: =ROUND(IF(AND(BH41=3,BI41=3),P41,0),2) -> 112159.96 | FS41: 0 | FX41: 0 | FY41: 0 | GA41: [57 166 / 1,2] + 3% Трансп + 1,2% Заг.скл | GD41: 1 | GF41: 1419382682 | GG41: 1 | GH41: 3 | GI41: 4 | GJ41: 0 | GK41: 0 | GL41: =ROUND(IF(AND(BH41=3,BI41=3,FS41<>0),P41,0),2) -> 0 | GM41: =ROUND(O41+X41+Y41,2)+GX41 -> 112159.96 | GN41: =IF(OR(BI41=0,BI41=1),ROUND(O41+X41+Y41,2),0) -> 0 | GO41: =IF(BI41=2,ROUND(O41+X41+Y41,2),0) -> 0 | GP41: =IF(BI41=4,ROUND(O41+X41+Y41,2)+GX41,0) -> 0 | GR41: 1 | GS41: 1 | GT41: 0 | GV41: =ROUND((GT41),6) -> 0 | GW41: 1 | GX41: =ROUND(HC41*I41,2) -> 0 | HA41: 0 | HB41: 0 | HC41: =GV41*GW41 -> 0 | HE41: 3 | HF41: 1,2 | HH41: =ROUND(AC41*I41,0) -> 546219 | IK41: 0
A42: 17 | B42: 1 | C42: =ROW(SmtRes!A23) -> 23 | D42: =ROW(EtalonRes!A23) -> 23 | E42: 6 | F42: м08-03-573-04 | G42: Шкаф (пульт) управления навесной, высота, ширина и глубина: до 600х600х350 мм | H42: ШТ | I42: 2 | J42: 0 | K42: 2 | O42: =ROUND(CP42,2) -> 151.44 | P42: =ROUND(CQ42*I42,2) -> 5.88 | Q42: =ROUND(CR42*I42,2) -> 90.37 | R42: =ROUND(CS42*I42,2) -> 9.23 | S42: =ROUND(CT42*I42,2) -> 55.19 | T42: =ROUND(CU42*I42,2) -> 0 | U42: =CV42*I42 -> 5.562 | V42: =CW42*I42 -> 0.837 | W42: =ROUND(CX42*I42,2) -> 0 | X42: =ROUND(CY42,2) -> 62.49 | Y42: =ROUND(CZ42,2) -> 32.85 | AA42: 41727981 | AB42: =ROUND((AC42+AD42+AF42),6) -> 75.7185 | AC42: =ROUND((ES42),6) -> 2.94 | AD42: =ROUND(((((ET42*ROUND(1.35,7)))-((EU42*ROUND(1.35,7))))+AE42),6) -> 45.1845 | AE42: =ROUND(((EU42*ROUND(1.35,7))),6) -> 4.617 | AF42: =ROUND(((EV42*ROUND(1.35,7))),6) -> 27.594 | AG42: =ROUND((AP42),6) -> 0 | AH42: =((EW42*ROUND(1.35,7))) -> 2.781 | AI42: =((EX42*ROUND(1.35,7))) -> 0.4185 | AJ42: =(AS42) -> 0 | AK42: 56.85 | AL42: 2.94 | AM42: 33.47 | AN42: 3.42 | AO42: 20.44 | AP42: 0 | AQ42: 2.06 | AR42: 0.31 | AS42: 0 | AT42: 97 | AU42: 51 | AV42: 1 | AW42: 1 | AZ42: 1 | BA42: 1 | BB42: 1 | BC42: 1 | BH42: 0 | BI42: 2 | BJ42: ФЕРм-2001, м08-03-573-04, приказ Минстроя России № 876/пр от 26.12.2019 | BM42: 108001 | BN42: 0 | BP42: 0 | BQ42: 3 | BR42: 0 | BS42: 1 | BT42: 1 | BU42: 1 | BV42: 1 | BW42: 1 | BX42: 1 | BZ42: 97 | CA42: 51 | CE42: 0 | CF42: 0 | CG42: 0 | CM42: 0 | CN42: Поправка: Мет.421/пр 04.08.20 Пр.10 Т.3 п. 1.2 Наименование: Производство ремонтно-строительных работ осуществляется в помещениях эксплуатируемого объекта капитального строительства без остановки рабочего процесса, при этом: в зоне производства ремонтно-строительных работ имеются действующее технологическое или лабораторное оборудование, мебель и иные загромождающие помещения предметы | CO42: 0 | CP42: =(P42+Q42+S42) -> 151.44 | CQ42: =AC42*BC42 -> 2.94 | CR42: =AD42*BB42 -> 45.1845 | CS42: =AE42 -> 4.617 | CT42: =AF42 -> 27.594 | CU42: =AG42 -> 0 | CV42: =AH42 -> 2.781 | CW42: =AI42 -> 0.4185 | CX42: =AJ42 -> 0 | CY42: =(((S42+R42)*AT42)/100) -> 62.4874 | CZ42: =(((S42+R42)*AU42)/100) -> 32.8542 | DE42: )*1,35 | DF42: )*1,35 | DG42: )*1,35 | DI42: )*1,35 | DJ42: )*1,35 | DN42: 0 | DO42: 0 | DP42: 1 | DQ42: 1 | DU42: 1013 | DV42: ШТ | DW42: ШТ | DX42: 1 | EE42: 37164029 | EF42: 3 | EG42: Монтажные работы | EH42: 0 | EJ42: 2 | EK42: 108001 | EL42: Электротехнические установки: на других объектах | EM42: мФЕР-08 | EO42: Поправка: Мет.421/пр 04.08.20 Пр.10 Т.3 п. 1.2 | EQ42: 512 | ER42: 56.85 | ES42: 2.94 | ET42: 33.47 | EU42: 3.42 | EV42: 20.44 | EW42: 2.06 | EX42: 0.31 | EY42: 0 | FQ42: 0 | FR42: =ROUND(IF(AND(BH42=3,BI42=3),P42,0),2) -> 0 | FS42: 0 | FX42: 97 | FY42: 51 | GD42: 1 | GF42: 1842750133 | GG42: 2 | GH42: 1 | GI42: -2 | GJ42: 0 | GK42: 0 | GL42: =ROUND(IF(AND(BH42=3,BI42=3,FS42<>0),P42,0),2) -> 0 | GM42: =ROUND(O42+X42+Y42,2)+GX42 -> 246.78 | GN42: =IF(OR(BI42=0,BI42=1),ROUND(O42+X42+Y42,2),0) -> 0 | GO42: =IF(BI42=2,ROUND(O42+X42+Y42,2),0) -> 246.78 | GP42: =IF(BI42=4,ROUND(O42+X42+Y42,2)+GX42,0) -> 0 | GR42: 0 | GS42: 3 | GT42: 0 | GV42: =ROUND((GT42),6) -> 0 | GW42: 1 | GX42: =ROUND(HC42*I42,2) -> 0 | HA42: 0 | HB42: 0 | HC42: =GV42*GW42 -> 0 | HN42: Пр/812-049.3-1 | HO42: Пр/774-049.3 | HP42: Электротехнические установки: на других объектах | HQ42: Электротехнические установки: на других объектах | IK42: 0
A43: 17 | B43: 1 | C43: =ROW(SmtRes!A34) -> 34 | D43: =ROW(EtalonRes!A34) -> 34 | E43: 6 | F43: м08-03-573-04 | G43: Шкаф (пульт) управления навесной, высота, ширина и глубина: до 600х600х350 мм | H43: ШТ | I43: 2 | J43: 0 | K43: 2 | O43: =ROUND(CP43,2) -> 151.44 | P43: =ROUND(CQ43*I43,2) -> 5.88 | Q43: =ROUND(CR43*I43,2) -> 90.37 | R43: =ROUND(CS43*I43,2) -> 9.23 | S43: =ROUND(CT43*I43,2) -> 55.19 | T43: =ROUND(CU43*I43,2) -> 0 | U43: =CV43*I43 -> 5.562 | V43: =CW43*I43 -> 0.837 | W43: =ROUND(CX43*I43,2) -> 0 | X43: =ROUND(CY43,2) -> 62.49 | Y43: =ROUND(CZ43,2) -> 32.85 | AA43: 41727979 | AB43: =ROUND((AC43+AD43+AF43),6) -> 75.7185 | AC43: =ROUND((ES43),6) -> 2.94 | AD43: =ROUND(((((ET43*ROUND(1.35,7)))-((EU43*ROUND(1.35,7))))+AE43),6) -> 45.1845 | AE43: =ROUND(((EU43*ROUND(1.35,7))),6) -> 4.617 | AF43: =ROUND(((EV43*ROUND(1.35,7))),6) -> 27.594 | AG43: =ROUND((AP43),6) -> 0 | AH43: =((EW43*ROUND(1.35,7))) -> 2.781 | AI43: =((EX43*ROUND(1.35,7))) -> 0.4185 | AJ43: =(AS43) -> 0 | AK43: 56.85 | AL43: 2.94 | AM43: 33.47 | AN43: 3.42 | AO43: 20.44 | AP43: 0 | AQ43: 2.06 | AR43: 0.31 | AS43: 0 | AT43: 97 | AU43: 51 | AV43: 1 | AW43: 1 | AZ43: 1 | BA43: 1 | BB43: 1 | BC43: 1 | BH43: 0 | BI43: 2 | BJ43: ФЕРм-2001, м08-03-573-04, приказ Минстроя России № 876/пр от 26.12.2019 | BM43: 108001 | BN43: 0 | BO43: Письмо Минстроя России от 15.12.2021 №55265-ИФ/09 | BP43: 1 | BQ43: 3 | BR43: 0 | BS43: 1 | BT43: 1 | BU43: 1 | BV43: 1 | BW43: 1 | BX43: 1 | BZ43: 97 | CA43: 51 | CE43: 0 | CF43: 0 | CG43: 0 | CM43: 0 | CN43: Поправка: Мет.421/пр 04.08.20 Пр.10 Т.3 п. 1.2 Наименование: Производство ремонтно-строительных работ осуществляется в помещениях эксплуатируемого объекта капитального строительства без остановки рабочего процесса, при этом: в зоне производства ремонтно-строительных работ имеются действующее технологическое или лабораторное оборудование, мебель и иные загромождающие помещения предметы | CO43: 0 | CP43: =(P43+Q43+S43) -> 151.44 | CQ43: =AC43*BC43 -> 2.94 | CR43: =AD43*BB43 -> 45.1845 | CS43: =AE43 -> 4.617 | CT43: =AF43 -> 27.594 | CU43: =AG43 -> 0 | CV43: =AH43 -> 2.781 | CW43: =AI43 -> 0.4185 | CX43: =AJ43 -> 0 | CY43: =(((S43+R43)*AT43)/100) -> 62.4874 | CZ43: =(((S43+R43)*AU43)/100) -> 32.8542 | DE43: )*1,35 | DF43: )*1,35 | DG43: )*1,35 | DI43: )*1,35 | DJ43: )*1,35 | DN43: 0 | DO43: 0 | DP43: 1 | DQ43: 1 | DU43: 1013 | DV43: ШТ | DW43: ШТ | DX43: 1 | EE43: 37164029 | EF43: 3 | EG43: Монтажные работы | EH43: 0 | EJ43: 2 | EK43: 108001 | EL43: Электротехнические установки: на других объектах | EM43: мФЕР-08 | EO43: Поправка: Мет.421/пр 04.08.20 Пр.10 Т.3 п. 1.2 | EQ43: 512 | ER43: 56.85 | ES43: 2.94 | ET43: 33.47 | EU43: 3.42 | EV43: 20.44 | EW43: 2.06 | EX43: 0.31 | EY43: 0 | FQ43: 0 | FR43: =ROUND(IF(AND(BH43=3,BI43=3),P43,0),2) -> 0 | FS43: 0 | FX43: 97 | FY43: 51 | GD43: 1 | GF43: 1842750133 | GG43: 1 | GH43: 1 | GI43: 4 | GJ43: 0 | GK43: 0 | GL43: =ROUND(IF(AND(BH43=3,BI43=3,FS43<>0),P43,0),2) -> 0 | GM43: =ROUND(O43+X43+Y43,2)+GX43 -> 246.78 | GN43: =IF(OR(BI43=0,BI43=1),ROUND(O43+X43+Y43,2),0) -> 0 | GO43: =IF(BI43=2,ROUND(O43+X43+Y43,2),0) -> 246.78 | GP43: =IF(BI43=4,ROUND(O43+X43+Y43,2)+GX43,0) -> 0 | GR43: 0 | GS43: 3 | GT43: 0 | GV43: =ROUND((GT43),6) -> 0 | GW43: 1 | GX43: =ROUND(HC43*I43,2) -> 0 | HA43: 0 | HB43: 0 | HC43: =GV43*GW43 -> 0 | HN43: Пр/812-049.3-1 | HO43: Пр/774-049.3 | HP43: Электротехнические установки: на других объектах | HQ43: Электротехнические установки: на других объектах | IK43: 0
A44: 17 | B44: 1 | E44: 7 | F44: Цена поставщика | G44: Контейнер для самоспасателя ШК-2 | H44: ШТ | I44: 2 | J44: 0 | K44: 2 | O44: =ROUND(CP44,2) -> 2238 | P44: =ROUND(ROUND(CQ44*I44,0)/BC44,2) -> 2238 | Q44: =ROUND(CR44*I44,2) -> 0 | R44: =ROUND(CS44*I44,2) -> 0 | S44: =ROUND(CT44*I44,2) -> 0 | T44: =ROUND(CU44*I44,2) -> 0 | U44: =CV44*I44 -> 0 | V44: =CW44*I44 -> 0 | W44: =ROUND(CX44*I44,2) -> 0 | X44: =ROUND(CY44,2) -> 0 | Y44: =ROUND(CZ44,2) -> 0 | AA44: 41727981 | AB44: =ROUND((AC44+AD44+AF44),6) -> 1119.17 | AC44: =ROUND((ES44),6) -> 1119.17 | AD44: =ROUND((((ET44)-(EU44))+AE44),6) -> 0 | AE44: =ROUND((EU44),6) -> 0 | AF44: =ROUND((EV44),6) -> 0 | AG44: =ROUND((AP44),6) -> 0 | AH44: =(EW44) -> 0 | AI44: =(EX44) -> 0 | AJ44: =(AS44) -> 0 | AK44: 1119.17 | AL44: 1119.17 | AM44: 0 | AN44: 0 | AO44: 0 | AP44: 0 | AQ44: 0 | AR44: 0 | AS44: 0 | AT44: 0 | AU44: 0 | AV44: 1 | AW44: 1 | AZ44: 1 | BA44: 1 | BB44: 1 | BC44: 1 | BH44: 3 | BI44: 2 | BM44: 1100 | BN44: 0 | BP44: 0 | BQ44: 8 | BR44: 0 | BS44: 1 | BT44: 1 | BU44: 1 | BV44: 1 | BW44: 1 | BX44: 1 | BZ44: 0 | CA44: 0 | CE44: 0 | CF44: 0 | CG44: 0 | CM44: 0 | CO44: 0 | CP44: =(P44+Q44+S44) -> 2238 | CQ44: =AC44 -> 1119.17 | CR44: =AD44*BB44 -> 0 | CS44: =AE44 -> 0 | CT44: =AF44 -> 0 | CU44: =AG44 -> 0 | CV44: =AH44 -> 0 | CW44: =AI44 -> 0 | CX44: =AJ44 -> 0 | CY44: =(((S44+R44)*AT44)/100) -> 0 | CZ44: =(((S44+R44)*AU44)/100) -> 0 | DN44: 0 | DO44: 0 | DP44: 1 | DQ44: 1 | DU44: 1013 | DV44: ШТ | DW44: ШТ | DX44: 1 | EE44: 37164457 | EF44: 8 | EG44: Материалы строительные | EH44: 0 | EJ44: 1 | EK44: 1100 | EL44: Материалы, изделия и конструкции | EM44: материалы (03) | EQ44: 0 | ER44: 0 | ES44: 1119.17 | ET44: 0 | EU44: 0 | EV44: 0 | EW44: 0 | EX44: 0 | EY44: 0 | EZ44: 5 | FC44: 1 | FD44: 18 | FF44: 1343 | FQ44: 0 | FR44: =ROUND(IF(AND(BH44=3,BI44=3),P44,0),2) -> 0 | FS44: 0 | FX44: 0 | FY44: 0 | GA44: [1 343 / 1,2] | GD44: 1 | GF44: 9455755 | GG44: 2 | GH44: 3 | GI44: -2 | GJ44: 0 | GK44: 0 | GL44: =ROUND(IF(AND(BH44=3,BI44=3,FS44<>0),P44,0),2) -> 0 | GM44: =ROUND(O44+X44+Y44,2)+GX44 -> 2238 | GN44: =IF(OR(BI44=0,BI44=1),ROUND(O44+X44+Y44,2),0) -> 0 | GO44: =IF(BI44=2,ROUND(O44+X44+Y44,2),0) -> 2238 | GP44: =IF(BI44=4,ROUND(O44+X44+Y44,2)+GX44,0) -> 0 | GR44: 1 | GS44: 1 | GT44: 0 | GV44: =ROUND((GT44),6) -> 0 | GW44: 1 | GX44: =ROUND(HC44*I44,2) -> 0 | HA44: 0 | HB44: 0 | HC44: =GV44*GW44 -> 0 | HE44: 0 | HF44: 0 | HG44: =ROUND(AC44*I44,0) -> 2238 | IK44: 0
A45: 17 | B45: 1 | E45: 7 | F45: Цена поставщика | G45: Контейнер для самоспасателя ШК-2 | H45: ШТ | I45: 2 | J45: 0 | K45: 2 | O45: =ROUND(CP45,2) -> 218.59 | P45: =ROUND(ROUND(CQ45*I45,0)/BC45,2) -> 218.59 | Q45: =ROUND(CR45*I45,2) -> 0 | R45: =ROUND(CS45*I45,2) -> 0 | S45: =ROUND(CT45*I45,2) -> 0 | T45: =ROUND(CU45*I45,2) -> 0 | U45: =CV45*I45 -> 0 | V45: =CW45*I45 -> 0 | W45: =ROUND(CX45*I45,2) -> 0 | X45: =ROUND(CY45,2) -> 0 | Y45: =ROUND(CZ45,2) -> 0 | AA45: 41727979 | AB45: =ROUND((AC45+AD45+AF45),6) -> 1175.81 | AC45: =ROUND((ES45),6) -> 1175.81 | AD45: =ROUND((((ET45)-(EU45))+AE45),6) -> 0 | AE45: =ROUND((EU45),6) -> 0 | AF45: =ROUND((EV45),6) -> 0 | AG45: =ROUND((AP45),6) -> 0 | AH45: =(EW45) -> 0 | AI45: =(EX45) -> 0 | AJ45: =(AS45) -> 0 | AK45: 1175.81 | AL45: 1175.81 | AM45: 0 | AN45: 0 | AO45: 0 | AP45: 0 | AQ45: 0 | AR45: 0 | AS45: 0 | AT45: 0 | AU45: 0 | AV45: 1 | AW45: 1 | AZ45: 10.76 | BA45: 1 | BB45: 1 | BC45: 10.76 | BH45: 3 | BI45: 2 | BM45: 1100 | BN45: 0 | BO45: Письмо Минстроя России от 15.12.2021 №55265-ИФ/09 | BP45: 1 | BQ45: 8 | BR45: 0 | BS45: 1 | BT45: 1 | BU45: 1 | BV45: 1 | BW45: 1 | BX45: 1 | BZ45: 0 | CA45: 0 | CE45: 0 | CF45: 0 | CG45: 0 | CM45: 0 | CO45: 0 | CP45: =(P45+Q45+S45) -> 218.59 | CQ45: =AC45 -> 1175.81 | CR45: =AD45*BB45 -> 0 | CS45: =AE45 -> 0 | CT45: =AF45 -> 0 | CU45: =AG45 -> 0 | CV45: =AH45 -> 0 | CW45: =AI45 -> 0 | CX45: =AJ45 -> 0 | CY45: =(((S45+R45)*AT45)/100) -> 0 | CZ45: =(((S45+R45)*AU45)/100) -> 0 | DN45: 0 | DO45: 0 | DP45: 1 | DQ45: 1 | DU45: 1013 | DV45: ШТ | DW45: ШТ | DX45: 1 | EE45: 37164457 | EF45: 8 | EG45: Материалы строительные | EH45: 0 | EJ45: 1 | EK45: 1100 | EL45: Материалы, изделия и конструкции | EM45: материалы (03) | EQ45: 0 | ER45: 1175.81 | ES45: 1175.81 | ET45: 0 | EU45: 0 | EV45: 0 | EW45: 0 | EX45: 0 | EY45: 0 | EZ45: 5 | FC45: 1 | FD45: 18 | FF45: 1343 | FQ45: 0 | FR45: =ROUND(IF(AND(BH45=3,BI45=3),P45,0),2) -> 0 | FS45: 0 | FX45: 0 | FY45: 0 | GA45: [1 343 / 1,2] + 3% Трансп + 2% Заг.скл | GD45: 1 | GF45: 9455755 | GG45: 1 | GH45: 3 | GI45: 4 | GJ45: 0 | GK45: 0 | GL45: =ROUND(IF(AND(BH45=3,BI45=3,FS45<>0),P45,0),2) -> 0 | GM45: =ROUND(O45+X45+Y45,2)+GX45 -> 218.59 | GN45: =IF(OR(BI45=0,BI45=1),ROUND(O45+X45+Y45,2),0) -> 0 | GO45: =IF(BI45=2,ROUND(O45+X45+Y45,2),0) -> 218.59 | GP45: =IF(BI45=4,ROUND(O45+X45+Y45,2)+GX45,0) -> 0 | GR45: 1 | GS45: 1 | GT45: 0 | GV45: =ROUND((GT45),6) -> 0 | GW45: 1 | GX45: =ROUND(HC45*I45,2) -> 0 | HA45: 0 | HB45: 0 | HC45: =GV45*GW45 -> 0 | HE45: 3 | HF45: 2 | HG45: =ROUND(AC45*I45,0) -> 2352 | IK45: 0
A46: 17 | B46: 1 | E46: 8 | F46: Цена поставщика | G46: Самоспасатель СПИ-20 | H46: ШТ | I46: 2 | J46: 0 | K46: 2 | O46: =ROUND(CP46,2) -> 6250 | P46: =ROUND(ROUND(CQ46*I46,0)/BC46,2) -> 6250 | Q46: =ROUND(CR46*I46,2) -> 0 | R46: =ROUND(CS46*I46,2) -> 0 | S46: =ROUND(CT46*I46,2) -> 0 | T46: =ROUND(CU46*I46,2) -> 0 | U46: =CV46*I46 -> 0 | V46: =CW46*I46 -> 0 | W46: =ROUND(CX46*I46,2) -> 0 | X46: =ROUND(CY46,2) -> 0 | Y46: =ROUND(CZ46,2) -> 0 | AA46: 41727981 | AB46: =ROUND((AC46+AD46+AF46),6) -> 3125 | AC46: =ROUND((ES46),6) -> 3125 | AD46: =ROUND((((ET46)-(EU46))+AE46),6) -> 0 | AE46: =ROUND((EU46),6) -> 0 | AF46: =ROUND((EV46),6) -> 0 | AG46: =ROUND((AP46),6) -> 0 | AH46: =(EW46) -> 0 | AI46: =(EX46) -> 0 | AJ46: =(AS46) -> 0 | AK46: 3125 | AL46: 3125 | AM46: 0 | AN46: 0 | AO46: 0 | AP46: 0 | AQ46: 0 | AR46: 0 | AS46: 0 | AT46: 0 | AU46: 0 | AV46: 1 | AW46: 1 | AZ46: 1 | BA46: 1 | BB46: 1 | BC46: 1 | BH46: 3 | BI46: 2 | BM46: 1100 | BN46: 0 | BP46: 0 | BQ46: 8 | BR46: 0 | BS46: 1 | BT46: 1 | BU46: 1 | BV46: 1 | BW46: 1 | BX46: 1 | BZ46: 0 | CA46: 0 | CE46: 0 | CF46: 0 | CG46: 0 | CM46: 0 | CO46: 0 | CP46: =(P46+Q46+S46) -> 6250 | CQ46: =AC46 -> 3125 | CR46: =AD46*BB46 -> 0 | CS46: =AE46 -> 0 | CT46: =AF46 -> 0 | CU46: =AG46 -> 0 | CV46: =AH46 -> 0 | CW46: =AI46 -> 0 | CX46: =AJ46 -> 0 | CY46: =(((S46+R46)*AT46)/100) -> 0 | CZ46: =(((S46+R46)*AU46)/100) -> 0 | DN46: 0 | DO46: 0 | DP46: 1 | DQ46: 1 | DU46: 1013 | DV46: ШТ | DW46: ШТ | DX46: 1 | EE46: 37164457 | EF46: 8 | EG46: Материалы строительные | EH46: 0 | EJ46: 1 | EK46: 1100 | EL46: Материалы, изделия и конструкции | EM46: материалы (03) | EQ46: 0 | ER46: 0 | ES46: 3125 | ET46: 0 | EU46: 0 | EV46: 0 | EW46: 0 | EX46: 0 | EY46: 0 | EZ46: 5 | FC46: 1 | FD46: 18 | FF46: 3750 | FQ46: 0 | FR46: =ROUND(IF(AND(BH46=3,BI46=3),P46,0),2) -> 0 | FS46: 0 | FX46: 0 | FY46: 0 | GA46: [3 750 / 1,2] | GD46: 1 | GF46: 1480998322 | GG46: 2 | GH46: 3 | GI46: -2 | GJ46: 0 | GK46: 0 | GL46: =ROUND(IF(AND(BH46=3,BI46=3,FS46<>0),P46,0),2) -> 0 | GM46: =ROUND(O46+X46+Y46,2)+GX46 -> 6250 | GN46: =IF(OR(BI46=0,BI46=1),ROUND(O46+X46+Y46,2),0) -> 0 | GO46: =IF(BI46=2,ROUND(O46+X46+Y46,2),0) -> 6250 | GP46: =IF(BI46=4,ROUND(O46+X46+Y46,2)+GX46,0) -> 0 | GR46: 1 | GS46: 1 | GT46: 0 | GV46: =ROUND((GT46),6) -> 0 | GW46: 1 | GX46: =ROUND(HC46*I46,2) -> 0 | HA46: 0 | HB46: 0 | HC46: =GV46*GW46 -> 0 | HE46: 0 | HF46: 0 | HG46: =ROUND(AC46*I46,0) -> 6250 | IK46: 0
A47: 17 | B47: 1 | E47: 8 | F47: Цена поставщика | G47: Самоспасатель СПИ-20 | H47: ШТ | I47: 2 | J47: 0 | K47: 2 | O47: =ROUND(CP47,2) -> 610.22 | P47: =ROUND(ROUND(CQ47*I47,0)/BC47,2) -> 610.22 | Q47: =ROUND(CR47*I47,2) -> 0 | R47: =ROUND(CS47*I47,2) -> 0 | S47: =ROUND(CT47*I47,2) -> 0 | T47: =ROUND(CU47*I47,2) -> 0 | U47: =CV47*I47 -> 0 | V47: =CW47*I47 -> 0 | W47: =ROUND(CX47*I47,2) -> 0 | X47: =ROUND(CY47,2) -> 0 | Y47: =ROUND(CZ47,2) -> 0 | AA47: 41727979 | AB47: =ROUND((AC47+AD47+AF47),6) -> 3283.13 | AC47: =ROUND((ES47),6) -> 3283.13 | AD47: =ROUND((((ET47)-(EU47))+AE47),6) -> 0 | AE47: =ROUND((EU47),6) -> 0 | AF47: =ROUND((EV47),6) -> 0 | AG47: =ROUND((AP47),6) -> 0 | AH47: =(EW47) -> 0 | AI47: =(EX47) -> 0 | AJ47: =(AS47) -> 0 | AK47: 3283.13 | AL47: 3283.13 | AM47: 0 | AN47: 0 | AO47: 0 | AP47: 0 | AQ47: 0 | AR47: 0 | AS47: 0 | AT47: 0 | AU47: 0 | AV47: 1 | AW47: 1 | AZ47: 10.76 | BA47: 1 | BB47: 1 | BC47: 10.76 | BH47: 3 | BI47: 2 | BM47: 1100 | BN47: 0 | BO47: Письмо Минстроя России от 15.12.2021 №55265-ИФ/09 | BP47: 1 | BQ47: 8 | BR47: 0 | BS47: 1 | BT47: 1 | BU47: 1 | BV47: 1 | BW47: 1 | BX47: 1 | BZ47: 0 | CA47: 0 | CE47: 0 | CF47: 0 | CG47: 0 | CM47: 0 | CO47: 0 | CP47: =(P47+Q47+S47) -> 610.22 | CQ47: =AC47 -> 3283.13 | CR47: =AD47*BB47 -> 0 | CS47: =AE47 -> 0 | CT47: =AF47 -> 0 | CU47: =AG47 -> 0 | CV47: =AH47 -> 0 | CW47: =AI47 -> 0 | CX47: =AJ47 -> 0 | CY47: =(((S47+R47)*AT47)/100) -> 0 | CZ47: =(((S47+R47)*AU47)/100) -> 0 | DN47: 0 | DO47: 0 | DP47: 1 | DQ47: 1 | DU47: 1013 | DV47: ШТ | DW47: ШТ | DX47: 1 | EE47: 37164457 | EF47: 8 | EG47: Материалы строительные | EH47: 0 | EJ47: 1 | EK47: 1100 | EL47: Материалы, изделия и конструкции | EM47: материалы (03) | EQ47: 0 | ER47: 3283.13 | ES47: 3283.13 | ET47: 0 | EU47: 0 | EV47: 0 | EW47: 0 | EX47: 0 | EY47: 0 | EZ47: 5 | FC47: 1 | FD47: 18 | FF47: 3750 | FQ47: 0 | FR47: =ROUND(IF(AND(BH47=3,BI47=3),P47,0),2) -> 0 | FS47: 0 | FX47: 0 | FY47: 0 | GA47: [3 750 / 1,2] + 3% Трансп + 2% Заг.скл | GD47: 1 | GF47: 1480998322 | GG47: 1 | GH47: 3 | GI47: 4 | GJ47: 0 | GK47: 0 | GL47: =ROUND(IF(AND(BH47=3,BI47=3,FS47<>0),P47,0),2) -> 0 | GM47: =ROUND(O47+X47+Y47,2)+GX47 -> 610.22 | GN47: =IF(OR(BI47=0,BI47=1),ROUND(O47+X47+Y47,2),0) -> 0 | GO47: =IF(BI47=2,ROUND(O47+X47+Y47,2),0) -> 610.22 | GP47: =IF(BI47=4,ROUND(O47+X47+Y47,2)+GX47,0) -> 0 | GR47: 1 | GS47: 1 | GT47: 0 | GV47: =ROUND((GT47),6) -> 0 | GW47: 1 | GX47: =ROUND(HC47*I47,2) -> 0 | HA47: 0 | HB47: 0 | HC47: =GV47*GW47 -> 0 | HE47: 3 | HF47: 2 | HG47: =ROUND(AC47*I47,0) -> 6566 | IK47: 0
A48: 17 | B48: 1 | C48: =ROW(SmtRes!A37) -> 37 | D48: =ROW(EtalonRes!A37) -> 37 | E48: 9 | F48: м11-03-001-02 | G48: Приборы, устанавливаемые на металлоконструкциях, щитах и пультах, масса: до 10 кг | H48: ШТ | I48: 1 | J48: 0 | K48: 1 | O48: =ROUND(CP48,2) -> 16.23 | P48: =ROUND(CQ48*I48,2) -> 2.43 | Q48: =ROUND(CR48*I48,2) -> 0 | R48: =ROUND(CS48*I48,2) -> 0 | S48: =ROUND(CT48*I48,2) -> 13.8 | T48: =ROUND(CU48*I48,2) -> 0 | U48: =CV48*I48 -> 1.3905 | V48: =CW48*I48 -> 0 | W48: =ROUND(CX48*I48,2) -> 0 | X48: =ROUND(CY48,2) -> 12.42 | Y48: =ROUND(CZ48,2) -> 6.35 | AA48: 41727981 | AB48: =ROUND((AC48+AD48+AF48),6) -> 16.227 | AC48: =ROUND((ES48),6) -> 2.43 | AD48: =ROUND(((((ET48*ROUND(1.35,7)))-((EU48*ROUND(1.35,7))))+AE48),6) -> 0 | AE48: =ROUND(((EU48*ROUND(1.35,7))),6) -> 0 | AF48: =ROUND(((EV48*ROUND(1.35,7))),6) -> 13.797 | AG48: =ROUND((AP48),6) -> 0 | AH48: =((EW48*ROUND(1.35,7))) -> 1.3905 | AI48: =((EX48*ROUND(1.35,7))) -> 0 | AJ48: =(AS48) -> 0 | AK48: 12.65 | AL48: 2.43 | AM48: 0 | AN48: 0 | AO48: 10.22 | AP48: 0 | AQ48: 1.03 | AR48: 0 | AS48: 0 | AT48: 90 | AU48: 46 | AV48: 1 | AW48: 1 | AZ48: 1 | BA48: 1 | BB48: 1 | BC48: 1 | BH48: 0 | BI48: 2 | BJ48: ФЕРм-2001, м11-03-001-02, приказ Минстроя России № 876/пр от 26.12.2019 | BM48: 111001 | BN48: 0 | BP48: 0 | BQ48: 3 | BR48: 0 | BS48: 1 | BT48: 1 | BU48: 1 | BV48: 1 | BW48: 1 | BX48: 1 | BZ48: 90 | CA48: 46 | CE48: 0 | CF48: 0 | CG48: 0 | CM48: 0 | CN48: Поправка: Мет.421/пр 04.08.20 Пр.10 Т.3 п. 1.2 Наименование: Производство ремонтно-строительных работ осуществляется в помещениях эксплуатируемого объекта капитального строительства без остановки рабочего процесса, при этом: в зоне производства ремонтно-строительных работ имеются действующее технологическое или лабораторное оборудование, мебель и иные загромождающие помещения предметы | CO48: 0 | CP48: =(P48+Q48+S48) -> 16.23 | CQ48: =AC48*BC48 -> 2.43 | CR48: =AD48*BB48 -> 0 | CS48: =AE48 -> 0 | CT48: =AF48 -> 13.797 | CU48: =AG48 -> 0 | CV48: =AH48 -> 1.3905 | CW48: =AI48 -> 0 | CX48: =AJ48 -> 0 | CY48: =(((S48+R48)*AT48)/100) -> 12.42 | CZ48: =(((S48+R48)*AU48)/100) -> 6.348 | DE48: )*1,35 | DF48: )*1,35 | DG48: )*1,35 | DI48: )*1,35 | DJ48: )*1,35 | DN48: 0 | DO48: 0 | DP48: 1 | DQ48: 1 | DU48: 1013 | DV48: ШТ | DW48: ШТ | DX48: 1 | EE48: 37164041 | EF48: 3 | EG48: Монтажные работы | EH48: 0 | EJ48: 2 | EK48: 111001 | EL48: Приборы, средства автоматизации и вычислительной техники | EM48: мФЕР-11 | EO48: Поправка: Мет.421/пр 04.08.20 Пр.10 Т.3 п. 1.2 | EQ48: 512 | ER48: 12.65 | ES48: 2.43 | ET48: 0 | EU48: 0 | EV48: 10.22 | EW48: 1.03 | EX48: 0 | EY48: 0 | FQ48: 0 | FR48: =ROUND(IF(AND(BH48=3,BI48=3),P48,0),2) -> 0 | FS48: 0 | FX48: 90 | FY48: 46 | GD48: 1 | GF48: -2080308565 | GG48: 2 | GH48: 1 | GI48: -2 | GJ48: 0 | GK48: 0 | GL48: =ROUND(IF(AND(BH48=3,BI48=3,FS48<>0),P48,0),2) -> 0 | GM48: =ROUND(O48+X48+Y48,2)+GX48 -> 35 | GN48: =IF(OR(BI48=0,BI48=1),ROUND(O48+X48+Y48,2),0) -> 0 | GO48: =IF(BI48=2,ROUND(O48+X48+Y48,2),0) -> 35 | GP48: =IF(BI48=4,ROUND(O48+X48+Y48,2)+GX48,0) -> 0 | GR48: 0 | GS48: 3 | GT48: 0 | GV48: =ROUND((GT48),6) -> 0 | GW48: 1 | GX48: =ROUND(HC48*I48,2) -> 0 | HA48: 0 | HB48: 0 | HC48: =GV48*GW48 -> 0 | HN48: Пр/812-053.0-1 | HO48: Пр/774-053.0 | HP48: Приборы, средства автоматизации и вычислительной техники | HQ48: Приборы, средства автоматизации и вычислительной техники | IK48: 0
