Workbook

Sheet Ресурсный расчёт
A1: =Source!B1 -> Smeta.RU (495) 974-1589
A3: РЕСУРСНЫЙ СМЕТНЫЙ РАСЧЁТ
A5: Объект: | B5: =Source!F12 -> Новый объект
A7: Полное наименование: | C7: =Source!G12 -> 02-02 Детский БЛ санаторий №15
A9: Строительный объём объекта | C9: =Source!I12 -> 0
A11: Составлен в ценах на
A13: Обоснование | B13: Наименование ресурсов, затрат | C13: Единица измерения | D13: Расход ресурса | E13: Базовая | G13: Сметная - с учётом индекса
E14: цена | F14: стоимость | G14: цена | H14: стоимость
A15: 1 | B15: 2 | C15: 3 | D15: 4 | E15: 5 | F15: 6 | G15: 7 | H15: 8
A16: =IF(Source!C12="1", Source!F18, Source!G18) -> Выполнение комплекса ремонтных работ в учреждениях Департамента здравоохранения города Москвы в рамках реализации Государственной программы города Москвы «Социальная поддержка жителей города Москвы» (лот 2) в ГБУЗ «Детский бронхолегочный санаторий №15 Департамента здравоохранения города Москвы» по адресу: г. Москва, ул. Академика Капицы, д. 11 | Y16: =IF(Source!C12="1", Source!F18, Source!G18) -> Выполнение комплекса ремонтных работ в учреждениях Департамента здравоохранения города Москвы в рамках реализации Государственной программы города Москвы «Социальная поддержка жителей города Москвы» (лот 2) в ГБУЗ «Детский бронхолегочный санаторий №15 Департамента здравоохранения города Москвы» по адресу: г. Москва, ул. Академика Капицы, д. 11
A17: =IF(Source!C12="1", Source!F20, Source!G20) -> Полы
A18: =IF(Source!C12="1", Source!F22, Source!G22) -> Внутренние работы
A19: Материалы
A20: =Source!F24 -> 1.1-1-118 | B20: =Source!G24 -> Вода | C20: =Source!H24 -> м3 | D20: =Source!I24 -> 0.184227 | E20: =Source!J24 -> 0 | F20: =Source!K24 -> 0 | G20: =Source!V24 -> 7.07 | H20: =Source!W24 -> 1.3 | AB20: =Source!K24 -> 0 | AC20: =Source!W24 -> 1.3
A21: =Source!F25 -> 1.1-1-2398 | B21: =Source!G25 -> Плитки керамические, типа керамогранит, неполированные, размер 30х30 см, толщина 8 мм, цвет: светло-серый, серый, светло-зеленый, бежевый | C21: =Source!H25 -> м2 | D21: =Source!I25 -> 5.9262 | E21: =Source!J25 -> 0 | F21: =Source!K25 -> 0 | G21: =Source!V25 -> 92.02 | H21: =Source!W25 -> 545.33 | AB21: =Source!K25 -> 0 | AC21: =Source!W25 -> 545.33
A22: =Source!F26 -> 1.1-1-2480 | B22: =Source!G26 -> Грунтовка на основе полимерной дисперсии, концентрированная, паропроницаемая, с желтым пигментом, для впитывающих оснований | C22: =Source!H26 -> т | D22: =Source!I26 -> 0.000505 | E22: =Source!J26 -> 0 | F22: =Source!K26 -> 0 | G22: =Source!V26 -> 69883.65 | H22: =Source!W26 -> 35.29 | AB22: =Source!K26 -> 0 | AC22: =Source!W26 -> 35.29
A23: =Source!F27 -> 1.3-2-138 | B23: =Source!G27 -> Смеси сухие для заполнения швов между плитками, цветные | C23: =Source!H27 -> т | D23: =Source!I27 -> 0.000759 | E23: =Source!J27 -> 0 | F23: =Source!K27 -> 0 | G23: =Source!V27 -> 27362.67 | H23: =Source!W27 -> 20.77 | AB23: =Source!K27 -> 0 | AC23: =Source!W27 -> 20.77
A24: =Source!F28 -> 1.3-2-166 | B24: =Source!G28 -> Смеси сухие клеевые, для внутренних работ, для укладки напольной и настенной плитки из керамики | C24: =Source!H28 -> т | D24: =Source!I28 -> 0.023735 | E24: =Source!J28 -> 0 | F24: =Source!K28 -> 0 | G24: =Source!V28 -> 2948.66 | H24: =Source!W28 -> 69.99 | AB24: =Source!K28 -> 0 | AC24: =Source!W28 -> 69.99
A25: =Source!F29 -> 1.3-2-168 | B25: =Source!G29 -> Смеси сухие клеевые, высокоадгезионные, высокоэластичные, для внутренних и наружных работ, для укладки напольной, настенной и потолочной плитки из керамики, мозаики, натурального камня и керамогранита | C25: =Source!H29 -> т | D25: =Source!I29 -> 0.003268 | E25: =Source!J29 -> 0 | F25: =Source!K29 -> 0 | G25: =Source!V29 -> 6529.05 | H25: =Source!W29 -> 21.34 | AB25: =Source!K29 -> 0 | AC25: =Source!W29 -> 21.34
A26: =Source!F30 -> 1.3-2-6 | B26: =Source!G30 -> Растворы цементные, марка 150 | C26: =Source!H30 -> м3 | D26: =Source!I30 -> 0.15453 | E26: =Source!J30 -> 0 | F26: =Source!K30 -> 0 | G26: =Source!V30 -> 478.96 | H26: =Source!W30 -> 74.01 | AB26: =Source!K30 -> 0 | AC26: =Source!W30 -> 74.01
A27: =Source!F31 -> 9999990001 | B27: =Source!G31 -> Масса мусора | C27: =Source!H31 -> т | D27: =Source!I31 -> 0.5959 | E27: =Source!J31 -> 0 | F27: =Source!K31 -> 0 | G27: =Source!V31 -> 0 | H27: =Source!W31 -> 0 | AB27: =Source!K31 -> 0 | AC27: =Source!W31 -> 0
A28: Итого: | E28: =SUM(AB20:AB27) -> 0 | G28: =SUM(AC20:AC27) -> 768.03
A29: =IF(Source!C12="1", Source!F33, Source!G33) -> Наружные работы
A30: Материалы
A31: =Source!F35 -> 1.1-1-118 | B31: =Source!G35 -> Вода | C31: =Source!H35 -> м3 | D31: =Source!I35 -> 2.134055 | E31: =Source!J35 -> 0 | F31: =Source!K35 -> 0 | G31: =Source!V35 -> 7.07 | H31: =Source!W35 -> 15.09 | AB31: =Source!K35 -> 0 | AC31: =Source!W35 -> 15.09
A32: =Source!F36 -> 1.1-1-1535 | B32: =Source!G36 -> Щебень из естественного камня для строительных работ, марка 1400, фракция 20-40 мм | C32: =Source!H36 -> м3 | D32: =Source!I36 -> 0.44154 | E32: =Source!J36 -> 0 | F32: =Source!K36 -> 0 | G32: =Source!V36 -> 228.06 | H32: =Source!W36 -> 100.7 | AB32: =Source!K36 -> 0 | AC32: =Source!W36 -> 100.7
A33: =Source!F37 -> 1.1-1-1566 | B33: =Source!G37 -> Электроды, тип Э-42, 46, 50, диаметр 4 - 6 мм | C33: =Source!H37 -> т | D33: =Source!I37 -> 0.00263 | E33: =Source!J37 -> 0 | F33: =Source!K37 -> 0 | G33: =Source!V37 -> 7191.81 | H33: =Source!W37 -> 18.91 | AB33: =Source!K37 -> 0 | AC33: =Source!W37 -> 18.91
A34: =Source!F38 -> 1.1-1-1717 | B34: =Source!G38 -> Плитки половые чугунные, размеры 250х250х30 мм | C34: =Source!H38 -> т | D34: =Source!I38 -> 2.854645 | E34: =Source!J38 -> 0 | F34: =Source!K38 -> 0 | G34: =Source!V38 -> 2868.13 | H34: =Source!W38 -> 8187.49 | AB34: =Source!K38 -> 0 | AC34: =Source!W38 -> 8187.49
A35: =Source!F39 -> 1.1-1-2090 | B35: =Source!G39 -> Напольное покрытие полиуретановое рулонное, с наполнителем из резиновой крошки фракции 2-3 мм, прочность на разрыв 7-8 кг/см2, относительное удлинение 120%, температура эксплуатации от -50 до +70°С, толщина 8 мм | C35: =Source!H39 -> м2 | D35: =Source!I39 -> 12.947 | E35: =Source!J39 -> 0 | F35: =Source!K39 -> 0 | G35: =Source!V39 -> 143.37 | H35: =Source!W39 -> 1856.21 | AB35: =Source!K39 -> 0 | AC35: =Source!W39 -> 1856.21
A36: =Source!F40 -> 1.1-1-389 | B36: =Source!G40 -> Клей на основе акриловой дисперсии, АДМ-К | C36: =Source!H40 -> т | D36: =Source!I40 -> 0.005602 | E36: =Source!J40 -> 0 | F36: =Source!K40 -> 0 | G36: =Source!V40 -> 43326.77 | H36: =Source!W40 -> 242.72 | AB36: =Source!K40 -> 0 | AC36: =Source!W40 -> 242.72
A37: =Source!F41 -> 1.1-1-766 | B37: =Source!G41 -> Песок для строительных работ, рядовой | C37: =Source!H41 -> м3 | D37: =Source!I41 -> 1.696158 | E37: =Source!J41 -> 0 | F37: =Source!K41 -> 0 | G37: =Source!V41 -> 104.99 | H37: =Source!W41 -> 178.08 | AB37: =Source!K41 -> 0 | AC37: =Source!W41 -> 178.08
A38: =Source!F42 -> 1.11-1-221 | B38: =Source!G42 -> Плиты облицовочные гранитные пиленые, толщина 10 мм, месторождение: Куртинское | C38: =Source!H42 -> м2 | D38: =Source!I42 -> 59.06 | E38: =Source!J42 -> 0 | F38: =Source!K42 -> 0 | G38: =Source!V42 -> 772.64 | H38: =Source!W42 -> 45632.12 | AB38: =Source!K42 -> 0 | AC38: =Source!W42 -> 45632.12
A39: =Source!F43 -> 1.3-1-34 | B39: =Source!G43 -> Смеси бетонные, БСГ, тяжелого бетона на гранитном щебне, класс прочности В3,5 (М50); фракция 5-20 | C39: =Source!H43 -> м3 | D39: =Source!I43 -> 2.27263 | E39: =Source!J43 -> 0 | F39: =Source!K43 -> 0 | G39: =Source!V43 -> 514.9 | H39: =Source!W43 -> 1170.18 | AB39: =Source!K43 -> 0 | AC39: =Source!W43 -> 1170.18
A40: =Source!F44 -> 1.3-1-41 | B40: =Source!G44 -> Смеси бетонные, БСГ, тяжелого бетона на гранитном щебне, класс прочности В25 (М350); П3, фракция 5-20, F150, W6 | C40: =Source!H44 -> м3 | D40: =Source!I44 -> 4.6372 | E40: =Source!J44 -> 0 | F40: =Source!K44 -> 0 | G40: =Source!V44 -> 745.24 | H40: =Source!W44 -> 3455.83 | AB40: =Source!K44 -> 0 | AC40: =Source!W44 -> 3455.83
A41: =Source!F45 -> 1.3-2-4 | B41: =Source!G45 -> Растворы цементные, марка 75 | C41: =Source!H45 -> м3 | D41: =Source!I45 -> 1.7718 | E41: =Source!J45 -> 0 | F41: =Source!K45 -> 0 | G41: =Source!V45 -> 396.06 | H41: =Source!W45 -> 701.74 | AB41: =Source!K45 -> 0 | AC41: =Source!W45 -> 701.74
A42: =Source!F46 -> 1.3-4-1 | B42: =Source!G46 -> Арматурные заготовки (стержни, хомуты и т.п.), не собранные в каркасы или сетки, углеродистая сталь общего назначения и арматурная сталь гладкая, класс А-I, диаметр 6-7 мм | C42: =Source!H46 -> т | D42: =Source!I46 -> 0.125272 | E42: =Source!J46 -> 0 | F42: =Source!K46 -> 0 | G42: =Source!V46 -> 5681.92 | H42: =Source!W46 -> 711.79 | AB42: =Source!K46 -> 0 | AC42: =Source!W46 -> 711.79
... A46: =Source!F50 -> 9999990006 | B46: =Source!G50 -> Стоимость прочих материалов (ЭСН) | C46: =Source!H50 -> руб. | D46: =Source!I50 -> 4.569222 | E46: =Source!J50 -> 1 | F46: =Source!K50 -> 4.57 | G46: =Source!V50 -> 1 | H46: =Source!W50 -> 4.57 | AB46: =Source!K50 -> 4.57 | AC46: =Source!W50 -> 4.57
A47: Итого: | E47: =SUM(AB31:AB46) -> 4.57 | G47: =SUM(AC31:AC46) -> 175304.29
A48: =IF(Source!C12="1", Source!F52, Source!G52) -> Потолок
A49: Материалы
...

Sheet Source
A1: 0 | B1: Smeta.RU (495) 974-1589 | D1: _RR_ | F1: 0 | G1: 0 | H1: 0 | I1: Smeta.RU | K1: 1 | M1: 10 | N1: 11 | O1: 5 | P1: 0 | Q1: 1
A12: 1 | B12: 1 | C12: 0 | E12: 0 | F12: Новый объект | G12: 02-02 Детский БЛ санаторий №15 | I12: 0 | K12: 0 | L12: 0 | M12: 2 | O12: 0 | P12: 0 | Q12: 0 | T12: 1 | V12: 0 | BB12: 0 | BH12: Сметные нормы списания | BI12: Коды ОКП для ТСН-2001 МГЭ | BJ12: 1 | BK12: 1 | BL12: 0 | BM12: 0 | BN12: 1 | BO12: 0 | BP12: 6 | BQ12: 2 | BR12: 1 | BS12: 1 | BT12: 0 | BU12: 0 | BV12: 0 | BW12: 0 | BX12: 0 | BZ12: Типовой расчет для ТСН-2001 МГЭ, Новая методика с выпуска доп. 43 (Ремонт), Доп 63 | CA12: Территориальные сметные нормативы для Москвы ТСН-2001 (МГЭ) | CB12: Территориальные сметные нормативы для Москвы ТСН-2001 (МГЭ) | CC12: Территориальные сметные нормативы для Москвы ТСН-2001 (МГЭ) | CD12: Территориальные сметные нормативы для Москвы ТСН-2001 (МГЭ) | CE12: Поправки для ТСН-2001 от 21.10.2019 г. | CF12: 0 | CG12: 0 | CH12: 16785416 | CK12: 54 | EC12: 0
A15: 10 | B15: 1 | C15: 0 | D15: 1 | E15: 0 | F15: Тест формирования РР с учетом структуры | G15: 46303304 | H15: Тест формирования РР с учетом структуры | I15: Тест формирования РР с учетом структуры | J15: 1 | K15: 30515945 | L15: -2 | M15: 44649.404 | N15: 0 | W15: 46288926 | X15: 15 | Y15: 1 | Z15: 0 | AA15: 0 | AB15: Сметные нормы списания | AC15: Коды ОКП для ТСН-2001 МГЭ | AD15: Территориальные сметные нормативы для Москвы ТСН-2001 (МГЭ) | AE15: Территориальные сметные нормативы для Москвы ТСН-2001 (МГЭ) | AF15: Территориальные сметные нормативы для Москвы ТСН-2001 (МГЭ) | AG15: Территориальные сметные нормативы для Москвы ТСН-2001 (МГЭ) | AI15: 327737 | AJ15: 0 | AK15: 0 | AL15: 0 | AM15: 0 | AN15: 0 | AO15: 2 | AP15: 1 | AQ15: 1 | AR15: 1 | AS15: 1 | AV15: 0 | AW15: 0 | AX15: Базовые | AY15: Сметные | AZ15: Текущие | BA15: Сметные - с учетом индекса | BB15: 0 | BC15: 1 | BD15: 0 | BE15: 1
A18: 3 | B18: 1 | F18: Выполнение комплекса ремонтных работ в учреждениях Департамента здравоохранения города Москвы в рамках реализации Государственной программы города Москвы «Социальная поддержка жителей города Москвы» (лот 2) в ГБУЗ «Детский бронхолегочный санаторий №15 Департамента здравоохранения города Москвы» по адресу: г. Москва, ул. Академика Капицы, д. 11 | G18: Выполнение комплекса ремонтных работ в учреждениях Департамента здравоохранения города Москвы в рамках реализации Государственной программы города Москвы «Социальная поддержка жителей города Москвы» (лот 2) в ГБУЗ «Детский бронхолегочный санаторий №15 Департамента здравоохранения города Москвы» по адресу: г. Москва, ул. Академика Капицы, д. 11 | I18: 0 | K18: -1 | S18: 0 | V18: 0 | BX18: 0 | CF18: 0 | CG18: 0
A20: 4 | B20: 1 | F20: Полы | G20: Полы | I20: 0 | K20: 0 | S20: 0 | V20: 0 | BX20: 0 | CJ20: 0
A22: 5 | B22: 1 | F22: Внутренние работы | G22: Внутренние работы | I22: 0 | K22: 0 | S22: 0 | V22: 0 | BX22: 0 | CJ22: 0
A24: 17 | B24: 1 | C24: =D24*B24 -> 3 | D24: 3 | F24: 1.1-1-118 | G24: Вода | H24: м3 | I24: 0.184227 | J24: 0 | K24: =ROUND(J24*I24,2) -> 0 | L24: 7.07 | M24: =ROUND(L24*I24,2) -> 1.3 | N24: 0 | O24: =ROUND(N24*I24,2) -> 0 | P24: 1 | Q24: 1 | R24: 1 | S24: 1 | T24: 1 | U24: 1 | V24: 7.07 | W24: =ROUND(V24*I24,2) -> 1.3 | X24: 0 | Y24: =Z24*B24 -> 3 | Z24: 3 | AA24: =ROUND(M24-K24,2) -> 1.3 | AB24: =ROUND(IF(J24=0,1,L24/J24),3) -> 1 | AD24: м3 | AE24: 0 | AF24: 0 | AG24: =AF24*B24 -> 0
A25: 17 | B25: 1 | C25: =D25*B25 -> 3 | D25: 3 | F25: 1.1-1-2398 | G25: Плитки керамические, типа керамогранит, неполированные, размер 30х30 см, толщина 8 мм, цвет: светло-серый, серый, светло-зеленый, бежевый | H25: м2 | I25: 5.9262 | J25: 0 | K25: =ROUND(J25*I25,2) -> 0 | L25: 92.02 | M25: =ROUND(L25*I25,2) -> 545.33 | N25: 0 | O25: =ROUND(N25*I25,2) -> 0 | P25: 1 | Q25: 1 | R25: 1 | S25: 1 | T25: 1 | U25: 1 | V25: 92.02 | W25: =ROUND(V25*I25,2) -> 545.33 | X25: 0 | Y25: =Z25*B25 -> 3 | Z25: 3 | AA25: =ROUND(M25-K25,2) -> 545.33 | AB25: =ROUND(IF(J25=0,1,L25/J25),3) -> 1 | AD25: м2 | AE25: 0 | AF25: 0 | AG25: =AF25*B25 -> 0
A26: 17 | B26: 1 | C26: =D26*B26 -> 3 | D26: 3 | F26: 1.1-1-2480 | G26: Грунтовка на основе полимерной дисперсии, концентрированная, паропроницаемая, с желтым пигментом, для впитывающих оснований | H26: т | I26: 0.000505 | J26: 0 | K26: =ROUND(J26*I26,2) -> 0 | L26: 69883.65 | M26: =ROUND(L26*I26,2) -> 35.29 | N26: 0 | O26: =ROUND(N26*I26,2) -> 0 | P26: 1 | Q26: 1 | R26: 1 | S26: 1 | T26: 1 | U26: 1 | V26: 69883.65 | W26: =ROUND(V26*I26,2) -> 35.29 | X26: 0 | Y26: =Z26*B26 -> 3 | Z26: 3 | AA26: =ROUND(M26-K26,2) -> 35.29 | AB26: =ROUND(IF(J26=0,1,L26/J26),3) -> 1 | AD26: т | AE26: 0 | AF26: 0 | AG26: =AF26*B26 -> 0
A27: 17 | B27: 1 | C27: =D27*B27 -> 3 | D27: 3 | F27: 1.3-2-138 | G27: Смеси сухие для заполнения швов между плитками, цветные | H27: т | I27: 0.000759 | J27: 0 | K27: =ROUND(J27*I27,2) -> 0 | L27: 27362.67 | M27: =ROUND(L27*I27,2) -> 20.77 | N27: 0 | O27: =ROUND(N27*I27,2) -> 0 | P27: 1 | Q27: 1 | R27: 1 | S27: 1 | T27: 1 | U27: 1 | V27: 27362.67 | W27: =ROUND(V27*I27,2) -> 20.77 | X27: 0 | Y27: =Z27*B27 -> 3 | Z27: 3 | AA27: =ROUND(M27-K27,2) -> 20.77 | AB27: =ROUND(IF(J27=0,1,L27/J27),3) -> 1 | AD27: т | AE27: 0 | AF27: 0 | AG27: =AF27*B27 -> 0
A28: 17 | B28: 1 | C28: =D28*B28 -> 3 | D28: 3 | F28: 1.3-2-166 | G28: Смеси сухие клеевые, для внутренних работ, для укладки напольной и настенной плитки из керамики | H28: т | I28: 0.023735 | J28: 0 | K28: =ROUND(J28*I28,2) -> 0 | L28: 2948.66 | M28: =ROUND(L28*I28,2) -> 69.99 | N28: 0 | O28: =ROUND(N28*I28,2) -> 0 | P28: 1 | Q28: 1 | R28: 1 | S28: 1 | T28: 1 | U28: 1 | V28: 2948.66 | W28: =ROUND(V28*I28,2) -> 69.99 | X28: 0 | Y28: =Z28*B28 -> 3 | Z28: 3 | AA28: =ROUND(M28-K28,2) -> 69.99 | AB28: =ROUND(IF(J28=0,1,L28/J28),3) -> 1 | AD28: т | AE28: 0 | AF28: 0 | AG28: =AF28*B28 -> 0
A29: 17 | B29: 1 | C29: =D29*B29 -> 3 | D29: 3 | F29: 1.3-2-168 | G29: Смеси сухие клеевые, высокоадгезионные, высокоэластичные, для внутренних и наружных работ, для укладки напольной, настенной и потолочной плитки из керамики, мозаики, натурального камня и керамогранита | H29: т | I29: 0.003268 | J29: 0 | K29: =ROUND(J29*I29,2) -> 0 | L29: 6529.05 | M29: =ROUND(L29*I29,2) -> 21.34 | N29: 0 | O29: =ROUND(N29*I29,2) -> 0 | P29: 1 | Q29: 1 | R29: 1 | S29: 1 | T29: 1 | U29: 1 | V29: 6529.05 | W29: =ROUND(V29*I29,2) -> 21.34 | X29: 0 | Y29: =Z29*B29 -> 3 | Z29: 3 | AA29: =ROUND(M29-K29,2) -> 21.34 | AB29: =ROUND(IF(J29=0,1,L29/J29),3) -> 1 | AD29: т | AE29: 0 | AF29: 0 | AG29: =AF29*B29 -> 0
A30: 17 | B30: 1 | C30: =D30*B30 -> 3 | D30: 3 | F30: 1.3-2-6 | G30: Растворы цементные, марка 150 | H30: м3 | I30: 0.15453 | J30: 0 | K30: =ROUND(J30*I30,2) -> 0 | L30: 478.96 | M30: =ROUND(L30*I30,2) -> 74.01 | N30: 0 | O30: =ROUND(N30*I30,2) -> 0 | P30: 1 | Q30: 1 | R30: 1 | S30: 1 | T30: 1 | U30: 1 | V30: 478.96 | W30: =ROUND(V30*I30,2) -> 74.01 | X30: 0 | Y30: =Z30*B30 -> 3 | Z30: 3 | AA30: =ROUND(M30-K30,2) -> 74.01 | AB30: =ROUND(IF(J30=0,1,L30/J30),3) -> 1 | AD30: м3 | AE30: 0 | AF30: 0 | AG30: =AF30*B30 -> 0
A31: 17 | B31: 1 | C31: =D31*B31 -> 3 | D31: 3 | F31: 9999990001 | G31: Масса мусора | H31: т | I31: 0.5959 | J31: 0 | K31: =ROUND(J31*I31,2) -> 0 | L31: 0 | M31: =ROUND(L31*I31,2) -> 0 | N31: 0 | O31: =ROUND(N31*I31,2) -> 0 | P31: 1 | Q31: 1 | R31: 1 | S31: 1 | T31: 1 | U31: 1 | V31: =ROUND(L31*Q31,2) -> 0 | W31: =ROUND(V31*I31,2) -> 0 | X31: 0 | Y31: =Z31*B31 -> 3 | Z31: 3 | AA31: =ROUND(M31-K31,2) -> 0 | AB31: =ROUND(IF(J31=0,1,L31/J31),3) -> 1 | AD31: т | AE31: 0 | AF31: 0 | AG31: =AF31*B31 -> 0
A33: 5 | B33: 1 | F33: Наружные работы | G33: Наружные работы | I33: 0 | K33: 0 | S33: 0 | V33: 0 | BX33: 0 | CJ33: 0
A35: 17 | B35: 1 | C35: =D35*B35 -> 3 | D35: 3 | F35: 1.1-1-118 | G35: Вода | H35: м3 | I35: 2.134055 | J35: 0 | K35: =ROUND(J35*I35,2) -> 0 | L35: 7.07 | M35: =ROUND(L35*I35,2) -> 15.09 | N35: 0 | O35: =ROUND(N35*I35,2) -> 0 | P35: 1 | Q35: 1 | R35: 1 | S35: 1 | T35: 1 | U35: 1 | V35: 7.07 | W35: =ROUND(V35*I35,2) -> 15.09 | X35: 0 | Y35: =Z35*B35 -> 3 | Z35: 3 | AA35: =ROUND(M35-K35,2) -> 15.09 | AB35: =ROUND(IF(J35=0,1,L35/J35),3) -> 1 | AD35: м3 | AE35: 0 | AF35: 0 | AG35: =AF35*B35 -> 0
A36: 17 | B36: 1 | C36: =D36*B36 -> 3 | D36: 3 | F36: 1.1-1-1535 | G36: Щебень из естественного камня для строительных работ, марка 1400, фракция 20-40 мм | H36: м3 | I36: 0.44154 | J36: 0 | K36: =ROUND(J36*I36,2) -> 0 | L36: 228.06 | M36: =ROUND(L36*I36,2) -> 100.7 | N36: 0 | O36: =ROUND(N36*I36,2) -> 0 | P36: 1 | Q36: 1 | R36: 1 | S36: 1 | T36: 1 | U36: 1 | V36: 228.06 | W36: =ROUND(V36*I36,2) -> 100.7 | X36: 0 | Y36: =Z36*B36 -> 3 | Z36: 3 | AA36: =ROUND(M36-K36,2) -> 100.7 | AB36: =ROUND(IF(J36=0,1,L36/J36),3) -> 1 | AD36: м3 | AE36: 0 | AF36: 0 | AG36: =AF36*B36 -> 0
A37: 17 | B37: 1 | C37: =D37*B37 -> 3 | D37: 3 | F37: 1.1-1-1566 | G37: Электроды, тип Э-42, 46, 50, диаметр 4 - 6 мм | H37: т | I37: 0.00263 | J37: 0 | K37: =ROUND(J37*I37,2) -> 0 | L37: 7191.81 | M37: =ROUND(L37*I37,2) -> 18.91 | N37: 0 | O37: =ROUND(N37*I37,2) -> 0 | P37: 1 | Q37: 1 | R37: 1 | S37: 1 | T37: 1 | U37: 1 | V37: 7191.81 | W37: =ROUND(V37*I37,2) -> 18.91 | X37: 0 | Y37: =Z37*B37 -> 3 | Z37: 3 | AA37: =ROUND(M37-K37,2) -> 18.91 | AB37: =ROUND(IF(J37=0,1,L37/J37),3) -> 1 | AD37: т | AE37: 0 | AF37: 0 | AG37: =AF37*B37 -> 0
A38: 17 | B38: 1 | C38: =D38*B38 -> 3 | D38: 3 | F38: 1.1-1-1717 | G38: Плитки половые чугунные, размеры 250х250х30 мм | H38: т | I38: 2.854645 | J38: 0 | K38: =ROUND(J38*I38,2) -> 0 | L38: 2868.13 | M38: =ROUND(L38*I38,2) -> 8187.49 | N38: 0 | O38: =ROUND(N38*I38,2) -> 0 | P38: 1 | Q38: 1 | R38: 1 | S38: 1 | T38: 1 | U38: 1 | V38: 2868.13 | W38: =ROUND(V38*I38,2) -> 8187.49 | X38: 0 | Y38: =Z38*B38 -> 3 | Z38: 3 | AA38: =ROUND(M38-K38,2) -> 8187.49 | AB38: =ROUND(IF(J38=0,1,L38/J38),3) -> 1 | AD38: т | AE38: 0 | AF38: 0 | AG38: =AF38*B38 -> 0
A39: 17 | B39: 1 | C39: =D39*B39 -> 3 | D39: 3 | F39: 1.1-1-2090 | G39: Напольное покрытие полиуретановое рулонное, с наполнителем из резиновой крошки фракции 2-3 мм, прочность на разрыв 7-8 кг/см2, относительное удлинение 120%, температура эксплуатации от -50 до +70°С, толщина 8 мм | H39: м2 | I39: 12.947 | J39: 0 | K39: =ROUND(J39*I39,2) -> 0 | L39: 143.37 | M39: =ROUND(L39*I39,2) -> 1856.21 | N39: 0 | O39: =ROUND(N39*I39,2) -> 0 | P39: 1 | Q39: 1 | R39: 1 | S39: 1 | T39: 1 | U39: 1 | V39: 143.37 | W39: =ROUND(V39*I39,2) -> 1856.21 | X39: 0 | Y39: =Z39*B39 -> 3 | Z39: 3 | AA39: =ROUND(M39-K39,2) -> 1856.21 | AB39: =ROUND(IF(J39=0,1,L39/J39),3) -> 1 | AD39: м2 | AE39: 0 | AF39: 0 | AG39: =AF39*B39 -> 0
A40: 17 | B40: 1 | C40: =D40*B40 -> 3 | D40: 3 | F40: 1.1-1-389 | G40: Клей на основе акриловой дисперсии, АДМ-К | H40: т | I40: 0.005602 | J40: 0 | K40: =ROUND(J40*I40,2) -> 0 | L40: 43326.77 | M40: =ROUND(L40*I40,2) -> 242.72 | N40: 0 | O40: =ROUND(N40*I40,2) -> 0 | P40: 1 | Q40: 1 | R40: 1 | S40: 1 | T40: 1 | U40: 1 | V40: 43326.77 | W40: =ROUND(V40*I40,2) -> 242.72 | X40: 0 | Y40: =Z40*B40 -> 3 | Z40: 3 | AA40: =ROUND(M40-K40,2) -> 242.72 | AB40: =ROUND(IF(J40=0,1,L40/J40),3) -> 1 | AD40: т | AE40: 0 | AF40: 0 | AG40: =AF40*B40 -> 0
A41: 17 | B41: 1 | C41: =D41*B41 -> 3 | D41: 3 | F41: 1.1-1-766 | G41: Песок для строительных работ, рядовой | H41: м3 | I41: 1.696158 | J41: 0 | K41: =ROUND(J41*I41,2) -> 0 | L41: 104.99 | M41: =ROUND(L41*I41,2) -> 178.08 | N41: 0 | O41: =ROUND(N41*I41,2) -> 0 | P41: 1 | Q41: 1 | R41: 1 | S41: 1 | T41: 1 | U41: 1 | V41: 104.99 | W41: =ROUND(V41*I41,2) -> 178.08 | X41: 0 | Y41: =Z41*B41 -> 3 | Z41: 3 | AA41: =ROUND(M41-K41,2) -> 178.08 | AB41: =ROUND(IF(J41=0,1,L41/J41),3) -> 1 | AD41: м3 | AE41: 0 | AF41: 0 | AG41: =AF41*B41 -> 0
A42: 17 | B42: 1 | C42: =D42*B42 -> 3 | D42: 3 | F42: 1.11-1-221 | G42: Плиты облицовочные гранитные пиленые, толщина 10 мм, месторождение: Куртинское | H42: м2 | I42: 59.06 | J42: 0 | K42: =ROUND(J42*I42,2) -> 0 | L42: 772.64 | M42: =ROUND(L42*I42,2) -> 45632.12 | N42: 0 | O42: =ROUND(N42*I42,2) -> 0 | P42: 1 | Q42: 1 | R42: 1 | S42: 1 | T42: 1 | U42: 1 | V42: 772.64 | W42: =ROUND(V42*I42,2) -> 45632.12 | X42: 0 | Y42: =Z42*B42 -> 3 | Z42: 3 | AA42: =ROUND(M42-K42,2) -> 45632.12 | AB42: =ROUND(IF(J42=0,1,L42/J42),3) -> 1 | AD42: м2 | AE42: 0 | AF42: 0 | AG42: =AF42*B42 -> 0
A43: 17 | B43: 1 | C43: =D43*B43 -> 3 | D43: 3 | F43: 1.3-1-34 | G43: Смеси бетонные, БСГ, тяжелого бетона на гранитном щебне, класс прочности В3,5 (М50); фракция 5-20 | H43: м3 | I43: 2.27263 | J43: 0 | K43: =ROUND(J43*I43,2) -> 0 | L43: 514.9 | M43: =ROUND(L43*I43,2) -> 1170.18 | N43: 0 | O43: =ROUND(N43*I43,2) -> 0 | P43: 1 | Q43: 1 | R43: 1 | S43: 1 | T43: 1 | U43: 1 | V43: 514.9 | W43: =ROUND(V43*I43,2) -> 1170.18 | X43: 0 | Y43: =Z43*B43 -> 3 | Z43: 3 | AA43: =ROUND(M43-K43,2) -> 1170.18 | AB43: =ROUND(IF(J43=0,1,L43/J43),3) -> 1 | AD43: м3 | AE43: 0 | AF43: 0 | AG43: =AF43*B43 -> 0
A44: 17 | B44: 1 | C44: =D44*B44 -> 3 | D44: 3 | F44: 1.3-1-41 | G44: Смеси бетонные, БСГ, тяжелого бетона на гранитном щебне, класс прочности В25 (М350); П3, фракция 5-20, F150, W6 | H44: м3 | I44: 4.6372 | J44: 0 | K44: =ROUND(J44*I44,2) -> 0 | L44: 745.24 | M44: =ROUND(L44*I44,2) -> 3455.83 | N44: 0 | O44: =ROUND(N44*I44,2) -> 0 | P44: 1 | Q44: 1 | R44: 1 | S44: 1 | T44: 1 | U44: 1 | V44: 745.24 | W44: =ROUND(V44*I44,2) -> 3455.83 | X44: 0 | Y44: =Z44*B44 -> 3 | Z44: 3 | AA44: =ROUND(M44-K44,2) -> 3455.83 | AB44: =ROUND(IF(J44=0,1,L44/J44),3) -> 1 | AD44: м3 | AE44: 0 | AF44: 0 | AG44: =AF44*B44 -> 0
A45: 17 | B45: 1 | C45: =D45*B45 -> 3 | D45: 3 | F45: 1.3-2-4 | G45: Растворы цементные, марка 75 | H45: м3 | I45: 1.7718 | J45: 0 | K45: =ROUND(J45*I45,2) -> 0 | L45: 396.06 | M45: =ROUND(L45*I45,2) -> 701.74 | N45: 0 | O45: =ROUND(N45*I45,2) -> 0 | P45: 1 | Q45: 1 | R45: 1 | S45: 1 | T45: 1 | U45: 1 | V45: 396.06 | W45: =ROUND(V45*I45,2) -> 701.74 | X45: 0 | Y45: =Z45*B45 -> 3 | Z45: 3 | AA45: =ROUND(M45-K45,2) -> 701.74 | AB45: =ROUND(IF(J45=0,1,L45/J45),3) -> 1 | AD45: м3 | AE45: 0 | AF45: 0 | AG45: =AF45*B45 -> 0
A46: 17 | B46: 1 | C46: =D46*B46 -> 3 | D46: 3 | F46: 1.3-4-1 | G46: Арматурные заготовки (стержни, хомуты и т.п.), не собранные в каркасы или сетки, углеродистая сталь общего назначения и арматурная сталь гладкая, класс А-I, диаметр 6-7 мм | H46: т | I46: 0.125272 | J46: 0 | K46: =ROUND(J46*I46,2) -> 0 | L46: 5681.92 | M46: =ROUND(L46*I46,2) -> 711.79 | N46: 0 | O46: =ROUND(N46*I46,2) -> 0 | P46: 1 | Q46: 1 | R46: 1 | S46: 1 | T46: 1 | U46: 1 | V46: 5681.92 | W46: =ROUND(V46*I46,2) -> 711.79 | X46: 0 | Y46: =Z46*B46 -> 3 | Z46: 3 | AA46: =ROUND(M46-K46,2) -> 711.79 | AB46: =ROUND(IF(J46=0,1,L46/J46),3) -> 1 | AD46: т | AE46: 0 | AF46: 0 | AG46: =AF46*B46 -> 0
... A48: 17 | B48: 1 | C48: =D48*B48 -> 3 | D48: 3 | F48: 1.7-9-13 | G48: Столбики для ограды газонной, чугунные, длина 1000 мм | H48: шт. | I48: 54 | J48: 0 | K48: =ROUND(J48*I48,2) -> 0 | L48: 697.61 | M48: =ROUND(L48*I48,2) -> 37670.94 | N48: 0 | O48: =ROUND(N48*I48,2) -> 0 | P48: 1 | Q48: 1 | R48: 1 | S48: 1 | T48: 1 | U48: 1 | V48: 697.61 | W48: =ROUND(V48*I48,2) -> 37670.94 | X48: 0 | Y48: =Z48*B48 -> 3 | Z48: 3 | AA48: =ROUND(M48-K48,2) -> 37670.94 | AB48: =ROUND(IF(J48=0,1,L48/J48),3) -> 1 | AD48: шт. | AE48: 0 | AF48: 0 | AG48: =AF48*B48 -> 0
A49: 17 | B49: 1 | C49: =D49*B49 -> 3 | D49: 3 | F49: 5262154000 | G49: Столбики чугунные газонного ограждения | H49: шт. | I49: 16 | J49: 0 | K49: =ROUND(J49*I49,2) -> 0 | L49: 0 | M49: =ROUND(L49*I49,2) -> 0 | N49: 0 | O49: =ROUND(N49*I49,2) -> 0 | P49: 1 | Q49: 1 | R49: 1 | S49: 1 | T49: 1 | U49: 1 | V49: =ROUND(L49*Q49,2) -> 0 | W49: =ROUND(V49*I49,2) -> 0 | X49: 0 | Y49: =Z49*B49 -> 3 | Z49: 3 | AA49: =ROUND(M49-K49,2) -> 0 | AB49: =ROUND(IF(J49=0,1,L49/J49),3) -> 1 | AD49: шт. | AE49: 0 | AF49: 0 | AG49: =AF49*B49 -> 0
A50: 17 | B50: 1 | C50: =D50*B50 -> 3 | D50: 3 | F50: 9999990006 | G50: Стоимость прочих материалов (ЭСН) | H50: руб. | I50: 4.569222 | J50: 1 | K50: =ROUND(J50*I50,2) -> 4.57 | L50: 1 | M50: =ROUND(L50*I50,2) -> 4.57 | N50: 0 | O50: =ROUND(N50*I50,2) -> 0 | P50: 1 | Q50: 1 | R50: 1 | S50: 1 | T50: 1 | U50: 1 | V50: 1 | W50: =ROUND(V50*I50,2) -> 4.57 | X50: 0 | Y50: =Z50*B50 -> 3 | Z50: 3 | AA50: =ROUND(M50-K50,2) -> 0 | AB50: =ROUND(IF(J50=0,1,L50/J50),3) -> 1 | AD50: руб. | AE50: 0 | AF50: 0 | AG50: =AF50*B50 -> 0
A52: 4 | B52: 1 | F52: Потолок | G52: Потолок | I52: 0 | K52: 0 | S52: 0 | V52: 0 | BX52: 0 | CJ52: 0
A54: 17 | B54: 1 | C54: =D54*B54 -> 3 | D54: 3 | F54: 1.1-1-1029 | G54: Сетка проволочная штукатурная тканая, квадрат 5х5 мм, толщина 1,6 мм | H54: м2 | I54: 0.27977 | J54: 0 | K54: =ROUND(J54*I54,2) -> 0 | L54: 33.56 | M54: =ROUND(L54*I54,2) -> 9.39 | N54: 0 | O54: =ROUND(N54*I54,2) -> 0 | P54: 1 | Q54: 1 | R54: 1 | S54: 1 | T54: 1 | U54: 1 | V54: 33.56 | W54: =ROUND(V54*I54,2) -> 9.39 | X54: 0 | Y54: =Z54*B54 -> 3 | Z54: 3 | AA54: =ROUND(M54-K54,2) -> 9.39 | AB54: =ROUND(IF(J54=0,1,L54/J54),3) -> 1 | AD54: м2 | AE54: 0 | AF54: 0 | AG54: =AF54*B54 -> 0
A55: 17 | B55: 1 | C55: =D55*B55 -> 3 | D55: 3 | F55: 1.1-1-118 | G55: Вода | H55: м3 | I55: 0.00543 | J55: 0 | K55: =ROUND(J55*I55,2) -> 0 | L55: 7.07 | M55: =ROUND(L55*I55,2) -> 0.04 | N55: 0 | O55: =ROUND(N55*I55,2) -> 0 | P55: 1 | Q55: 1 | R55: 1 | S55: 1 | T55: 1 | U55: 1 | V55: 7.07 | W55: =ROUND(V55*I55,2) -> 0.04 | X55: 0 | Y55: =Z55*B55 -> 3 | Z55: 3 | AA55: =ROUND(M55-K55,2) -> 0.04 | AB55: =ROUND(IF(J55=0,1,L55/J55),3) -> 1 | AD55: м3 | AE55: 0 | AF55: 0 | AG55: =AF55*B55 -> 0
A56: 17 | B56: 1 | C56: =D56*B56 -> 3 | D56: 3 | F56: 1.1-1-1478 | G56: Шпатлевка водно-дисперсионная акриловая | H56: т | I56: 0.002778 | J56: 0 | K56: =ROUND(J56*I56,2) -> 0 | L56: 13953.6 | M56: =ROUND(L56*I56,2) -> 38.76 | N56: 0 | O56: =ROUND(N56*I56,2) -> 0 | P56: 1 | Q56: 1 | R56: 1 | S56: 1 | T56: 1 | U56: 1 | V56: 13953.6 | W56: =ROUND(V56*I56,2) -> 38.76 | X56: 0 | Y56: =Z56*B56 -> 3 | Z56: 3 | AA56: =ROUND(M56-K56,2) -> 38.76 | AB56: =ROUND(IF(J56=0,1,L56/J56),3) -> 1 | AD56: т | AE56: 0 | AF56: 0 | AG56: =AF56*B56 -> 0
A57: 17 | B57: 1 | C57: =D57*B57 -> 3 | D57: 3 | F57: 1.1-1-2180 | G57: Краска водно-дисперсионная, акриловая, с коллоидным раствором серебра, биологически активная, для внутренних работ, ручного и механизированного нанесения, сухой остаток от 56 до 62%, водородный показатель не менее рН 8,5, для окраски помещений медицинских учреждений, детских садов, школ, предприятий общественного питания и прочих мест массового посещения людей | H57: т | I57: 0.003182 | J57: 0 | K57: =ROUND(J57*I57,2) -> 0 | L57: 33030.4 | M57: =ROUND(L57*I57,2) -> 105.1 | N57: 0 | O57: =ROUND(N57*I57,2) -> 0 | P57: 1 | Q57: 1 | R57: 1 | S57: 1 | T57: 1 | U57: 1 | V57: 33030.4 | W57: =ROUND(V57*I57,2) -> 105.1 | X57: 0 | Y57: =Z57*B57 -> 3 | Z57: 3 | AA57: =ROUND(M57-K57,2) -> 105.1 | AB57: =ROUND(IF(J57=0,1,L57/J57),3) -> 1 | AD57: т | AE57: 0 | AF57: 0 | AG57: =AF57*B57 -> 0
A58: 17 | B58: 1 | C58: =D58*B58 -> 3 | D58: 3 | F58: 1.3-2-13 | G58: Растворы цементно-известковые, марка 75 | H58: м3 | I58: 0.077568 | J58: 0 | K58: =ROUND(J58*I58,2) -> 0 | L58: 481.69 | M58: =ROUND(L58*I58,2) -> 37.36 | N58: 0 | O58: =ROUND(N58*I58,2) -> 0 | P58: 1 | Q58: 1 | R58: 1 | S58: 1 | T58: 1 | U58: 1 | V58: 481.69 | W58: =ROUND(V58*I58,2) -> 37.36 | X58: 0 | Y58: =Z58*B58 -> 3 | Z58: 3 | AA58: =ROUND(M58-K58,2) -> 37.36 | AB58: =ROUND(IF(J58=0,1,L58/J58),3) -> 1 | AD58: м3 | AE58: 0 | AF58: 0 | AG58: =AF58*B58 -> 0
A59: 17 | B59: 1 | C59: =D59*B59 -> 3 | D59: 3 | F59: 1.3-2-24 | G59: Смеси сухие штукатурные цементно-песчаные для внутренних и наружных работ, бездобавочные, В12,5 (М150), F50, крупность заполнителя не более 0,5 мм | H59: т | I59: 0.031027 | J59: 0 | K59: =ROUND(J59*I59,2) -> 0 | L59: 796.76 | M59: =ROUND(L59*I59,2) -> 24.72 | N59: 0 | O59: =ROUND(N59*I59,2) -> 0 | P59: 1 | Q59: 1 | R59: 1 | S59: 1 | T59: 1 | U59: 1 | V59: 796.76 | W59: =ROUND(V59*I59,2) -> 24.72 | X59: 0 | Y59: =Z59*B59 -> 3 | Z59: 3 | AA59: =ROUND(M59-K59,2) -> 24.72 | AB59: =ROUND(IF(J59=0,1,L59/J59),3) -> 1 | AD59: т | AE59: 0 | AF59: 0 | AG59: =AF59*B59 -> 0
A60: 17 | B60: 1 | C60: =D60*B60 -> 3 | D60: 3 | F60: 9999990006 | G60: Стоимость прочих материалов (ЭСН) | H60: руб. | I60: 0.47066 | J60: 1 | K60: =ROUND(J60*I60,2) -> 0.47 | L60: 1 | M60: =ROUND(L60*I60,2) -> 0.47 | N60: 0 | O60: =ROUND(N60*I60,2) -> 0 | P60: 1 | Q60: 1 | R60: 1 | S60: 1 | T60: 1 | U60: 1 | V60: 1 | W60: =ROUND(V60*I60,2) -> 0.47 | X60: 0 | Y60: =Z60*B60 -> 3 | Z60: 3 | AA60: =ROUND(M60-K60,2) -> 0 | AB60: =ROUND(IF(J60=0,1,L60/J60),3) -> 1 | AD60: руб. | AE60: 0 | AF60: 0 | AG60: =AF60*B60 -> 0
A62: 4 | B62: 1 | F62: Стены | G62: Стены | I62: 0 | K62: 0 | S62: 0 | V62: 0 | BX62: 0 | CJ62: 0
A64: 17 | B64: 1 | C64: =D64*B64 -> 3 | D64: 3 | F64: 1.1-1-1029 | G64: Сетка проволочная штукатурная тканая, квадрат 5х5 мм, толщина 1,6 мм | H64: м2 | I64: 17.604 | J64: 0 | K64: =ROUND(J64*I64,2) -> 0 | L64: 33.56 | M64: =ROUND(L64*I64,2) -> 590.79 | N64: 0 | O64: =ROUND(N64*I64,2) -> 0 | P64: 1 | Q64: 1 | R64: 1 | S64: 1 | T64: 1 | U64: 1 | V64: 33.56 | W64: =ROUND(V64*I64,2) -> 590.79 | X64: 0 | Y64: =Z64*B64 -> 3 | Z64: 3 | AA64: =ROUND(M64-K64,2) -> 590.79 | AB64: =ROUND(IF(J64=0,1,L64/J64),3) -> 1 | AD64: м2 | AE64: 0 | AF64: 0 | AG64: =AF64*B64 -> 0
...
