Workbook

Sheet Смета по ФЕР 421пр (12 гр.
A1: =Source!B1 -> Smeta.RU (495) 974-1589
B3: "СОГЛАСОВАНО" | H3: "УТВЕРЖДАЮ"
B6: =CONCATENATE("______________________ ", IF(Source!AL12<>"", Source!AL12, "")) -> ______________________ | H6: =CONCATENATE("______________________ ", IF(Source!AH12<>"", Source!AH12, "")) -> ______________________
B7: "_____"________________ 2021 г. | H7: "_____"________________ 2021 г.
A10: Наименование редакции сметных нормативов: ГОСУДАРСТВЕННЫЕ СМЕТНЫЕ НОРМАТИВЫ (ГЭСН, ФЕР) 2020, утвержденные приказами Минстроя России от 26 декабря 2019 г. № 871/пр., № 872/пр., № 873/пр., № 874/пр., № 875/пр., № 876/пр. с изменениями, утвержденными приказами Минстроя России от 30 марта 2020 г. № 171/пр., № 172/пр., от 01 июня 2020 г. № 294/пр., № 295/пр., от 30 июня 2020 г. № 352/пр., № 353/пр., от 20 октября 2020 г. № 635/пр., № 636/пр. ") | CE10: Наименование редакции сметных нормативов: ГОСУДАРСТВЕННЫЕ СМЕТНЫЕ НОРМАТИВЫ (ГЭСН, ФЕР) 2020, утвержденные приказами Минстроя России от 26 декабря 2019 г. № 871/пр., № 872/пр., № 873/пр., № 874/пр., № 875/пр., № 876/пр. с изменениями, утвержденными приказами Минстроя России от 30 марта 2020 г. № 171/пр., № 172/пр., от 01 июня 2020 г. № 294/пр., № 295/пр., от 30 июня 2020 г. № 352/пр., № 353/пр., от 20 октября 2020 г. № 635/пр., № 636/пр. ")
A12: Наименование программного продукта: Программа для ЭВМ «Программа: «SmetaRu» версия 11»
B16: (наименование стройки)
B18: =IF(Source!G12<>"Новый объект", Source!G12, "") -> И 3 Выявленный объект культурного наследия "Здание рабочей казармы Берговской мануфактуры, 1908г", по адресу: г.Тверь, ул.Спартака, д.45, корп.1_(Копия) | CC18: =IF(Source!G12<>"Новый объект", Source!G12, "") -> И 3 Выявленный объект культурного наследия "Здание рабочей казармы Берговской мануфактуры, 1908г", по адресу: г.Тверь, ул.Спартака, д.45, корп.1_(Копия)
B19: (наименование объекта капитального строительства)
B21: =CONCATENATE( "ЛОКАЛЬНАЯ СМЕТА № ", Source!F20, " ",Source!CM20) -> ЛОКАЛЬНАЯ СМЕТА № Новая локальная смета
B23: =IF(Source!G20<>"Новая локальная смета", Source!G20, "") -> Выявленный объект культурного наследия "Здание рабочей казармы Берговской мануфактуры, 1908г", по адресу: г.Тверь, ул.Спартака, д.45, корп.1 | CC23: =IF(Source!G20<>"Новая локальная смета", Source!G20, "") -> Выявленный объект культурного наследия "Здание рабочей казармы Берговской мануфактуры, 1908г", по адресу: г.Тверь, ул.Спартака, д.45, корп.1
B24: (наименование конструктивного решения)
A27: Составлен | C27: Базисно-индексный | D27: метод
A29: Основание
C30: (проектная и (или) иная техническая документация)
A32: Составлена в ценах II квартал 2021 года (1.01.2000)
A34: Сметная стоимость | C34: =C37+C38+C39+C40 -> 12434.61 | D34: =ROUND((SUM(O47:O1682))/1000, 2) -> 1441.99 | F34: тыс. руб.
G35: Средства на оплату труда
B36: в том числе: | G36: рабочих | I36: =(SUM(U47:U1682))/1000 -> 1792.859 | J36: =ROUND((SUM(Q47:Q1682))/1000, 2) -> 74.02 | K36: тыс. руб.
B37: строительных работ | C37: =(ROUND(SUM(AO47:AO1682)*Source!D414, 0)+ROUND(SUM(AP47:AP1682)*Source!E414, 0)+ROUND(SUM(AQ47:AQ1682)*Source!G414, 0)+ROUND(SUM(AR47:AR1682)*Source!L414, 0)+SUM(AS47:AS1682)+SUM(AT47:AT1682))/1000 -> 12222.588 | D37: =ROUND((SUM(AN47:AN1682)+SUM(AR47:AR1682))/1000, 2) -> 1423.96 | F37: тыс. руб. | G37: Нормативные затраты труда рабочих | J37: =Source!F346 -> 8541.0683 | K37: чел.-ч.
B38: монтажных работ | C38: =(ROUND(SUM(AY47:AY1682)*Source!D414, 0)+ROUND(SUM(AZ47:AZ1682)*Source!E414, 0)+ROUND(SUM(BA47:BA1682)*Source!G414, 0)+ROUND(SUM(BB47:BB1682)*Source!L414, 0)+SUM(BC47:BC1682)+SUM(BD47:BD1682))/1000 -> 212.022 | D38: =ROUND((SUM(AX47:AX1682)+SUM(BB47:BB1682))/1000, 2) -> 18.03 | F38: тыс. руб. | G38: Нормативные затраты труда машинистов | J38: =Source!F347 -> 286.20145 | K38: чел.-ч.
B39: оборудования | C39: =(ROUND(SUM(BH47:BH1682)*Source!H414, 0)+ROUND(SUM(BI47:BI1682)*Source!L414, 0))/1000 -> 0 | D39: =ROUND((SUM(BH47:BH1682)+SUM(BI47:BI1682))/1000, 2) -> 0 | F39: тыс. руб. | G39: Расчетный измеритель
B40: прочих затрат | C40: =(ROUND(SUM(BM47:BM1682)*Source!I414, 0)+SUM(BU47:BU1682)+ROUND(SUM(BO47:BO1682)*Source!H414, 0)+ROUND(SUM(BP47:BP1682)*Source!L414, 0))/1000 -> 0 | D40: =ROUND((SUM(BM47:BM1682)+SUM(BN47:BN1682)+SUM(BO47:BO1682)+SUM(BP47:BP1682))/1000, 2) -> 0 | F40: тыс. руб. | G40: конструктивного решения | I40: =Source!I20 -> 0 | J40: =Source!H20
A42: № п/п | B42: Обоснование | C42: Наименование работ и затрат | D42: Единица измерения | E42: Количество | H42: Сметная стоимость в базисном уровне цен (в текущем уровне цен (гр.8) для ресурсов, отсутствующих в СНБ), руб. | K42: Индексы | L42: Сметная стоимость в текущем уровне цен, руб.
E45: на единицу | F45: коэффициенты | G45: всего с учетом коэффициентов | H45: на единицу | I45: коэффициенты | J45: всего
A46: 1 | B46: 2 | C46: 3 | D46: 4 | E46: 5 | F46: 6 | G46: 7 | H46: 8 | I46: 9 | J46: 10 | K46: 11 | L46: 12
A48: Раздел: Демонтажные работы. Ремонт фасада
A49: =Source!E28 -> 1 | B49: =Source!F28 -> 10-01-027-4 | C49: Демонтаж в жилых и общественных зданиях блоков оконных с переплетами раздельными (раздельно-спаренными) в стенах каменных площадью проема более 2 м2 Поправки к: М *0; ЭМ *0,8*1,15; ОТм *0,8*1,15; ОТ *0,8*1,15; ЗТ *0,8*1,15; ЗТм *0,8*1,15; НР *0,9; СП *0,85 | D49: =Source!H28 -> 100 м2 проемов | E49: =Source!K28 -> 0.3833 | G49: =Source!I28 -> 0.3833 | AC49: =Source!X28 -> 561.48 | AD49: =Source!HK28 -> 13599 | AE49: =Source!Y28 -> 270.05 | AF49: =Source!HL28 -> 6541 | AS49: =IF(Source!BI28<=1,AD49, 0) -> 13599 | AT49: =IF(Source!BI28<=1,AF49, 0) -> 6541 | BC49: =IF(Source!BI28=2,AD49, 0) -> 0 | BD49: =IF(Source!BI28=2,AF49, 0) -> 0
C51: ="Объем: "&Source!K28&"=(38,33)/"&"100" -> Объем: 0,3833=(38,33)/100
B52: 1 | C52: ОТ | H52: =Source!AO28 -> 1559.52 | I52: =ROUND(0.8*1.15,7) -> 0.92 | J52: =ROUND(Source!AF28*Source!I28, 2) -> 549.94 | K52: =IF(Source!BA28<> 0, Source!BA28, 1) -> 24.22 | L52: =Source!HJ28 -> 13320
B53: 3 | C53: ЭМ | H53: =Source!AM28 -> 886.75 | I53: =ROUND(0.8*1.15,7) -> 0.92 | J53: =ROUND(Source!AD28*Source!I28, 2) -> 312.7
B54: 2 | C54: в т.ч. ОТм | H54: =Source!AN28 -> 78.57 | I54: =ROUND(0.8*1.15,7) -> 0.92 | J54: =ROUND(Source!AE28*Source!I28, 2) -> 27.71 | K54: =IF(Source!BS28<> 0, Source!BS28, 1) -> 24.22 | L54: =Source!HI28 -> 671
C55: ЗТ | D55: чел-ч | E55: =Source!AQ28 -> 182.4 | F55: =ROUND(0.8*1.15,7) -> 0.92 | G55: =ROUND(Source!U28, 7) -> 64.320806
C56: ЗТм | D56: чел-ч | E56: =Source!AR28 -> 6.03 | F56: =ROUND(0.8*1.15,7) -> 0.92 | G56: =ROUND(Source!V28, 7) -> 2.1263951
C57: Итого по расценке | H57: =H52+H53 -> 2446.27 | J57: =J52+J53 -> 862.64
C58: ФОТ | J58: =SUM(Q49:Q61)+SUM(V49:V61) -> 577.65 | L58: =SUM(U49:U61)+SUM(W49:W61) -> 13991
B59: Пр812-1-010-3 | C59: НР Деревянные конструкции | D59: % | E59: =Source!BZ28 -> 108 | F59: =ROUND(0.9,7) -> 0.9 | G59: =Source!AT28 -> 97.2 | J59: =SUM(AC49:AC61) -> 561.48 | L59: =SUM(AD49:AD61) -> 13599
B60: Пр774-1-010-3 | C60: СП Деревянные конструкции | D60: % | E60: =Source!CA28 -> 55 | F60: =ROUND(0.85,7) -> 0.85 | G60: =Source!AU28 -> 46.75 | J60: =SUM(AE49:AE61) -> 270.05 | L60: =SUM(AF49:AF61) -> 6541
C61: Всего по позиции | I61: =J52+J53+J59+J60 -> 1694.17 | O61: =I61 -> 1694.17 | P61: =K61 -> 0 | Q61: =J52 -> 549.94 | R61: =J52 -> 549.94 | U61: =L52 -> 13320 | V61: =J54 -> 27.71 | W61: =L54 -> 671 | X61: =J53 -> 312.7 | Z61: =L53 -> 0 | AB61: =0 -> 0 | AN61: =IF(Source!BI28<=1,J52+J53+J59+J60, 0) -> 1694.17 | AO61: =IF(Source!BI28<=1,0, 0) -> 0 | AP61: =IF(Source!BI28<=1,J53, 0) -> 312.7 | AQ61: =IF(Source!BI28<=1,J52, 0) -> 549.94 | AX61: =IF(Source!BI28=2,J52+J53+J59+J60, 0) -> 0 | AY61: =IF(Source!BI28=2,0, 0) -> 0 | AZ61: =IF(Source!BI28=2,J53, 0) -> 0 | BA61: =IF(Source!BI28=2,J52, 0) -> 0
A62: =Source!E29 -> 2 | B62: =Source!F29 -> 58-3-1 | C62: Разборка мелких покрытий и обделок из листовой стали поясков, сандриков, желобов, отливов, свесов и т.п. Поправки к: ЭМ *1,15; ОТм *1,15; ОТ *1,15; ЗТ *1,15; ЗТм *1,15 | D62: =Source!H29 -> 100 м труб и покрытий | E62: =Source!K29 -> 0.048 | G62: =Source!I29 -> 0.048 | AC62: =Source!X29 -> 3.4 | AD62: =Source!HK29 -> 83 | AE62: =Source!Y29 -> 1.74 | AF62: =Source!HL29 -> 42 | AS62: =IF(Source!BI29<=1,AD62, 0) -> 83 | AT62: =IF(Source!BI29<=1,AF62, 0) -> 42 | BC62: =IF(Source!BI29=2,AD62, 0) -> 0 | BD62: =IF(Source!BI29=2,AF62, 0) -> 0
...

Sheet Source
A1: 0 | B1: Smeta.RU (495) 974-1589 | D1: _PS_ | F1: 0 | G1: 0 | H1: 0 | I1: Smeta.RU | J1: ООО "МЭС" Доп. раб. место FStS-0035086 | K1: 1 | L1: 35086 | M1: 10 | N1: 11 | O1: 3 | P1: 2 | Q1: 5
A12: 1 | B12: 413 | C12: 0 | D12: =ROW(A357) -> 357 | E12: 0 | F12: И 2 Выявленный объект культурного наследия "Здание рабочей казармы Берговской мануфактуры, 1908г", по адресу: г.Тверь, ул.Спартака, д.45, корп.1_(Копия) | G12: И 3 Выявленный объект культурного наследия "Здание рабочей казармы Берговской мануфактуры, 1908г", по адресу: г.Тверь, ул.Спартака, д.45, корп.1_(Копия) | I12: 0 | J12: дефектная ведомость | K12: 0 | L12: 0 | M12: 6 | O12: 2021 | P12: 6 | Q12: 0 | R12: 0 | T12: 3 | U12: дефектная ведомость | V12: 0 | W12: г.Тверь, ул.Спартака, д.45, корп.1 | BB12: 0 | BH12: Сметные нормы списания | BI12: Коды ценников | BJ12: 0 | BK12: 1 | BL12: 0 | BM12: 1 | BN12: 1 | BO12: 0 | BP12: 6 | BQ12: 2 | BR12: 1 | BS12: 1 | BT12: 0 | BU12: 0 | BV12: 1 | BW12: 0 | BX12: 0 | BY12: ТЕР Тверской области (ред. 2015) | BZ12: ГСН (ГЭСН, ФЕР) 2020 и ТЕР (Методики НР (821/пр) и СП (774/пр) от 16.04.2021 г. | CA12: ТЕР-2015 | CB12: ТЕР-2015 | CC12: ТЕР-2015 | CD12: ТЕР-2015 | CE12: Поправки для ГСН (ФЕР) 2020 от 20.10.2020 г И4 | CF12: 0 | CG12: 0 | CH12: 403177480 | CK12: 0 | EC12: 0
A15: 15 | B15: 1
A18: 52 | B18: =B357 -> 413 | C18: =C357 -> 1 | D18: =D357 -> 12 | E18: =E357 -> 0 | F18: =F357 -> И 2 Выявленный объект культурного наследия "Здание рабочей казармы Берговской мануфактуры, 1908г", по адресу: г.Тверь, ул.Спартака, д.45, корп.1_(Копия) | G18: =G357 -> И 3 Выявленный объект культурного наследия "Здание рабочей казармы Берговской мануфактуры, 1908г", по адресу: г.Тверь, ул.Спартака, д.45, корп.1_(Копия) | O18: =O357 -> 1323732.7 | P18: =P357 -> 1221152.8 | Q18: =Q357 -> 27885.51 | R18: =R357 -> 3438.11 | S18: =S357 -> 74694.4 | T18: =T357 -> 0 | U18: =U357 -> 8541.0683 | V18: =V357 -> 286.20145 | ... GX18: =GX357 -> 0
A20: 3 | B20: 1 | D20: =ROW(A324) -> 324 | F20: Новая локальная смета | G20: Выявленный объект культурного наследия "Здание рабочей казармы Берговской мануфактуры, 1908г", по адресу: г.Тверь, ул.Спартака, д.45, корп.1 | I20: 0 | K20: 0 | S20: 31028413 | V20: 0 | BX20: 0 | CF20: 0 | CG20: 0
A22: 52 | B22: =B324 -> 1 | C22: =C324 -> 3 | D22: =D324 -> 20 | E22: =E324 -> 0 | F22: =F324 -> Новая локальная смета | G22: =G324 -> Выявленный объект культурного наследия "Здание рабочей казармы Берговской мануфактуры, 1908г", по адресу: г.Тверь, ул.Спартака, д.45, корп.1 | O22: =O324 -> 1323732.7 | P22: =P324 -> 1221152.8 | Q22: =Q324 -> 27885.51 | R22: =R324 -> 3438.11 | S22: =S324 -> 74694.4 | T22: =T324 -> 0 | U22: =U324 -> 8541.0683 | V22: =V324 -> 286.20145 | ... GX22: =GX324 -> 0
A24: 4 | B24: 1 | D24: =ROW(A31) -> 31 | F24: Новый раздел | G24: Демонтажные работы. Ремонт фасада | I24: 0 | K24: -1 | S24: 31028413 | V24: 0 | BX24: 0 | CJ24: 0
A26: 52 | B26: =B31 -> 1 | C26: =C31 -> 4 | D26: =D31 -> 24 | E26: =E31 -> 0 | F26: =F31 -> Новый раздел | G26: =G31 -> Демонтажные работы. Ремонт фасада | O26: =O31 -> 866.43 | P26: =P31 -> 0 | Q26: =Q31 -> 312.71 | R26: =R31 -> 27.71 | S26: =S31 -> 553.72 | T26: =T31 -> 0 | U26: =U31 -> 64.823126 | V26: =V31 -> 2.1263951 | ... GX26: =GX31 -> 0
A28: 17 | B28: 1 | C28: =ROW(SmtRes!A17) -> 17 | D28: =ROW(EtalonRes!A17) -> 17 | E28: 1 | F28: 10-01-027-4 | G28: Демонтаж в жилых и общественных зданиях блоков оконных с переплетами раздельными (раздельно-спаренными) в стенах каменных площадью проема более 2 м2 | H28: 100 м2 проемов | I28: =ROUND((38.33)/100,7) -> 0.3833 | J28: 0 | K28: =ROUND((38.33)/100,7) -> 0.3833 | O28: =ROUND(CP28,2) -> 862.64 | P28: =ROUND(CQ28*I28,2) -> 0 | Q28: =ROUND(CR28*I28,2) -> 312.7 | R28: =ROUND(CS28*I28,2) -> 27.71 | S28: =ROUND(CT28*I28,2) -> 549.94 | T28: =ROUND(CU28*I28,2) -> 0 | U28: =CV28*I28 -> 64.320806 | V28: =CW28*I28 -> 2.1263951 | W28: =ROUND(CX28*I28,2) -> 0 | X28: =ROUND(CY28,2) -> 561.48 | Y28: =ROUND(CZ28,2) -> 270.05 | AA28: 31028412 | AB28: =ROUND((AC28+AD28+AF28),6) -> 2250.5684 | AC28: =ROUND(((ES28*ROUND(0,7))),6) -> 0 | AD28: =ROUND(((((ET28*ROUND((0.8*1.15),7)))-((EU28*ROUND((0.8*1.15),7))))+AE28),6) -> 815.81 | AE28: =ROUND(((EU28*ROUND((0.8*1.15),7))),6) -> 72.2844 | AF28: =ROUND(((EV28*ROUND((0.8*1.15),7))),6) -> 1434.7584 | AG28: =ROUND((AP28),6) -> 0 | AH28: =((EW28*ROUND((0.8*1.15),7))) -> 167.808 | AI28: =((EX28*ROUND((0.8*1.15),7))) -> 5.5476 | AJ28: =(AS28) -> 0 | AK28: 47696.73 | AL28: 45250.46 | AM28: 886.75 | AN28: 78.57 | AO28: 1559.52 | AP28: 0 | AQ28: 182.4 | AR28: 6.03 | AS28: 0 | AT28: 97.2 | AU28: 46.75 | AV28: 1 | AW28: 1 | AZ28: 1 | BA28: 24.22 | BB28: 1 | BC28: 1 | BH28: 0 | BI28: 1 | BJ28: ТЕР (ред.2014)Тверской обл.изм.2,пр. № 337/пр,сб.10,гл.01,табл.027,поз.4 | BM28: 10001 | BN28: 0 | BO28: Приложение №2 к письму Минстроя России от03.06.2021 №23038-ИФ/09; Приложение №2 к письму Минстроя России от03.06.2021 №23038-ИФ/09; Приложение №2 к письму Минстроя России от03.06.2021 №23038-ИФ/09.; Приложение №2 к письму Минстроя России от03.06.2021 №23038-ИФ/09.; | BP28: 1 | BQ28: 2 | BR28: 0 | BS28: 24.22 | BT28: 1 | BU28: 1 | BV28: 1 | BW28: 1 | BX28: 1 | BZ28: 108 | CA28: 55 | CE28: 0 | CF28: 0 | CG28: 0 | CM28: 0 | CO28: 0 | CP28: =(P28+Q28+S28) -> 862.64 | CQ28: =AC28*BC28 -> 0 | CR28: =AD28*BB28 -> 815.81 | CS28: =AE28 -> 72.2844 | CT28: =AF28 -> 1434.7584 | CU28: =AG28 -> 0 | CV28: =AH28 -> 167.808 | CW28: =AI28 -> 5.5476 | CX28: =AJ28 -> 0 | CY28: =(((S28+R28)*AT28)/100) -> 561.4758 | CZ28: =(((S28+R28)*AU28)/100) -> 270.05138 | DD28: *0 | DE28: *0,8*1,15 | DF28: *0,8*1,15 | DG28: *0,8*1,15 | DI28: *0,8*1,15 | DJ28: *0,8*1,15 | DN28: 0 | DO28: 0 | DP28: 1 | DQ28: 1 | DU28: 1013 | DV28: 100 м2 проемов | DW28: 100 м2 проемов | DX28: 1 | EE28: 30852905 | EF28: 2 | EG28: Общестроительные работы | EH28: 0 | EJ28: 1 | EK28: 10001 | EL28: Деревянные конструкции | EM28: ФЕР-10 | EQ28: 131072 | ER28: 47696.73 | ES28: 45250.46 | ET28: 886.75 | EU28: 78.57 | EV28: 1559.52 | EW28: 182.4 | EX28: 6.03 | EY28: 0 | FQ28: 0 | FR28: =ROUND(IF(AND(BH28=3,BI28=3),P28,0),2) -> 0 | FS28: 0 | FT28: *0,9 | FU28: *0,85 | FX28: 97.2 | FY28: 46.75 | GD28: 1 | GF28: -497767182 | GG28: 2 | GH28: 1 | GI28: 4 | GJ28: 0 | GK28: 0 | GL28: =ROUND(IF(AND(BH28=3,BI28=3,FS28<>0),P28,0),2) -> 0 | GM28: =ROUND(O28+X28+Y28,2)+GX28 -> 1694.17 | GN28: =IF(OR(BI28=0,BI28=1),ROUND(O28+X28+Y28,2),0) -> 1694.17 | GO28: =IF(BI28=2,ROUND(O28+X28+Y28,2),0) -> 0 | GP28: =IF(BI28=4,ROUND(O28+X28+Y28,2)+GX28,0) -> 0 | GR28: 0 | GS28: 0 | GT28: 0 | GV28: =ROUND((GT28),6) -> 0 | GW28: 1 | GX28: =ROUND(HC28*I28,2) -> 0 | HA28: 0 | HB28: 0 | HC28: =GV28*GW28 -> 0 | HI28: =ROUND(R28*BS28,0) -> 671 | HJ28: =ROUND(S28*BA28,0) -> 13320 | HK28: =ROUND((((HJ28+HI28)*AT28)/100),0) -> 13599 | HL28: =ROUND((((HJ28+HI28)*AU28)/100),0) -> 6541 | IK28: 0
A29: 17 | B29: 1 | C29: =ROW(SmtRes!A20) -> 20 | D29: =ROW(EtalonRes!A20) -> 20 | E29: 2 | F29: 58-3-1 | G29: Разборка мелких покрытий и обделок из листовой стали поясков, сандриков, желобов, отливов, свесов и т.п. | H29: 100 м труб и покрытий | I29: =ROUND(4.8/100,7) -> 0.048 | J29: 0 | K29: =ROUND(4.8/100,7) -> 0.048 | O29: =ROUND(CP29,2) -> 3.79 | P29: =ROUND(CQ29*I29,2) -> 0 | Q29: =ROUND(CR29*I29,2) -> 0.01 | R29: =ROUND(CS29*I29,2) -> 0 | S29: =ROUND(CT29*I29,2) -> 3.78 | T29: =ROUND(CU29*I29,2) -> 0 | U29: =CV29*I29 -> 0.50232 | V29: =CW29*I29 -> 0 | W29: =ROUND(CX29*I29,2) -> 0 | X29: =ROUND(CY29,2) -> 3.4 | Y29: =ROUND(CZ29,2) -> 1.74 | AA29: 31028412 | AB29: =ROUND((AC29+AD29+AF29),6) -> 79.028 | AC29: =ROUND((ES29),6) -> 0 | AD29: =ROUND(((((ET29*ROUND(1.15,7)))-((EU29*ROUND(1.15,7))))+AE29),6) -> 0.23 | AE29: =ROUND(((EU29*ROUND(1.15,7))),6) -> 0 | AF29: =ROUND(((EV29*ROUND(1.15,7))),6) -> 78.798 | AG29: =ROUND((AP29),6) -> 0 | AH29: =((EW29*ROUND(1.15,7))) -> 10.465 | AI29: =((EX29*ROUND(1.15,7))) -> 0 | AJ29: =(AS29) -> 0 | AK29: 68.72 | AL29: 0 | AM29: 0.2 | AN29: 0 | AO29: 68.52 | AP29: 0 | AQ29: 9.1 | AR29: 0 | AS29: 0 | AT29: 90 | AU29: 46 | AV29: 1 | AW29: 1 | AZ29: 1 | BA29: 24.22 | BB29: 1 | BC29: 1 | BH29: 0 | BI29: 1 | BJ29: ТЕР (ред.2014)Тверской обл.изм.2,пр. № 337/пр,сб.58,гл.,табл.3,поз.1 | BM29: 58001 | BN29: 0 | BO29: Приложение №2 к письму Минстроя России от03.06.2021 №23038-ИФ/09; Приложение №2 к письму Минстроя России от03.06.2021 №23038-ИФ/09; Приложение №2 к письму Минстроя России от03.06.2021 №23038-ИФ/09.; Приложение №2 к письму Минстроя России от03.06.2021 №23038-ИФ/09.; | BP29: 1 | BQ29: 6 | BR29: 0 | BS29: 24.22 | BT29: 1 | BU29: 1 | BV29: 1 | BW29: 1 | BX29: 1 | BZ29: 90 | CA29: 46 | CE29: 0 | CF29: 0 | CG29: 0 | CM29: 0 | CO29: 0 | CP29: =(P29+Q29+S29) -> 3.79 | CQ29: =AC29*BC29 -> 0 | CR29: =AD29*BB29 -> 0.23 | CS29: =AE29 -> 0 | CT29: =AF29 -> 78.798 | CU29: =AG29 -> 0 | CV29: =AH29 -> 10.465 | CW29: =AI29 -> 0 | CX29: =AJ29 -> 0 | CY29: =(((S29+R29)*AT29)/100) -> 3.402 | CZ29: =(((S29+R29)*AU29)/100) -> 1.7388 | DE29: *1,15 | DF29: *1,15 | DG29: *1,15 | DI29: *1,15 | DJ29: *1,15 | DN29: 0 | DO29: 0 | DP29: 1 | DQ29: 1 | DU29: 1013 | DV29: 100 м труб и покрытий | DW29: 100 м труб и покрытий | DX29: 1 | EE29: 30853010 | EF29: 6 | EG29: Ремонтно-строительные работы | EH29: 0 | EJ29: 1 | EK29: 58001 | EL29: Крыши, кровли | EM29: рФЕР-58 | EQ29: 131072 | ER29: 68.72 | ES29: 0 | ET29: 0.2 | EU29: 0 | EV29: 68.52 | EW29: 9.1 | EX29: 0 | EY29: 0 | FQ29: 0 | FR29: =ROUND(IF(AND(BH29=3,BI29=3),P29,0),2) -> 0 | FS29: 0 | FX29: 90 | FY29: 46 | GD29: 1 | GF29: 374719418 | GG29: 2 | GH29: 1 | GI29: 4 | GJ29: 0 | GK29: 0 | GL29: =ROUND(IF(AND(BH29=3,BI29=3,FS29<>0),P29,0),2) -> 0 | GM29: =ROUND(O29+X29+Y29,2)+GX29 -> 8.93 | GN29: =IF(OR(BI29=0,BI29=1),ROUND(O29+X29+Y29,2),0) -> 8.93 | GO29: =IF(BI29=2,ROUND(O29+X29+Y29,2),0) -> 0 | GP29: =IF(BI29=4,ROUND(O29+X29+Y29,2)+GX29,0) -> 0 | GR29: 0 | GS29: 0 | GT29: 0 | GV29: =ROUND((GT29),6) -> 0 | GW29: 1 | GX29: =ROUND(HC29*I29,2) -> 0 | HA29: 0 | HB29: 0 | HC29: =GV29*GW29 -> 0 | HI29: =ROUND(R29*BS29,0) -> 0 | HJ29: =ROUND(S29*BA29,0) -> 92 | HK29: =ROUND((((HJ29+HI29)*AT29)/100),0) -> 83 | HL29: =ROUND((((HJ29+HI29)*AU29)/100),0) -> 42 | IK29: 0
A31: 51 | B31: =B24 -> 1 | C31: =A24 -> 4 | D31: =ROW(A24) -> 24 | F31: =IF(F24<>"",F24,"") -> Новый раздел | G31: =IF(G24<>"",G24,"") -> Демонтажные работы. Ремонт фасада | H31: 0 | O31: =ROUND(AB31,2) -> 866.43 | P31: =ROUND(AC31,2) -> 0 | Q31: =ROUND(AD31,2) -> 312.71 | R31: =ROUND(AE31,2) -> 27.71 | S31: =ROUND(AF31,2) -> 553.72 | T31: =ROUND(AG31,2) -> 0 | U31: =AH31 -> 64.823126 | V31: =AI31 -> 2.1263951 | W31: =ROUND(AJ31,2) -> 0 | X31: =ROUND(AK31,2) -> 564.88 | Y31: =ROUND(AL31,2) -> 271.79 | AB31: =ROUND(SUMIF(AA28:AA29,"=31028412",O28:O29),2) -> 866.43 | AC31: =ROUND(SUMIF(AA28:AA29,"=31028412",P28:P29),2) -> 0 | AD31: =ROUND(SUMIF(AA28:AA29,"=31028412",Q28:Q29),2) -> 312.71 | AE31: =ROUND(SUMIF(AA28:AA29,"=31028412",R28:R29),2) -> 27.71 | AF31: =ROUND(SUMIF(AA28:AA29,"=31028412",S28:S29),2) -> 553.72 | AG31: =ROUND(SUMIF(AA28:AA29,"=31028412",T28:T29),2) -> 0 | AH31: =SUMIF(AA28:AA29,"=31028412",U28:U29) -> 64.823126 | AI31: =SUMIF(AA28:AA29,"=31028412",V28:V29) -> 2.1263951 | AJ31: =ROUND(SUMIF(AA28:AA29,"=31028412",W28:W29),2) -> 0 | AK31: =ROUND(SUMIF(AA28:AA29,"=31028412",X28:X29),2) -> 564.88 | AL31: =ROUND(SUMIF(AA28:AA29,"=31028412",Y28:Y29),2) -> 271.79 | AO31: =ROUND(BX31,2) -> 0 | AP31: =ROUND(BY31,2) -> 0 | AQ31: =ROUND(BZ31,2) -> 0 | AR31: =ROUND(CA31,2) -> 1703.1 | AS31: =ROUND(CB31,2) -> 1703.1 | AT31: =ROUND(CC31,2) -> 0 | AU31: =ROUND(CD31,2) -> 0 | AV31: =ROUND(CE31,2) -> 0 | ... BD31: =ROUND(CM31,2) -> 0 | BX31: =ROUND(SUMIF(AA28:AA29,"=31028412",FQ28:FQ29),2) -> 0 | BY31: =ROUND(SUMIF(AA28:AA29,"=31028412",FR28:FR29),2) -> 0 | BZ31: =ROUND(SUMIF(AA28:AA29,"=31028412",GL28:GL29),2) -> 0 | CA31: =ROUND(SUMIF(AA28:AA29,"=31028412",GM28:GM29),2) -> 1703.1 | CB31: =ROUND(SUMIF(AA28:AA29,"=31028412",GN28:GN29),2) -> 1703.1 | CC31: =ROUND(SUMIF(AA28:AA29,"=31028412",GO28:GO29),2) -> 0 | CD31: =ROUND(SUMIF(AA28:AA29,"=31028412",GP28:GP29),2) -> 0 | CE31: =AC31-BX31 -> 0 | CF31: =AC31-BY31 -> 0 | CG31: =BX31-BZ31 -> 0 | CH31: =AC31-BX31-BY31+BZ31 -> 0 | CI31: =BY31-BZ31 -> 0 | CJ31: =ROUND(SUMIF(AA28:AA29,"=31028412",GX28:GX29),2) -> 0 | CK31: =ROUND(SUMIF(AA28:AA29,"=31028412",GY28:GY29),2) -> 0 | CL31: =ROUND(SUMIF(AA28:AA29,"=31028412",GZ28:GZ29),2) -> 0 | CM31: =ROUND(SUMIF(AA28:AA29,"=31028412",HD28:HD29),2) -> 0 | GX31: 0
A33: 50 | B33: 0 | C33: 0 | D33: 1 | E33: 201 | F33: =ROUND(Source!O31,O33) -> 866.43 | G33: ПЗ | H33: Прямые затраты | K33: 201 | L33: 1 | M33: 3 | O33: 2 | W33: 866.43 | X33: 1 | Y33: 15801
A34: 50 | B34: 0 | C34: 0 | D34: 1 | E34: 202 | F34: =ROUND(Source!P31,O34) -> 0 | G34: СтМатОб | H34: Стоимость материальных ресурсов (всего) | K34: 202 | L34: 2 | M34: 3 | O34: 2 | W34: 0 | X34: 1 | Y34: 0
A35: 50 | B35: 0 | C35: 0 | D35: 1 | E35: 30835619 | F35: =ROUND(Source!AO31,O35) -> 0 | G35: СтМатОбЗак | H35: Стоимость материалов и оборудования заказчика | K35: 222 | L35: 3 | M35: 3 | O35: 2 | W35: 0 | X35: 1 | Y35: 0
A36: 50 | B36: 0 | C36: 0 | D36: 1 | E36: 225 | F36: =ROUND(Source!AV31,O36) -> 0 | G36: СтМатОбПод | H36: Стоимость материалов и оборудования подрядчика | K36: 225 | L36: 4 | M36: 3 | O36: 2 | W36: 0 | X36: 1 | Y36: 0
A37: 50 | B37: 0 | C37: 0 | D37: 1 | E37: 226 | F37: =ROUND(Source!AW31,O37) -> 0 | G37: СтМат | H37: Стоимость материалов (всего) | K37: 226 | L37: 5 | M37: 3 | O37: 2 | W37: 0 | X37: 1 | Y37: 0
A38: 50 | B38: 0 | C38: 0 | D38: 1 | E38: 227 | F38: =ROUND(Source!AX31,O38) -> 0 | G38: СтМатЗак | H38: Стоимость материалов заказчика | K38: 227 | L38: 6 | M38: 3 | O38: 2 | W38: 0 | X38: 1 | Y38: 0
A39: 50 | B39: 0 | C39: 0 | D39: 1 | E39: 228 | F39: =ROUND(Source!AY31,O39) -> 0 | G39: СтМатПод | H39: Стоимость материалов подрядчика | K39: 228 | L39: 7 | M39: 3 | O39: 2 | W39: 0 | X39: 1 | Y39: 0
A40: 50 | B40: 0 | C40: 0 | D40: 1 | E40: 216 | F40: =ROUND(Source!AP31,O40) -> 0 | G40: Оборуд | H40: Стоимость оборудования (всего) | K40: 216 | L40: 8 | M40: 3 | O40: 2 | W40: 0 | X40: 1 | Y40: 0
A41: 50 | B41: 0 | C41: 0 | D41: 1 | E41: 223 | F41: =ROUND(Source!AQ31,O41) -> 0 | G41: ОборудЗак | H41: Стоимость оборудования заказчика | K41: 223 | L41: 9 | M41: 3 | O41: 2 | W41: 0 | X41: 1 | Y41: 0
A42: 50 | B42: 0 | C42: 0 | D42: 1 | E42: 229 | F42: =ROUND(Source!AZ31,O42) -> 0 | G42: ОборудПод | H42: Стоимость оборудования подрядчика | K42: 229 | L42: 10 | M42: 3 | O42: 2 | W42: 0 | X42: 1 | Y42: 0
A43: 50 | B43: 0 | C43: 0 | D43: 1 | E43: 203 | F43: =ROUND(Source!Q31,O43) -> 312.71 | G43: ЭММ | H43: Эксплуатация машин | K43: 203 | L43: 11 | M43: 3 | O43: 2 | W43: 312.71 | X43: 1 | Y43: 2389
A44: 50 | B44: 0 | C44: 0 | D44: 1 | E44: 231 | F44: =ROUND(Source!BB31,O44) -> 0 | G44: ЭММсНРиСП | H44: Эксплуатация машин по ТСН-2001.16 | K44: 231 | L44: 12 | M44: 3 | O44: 2 | W44: 0 | X44: 1 | Y44: 0
A45: 50 | B45: 0 | C45: 0 | D45: 1 | E45: 204 | F45: =ROUND(Source!R31,O45) -> 27.71 | G45: ЗПМ | H45: ЗП машинистов | K45: 204 | L45: 13 | M45: 3 | O45: 2 | W45: 27.71 | X45: 1 | Y45: 671
A46: 50 | B46: 0 | C46: 0 | D46: 1 | E46: 205 | F46: =ROUND(Source!S31,O46) -> 553.72 | G46: ОЗП | H46: Основная ЗП рабочих | K46: 205 | L46: 14 | M46: 3 | O46: 2 | W46: 553.72 | X46: 1 | Y46: 13412
A47: 50 | B47: 0 | C47: 0 | D47: 1 | E47: 232 | F47: =ROUND(Source!BC31,O47) -> 0 | G47: ОЗПсНРиСП | H47: Основная ЗП рабочих по ТСН-2001.16 | K47: 232 | L47: 15 | M47: 3 | O47: 2 | W47: 0 | X47: 1 | Y47: 0
A48: 50 | B48: 0 | C48: 0 | D48: 1 | E48: 214 | F48: =ROUND(Source!AS31,O48) -> 1703.1 | G48: Строит | H48: Строительные работы с НР и СП | K48: 214 | L48: 16 | M48: 3 | O48: 2 | W48: 1703.1 | X48: 1 | Y48: 36066
A49: 50 | B49: 0 | C49: 0 | D49: 1 | E49: 215 | F49: =ROUND(Source!AT31,O49) -> 0 | G49: Монтаж | H49: Монтажные работы с НР и СП | K49: 215 | L49: 17 | M49: 3 | O49: 2 | W49: 0 | X49: 1 | Y49: 0
A50: 50 | B50: 0 | C50: 0 | D50: 1 | E50: 217 | F50: =ROUND(Source!AU31,O50) -> 0 | G50: Прочие | H50: Прочие работы с НР и СП | K50: 217 | L50: 18 | M50: 3 | O50: 2 | W50: 0 | X50: 1 | Y50: 0
A51: 50 | B51: 0 | C51: 0 | D51: 1 | E51: 230 | F51: =ROUND(Source!BA31,O51) -> 0 | G51: ПрочиеЗатр | H51: Прочие затраты по ТСН-2001.16 | K51: 230 | L51: 19 | M51: 3 | O51: 2 | W51: 0 | X51: 1 | Y51: 0
A52: 50 | B52: 0 | C52: 0 | D52: 1 | E52: 206 | F52: =ROUND(Source!T31,O52) -> 0 | G52: ВозврМат | H52: Возврат материалов | K52: 206 | L52: 20 | M52: 3 | O52: 2 | W52: 0 | X52: 1 | Y52: 0
A53: 50 | B53: 0 | C53: 0 | D53: 1 | E53: 207 | F53: =Source!U31 -> 64.823126 | G53: ТрудСтр | H53: Трудозатраты строителей | K53: 207 | L53: 21 | M53: 3 | O53: -1 | W53: 64.823126 | X53: 1 | Y53: 64.823126
A54: 50 | B54: 0 | C54: 0 | D54: 1 | E54: 208 | F54: =Source!V31 -> 2.1263951 | G54: ТрудМаш | H54: Трудозатраты машинистов | K54: 208 | L54: 22 | M54: 3 | O54: -1 | W54: 2.1263951 | X54: 1 | Y54: 2.1263951
A55: 50 | B55: 0 | C55: 0 | D55: 1 | E55: 209 | F55: =ROUND(Source!W31,O55) -> 0 | G55: ТранспМат | H55: Транспорт материалов | K55: 209 | L55: 23 | M55: 3 | O55: 2 | W55: 0 | X55: 1 | Y55: 0
A56: 50 | B56: 0 | C56: 0 | D56: 1 | E56: 233 | F56: =ROUND(Source!BD31,O56) -> 0 | G56: Перевозка | H56: Перевозка грузов | K56: 233 | L56: 24 | M56: 3 | O56: 2 | W56: 0 | X56: 1 | Y56: 0
A57: 50 | B57: 0 | C57: 0 | D57: 1 | E57: 210 | F57: =ROUND(Source!X31,O57) -> 564.88 | G57: НР | H57: Накладные расходы | K57: 210 | L57: 25 | M57: 3 | O57: 2 | W57: 564.88 | X57: 1 | Y57: 13682
A58: 50 | B58: 0 | C58: 0 | D58: 1 | E58: 211 | F58: =ROUND(Source!Y31,O58) -> 271.79 | G58: СмПриб | H58: Сметная прибыль | K58: 211 | L58: 26 | M58: 3 | O58: 2 | W58: 271.79 | X58: 1 | Y58: 6583
A59: 50 | B59: 0 | C59: 0 | D59: 1 | E59: 224 | F59: =ROUND(Source!AR31,O59) -> 1703.1 | G59: Всего | H59: Всего с НР и СП | K59: 224 | L59: 27 | M59: 3 | O59: 2 | W59: 1703.1 | X59: 1 | Y59: 36066
A60: 50 | B60: 1 | C60: 0 | D60: 2 | E60: 0 | F60: =ROUND(F59,O60) -> 1703.1 | G60: 1 | H60: Итого | K60: 212 | L60: 28 | M60: 0 | O60: 2 | W60: 1703.1 | X60: 1 | Y60: 36066
A61: 50 | B61: 1 | C61: 0 | D61: 2 | E61: 0 | F61: =ROUND(F60*0.2,O61) -> 340.62 | G61: 2 | H61: НДС 20% | K61: 212 | L61: 29 | M61: 0 | O61: 2 | W61: 340.62 | X61: 1 | Y61: 7213
...

Sheet SourceObSm
A1: 0 | B1: Smeta.RU (495) 974-1589 | D1: _OBSM_ | F1: 0 | G1: 0 | H1: 0 | I1: Smeta.RU | J1: ООО "МЭС" Доп. раб. место FStS-0035086 | K1: 1 | L1: 35086 | M1: 10 | N1: 11 | O1: 3 | P1: 2 | Q1: 5
A12: 1 | B12: 54 | C12: 0 | E12: 0 | F12: И 2 Выявленный объект культурного наследия "Здание рабочей казармы Берговской мануфактуры, 1908г", по адресу: г.Тверь, ул.Спартака, д.45, корп.1_(Копия) | G12: И 3 Выявленный объект культурного наследия "Здание рабочей казармы Берговской мануфактуры, 1908г", по адресу: г.Тверь, ул.Спартака, д.45, корп.1_(Копия) | I12: 0 | J12: дефектная ведомость | K12: 0 | L12: 0 | M12: 6 | O12: 2021 | P12: 6 | Q12: 0 | R12: 0 | T12: 3 | U12: дефектная ведомость | V12: 0 | W12: г.Тверь, ул.Спартака, д.45, корп.1 | BB12: 0 | BH12: Сметные нормы списания | BI12: Коды ценников | BJ12: 0 | BK12: 1 | BL12: 0 | BM12: 1 | BN12: 1 | BO12: 0 | BP12: 6 | BQ12: 2 | BR12: 1 | BS12: 1 | BT12: 0 | BU12: 0 | BV12: 1 | BW12: 0 | BX12: 0 | BY12: ТЕР Тверской области (ред. 2015) | BZ12: ГСН (ГЭСН, ФЕР) 2020 и ТЕР (Методики НР (821/пр) и СП (774/пр) от 16.04.2021 г. | CA12: ТЕР-2015 | CB12: ТЕР-2015 | CC12: ТЕР-2015 | CD12: ТЕР-2015 | CE12: Поправки для ГСН (ФЕР) 2020 от 20.10.2020 г И4 | CF12: 0 | CG12: 0 | CH12: 403177480 | CK12: 0 | EC12: 0
A14: 22 | B14: 0 | C14: 0 | D14: 31028412 | E14: 0 | F14: 3
A16: 3 | B16: 1 | C16: Новая локальная смета | D16: Выявленный объект культурного наследия "Здание рабочей казармы Берговской мануфактуры, 1908г", по адресу: г.Тверь, ул.Спартака, д.45, корп.1 | E16: 12206.349 | F16: 212.022 | G16: 0 | H16: 0 | I16: 12418.371 | J16: 1792.859 | AI16: 0 | AJ16: 0 | AN16: 0 | AT16: 9554231 | AU16: 0 | AW16: 0 | AX16: 0 | AY16: 197695 | AZ16: 83270 | BA16: 1792859 | BB16: 12206349 | BC16: 212022 | BD16: 0 | BE16: 0 | BF16: 8541.0683 | BG16: 286.20145 | BH16: 0 | BI16: 1830716 | BJ16: 1033424 | BK16: 12418371
A18: 51 | E18: =SUMIF(A16:A17,3,E16:E17) -> 12206.349 | F18: =SUMIF(A16:A17,3,F16:F17) -> 212.022 | G18: =SUMIF(A16:A17,3,G16:G17) -> 0 | H18: =SUMIF(A16:A17,3,H16:H17) -> 0 | I18: =SUMIF(A16:A17,3,I16:I17) -> 12418.371 | J18: =SUMIF(A16:A17,3,J16:J17) -> 1792.859
A20: 50 | B20: 1 | C20: 0 | D20: 1 | E20: 201 | F20: 9554231 | G20: ПЗ | H20: Прямые затраты | K20: 201 | L20: 1 | M20: 0 | O20: 2
A21: 50 | B21: 1 | C21: 0 | D21: 1 | E21: 202 | F21: 0 | G21: СтМатОб | H21: Стоимость материальных ресурсов (всего) | K21: 202 | L21: 2 | M21: 0 | O21: 2
A22: 50 | B22: 0 | C22: 0 | D22: 1 | E22: 30835619 | F22: 0 | G22: СтМатОбЗак | H22: Стоимость материалов и оборудования заказчика | K22: 222 | L22: 3 | M22: 3 | O22: 2
A23: 50 | B23: 0 | C23: 0 | D23: 1 | E23: 225 | F23: 0 | G23: СтМатОбПод | H23: Стоимость материалов и оборудования подрядчика | K23: 225 | L23: 4 | M23: 3 | O23: 2
A24: 50 | B24: 0 | C24: 0 | D24: 1 | E24: 226 | F24: 7534513 | G24: СтМат | H24: Стоимость материалов (всего) | K24: 226 | L24: 5 | M24: 3 | O24: 2
A25: 50 | B25: 0 | C25: 0 | D25: 1 | E25: 227 | F25: 0 | G25: СтМатЗак | H25: Стоимость материалов заказчика | K25: 227 | L25: 6 | M25: 3 | O25: 2
A26: 50 | B26: 0 | C26: 0 | D26: 1 | E26: 228 | F26: 7534513 | G26: СтМатПод | H26: Стоимость материалов подрядчика | K26: 228 | L26: 7 | M26: 3 | O26: 2
A27: 50 | B27: 0 | C27: 0 | D27: 1 | E27: 216 | F27: 0 | G27: Оборуд | H27: Стоимость оборудования (всего) | K27: 216 | L27: 8 | M27: 3 | O27: 2
A28: 50 | B28: 0 | C28: 0 | D28: 1 | E28: 223 | F28: 0 | G28: ОборудЗак | H28: Стоимость оборудования заказчика | K28: 223 | L28: 9 | M28: 3 | O28: 2
A29: 50 | B29: 0 | C29: 0 | D29: 1 | E29: 229 | F29: 0 | G29: ОборудПод | H29: Стоимость оборудования подрядчика | K29: 229 | L29: 10 | M29: 3 | O29: 2
A30: 50 | B30: 1 | C30: 0 | D30: 1 | E30: 203 | F30: 197695 | G30: ЭММ | H30: Эксплуатация машин | K30: 203 | L30: 11 | M30: 0 | O30: 2
A31: 50 | B31: 0 | C31: 0 | D31: 1 | E31: 231 | F31: 0 | G31: ЭММсНРиСП | H31: Эксплуатация машин по ТСН-2001.16 | K31: 231 | L31: 12 | M31: 3 | O31: 2
... A49: 50 | B49: 1 | C49: 0 | D49: 2 | E49: 213 | F49: 14902045 | G49: 3 | H49: Всего с НДС 20% | K49: 212 | L49: 30 | M49: 0 | O49: 2
A51: -1
A54: 75 | B54: Новый уровень цен | C54: 2021 | D54: 2 | E54: 0 | G54: 0 | H54: 1 | I54: 0 | J54: 1 | K54: 0 | L54: 0 | M54: 0 | N54: 31028412 | O54: 1
A55: 3 | B55: Индексы за итогом | C55: 1 | D55: 6.17 | E55: 7.64 | F55: 24.22 | G55: 24.22 | H55: 1 | I55: 1 | J55: 2 | K55: 1 | L55: 7.64 | M55: 1 | N55: 6.17 | O55: 1 | P55: 1 | Q55: 1 | R55: 7.64 | S55: 2 квартал 2021г. | U55: Приложение №2 к письму Минстроя России от03.06.2021 №23038-ИФ/09 | V55: Приложение №2 к письму Минстроя России от03.06.2021 №23038-ИФ/09 | W55: Приложение №2 к письму Минстроя России от03.06.2021 №23038-ИФ/09. | X55: Приложение №2 к письму Минстроя России от03.06.2021 №23038-ИФ/09. | AB55: Приложение №2 к письму Минстроя России от03.06.2021 №23038-ИФ/09 | AD55: Приложение №2 к письму Минстроя России от03.06.2021 №23038-ИФ/09 | AH55: Приложение №2 к письму Минстроя России от03.06.2021 №23038-ИФ/09 | AN55: 31028413

Sheet SmtRes
A1: =ROW(Source!A28) -> 28 | B1: 31028412 | C1: 31028650 | D1: 29084589 | E1: 1 | F1: 1 | G1: 1 | H1: 1 | I1: 1-1033-69 | K1: Рабочий строитель среднего разряда 3,3 | L1: 1369 | N1: 1013 | O1: чел.-ч | P1: чел.-ч | Q1: 1 | W1: 0 | X1: -1659096359 | Y1: 167.808 | AA1: 0 | AB1: 0 | AC1: 0 | AD1: 207.08 | AE1: 0 | AF1: 0 | AG1: 0 | AH1: 8.55 | AI1: 1 | AJ1: 1 | AK1: 1 | AL1: 24.22 | AN1: 0 | AO1: 1 | AP1: 1 | AQ1: 0 | AR1: 0 | AT1: 182.4 | AU1: *0,8*1,15 | AV1: 1 | AW1: 2 | AX1: 31028668 | AY1: 1 | AZ1: 0 | BA1: 1 | BB1: 0 | BC1: 0 | BD1: 0 | BE1: 0 | BF1: 0 | BG1: 0 | BH1: 0 | BI1: 0 | BJ1: 0 | BK1: 0 | BL1: 0 | BM1: 0 | BN1: 0 | BO1: 0 | BP1: 0 | BQ1: 0 | BR1: 0 | BS1: 0 | BT1: 0 | BU1: 0 | BV1: 0 | BW1: 0 | CX1: =Y1*Source!I28 -> 64.320806 | CY1: =AD1 -> 207.08 | CZ1: =AH1 -> 8.55 | DA1: =AL1 -> 24.22 | DB1: =ROUND((ROUND(AT1*CZ1,2)*ROUND((0.8*1.15),7)),6) -> 1434.7584 | DC1: =ROUND((ROUND(AT1*AG1,2)*ROUND((0.8*1.15),7)),6) -> 0
A2: =ROW(Source!A28) -> 28 | B2: 31028412 | C2: 31028650 | D2: 29084573 | E2: 1 | F2: 1 | G2: 1 | H2: 1 | I2: 2-69 | K2: Затраты труда машинистов | L2: 608254 | N2: 1013 | O2: чел.час | P2: чел.час | Q2: 1 | W2: 0 | X2: 95408949 | Y2: 5.5476 | AA2: 0 | AB2: 0 | AC2: 0 | AD2: 0 | AE2: 0 | AF2: 0 | AG2: 0 | AH2: 0 | AI2: 1 | AJ2: 1 | AK2: 24.22 | AL2: 1 | AN2: 0 | AO2: 1 | AP2: 1 | AQ2: 0 | AR2: 0 | AT2: 6.03 | AU2: *0,8*1,15 | AV2: 2 | AW2: 2 | AX2: 31028669 | AY2: 1 | AZ2: 0 | BA2: 2 | BB2: 0 | BC2: 0 | BD2: 0 | BE2: 0 | BF2: 0 | BG2: 0 | BH2: 0 | BI2: 0 | BJ2: 0 | BK2: 0 | BL2: 0 | BM2: 0 | BN2: 0 | BO2: 0 | BP2: 0 | BQ2: 0 | BR2: 0 | BS2: 0 | BT2: 0 | BU2: 0 | BV2: 0 | BW2: 0 | CX2: =Y2*Source!I28 -> 2.1263951 | CY2: =AD2 -> 0 | CZ2: =AH2 -> 0 | DA2: =AL2 -> 1 | DB2: =ROUND((ROUND(AT2*CZ2,2)*ROUND((0.8*1.15),7)),6) -> 0 | DC2: =ROUND((ROUND(AT2*AG2,2)*ROUND((0.8*1.15),7)),6) -> 0
A3: =ROW(Source!A28) -> 28 | B3: 31028412 | C3: 31028650 | D3: 29147520 | E3: 1 | F3: 1 | G3: 1 | H3: 2 | I3: 020129 | J3: ЦЭМ Тверской обл.(редакции 2014), пр. №337/пр, сб.02,поз.0129 | K3: Краны башенные при работе на других видах строительства 8 т | L3: 1368 | N3: 1011 | O3: маш.-ч | P3: маш.-ч | Q3: 1 | W3: 0 | X3: -2048414082 | Y3: 4.1676 | AA3: 0 | AB3: 656.51 | AC3: 315.59 | AD3: 0 | AE3: 0 | AF3: 85.93 | AG3: 13.03 | AH3: 0 | AI3: 1 | AJ3: 7.64 | AK3: 24.22 | AL3: 1 | AN3: 0 | AO3: 1 | AP3: 1 | AQ3: 0 | AR3: 0 | AT3: 4.53 | AU3: *0,8*1,15 | AV3: 0 | AW3: 2 | AX3: 31028670 | AY3: 1 | AZ3: 0 | BA3: 3 | BB3: 0 | BC3: 0 | BD3: 0 | BE3: 0 | BF3: 0 | BG3: 0 | BH3: 0 | BI3: 0 | BJ3: 0 | BK3: 0 | BL3: 0 | BM3: 0 | BN3: 0 | BO3: 0 | BP3: 0 | BQ3: 0 | BR3: 0 | BS3: 0 | BT3: 0 | BU3: 0 | BV3: 0 | BW3: 0 | CX3: =Y3*Source!I28 -> 1.5974411 | CY3: =AB3 -> 656.51 | CZ3: =AF3 -> 85.93 | DA3: =AJ3 -> 7.64 | DB3: =ROUND((ROUND(AT3*CZ3,2)*ROUND((0.8*1.15),7)),6) -> 358.1192 | DC3: =ROUND((ROUND(AT3*AG3,2)*ROUND((0.8*1.15),7)),6) -> 54.3076
A4: =ROW(Source!A28) -> 28 | B4: 31028412 | C4: 31028650 | D4: 29147601 | E4: 1 | F4: 1 | G4: 1 | H4: 2 | I4: 021141 | J4: ЦЭМ Тверской обл.(редакции 2014), пр. №337/пр, сб.02,поз.1141 | K4: Краны на автомобильном ходу при работе на других видах строительства 10 т | L4: 1368 | N4: 1011 | O4: маш.-ч | P4: маш.-ч | Q4: 1 | W4: 0 | X4: 1170567961 | Y4: 1.38 | AA4: 0 | AB4: 828.56 | AC4: 315.59 | AD4: 0 | AE4: 0 | AF4: 108.45 | AG4: 13.03 | AH4: 0 | AI4: 1 | AJ4: 7.64 | AK4: 24.22 | AL4: 1 | AN4: 0 | AO4: 1 | AP4: 1 | AQ4: 0 | AR4: 0 | AT4: 1.5 | AU4: *0,8*1,15 | AV4: 0 | AW4: 2 | AX4: 31028671 | AY4: 1 | AZ4: 0 | BA4: 4 | BB4: 0 | BC4: 0 | BD4: 0 | BE4: 0 | BF4: 0 | BG4: 0 | BH4: 0 | BI4: 0 | BJ4: 0 | BK4: 0 | BL4: 0 | BM4: 0 | BN4: 0 | BO4: 0 | BP4: 0 | BQ4: 0 | BR4: 0 | BS4: 0 | BT4: 0 | BU4: 0 | BV4: 0 | BW4: 0 | CX4: =Y4*Source!I28 -> 0.528954 | CY4: =AB4 -> 828.56 | CZ4: =AF4 -> 108.45 | DA4: =AJ4 -> 7.64 | DB4: =ROUND((ROUND(AT4*CZ4,2)*ROUND((0.8*1.15),7)),6) -> 149.6656 | DC4: =ROUND((ROUND(AT4*AG4,2)*ROUND((0.8*1.15),7)),6) -> 17.986
A5: =ROW(Source!A28) -> 28 | B5: 31028412 | C5: 31028650 | D5: 29148219 | E5: 1 | F5: 1 | G5: 1 | H5: 2 | I5: 121011 | J5: ЦЭМ Тверской обл.(редакции 2014), пр. №337/пр, сб.12,поз.1011 | K5: Котлы битумные передвижные 400 л | L5: 1368 | N5: 1011 | O5: маш.-ч | P5: маш.-ч | Q5: 1 | W5: 0 | X5: -1347779909 | Y5: 3.3948 | AA5: 0 | AB5: 229.2 | AC5: 0 | AD5: 0 | AE5: 0 | AF5: 30 | AG5: 0 | AH5: 0 | AI5: 1 | AJ5: 7.64 | AK5: 24.22 | AL5: 1 | AN5: 0 | AO5: 1 | AP5: 1 | AQ5: 0 | AR5: 0 | AT5: 3.69 | AU5: *0,8*1,15 | AV5: 0 | AW5: 2 | AX5: 31028672 | AY5: 1 | AZ5: 0 | BA5: 5 | BB5: 0 | BC5: 0 | BD5: 0 | BE5: 0 | BF5: 0 | BG5: 0 | BH5: 0 | BI5: 0 | BJ5: 0 | BK5: 0 | BL5: 0 | BM5: 0 | BN5: 0 | BO5: 0 | BP5: 0 | BQ5: 0 | BR5: 0 | BS5: 0 | BT5: 0 | BU5: 0 | BV5: 0 | BW5: 0 | CX5: =Y5*Source!I28 -> 1.3012268 | CY5: =AB5 -> 229.2 | CZ5: =AF5 -> 30 | DA5: =AJ5 -> 7.64 | DB5: =ROUND((ROUND(AT5*CZ5,2)*ROUND((0.8*1.15),7)),6) -> 101.844 | DC5: =ROUND((ROUND(AT5*AG5,2)*ROUND((0.8*1.15),7)),6) -> 0
A6: =ROW(Source!A28) -> 28 | B6: 31028412 | C6: 31028650 | D6: 29148425 | E6: 1 | F6: 1 | G6: 1 | H6: 2 | I6: 134041 | J6: ЦЭМ Тверской обл.(редакции 2014), пр. №337/пр, сб.13,поз.4041 | K6: Шуруповерт | L6: 1368 | N6: 1011 | O6: маш.-ч | P6: маш.-ч | Q6: 1 | W6: 0 | X6: -422547563 | Y6: 6.072 | AA6: 0 | AB6: 22.92 | AC6: 0 | AD6: 0 | AE6: 0 | AF6: 3 | AG6: 0 | AH6: 0 | AI6: 1 | AJ6: 7.64 | AK6: 24.22 | AL6: 1 | AN6: 0 | AO6: 1 | AP6: 1 | AQ6: 0 | AR6: 0 | AT6: 6.6 | AU6: *0,8*1,15 | AV6: 0 | AW6: 2 | AX6: 31028673 | AY6: 1 | AZ6: 0 | BA6: 6 | BB6: 0 | BC6: 0 | BD6: 0 | BE6: 0 | BF6: 0 | BG6: 0 | BH6: 0 | BI6: 0 | BJ6: 0 | BK6: 0 | BL6: 0 | BM6: 0 | BN6: 0 | BO6: 0 | BP6: 0 | BQ6: 0 | BR6: 0 | BS6: 0 | BT6: 0 | BU6: 0 | BV6: 0 | BW6: 0 | CX6: =Y6*Source!I28 -> 2.3273976 | CY6: =AB6 -> 22.92 | CZ6: =AF6 -> 3 | DA6: =AJ6 -> 7.64 | DB6: =ROUND((ROUND(AT6*CZ6,2)*ROUND((0.8*1.15),7)),6) -> 18.216 | DC6: =ROUND((ROUND(AT6*AG6,2)*ROUND((0.8*1.15),7)),6) -> 0
A7: =ROW(Source!A28) -> 28 | B7: 31028412 | C7: 31028650 | D7: 29149520 | E7: 1 | F7: 1 | G7: 1 | H7: 2 | I7: 400001 | J7: ЦЭМ Тверской обл.(редакции 2014), пр. №337/пр, сб.40,поз.0001 | K7: Автомобили бортовые, грузоподъемность до 5 т | L7: 1368 | N7: 1011 | O7: маш.-ч | P7: маш.-ч | Q7: 1 | W7: 0 | X7: -1931461795 | Y7: 2.0516 | AA7: 0 | AB7: 699.98 | AC7: 0 | AD7: 0 | AE7: 0 | AF7: 91.62 | AG7: 0 | AH7: 0 | AI7: 1 | AJ7: 7.64 | AK7: 24.22 | AL7: 1 | AN7: 0 | AO7: 1 | AP7: 1 | AQ7: 0 | AR7: 0 | AT7: 2.23 | AU7: *0,8*1,15 | AV7: 0 | AW7: 2 | AX7: 31028674 | AY7: 1 | AZ7: 0 | BA7: 7 | BB7: 0 | BC7: 0 | BD7: 0 | BE7: 0 | BF7: 0 | BG7: 0 | BH7: 0 | BI7: 0 | BJ7: 0 | BK7: 0 | BL7: 0 | BM7: 0 | BN7: 0 | BO7: 0 | BP7: 0 | BQ7: 0 | BR7: 0 | BS7: 0 | BT7: 0 | BU7: 0 | BV7: 0 | BW7: 0 | CX7: =Y7*Source!I28 -> 0.78637828 | CY7: =AB7 -> 699.98 | CZ7: =AF7 -> 91.62 | DA7: =AJ7 -> 7.64 | DB7: =ROUND((ROUND(AT7*CZ7,2)*ROUND((0.8*1.15),7)),6) -> 187.9652 | DC7: =ROUND((ROUND(AT7*AG7,2)*ROUND((0.8*1.15),7)),6) -> 0
A8: =ROW(Source!A28) -> 28 | B8: 31028412 | C8: 31028650 | D8: 29150561 | E8: 1 | F8: 1 | G8: 1 | H8: 3 | I8: 101-0195 | J8: ССЦ Тверской обл. (редакции 2014), пр. № 337/пр, сб.101, поз.0195 | K8: Гвозди толевые круглые 3,0х40 мм | L8: 1348 | N8: 1009 | O8: т | P8: т | Q8: 1000 | W8: 0 | X8: -592936270 | Y8: 0 | AA8: 52235.84 | AB8: 0 | AC8: 0 | AD8: 0 | AE8: 8466.1 | AF8: 0 | AG8: 0 | AH8: 0 | AI8: 6.17 | AJ8: 1 | AK8: 1 | AL8: 1 | AN8: 0 | AO8: 1 | AP8: 1 | AQ8: 0 | AR8: 0 | AT8: 0.0028 | AU8: *0 | AV8: 0 | AW8: 2 | AX8: 31028675 | AY8: 1 | AZ8: 0 | BA8: 8 | BB8: 0 | BC8: 0 | BD8: 0 | BE8: 0 | BF8: 0 | BG8: 0 | BH8: 0 | BI8: 0 | BJ8: 0 | BK8: 0 | BL8: 0 | BM8: 0 | BN8: 0 | BO8: 0 | BP8: 0 | BQ8: 0 | BR8: 0 | BS8: 0 | BT8: 0 | BU8: 0 | BV8: 0 | BW8: 0 | CX8: =Y8*Source!I28 -> 0 | CY8: =AA8 -> 52235.84 | CZ8: =AE8 -> 8466.1 | DA8: =AI8 -> 6.17 | DB8: =ROUND((ROUND(AT8*CZ8,2)*ROUND(0,7)),6) -> 0 | DC8: =ROUND((ROUND(AT8*AG8,2)*ROUND(0,7)),6) -> 0
A9: =ROW(Source!A28) -> 28 | B9: 31028412 | C9: 31028650 | D9: 29151759 | E9: 1 | F9: 1 | G9: 1 | H9: 3 | I9: 101-1482 | J9: ССЦ Тверской обл. (редакции 2014), пр. № 337/пр, сб.101, поз.1482 | K9: Шурупы с полукруглой головкой 5х70 мм | L9: 1348 | N9: 1009 | O9: т | P9: т | Q9: 1000 | W9: 0 | X9: -34374424 | Y9: 0 | AA9: 57853.01 | AB9: 0 | AC9: 0 | AD9: 0 | AE9: 9376.5 | AF9: 0 | AG9: 0 | AH9: 0 | AI9: 6.17 | AJ9: 1 | AK9: 1 | AL9: 1 | AN9: 0 | AO9: 1 | AP9: 1 | AQ9: 0 | AR9: 0 | AT9: 0.0074 | AU9: *0 | AV9: 0 | AW9: 2 | AX9: 31028676 | AY9: 1 | AZ9: 0 | BA9: 9 | BB9: 0 | BC9: 0 | BD9: 0 | BE9: 0 | BF9: 0 | BG9: 0 | BH9: 0 | BI9: 0 | BJ9: 0 | BK9: 0 | BL9: 0 | BM9: 0 | BN9: 0 | BO9: 0 | BP9: 0 | BQ9: 0 | BR9: 0 | BS9: 0 | BT9: 0 | BU9: 0 | BV9: 0 | BW9: 0 | CX9: =Y9*Source!I28 -> 0 | CY9: =AA9 -> 57853.01 | CZ9: =AE9 -> 9376.5 | DA9: =AI9 -> 6.17 | DB9: =ROUND((ROUND(AT9*CZ9,2)*ROUND(0,7)),6) -> 0 | DC9: =ROUND((ROUND(AT9*AG9,2)*ROUND(0,7)),6) -> 0
A10: =ROW(Source!A28) -> 28 | B10: 31028412 | C10: 31028650 | D10: 29151859 | E10: 1 | F10: 1 | G10: 1 | H10: 3 | I10: 101-1591 | J10: ССЦ Тверской обл. (редакции 2014), пр. № 337/пр, сб.101, поз.1591 | K10: Смола каменноугольная для дорожного строительства | L10: 1348 | N10: 1009 | O10: т | P10: т | Q10: 1000 | W10: 0 | X10: -1890625626 | Y10: 0 | AA10: 7501.49 | AB10: 0 | AC10: 0 | AD10: 0 | AE10: 1215.8 | AF10: 0 | AG10: 0 | AH10: 0 | AI10: 6.17 | AJ10: 1 | AK10: 1 | AL10: 1 | AN10: 0 | AO10: 1 | AP10: 1 | AQ10: 0 | AR10: 0 | AT10: 0.036 | AU10: *0 | AV10: 0 | AW10: 2 | AX10: 31028677 | AY10: 1 | AZ10: 0 | BA10: 10 | BB10: 0 | BC10: 0 | BD10: 0 | BE10: 0 | BF10: 0 | BG10: 0 | BH10: 0 | BI10: 0 | BJ10: 0 | BK10: 0 | BL10: 0 | BM10: 0 | BN10: 0 | BO10: 0 | BP10: 0 | BQ10: 0 | BR10: 0 | BS10: 0 | BT10: 0 | BU10: 0 | BV10: 0 | BW10: 0 | CX10: =Y10*Source!I28 -> 0 | CY10: =AA10 -> 7501.49 | CZ10: =AE10 -> 1215.8 | DA10: =AI10 -> 6.17 | DB10: =ROUND((ROUND(AT10*CZ10,2)*ROUND(0,7)),6) -> 0 | DC10: =ROUND((ROUND(AT10*AG10,2)*ROUND(0,7)),6) -> 0
A11: =ROW(Source!A28) -> 28 | B11: 31028412 | C11: 31028650 | D11: 29151997 | E11: 1 | F11: 1 | G11: 1 | H11: 3 | I11: 101-1742 | J11: ССЦ Тверской обл. (редакции 2014), пр. № 337/пр, сб.101, поз.1742 | K11: Толь с крупнозернистой посыпкой гидроизоляционный марки ТГ-350 | L11: 1327 | N11: 1005 | O11: м2 | P11: м2 | Q11: 1 | W11: 0 | X11: 1834989622 | Y11: 0 | AA11: 38.07 | AB11: 0 | AC11: 0 | AD11: 0 | AE11: 6.17 | AF11: 0 | AG11: 0 | AH11: 0 | AI11: 6.17 | AJ11: 1 | AK11: 1 | AL11: 1 | AN11: 0 | AO11: 1 | AP11: 1 | AQ11: 0 | AR11: 0 | AT11: 122 | AU11: *0 | AV11: 0 | AW11: 2 | AX11: 31028678 | AY11: 1 | AZ11: 0 | BA11: 11 | BB11: 0 | BC11: 0 | BD11: 0 | BE11: 0 | BF11: 0 | BG11: 0 | BH11: 0 | BI11: 0 | BJ11: 0 | BK11: 0 | BL11: 0 | BM11: 0 | BN11: 0 | BO11: 0 | BP11: 0 | BQ11: 0 | BR11: 0 | BS11: 0 | BT11: 0 | BU11: 0 | BV11: 0 | BW11: 0 | CX11: =Y11*Source!I28 -> 0 | CY11: =AA11 -> 38.07 | CZ11: =AE11 -> 6.17 | DA11: =AI11 -> 6.17 | DB11: =ROUND((ROUND(AT11*CZ11,2)*ROUND(0,7)),6) -> 0 | DC11: =ROUND((ROUND(AT11*AG11,2)*ROUND(0,7)),6) -> 0
A12: =ROW(Source!A28) -> 28 | B12: 31028412 | C12: 31028650 | D12: 29152054 | E12: 1 | F12: 1 | G12: 1 | H12: 3 | I12: 101-1805 | J12: ССЦ Тверской обл. (редакции 2014), пр. № 337/пр, сб.101, поз.1805 | K12: Гвозди строительные | L12: 1348 | N12: 1009 | O12: т | P12: т | Q12: 1000 | W12: 0 | X12: -444487765 | Y12: 0 | AA12: 62829.11 | AB12: 0 | AC12: 0 | AD12: 0 | AE12: 10183 | AF12: 0 | AG12: 0 | AH12: 0 | AI12: 6.17 | AJ12: 1 | AK12: 1 | AL12: 1 | AN12: 0 | AO12: 1 | AP12: 1 | AQ12: 0 | AR12: 0 | AT12: 0.00193 | AU12: *0 | AV12: 0 | AW12: 2 | AX12: 31028679 | AY12: 1 | AZ12: 0 | BA12: 12 | BB12: 0 | BC12: 0 | BD12: 0 | BE12: 0 | BF12: 0 | BG12: 0 | BH12: 0 | BI12: 0 | BJ12: 0 | BK12: 0 | BL12: 0 | BM12: 0 | BN12: 0 | BO12: 0 | BP12: 0 | BQ12: 0 | BR12: 0 | BS12: 0 | BT12: 0 | BU12: 0 | BV12: 0 | BW12: 0 | CX12: =Y12*Source!I28 -> 0 | CY12: =AA12 -> 62829.11 | CZ12: =AE12 -> 10183 | DA12: =AI12 -> 6.17 | DB12: =ROUND((ROUND(AT12*CZ12,2)*ROUND(0,7)),6) -> 0 | DC12: =ROUND((ROUND(AT12*AG12,2)*ROUND(0,7)),6) -> 0
A13: =ROW(Source!A28) -> 28 | B13: 31028412 | C13: 31028650 | D13: 29157674 | E13: 1 | F13: 1 | G13: 1 | H13: 3 | I13: 101-8052 | J13: ССЦ Тверской обл. (редакции 2014), пр. № 337/пр, сб.101, поз.8052 | K13: Пена монтажная | L13: 1296 | N13: 1002 | O13: л | P13: л | Q13: 1 | W13: 0 | X13: 1606941307 | Y13: 0 | AA13: 311.52 | AB13: 0 | AC13: 0 | AD13: 0 | AE13: 50.49 | AF13: 0 | AG13: 0 | AH13: 0 | AI13: 6.17 | AJ13: 1 | AK13: 1 | AL13: 1 | AN13: 0 | AO13: 1 | AP13: 1 | AQ13: 0 | AR13: 0 | AT13: 54 | AU13: *0 | AV13: 0 | AW13: 2 | AX13: 31028680 | AY13: 1 | AZ13: 0 | BA13: 13 | BB13: 0 | BC13: 0 | BD13: 0 | BE13: 0 | BF13: 0 | BG13: 0 | BH13: 0 | BI13: 0 | BJ13: 0 | BK13: 0 | BL13: 0 | BM13: 0 | BN13: 0 | BO13: 0 | BP13: 0 | BQ13: 0 | BR13: 0 | BS13: 0 | BT13: 0 | BU13: 0 | BV13: 0 | BW13: 0 | CX13: =Y13*Source!I28 -> 0 | CY13: =AA13 -> 311.52 | CZ13: =AE13 -> 50.49 | DA13: =AI13 -> 6.17 | DB13: =ROUND((ROUND(AT13*CZ13,2)*ROUND(0,7)),6) -> 0 | DC13: =ROUND((ROUND(AT13*AG13,2)*ROUND(0,7)),6) -> 0
A14: =ROW(Source!A28) -> 28 | B14: 31028412 | C14: 31028650 | D14: 29157993 | E14: 1 | F14: 1 | G14: 1 | H14: 3 | I14: 101-9411 | J14: ССЦ Тверской обл. (редакции 2014), пр. № 337/пр, сб.101, поз.9411 | K14: Скобяные изделия | L14: 1035 | N14: 1013 | O14: компл. | P14: компл. | Q14: 1 | W14: 0 | X14: -1257397784 | Y14: 0 | AA14: 0 | AB14: 0 | AC14: 0 | AD14: 0 | AE14: 0 | AF14: 0 | AG14: 0 | AH14: 0 | AI14: 6.17 | AJ14: 1 | AK14: 1 | AL14: 1 | AN14: 1 | AO14: 0 | AP14: 1 | AQ14: 0 | AR14: 0 | AT14: 0 | AU14: *0 | AV14: 0 | AW14: 2 | AX14: 31028681 | AY14: 1 | AZ14: 0 | BA14: 14 | BB14: 0 | BC14: 0 | BD14: 0 | BE14: 0 | BF14: 0 | BG14: 0 | BH14: 0 | BI14: 0 | BJ14: 0 | BK14: 0 | BL14: 0 | BM14: 0 | BN14: 0 | BO14: 0 | BP14: 0 | BQ14: 0 | BR14: 0 | BS14: 0 | BT14: 0 | BU14: 0 | BV14: 0 | BW14: 0 | CX14: =Y14*Source!I28 -> 0 | CY14: =AA14 -> 0 | CZ14: =AE14 -> 0 | DA14: =AI14 -> 6.17 | DB14: =ROUND((ROUND(AT14*CZ14,2)*ROUND(0,7)),6) -> 0 | DC14: =ROUND((ROUND(AT14*AG14,2)*ROUND(0,7)),6) -> 0
A15: =ROW(Source!A28) -> 28 | B15: 31028412 | C15: 31028650 | D15: 29171848 | E15: 1 | F15: 1 | G15: 1 | H15: 3 | I15: 203-0031 | J15: ССЦ Тверской обл. (редакции 2014), пр. № 337/пр, сб.203, поз.0031 | K15: Блоки оконные с двойным остеклением с раздельными створками двустворные, с форточной створкой ОР 18-13,5, площадь 2,32 м2; ОР 18-15, площадь 2,59 м2 | L15: 1327 | N15: 1005 | O15: м2 | P15: м2 | Q15: 1 | W15: 0 | X15: -1359235157 | Y15: 0 | AA15: 2563.45 | AB15: 0 | AC15: 0 | AD15: 0 | AE15: 415.47 | AF15: 0 | AG15: 0 | AH15: 0 | AI15: 6.17 | AJ15: 1 | AK15: 1 | AL15: 1 | AN15: 0 | AO15: 1 | AP15: 1 | AQ15: 0 | AR15: 0 | AT15: 100 | AU15: *0 | AV15: 0 | AW15: 2 | AX15: 31028682 | AY15: 1 | AZ15: 0 | BA15: 15 | BB15: 0 | BC15: 0 | BD15: 0 | BE15: 0 | BF15: 0 | BG15: 0 | BH15: 0 | BI15: 0 | BJ15: 0 | BK15: 0 | BL15: 0 | BM15: 0 | BN15: 0 | BO15: 0 | BP15: 0 | BQ15: 0 | BR15: 0 | BS15: 0 | BT15: 0 | BU15: 0 | BV15: 0 | BW15: 0 | CX15: =Y15*Source!I28 -> 0 | CY15: =AA15 -> 2563.45 | CZ15: =AE15 -> 415.47 | DA15: =AI15 -> 6.17 | DB15: =ROUND((ROUND(AT15*CZ15,2)*ROUND(0,7)),6) -> 0 | DC15: =ROUND((ROUND(AT15*AG15,2)*ROUND(0,7)),6) -> 0
A16: =ROW(Source!A28) -> 28 | B16: 31028412 | C16: 31028650 | D16: 29186570 | E16: 1 | F16: 1 | G16: 1 | H16: 3 | I16: 402-0087 | J16: ССЦ Тверской обл. (редакции 2014), пр. № 337/пр, сб.402, поз.0087 | K16: Раствор готовый отделочный тяжелый, известковый 1:2,0 | L16: 1339 | N16: 1007 | O16: м3 | P16: м3 | Q16: 1 | W16: 0 | X16: 451862466 | Y16: 0 | AA16: 2939.02 | AB16: 0 | AC16: 0 | AD16: 0 | AE16: 476.34 | AF16: 0 | AG16: 0 | AH16: 0 | AI16: 6.17 | AJ16: 1 | AK16: 1 | AL16: 1 | AN16: 0 | AO16: 1 | AP16: 1 | AQ16: 0 | AR16: 0 | AT16: 0.096 | AU16: *0 | AV16: 0 | AW16: 2 | AX16: 31028683 | AY16: 1 | AZ16: 0 | BA16: 16 | BB16: 0 | BC16: 0 | BD16: 0 | BE16: 0 | BF16: 0 | BG16: 0 | BH16: 0 | BI16: 0 | BJ16: 0 | BK16: 0 | BL16: 0 | BM16: 0 | BN16: 0 | BO16: 0 | BP16: 0 | BQ16: 0 | BR16: 0 | BS16: 0 | BT16: 0 | BU16: 0 | BV16: 0 | BW16: 0 | CX16: =Y16*Source!I28 -> 0 | CY16: =AA16 -> 2939.02 | CZ16: =AE16 -> 476.34 | DA16: =AI16 -> 6.17 | DB16: =ROUND((ROUND(AT16*CZ16,2)*ROUND(0,7)),6) -> 0 | DC16: =ROUND((ROUND(AT16*AG16,2)*ROUND(0,7)),6) -> 0
A17: =ROW(Source!A28) -> 28 | B17: 31028412 | C17: 31028650 | D17: 29194450 | E17: 1 | F17: 1 | G17: 1 | H17: 3 | I17: 405-0219 | J17: ССЦ Тверской обл. (редакции 2014), пр. № 337/пр, сб.405, поз.0219 | K17: Гипсовые вяжущие, марка Г3 | L17: 1348 | N17: 1009 | O17: т | P17: т | Q17: 1000 | W17: 0 | X17: 1536930468 | Y17: 0 | AA17: 4497.81 | AB17: 0 | AC17: 0 | AD17: 0 | AE17: 728.98 | AF17: 0 | AG17: 0 | AH17: 0 | AI17: 6.17 | AJ17: 1 | AK17: 1 | AL17: 1 | AN17: 0 | AO17: 1 | AP17: 1 | AQ17: 0 | AR17: 0 | AT17: 0.0302 | AU17: *0 | AV17: 0 | AW17: 2 | AX17: 31028684 | AY17: 1 | AZ17: 0 | BA17: 17 | BB17: 0 | BC17: 0 | BD17: 0 | BE17: 0 | BF17: 0 | BG17: 0 | BH17: 0 | BI17: 0 | BJ17: 0 | BK17: 0 | BL17: 0 | BM17: 0 | BN17: 0 | BO17: 0 | BP17: 0 | BQ17: 0 | BR17: 0 | BS17: 0 | BT17: 0 | BU17: 0 | BV17: 0 | BW17: 0 | CX17: =Y17*Source!I28 -> 0 | CY17: =AA17 -> 4497.81 | CZ17: =AE17 -> 728.98 | DA17: =AI17 -> 6.17 | DB17: =ROUND((ROUND(AT17*CZ17,2)*ROUND(0,7)),6) -> 0 | DC17: =ROUND((ROUND(AT17*AG17,2)*ROUND(0,7)),6) -> 0
A18: =ROW(Source!A29) -> 29 | B18: 31028412 | C18: 31028685 | D18: 29084574 | E18: 1 | F18: 1 | G18: 1 | H18: 1 | I18: 1-1020-69 | K18: Рабочий строитель среднего разряда 2 | L18: 1369 | N18: 1013 | O18: чел.-ч | P18: чел.-ч | Q18: 1 | W18: 0 | X18: -1263252757 | Y18: 10.465 | AA18: 0 | AB18: 0 | AC18: 0 | AD18: 182.38 | AE18: 0 | AF18: 0 | AG18: 0 | AH18: 7.53 | AI18: 1 | AJ18: 1 | AK18: 1 | AL18: 24.22 | AN18: 0 | AO18: 1 | AP18: 1 | AQ18: 0 | AR18: 0 | AT18: 9.1 | AU18: *1,15 | AV18: 1 | AW18: 2 | AX18: 31028689 | AY18: 1 | AZ18: 0 | BA18: 18 | BB18: 0 | BC18: 0 | BD18: 0 | BE18: 0 | BF18: 0 | BG18: 0 | BH18: 0 | BI18: 0 | BJ18: 0 | BK18: 0 | BL18: 0 | BM18: 0 | BN18: 0 | BO18: 0 | BP18: 0 | BQ18: 0 | BR18: 0 | BS18: 0 | BT18: 0 | BU18: 0 | BV18: 0 | BW18: 0 | CX18: =Y18*Source!I29 -> 0.50232 | CY18: =AD18 -> 182.38 | CZ18: =AH18 -> 7.53 | DA18: =AL18 -> 24.22 | DB18: =ROUND((ROUND(AT18*CZ18,2)*ROUND(1.15,7)),6) -> 78.798 | DC18: =ROUND((ROUND(AT18*AG18,2)*ROUND(1.15,7)),6) -> 0
A19: =ROW(Source!A29) -> 29 | B19: 31028412 | C19: 31028685 | D19: 29147697 | E19: 1 | F19: 1 | G19: 1 | H19: 2 | I19: 030401 | J19: ЦЭМ Тверской обл.(редакции 2014), пр. №337/пр, сб.03,поз.0401 | K19: Лебедки электрические тяговым усилием до 5,79 кН (0,59 т) | L19: 1368 | N19: 1011 | O19: маш.-ч | P19: маш.-ч | Q19: 1 | W19: 0 | X19: -1933197009 | Y19: 0.138 | AA19: 0 | AB19: 12.99 | AC19: 0 | AD19: 0 | AE19: 0 | AF19: 1.7 | AG19: 0 | AH19: 0 | AI19: 1 | AJ19: 7.64 | AK19: 24.22 | AL19: 1 | AN19: 0 | AO19: 1 | AP19: 1 | AQ19: 0 | AR19: 0 | AT19: 0.12 | AU19: *1,15 | AV19: 0 | AW19: 2 | AX19: 31028690 | AY19: 1 | AZ19: 0 | BA19: 19 | BB19: 0 | BC19: 0 | BD19: 0 | BE19: 0 | BF19: 0 | BG19: 0 | BH19: 0 | BI19: 0 | BJ19: 0 | BK19: 0 | BL19: 0 | BM19: 0 | BN19: 0 | BO19: 0 | BP19: 0 | BQ19: 0 | BR19: 0 | BS19: 0 | BT19: 0 | BU19: 0 | BV19: 0 | BW19: 0 | CX19: =Y19*Source!I29 -> 0.006624 | CY19: =AB19 -> 12.99 | CZ19: =AF19 -> 1.7 | DA19: =AJ19 -> 7.64 | DB19: =ROUND((ROUND(AT19*CZ19,2)*ROUND(1.15,7)),6) -> 0.23 | DC19: =ROUND((ROUND(AT19*AG19,2)*ROUND(1.15,7)),6) -> 0
A20: =ROW(Source!A29) -> 29 | B20: 31028412 | C20: 31028685 | D20: 29215982 | E20: 1 | F20: 1 | G20: 1 | H20: 3 | I20: 509-9900 | J20: ССЦ Тверской обл. (редакции 2014), пр. № 337/пр, сб.509, поз.9900 | K20: Строительный мусор | L20: 1348 | N20: 1009 | O20: т | P20: т | Q20: 1000 | W20: 0 | X20: 367953619 | Y20: 0.12 | AA20: 0 | AB20: 0 | AC20: 0 | AD20: 0 | AE20: 0 | AF20: 0 | AG20: 0 | AH20: 0 | AI20: 6.17 | AJ20: 1 | AK20: 1 | AL20: 1 | AN20: 0 | AO20: 0 | AP20: 0 | AQ20: 0 | AR20: 0 | AT20: 0.12 | AV20: 0 | AW20: 2 | AX20: 31028691 | AY20: 1 | AZ20: 0 | BA20: 20 | BB20: 0 | BC20: 0 | BD20: 0 | BE20: 0 | BF20: 0 | BG20: 0 | BH20: 0 | BI20: 0 | BJ20: 0 | BK20: 0 | BL20: 0 | BM20: 0 | BN20: 0 | BO20: 0 | BP20: 0 | BQ20: 0 | BR20: 0 | BS20: 0 | BT20: 0 | BU20: 0 | BV20: 0 | BW20: 0 | CX20: =Y20*Source!I29 -> 0.00576 | CY20: =AA20 -> 0 | CZ20: =AE20 -> 0 | DA20: =AI20 -> 6.17 | DB20: =ROUND(ROUND(AT20*CZ20,2),6) -> 0 | DC20: =ROUND(ROUND(AT20*AG20,2),6) -> 0
A21: =ROW(Source!A69) -> 69 | B21: 31028412 | C21: 31028693 | D21: 29084586 | E21: 1 | F21: 1 | G21: 1 | H21: 1 | I21: 1-1032-69 | K21: Рабочий строитель среднего разряда 3,2 | L21: 1369 | N21: 1013 | O21: чел.-ч | P21: чел.-ч | Q21: 1 | W21: 0 | X21: 1694118523 | Y21: 216.4875 | AA21: 0 | AB21: 0 | AC21: 0 | AD21: 204.42 | AE21: 0 | AF21: 0 | AG21: 0 | AH21: 8.44 | AI21: 1 | AJ21: 1 | AK21: 1 | AL21: 24.22 | AN21: 0 | AO21: 1 | AP21: 1 | AQ21: 0 | AR21: 0 | AT21: 188.25 | AU21: *1,15 | AV21: 1 | AW21: 2 | AX21: 31028698 | AY21: 1 | AZ21: 0 | BA21: 21 | BB21: 0 | BC21: 0 | BD21: 0 | BE21: 0 | BF21: 0 | BG21: 0 | BH21: 0 | BI21: 0 | BJ21: 0 | BK21: 0 | BL21: 0 | BM21: 0 | BN21: 0 | BO21: 0 | BP21: 0 | BQ21: 0 | BR21: 0 | BS21: 0 | BT21: 0 | BU21: 0 | BV21: 0 | BW21: 0 | CX21: =Y21*Source!I69 -> 25.329037 | CY21: =AD21 -> 204.42 | CZ21: =AH21 -> 8.44 | DA21: =AL21 -> 24.22 | DB21: =ROUND((ROUND(AT21*CZ21,2)*ROUND(1.15,7)),6) -> 1827.1545 | DC21: =ROUND((ROUND(AT21*AG21,2)*ROUND(1.15,7)),6) -> 0
A22: =ROW(Source!A69) -> 69 | B22: 31028412 | C22: 31028693 | D22: 29147697 | E22: 1 | F22: 1 | G22: 1 | H22: 2 | I22: 030401 | J22: ЦЭМ Тверской обл.(редакции 2014), пр. №337/пр, сб.03,поз.0401 | K22: Лебедки электрические тяговым усилием до 5,79 кН (0,59 т) | L22: 1368 | N22: 1011 | O22: маш.-ч | P22: маш.-ч | Q22: 1 | W22: 0 | X22: -1933197009 | Y22: 0.8165 | AA22: 0 | AB22: 12.99 | AC22: 0 | AD22: 0 | AE22: 0 | AF22: 1.7 | AG22: 0 | AH22: 0 | AI22: 1 | AJ22: 7.64 | AK22: 24.22 | AL22: 1 | AN22: 0 | AO22: 1 | AP22: 1 | AQ22: 0 | AR22: 0 | AT22: 0.71 | AU22: *1,15 | AV22: 0 | AW22: 2 | AX22: 31028699 | AY22: 1 | AZ22: 0 | BA22: 22 | BB22: 0 | BC22: 0 | BD22: 0 | BE22: 0 | BF22: 0 | BG22: 0 | BH22: 0 | BI22: 0 | BJ22: 0 | BK22: 0 | BL22: 0 | BM22: 0 | BN22: 0 | BO22: 0 | BP22: 0 | BQ22: 0 | BR22: 0 | BS22: 0 | BT22: 0 | BU22: 0 | BV22: 0 | BW22: 0 | CX22: =Y22*Source!I69 -> 0.0955305 | CY22: =AB22 -> 12.99 | CZ22: =AF22 -> 1.7 | DA22: =AJ22 -> 7.64 | DB22: =ROUND((ROUND(AT22*CZ22,2)*ROUND(1.15,7)),6) -> 1.3915 | DC22: =ROUND((ROUND(AT22*AG22,2)*ROUND(1.15,7)),6) -> 0
A23: =ROW(Source!A69) -> 69 | B23: 31028412 | C23: 31028693 | D23: 29195171 | E23: 1 | F23: 1 | G23: 1 | H23: 3 | I23: 411-0001 | J23: ССЦ Тверской обл. (редакции 2014), пр. № 337/пр, сб.411, поз.0001 | K23: Вода | L23: 1339 | N23: 1007 | O23: м3 | P23: м3 | Q23: 1 | W23: 0 | X23: 2050165204 | Y23: 0.35 | AA23: 15.12 | AB23: 0 | AC23: 0 | AD23: 0 | AE23: 2.45 | AF23: 0 | AG23: 0 | AH23: 0 | AI23: 6.17 | AJ23: 1 | AK23: 1 | AL23: 1 | AN23: 0 | AO23: 1 | AP23: 0 | AQ23: 0 | AR23: 0 | AT23: 0.35 | AV23: 0 | AW23: 2 | AX23: 31028701 | AY23: 1 | AZ23: 0 | BA23: 24 | BB23: 0 | BC23: 0 | BD23: 0 | BE23: 0 | BF23: 0 | BG23: 0 | BH23: 0 | BI23: 0 | BJ23: 0 | BK23: 0 | BL23: 0 | BM23: 0 | BN23: 0 | BO23: 0 | BP23: 0 | BQ23: 0 | BR23: 0 | BS23: 0 | BT23: 0 | BU23: 0 | BV23: 0 | BW23: 0 | CX23: =Y23*Source!I69 -> 0.04095 | CY23: =AA23 -> 15.12 | CZ23: =AE23 -> 2.45 | DA23: =AI23 -> 6.17 | DB23: =ROUND(ROUND(AT23*CZ23,2),6) -> 0.86 | DC23: =ROUND(ROUND(AT23*AG23,2),6) -> 0
A24: =ROW(Source!A69) -> 69 | B24: 31028412 | C24: 31028693 | D24: 29215982 | E24: 1 | F24: 1 | G24: 1 | H24: 3 | I24: 509-9900 | J24: ССЦ Тверской обл. (редакции 2014), пр. № 337/пр, сб.509, поз.9900 | K24: Строительный мусор | L24: 1348 | N24: 1009 | O24: т | P24: т | Q24: 1000 | W24: 0 | X24: 367953619 | Y24: 4.84 | AA24: 0 | AB24: 0 | AC24: 0 | AD24: 0 | AE24: 0 | AF24: 0 | AG24: 0 | AH24: 0 | AI24: 6.17 | AJ24: 1 | AK24: 1 | AL24: 1 | AN24: 0 | AO24: 0 | AP24: 0 | AQ24: 0 | AR24: 0 | AT24: 4.84 | AV24: 0 | AW24: 2 | AX24: 31028702 | AY24: 1 | AZ24: 0 | BA24: 25 | BB24: 0 | BC24: 0 | BD24: 0 | BE24: 0 | BF24: 0 | BG24: 0 | BH24: 0 | BI24: 0 | BJ24: 0 | BK24: 0 | BL24: 0 | BM24: 0 | BN24: 0 | BO24: 0 | BP24: 0 | BQ24: 0 | BR24: 0 | BS24: 0 | BT24: 0 | BU24: 0 | BV24: 0 | BW24: 0 | CX24: =Y24*Source!I69 -> 0.56628 | CY24: =AA24 -> 0 | CZ24: =AE24 -> 0 | DA24: =AI24 -> 6.17 | DB24: =ROUND(ROUND(AT24*CZ24,2),6) -> 0 | DC24: =ROUND(ROUND(AT24*AG24,2),6) -> 0
A25: =ROW(Source!A72) -> 72 | B25: 31028412 | C25: 31028705 | D25: 29084595 | E25: 1 | F25: 1 | G25: 1 | H25: 1 | I25: 1-1037-69 | K25: Рабочий строитель среднего разряда 3,7 | L25: 1369 | N25: 1013 | O25: чел.-ч | P25: чел.-ч | Q25: 1 | W25: 0 | X25: 62379012 | Y25: 18.2505 | AA25: 0 | AB25: 0 | AC25: 0 | AD25: 217.25 | AE25: 0 | AF25: 0 | AG25: 0 | AH25: 8.97 | AI25: 1 | AJ25: 1 | AK25: 1 | AL25: 24.22 | AN25: 0 | AO25: 1 | AP25: 1 | AQ25: 0 | AR25: 0 | AT25: 13.8 | AU25: *1,15*1,15 | AV25: 1 | AW25: 2 | AX25: 31028712 | AY25: 1 | AZ25: 0 | BA25: 26 | BB25: 0 | BC25: 0 | BD25: 0 | BE25: 0 | BF25: 0 | BG25: 0 | BH25: 0 | BI25: 0 | BJ25: 0 | BK25: 0 | BL25: 0 | BM25: 0 | BN25: 0 | BO25: 0 | BP25: 0 | BQ25: 0 | BR25: 0 | BS25: 0 | BT25: 0 | BU25: 0 | BV25: 0 | BW25: 0 | CX25: =Y25*Source!I72 -> 2.1353085 | CY25: =AD25 -> 217.25 | CZ25: =AH25 -> 8.97 | DA25: =AL25 -> 24.22 | DB25: =ROUND((ROUND(AT25*CZ25,2)*ROUND((1.15*1.15),7)),6) -> 163.71228 | DC25: =ROUND((ROUND(AT25*AG25,2)*ROUND((1.15*1.15),7)),6) -> 0
A26: =ROW(Source!A72) -> 72 | B26: 31028412 | C26: 31028705 | D26: 29147697 | E26: 1 | F26: 1 | G26: 1 | H26: 2 | I26: 030401 | J26: ЦЭМ Тверской обл.(редакции 2014), пр. №337/пр, сб.03,поз.0401 | K26: Лебедки электрические тяговым усилием до 5,79 кН (0,59 т) | L26: 1368 | N26: 1011 | O26: маш.-ч | P26: маш.-ч | Q26: 1 | W26: 0 | X26: -1933197009 | Y26: 0.129375 | AA26: 0 | AB26: 12.99 | AC26: 0 | AD26: 0 | AE26: 0 | AF26: 1.7 | AG26: 0 | AH26: 0 | AI26: 1 | AJ26: 7.64 | AK26: 24.22 | AL26: 1 | AN26: 0 | AO26: 1 | AP26: 1 | AQ26: 0 | AR26: 0 | AT26: 0.09 | AU26: *1,25*1,15 | AV26: 0 | AW26: 2 | AX26: 31028713 | AY26: 1 | AZ26: 0 | BA26: 27 | BB26: 0 | BC26: 0 | BD26: 0 | BE26: 0 | BF26: 0 | BG26: 0 | BH26: 0 | BI26: 0 | BJ26: 0 | BK26: 0 | BL26: 0 | BM26: 0 | BN26: 0 | BO26: 0 | BP26: 0 | BQ26: 0 | BR26: 0 | BS26: 0 | BT26: 0 | BU26: 0 | BV26: 0 | BW26: 0 | CX26: =Y26*Source!I72 -> 0.015136875 | CY26: =AB26 -> 12.99 | CZ26: =AF26 -> 1.7 | DA26: =AJ26 -> 7.64 | DB26: =ROUND((ROUND(AT26*CZ26,2)*ROUND((1.25*1.15),7)),6) -> 0.215625 | DC26: =ROUND((ROUND(AT26*AG26,2)*ROUND((1.25*1.15),7)),6) -> 0
A27: =ROW(Source!A72) -> 72 | B27: 31028412 | C27: 31028705 | D27: 29149520 | E27: 1 | F27: 1 | G27: 1 | H27: 2 | I27: 400001 | J27: ЦЭМ Тверской обл.(редакции 2014), пр. №337/пр, сб.40,поз.0001 | K27: Автомобили бортовые, грузоподъемность до 5 т | L27: 1368 | N27: 1011 | O27: маш.-ч | P27: маш.-ч | Q27: 1 | W27: 0 | X27: -1931461795 | Y27: 0.115 | AA27: 0 | AB27: 699.98 | AC27: 0 | AD27: 0 | AE27: 0 | AF27: 91.62 | AG27: 0 | AH27: 0 | AI27: 1 | AJ27: 7.64 | AK27: 24.22 | AL27: 1 | AN27: 0 | AO27: 1 | AP27: 1 | AQ27: 0 | AR27: 0 | AT27: 0.08 | AU27: *1,25*1,15 | AV27: 0 | AW27: 2 | AX27: 31028714 | AY27: 1 | AZ27: 0 | BA27: 28 | BB27: 0 | BC27: 0 | BD27: 0 | BE27: 0 | BF27: 0 | BG27: 0 | BH27: 0 | BI27: 0 | BJ27: 0 | BK27: 0 | BL27: 0 | BM27: 0 | BN27: 0 | BO27: 0 | BP27: 0 | BQ27: 0 | BR27: 0 | BS27: 0 | BT27: 0 | BU27: 0 | BV27: 0 | BW27: 0 | CX27: =Y27*Source!I72 -> 0.013455 | CY27: =AB27 -> 699.98 | CZ27: =AF27 -> 91.62 | DA27: =AJ27 -> 7.64 | DB27: =ROUND((ROUND(AT27*CZ27,2)*ROUND((1.25*1.15),7)),6) -> 10.536875 | DC27: =ROUND((ROUND(AT27*AG27,2)*ROUND((1.25*1.15),7)),6) -> 0
