Workbook

Sheet Смета 12 гр. по ФЕР
H1: Приложение № 2 к Договору №______________________ от «____» ________________ 20__г.
B14: =CONCATENATE( "ЛОКАЛЬНАЯ СМЕТА № ",IF(Source!F12<>"Новый объект", Source!F12, "")) -> ЛОКАЛЬНАЯ СМЕТА №
B18: Выполнение работ по приспособлению ОПС 115582 для обеспечения доступа маломобильных групп населения по адресу: 115582, г. Москва, Шипиловский проезд, дом 59, к.2, стр.2
B19: (наименование работ и затрат, наименование объекта)
A21: =CONCATENATE("Основание: ", Source!J12) -> Основание:
G24: базовая цена | I24: текущая цена
C25: Сметная стоимость | G25: =SUM(N1:N870)/1000 -> 93.22673 | I25: 1080.96 | K25: тыс. руб.
C26: Строительные работы | G26: =SUM(V1:V870)/1000 -> 64.14257 | I26: =(Source!F349)/1000 -> 571.50242 | K26: тыс. руб.
C27: Монтажные работы | G27: =SUM(W1:W870)/1000 -> 29.08416 | I27: =(Source!F350)/1000 -> 311.63493 | K27: тыс. руб.
C28: Нормативная трудоемкость | G28: =I28 -> 619.71474 | I28: =(Source!F354+Source!F355) -> 619.71474 | K28: чел. -ч.
C29: Средства на оплату труда | G29: =SUM(Q1:Q870)/1000 -> 5.70358 | I29: =(Source!F347+ Source!F346)/1000 -> 191.92483 | K29: тыс. руб.
C30: Возврат материалов | K30: тыс. руб.
A32: Строительный объем:
A33: Стоимость ед.стр.объема:
A35: Составлена в ценах Индексы к ФЕР-2020 (Стройинформресурс) январь 2021 года и Индексы к ФЕР-2020 по КТЦ (Стройинформресурс) январь 2021 года
A36: № п/п | B36: Шифр расценки и коды ресурсов | C36: Наименование работ и затрат | D36: Ед. изм. | E36: Кол-во единиц | F36: Цена на ед. изм. | G36: Попра-вочные коэфф. | H36: Стоимость в ценах 2001г. | I36: Пункт коэфф. пересчета | J36: Коэфф. пересчета | K36: Стоимость в текущих ценах
A37: 1 | B37: 2 | C37: 3 | D37: 4 | E37: 5 | F37: 6 | G37: 7 | H37: 8 | I37: 9 | J37: 10 | K37: 11
A39: =CONCATENATE("Раздел: ",IF(Source!G24<>"Новый раздел", Source!G24, "")) -> Раздел: Общестроительные работы
B41: =Source!G28 -> Демонтажные работы
A42: =Source!E29 -> 1 | B42: м08-03-593-10 Поправка: Мет.421/пр 04.08.20 Пр.10 Т.3 п. 1.2 Поправка: МР 519/пр Табл.3, п.2 | C42: =Source!G29 -> Демонтаж табличек "Выход" с сохранением | D42: =Source!H29 -> 100 ШТ | E42: =Source!I29 -> 0.01 | F42: =Source!AL29+Source!AM29+Source!AO29 -> 1335.94 | I42: =Source!BO29 -> м08-03-593-10 | R42: =ROUND((Source!FX29/100)*((ROUND(Source!AF29*Source!I29, 2)+ROUND(Source!AE29*Source!I29, 2))), 2) -> 6.03 | S42: =Source!X29 -> 203.1 | T42: =ROUND((Source!FY29/100)*((ROUND(Source!AF29*Source!I29, 2)+ROUND(Source!AE29*Source!I29, 2))), 2) -> 4.13 | U42: =Source!Y29 -> 138.96
C43: ="Объем: "&Source!I29&"=1/"&"100" -> Объем: 0,01=1/100
C44: Зарплата | F44: =Source!AO29 -> 779.32 | G44: =Source!DG29 -> )*1,35)*0,6 | H44: =ROUND(Source!AF29*Source!I29, 2) -> 6.31 | J44: =IF(Source!BA29<> 0, Source!BA29, 1) -> 33.65 | K44: =Source!S29 -> 212.42 | Q44: =H44 -> 6.31
C45: Эксплуатация машин | F45: =Source!AM29 -> 36.22 | G45: =Source!DE29 -> )*1,35)*0,6 | H45: =ROUND(Source!AD29*Source!I29, 2) -> 0.29 | J45: =IF(Source!BB29<> 0, Source!BB29, 1) -> 10.22 | K45: =Source!Q29 -> 3
C46: в т.ч. зарплата машинистов | F46: =Source!AN29 -> 5.02 | G46: =Source!DF29 -> )*1,35)*0,6 | H46: =ROUND(Source!AE29*Source!I29, 2) -> 0.04 | J46: =IF(Source!BS29<> 0, Source!BS29, 1) -> 33.65 | K46: =Source!R29 -> 1.37 | Q46: =H46 -> 0.04
C47: НР от ФОТ | D47: % | E47: =Source!BZ29 -> 95 | H47: =SUM(R42:R49) -> 6.03 | J47: =Source!AT29 -> 95 | K47: =SUM(S42:S49) -> 203.1
C48: СП от ФОТ | D48: % | E48: =Source!CA29 -> 65 | H48: =SUM(T42:T49) -> 4.13 | J48: =Source!AU29 -> 65 | K48: =SUM(U42:U49) -> 138.96
C49: Затраты труда | D49: чел-ч | E49: =Source!AQ29 -> 78.56 | G49: =Source!DI29 -> )*1,35)*0,6
G50: =H44+H45+H47+H48 -> 16.76 | J50: =K44+K45+K47+K48 -> 557.48 | N50: =G50 -> 16.76 | O50: =J50 -> 557.48 | P50: =#REF! -> #REF! | V50: =IF(Source!BI29<=1,H44+H45+H47+H48, 0) -> 0 | W50: =IF(Source!BI29=2,H44+H45+H47+H48, 0) -> 16.76 | X50: =IF(Source!BI29=3,H44+H45+H47+H48, 0) -> 0 | Y50: =IF(Source!BI29=4,H44+H45+H47+H48, 0) -> 0
A51: =Source!E30 -> 2 | B51: м10-08-002-04 Поправка: Мет.421/пр 04.08.20 Пр.10 Т.3 п. 1.2 Поправка: МР 519/пр Табл.3, п.2 | C51: =Source!G30 -> Демонтаж датчиков охранных с сохранением для последующего монтажа | D51: =Source!H30 -> ШТ | E51: =Source!I30 -> 3 | F51: =Source!AL30+Source!AM30+Source!AO30 -> 9.96 | I51: =Source!BO30 -> м10-08-002-04 | R51: =ROUND((Source!FX30/100)*((ROUND(Source!AF30*Source!I30, 2)+ROUND(Source!AE30*Source!I30, 2))), 2) -> 15.7 | S51: =Source!X30 -> 528.17 | T51: =ROUND((Source!FY30/100)*((ROUND(Source!AF30*Source!I30, 2)+ROUND(Source!AE30*Source!I30, 2))), 2) -> 11.77 | U51: =Source!Y30 -> 396.13
C52: Зарплата | F52: =Source!AO30 -> 8.08 | G52: =Source!DG30 -> )*1,35)*0,6 | H52: =ROUND(Source!AF30*Source!I30, 2) -> 19.62 | J52: =IF(Source!BA30<> 0, Source!BA30, 1) -> 33.65 | K52: =Source!S30 -> 660.21 | Q52: =H52 -> 19.62
C53: НР от ФОТ | D53: % | E53: =Source!BZ30 -> 80 | H53: =SUM(R51:R55) -> 15.7 | J53: =Source!AT30 -> 80 | K53: =SUM(S51:S55) -> 528.17
C54: СП от ФОТ | D54: % | E54: =Source!CA30 -> 60 | H54: =SUM(T51:T55) -> 11.77 | J54: =Source!AU30 -> 60 | K54: =SUM(U51:U55) -> 396.13
C55: Затраты труда | D55: чел-ч | E55: =Source!AQ30 -> 0.84 | G55: =Source!DI30 -> )*1,35)*0,6
G56: =H52+H53+H54 -> 47.09 | J56: =K52+K53+K54 -> 1584.51 | N56: =G56 -> 47.09 | O56: =J56 -> 1584.51 | P56: =#REF! -> #REF! | V56: =IF(Source!BI30<=1,H52+H53+H54, 0) -> 0 | W56: =IF(Source!BI30=2,H52+H53+H54, 0) -> 47.09 | X56: =IF(Source!BI30=3,H52+H53+H54, 0) -> 0 | Y56: =IF(Source!BI30=4,H52+H53+H54, 0) -> 0
A57: =Source!E31 -> 3 | B57: 65-30-3 Поправка: Мет.421/пр 04.08.20 Пр.10 Т.3 п. 1.2 | C57: =Source!G31 -> Разборка воздуховодов из листовой стали толщиной: до 0,9 мм диаметром/периметром до 495 мм /1550 мм | D57: =Source!H31 -> 100 м2 | E57: =Source!I31 -> 0.02 | F57: =Source!AL31+Source!AM31+Source!AO31 -> 219.64 | I57: =Source!BO31 -> 65-30-3 | R57: =ROUND((Source!FX31/100)*((ROUND(Source!AF31*Source!I31, 2)+ROUND(Source!AE31*Source!I31, 2))), 2) -> 3.51 | S57: =Source!X31 -> 118.16 | T57: =ROUND((Source!FY31/100)*((ROUND(Source!AF31*Source!I31, 2)+ROUND(Source!AE31*Source!I31, 2))), 2) -> 2.37 | U57: =Source!Y31 -> 79.84
C58: ="Объем: "&Source!I31&"=2/"&"100" -> Объем: 0,02=2/100
C59: Зарплата | F59: =Source!AO31 -> 196.19 | G59: =Source!DG31 -> )*1,15 | H59: =ROUND(Source!AF31*Source!I31, 2) -> 4.51 | J59: =IF(Source!BA31<> 0, Source!BA31, 1) -> 33.65 | K59: =Source!S31 -> 151.84 | Q59: =H59 -> 4.51
C60: Эксплуатация машин | F60: =Source!AM31 -> 23.45 | G60: =Source!DE31 -> )*1,15 | H60: =ROUND(Source!AD31*Source!I31, 2) -> 0.54 | J60: =IF(Source!BB31<> 0, Source!BB31, 1) -> 14.88 | K60: =Source!Q31 -> 8.03
C61: в т.ч. зарплата машинистов | F61: =Source!AN31 -> 10.13 | G61: =Source!DF31 -> )*1,15 | H61: =ROUND(Source!AE31*Source!I31, 2) -> 0.23 | J61: =IF(Source!BS31<> 0, Source!BS31, 1) -> 33.65 | K61: =Source!R31 -> 7.84 | Q61: =H61 -> 0.23
C62: НР от ФОТ | D62: % | E62: =Source!BZ31 -> 74 | H62: =SUM(R57:R64) -> 3.51 | J62: =Source!AT31 -> 74 | K62: =SUM(S57:S64) -> 118.16
...

Sheet Дефектная ведомость
A1: =Source!B1 -> Smeta.RU (495) 974-1589
B3: "СОГЛАСОВАНО" | D3: "УТВЕРЖДАЮ"
B5: ___________________________ | C5: ___________________________
B7: ___________________________ | C7: ___________________________
C9: " ___ " ___________ 20 ___ г.
A11: =CONCATENATE("Дефектный акт ", IF(Source!AN15<>"", Source!AN15," ")) -> Дефектный акт
A12: =CONCATENATE("На капитальный ремонт ", Source!F12, " ", Source!G12) -> На капитальный ремонт ДС, 115582, г. Москва, Шипиловский проезд, дом 59, к.2, стр.2 | AD12: =CONCATENATE("На капитальный ремонт ", Source!F12, " ", Source!G12) -> На капитальный ремонт ДС, 115582, г. Москва, Шипиловский проезд, дом 59, к.2, стр.2
B14: Мы, нижеподписавшиеся, произвели осмотр объекта
B15: и постановили произвести ремонт объекта в
B16: следующем объеме:
A17: № п/п | B17: Наименование работ и затрат | C17: Единица измерения | D17: Количество | E17: Примечание
A18: 1 | B18: 2 | C18: 3 | D18: 4 | E18: 5
A19: =CONCATENATE("Локальная смета: ", Source!G20) -> Локальная смета: Новая локальная смета
A20: =CONCATENATE("Раздел: ", Source!G24) -> Раздел: Общестроительные работы
A21: 1 | B21: =Source!G29 -> Демонтаж табличек "Выход" с сохранением | C21: =Source!H29 -> 100 ШТ | D21: =Source!I29 -> 0.01
A22: 2 | B22: =Source!G30 -> Демонтаж датчиков охранных с сохранением для последующего монтажа | C22: =Source!H30 -> ШТ | D22: =Source!I30 -> 3
A23: 3 | B23: =Source!G31 -> Разборка воздуховодов из листовой стали толщиной: до 0,9 мм диаметром/периметром до 495 мм /1550 мм | C23: =Source!H31 -> 100 м2 | D23: =Source!I31 -> 0.02
A24: 4 | B24: =Source!G32 -> Демонтаж входной группы металлической | C24: =Source!H32 -> м2 | D24: =Source!I32 -> 4.2
A25: 5 | B25: =Source!G33 -> Демонтаж металлического тамбура с остеклением | C25: =Source!H33 -> 100 м2 | D25: =Source!I33 -> 0.0844
A26: 6 | B26: =Source!G34 -> Разборка деревянных заполнений проемов: дверных и воротных | C26: =Source!H34 -> 100 м2 | D26: =Source!I34 -> 0.044
A27: 7 | B27: =Source!G35 -> Демонтаж плитки бетонной напольной (в тамбуре) | C27: =Source!H35 -> 100 м2 | D27: =Source!I35 -> 0.032
A28: 8 | B28: =Source!G37 -> Демонтаж потолка из а/ц листов | C28: =Source!H37 -> 100 м2 | D28: =Source!I37 -> 0.032
A29: 9 | B29: =Source!G38 -> Разборка элементов облицовки потолков с разборкой каркаса: Армстронг | C29: =Source!H38 -> 100 м2 | D29: =Source!I38 -> 0.042
A30: 10 | B30: =Source!G40 -> Разборка плинтусов: деревянных и из пластмассовых материалов | C30: =Source!H40 -> 100 м | D30: =Source!I40 -> 0.019
A31: 11 | B31: =Source!G42 -> Демонтаж кабельных каналов | C31: =Source!H42 -> 100 м труб | D31: =Source!I42 -> 0.043
A32: 12 | B32: =Source!G43 -> Демонтаж бетонной плитки (площадка и ступени у входа) | C32: =Source!H43 -> 100 м2 | D32: =Source!I43 -> 0.1275
A33: 13 | B33: =Source!G44 -> Демонтаж площадки, ступеней и пандуса из асфальтобетона | C33: =Source!H44 -> м3 | D33: =Source!I44 -> 3.23
A34: 14 | B34: =Source!G45 -> Демонтаж ограждения площадки из эл. сварн. трубы 20х20 мм | C34: =Source!H45 -> т | D34: =Source!I45 -> 0.01
A35: 15 | B35: =Source!G46 -> Демонтаж почтового ящика с сохранением | C35: =Source!H46 -> ШТ | D35: =Source!I46 -> 1
A36: 16 | B36: =Source!G47 -> Демонтаж вывески ПВХ (информационной) с сохранением | C36: =Source!H47 -> ШТ | D36: =Source!I47 -> 1
A37: 17 | B37: =Source!G48 -> Демонтаж урн с сохранением | C37: =Source!H48 -> т | D37: =Source!I48 -> 0.007
A38: 18 | B38: =Source!G49 -> Демонтаж доводчиков дверных | C38: =Source!H49 -> ШТ | D38: =Source!I49 -> 2
A39: 19 | B39: =Source!G50 -> Разборка асфальтового покрытия толщиной 50 мм с резкой - 9 м.п. (под площадку входа и тактильную плитку) | C39: =Source!H50 -> 100 м3 | D39: =Source!I50 -> 0.0021
A40: 20 | B40: =Source!G52 -> Разработка грунта вручную в траншеях глубиной до 2 м без креплений с откосами, группа грунтов: 2 | C40: =Source!H52 -> 100 м3 | D40: =Source!I52 -> 0.0042
A41: 21 | B41: =Source!G53 -> Устройство перегородок из гипсоволокнистых листов (ГВЛв) с одинарным металлическим каркасом и двухслойной обшивкой с обеих сторон | C41: =Source!H53 -> 100 м2 | D41: =Source!I53 -> 0.21
A42: 22 | B42: =Source!G55 -> Сплошное выравнивание внутренних поверхностей (однослойное оштукатуривание) из сухих растворных смесей толщиной до 10 мм: стен | C42: =Source!H55 -> 100 м2 | D42: =Source!I55 -> 0.42
A43: 23 | B43: =Source!G58 -> Окраска водно-дисперсионными акриловыми составами улучшенная: по сборным конструкциям стен, подготовленным под окраску | C43: =Source!H58 -> 100 м2 | D43: =Source!I58 -> 0.42
A44: 24 | B44: =Source!G61 -> Устройство потолка подвесного кассетного Армстронг алюминиевого с перфорацией, 600х600 мм, белый матовый | C44: =Source!H61 -> 100 м2 | D44: =Source!I61 -> 0.045
A45: 25 | B45: =Source!G64 -> Светильник в подвесных потолках/Монтаж | C45: =Source!H64 -> 100 ШТ | D45: =Source!I64 -> 0.02
A46: 26 | B46: =Source!G66 -> Устройство приямка в тамбуре для укладки ячеистого резинового ковра | C46: =Source!H66 -> 100 м2 | D46: =Source!I66 -> 0.0125
...

Sheet Source
A1: 0 | B1: Smeta.RU (495) 974-1589 | D1: _PS_ | F1: 0 | G1: 0 | H1: 0 | I1: Smeta.RU | K1: 1 | L1: 63834 | M1: 10 | N1: 11 | O1: 2 | P1: 0 | Q1: 3
A12: 1 | B12: 396 | C12: 0 | D12: =ROW(A332) -> 332 | E12: 0 | G12: ДС, 115582, г. Москва, Шипиловский проезд, дом 59, к.2, стр.2 | I12: 0 | K12: 0 | L12: 0 | M12: 2 | O12: 0 | P12: 0 | Q12: 0 | R12: 0 | T12: 1 | V12: 0 | BH12: Сметные нормы списания | BI12: Коды ценников | BJ12: 1 | BK12: 1 | BL12: 0 | BM12: 0 | BN12: 1 | BO12: 0 | BP12: 2 | BQ12: 2 | BR12: 1 | BS12: 1 | BT12: 0 | BU12: 0 | BV12: 0 | BW12: 0 | BX12: 0 | BY12: ФЕР-2020 И4 | BZ12: ТР для Версии 11: Центральные регионы (с уч. п-ма 2536-ИП/12/ГС от 27.11.12, 01/57049-ЮЛ от 27.04.2018) от 27.04.2020 г | CA12: ФЕР-2020 - изменения И4 | CB12: ФЕР-2020 - изменения И4 | CC12: ФЕР-2020 - изменения И4 | CD12: ФЕР-2020 - изменения И4 | CE12: Поправки для ГСН (ФЕР) 2020 от 20.10.2020 г И4 Капитальный ремонт | CF12: 0 | CG12: 0 | CH12: 917512 | CK12: 4 | EC12: 0
A15: 15 | B15: 1
A18: 52 | B18: =B332 -> 396 | C18: =C332 -> 1 | D18: =D332 -> 12 | E18: =E332 -> 0 | F18: =F332 | G18: =G332 -> ДС, 115582, г. Москва, Шипиловский проезд, дом 59, к.2, стр.2 | O18: =O332 -> 600427.43 | P18: =P332 -> 401321.06 | Q18: =Q332 -> 11489.84 | R18: =R332 -> 4308.3 | S18: =S332 -> 187616.53 | T18: =T332 -> 0 | U18: =U332 -> 609.03862 | V18: =V332 -> 10.676121 | ... GX18: =GX332 -> 0
A20: 3 | B20: 1 | D20: =ROW(A302) -> 302 | F20: Новая локальная смета | G20: Новая локальная смета | I20: 0 | K20: 0 | S20: 0 | V20: 0 | BX20: 0 | CF20: 0 | CG20: 0
A22: 52 | B22: =B302 -> 1 | C22: =C302 -> 3 | D22: =D302 -> 20 | E22: =E302 -> 0 | F22: =F302 -> Новая локальная смета | G22: =G302 -> Новая локальная смета | O22: =O302 -> 600427.43 | P22: =P302 -> 401321.06 | Q22: =Q302 -> 11489.84 | R22: =R302 -> 4308.3 | S22: =S302 -> 187616.53 | T22: =T302 -> 0 | U22: =U302 -> 609.03862 | V22: =V302 -> 10.676121 | ... GX22: =GX302 -> 0
A24: 4 | B24: 1 | D24: =ROW(A183) -> 183 | F24: Новый раздел | G24: Общестроительные работы | I24: 0 | K24: 0 | S24: 0 | V24: 0 | BX24: 0 | CJ24: 0
A26: 52 | B26: =B183 -> 1 | C26: =C183 -> 4 | D26: =D183 -> 24 | E26: =E183 -> 0 | F26: =F183 -> Новый раздел | G26: =G183 -> Общестроительные работы | O26: =O183 -> 577695.47 | P26: =P183 -> 387467.76 | Q26: =Q183 -> 11372.23 | R26: =R183 -> 4294.66 | S26: =S183 -> 178855.48 | T26: =T183 -> 0 | U26: =U183 -> 581.09348 | V26: =V183 -> 10.644193 | ... GX26: =GX183 -> 0
A28: 19 | B28: 1 | G28: Демонтажные работы | AA28: 1 | IK28: 0
A29: 17 | B29: 1 | C29: =ROW(SmtRes!A8) -> 8 | D29: =ROW(EtalonRes!A8) -> 8 | E29: 1 | F29: м08-03-593-10 | G29: Демонтаж табличек "Выход" с сохранением | H29: 100 ШТ | I29: =ROUND(1/100,5) -> 0.01 | J29: 0 | O29: =ROUND(CP29,2) -> 215.42 | P29: =ROUND(CQ29*I29,2) -> 0 | Q29: =ROUND(CR29*I29,2) -> 3 | R29: =ROUND(CS29*I29,2) -> 1.37 | S29: =ROUND(CT29*I29,2) -> 212.42 | T29: =ROUND(CU29*I29,2) -> 0 | U29: =CV29*I29 -> 0.636336 | V29: =CW29*I29 -> 0.00324 | W29: =ROUND(CX29*I29,2) -> 0 | X29: =ROUND(CY29,2) -> 203.1 | Y29: =ROUND(CZ29,2) -> 138.96 | AA29: 68990560 | AB29: =ROUND((AC29+AD29+AF29),2) -> 660.59 | AC29: =ROUND(((ES29*0)),2) -> 0 | AD29: =ROUND((((((ET29*1.35)*0.6))-(((EU29*1.35)*0.6)))+AE29),2) -> 29.34 | AE29: =ROUND((((EU29*1.35)*0.6)),2) -> 4.07 | AF29: =ROUND((((EV29*1.35)*0.6)),2) -> 631.25 | AG29: =ROUND((AP29),2) -> 0 | AH29: =(((EW29*1.35)*0.6)) -> 63.6336 | AI29: =(((EX29*1.35)*0.6)) -> 0.324 | AJ29: =(AS29) -> 0 | AK29: 1335.94 | AL29: 520.4 | AM29: 36.22 | AN29: 5.02 | AO29: 779.32 | AP29: 0 | AQ29: 78.56 | AR29: 0.4 | AS29: 0 | AT29: 95 | AU29: 65 | AV29: 1 | AW29: 1 | AZ29: 1 | BA29: 33.65 | BB29: 10.22 | BC29: 6.11 | BH29: 0 | BI29: 2 | BJ29: ФЕРм-2001, м08-03-593-10, приказ Минстроя России № 876/пр от 26.12.2019 | BM29: 108001 | BN29: 0 | BO29: м08-03-593-10 | BP29: 1 | BQ29: 3 | BR29: 0 | BS29: 33.65 | BT29: 1 | BU29: 1 | BV29: 1 | BW29: 1 | BX29: 1 | BZ29: 95 | CA29: 65 | CE29: 0 | CF29: 0 | CG29: 0 | CM29: 0 | CN29: Поправка: Мет.421/пр 04.08.20 Пр.10 Т.3 п. 1.2 Наименование: Производство ремонтно-строительных работ осуществляется в помещениях эксплуатируемого объекта капитального строительства без остановки рабочего процесса, при этом: в зоне производства ремонтно-строительных работ имеются действующее технологическое или лабораторное оборудование, мебель и иные загромождающие помещения предметы Поправка: МР 519/пр Табл.3, п.2 Наименование: Демонтаж: Оборудование, пригодное для дальнейшего использования, со снятием с места установки, необходимой (частичной) разборкой без надобности хранения (перемещается на другое место установки и т.п.) | CO29: 0 | CP29: =(P29+Q29+S29) -> 215.42 | CQ29: =AC29*BC29 -> 0 | CR29: =AD29*BB29 -> 299.8548 | CS29: =AE29*BS29 -> 136.9555 | CT29: =AF29*BA29 -> 21241.562 | CU29: =AG29 -> 0 | CV29: =AH29 -> 63.6336 | CW29: =AI29 -> 0.324 | CX29: =AJ29 -> 0 | CY29: =(((S29+R29)*AT29)/100) -> 203.1005 | CZ29: =(((S29+R29)*AU29)/100) -> 138.9635 | DD29: )*0 | DE29: )*1,35)*0,6 | DF29: )*1,35)*0,6 | DG29: )*1,35)*0,6 | DI29: )*1,35)*0,6 | DJ29: )*1,35)*0,6 | DN29: 0 | DO29: 0 | DP29: 1 | DQ29: 1 | DU29: 1013 | DV29: 100 ШТ | DW29: 100 ШТ | DX29: 1 | EE29: 64094909 | EF29: 3 | EG29: Монтажные работы | EH29: 0 | EJ29: 2 | EK29: 108001 | EL29: Электромонтажные работы , отдел 01-03 : ( на АЭС НР = 110% ) - (работы по упр. авиа.- движением: СП=55% ( {АВИА}=1; обычные работы : СП=65 - {AВИА}=0), при работе на АЭС СП= 68% ) | EM29: мФЕР-08 | EO29: Поправка: Мет.421/пр 04.08.20 Пр.10 Т.3 п. 1.2 Поправка: МР 519/пр Табл.3, п.2 | EQ29: 0 | ER29: 1335.94 | ES29: 520.4 | ET29: 36.22 | EU29: 5.02 | EV29: 779.32 | EW29: 78.56 | EX29: 0.4 | EY29: 0 | FQ29: 0 | FR29: =ROUND(IF(AND(BH29=3,BI29=3),P29,0),2) -> 0 | FS29: 0 | FX29: 95 | FY29: 65 | GD29: 1 | GF29: -531955822 | GG29: 2 | GH29: 1 | GI29: 2 | GJ29: 0 | GK29: 0 | GL29: =ROUND(IF(AND(BH29=3,BI29=3,FS29<>0),P29,0),2) -> 0 | GM29: =ROUND(O29+X29+Y29,2)+GX29 -> 557.48 | GN29: =IF(OR(BI29=0,BI29=1),ROUND(O29+X29+Y29,2),0) -> 0 | GO29: =IF(BI29=2,ROUND(O29+X29+Y29,2),0) -> 557.48 | GP29: =IF(BI29=4,ROUND(O29+X29+Y29,2)+GX29,0) -> 0 | GR29: 0 | GS29: 3 | GT29: 0 | GV29: =ROUND((GT29),2) -> 0 | GW29: 1 | GX29: =ROUND(HC29*I29,2) -> 0 | HA29: 0 | HB29: 0 | HC29: =GV29*GW29 -> 0 | IK29: 0
A30: 17 | B30: 1 | C30: =ROW(SmtRes!A15) -> 15 | D30: =ROW(EtalonRes!A15) -> 15 | E30: 2 | F30: м10-08-002-04 | G30: Демонтаж датчиков охранных с сохранением для последующего монтажа | H30: ШТ | I30: =ROUND(3,5) -> 3 | J30: 0 | O30: =ROUND(CP30,2) -> 660.21 | P30: =ROUND(CQ30*I30,2) -> 0 | Q30: =ROUND(CR30*I30,2) -> 0 | R30: =ROUND(CS30*I30,2) -> 0 | S30: =ROUND(CT30*I30,2) -> 660.21 | T30: =ROUND(CU30*I30,2) -> 0 | U30: =CV30*I30 -> 2.0412 | V30: =CW30*I30 -> 0 | W30: =ROUND(CX30*I30,2) -> 0 | X30: =ROUND(CY30,2) -> 528.17 | Y30: =ROUND(CZ30,2) -> 396.13 | AA30: 68990560 | AB30: =ROUND((AC30+AD30+AF30),2) -> 6.54 | AC30: =ROUND(((ES30*0)),2) -> 0 | AD30: =ROUND((((((ET30*1.35)*0.6))-(((EU30*1.35)*0.6)))+AE30),2) -> 0 | AE30: =ROUND((((EU30*1.35)*0.6)),2) -> 0 | AF30: =ROUND((((EV30*1.35)*0.6)),2) -> 6.54 | AG30: =ROUND((AP30),2) -> 0 | AH30: =(((EW30*1.35)*0.6)) -> 0.6804 | AI30: =(((EX30*1.35)*0.6)) -> 0 | AJ30: =(AS30) -> 0 | AK30: 9.96 | AL30: 1.88 | AM30: 0 | AN30: 0 | AO30: 8.08 | AP30: 0 | AQ30: 0.84 | AR30: 0 | AS30: 0 | AT30: 80 | AU30: 60 | AV30: 1 | AW30: 1 | AZ30: 1 | BA30: 33.65 | BB30: 1 | BC30: 8.51 | BH30: 0 | BI30: 2 | BJ30: ФЕРм-2001, м10-08-002-04, приказ Минстроя России № 876/пр от 26.12.2019 | BM30: 110011 | BN30: 0 | BO30: м10-08-002-04 | BP30: 1 | BQ30: 3 | BR30: 0 | BS30: 33.65 | BT30: 1 | BU30: 1 | BV30: 1 | BW30: 1 | BX30: 1 | BZ30: 80 | CA30: 60 | CE30: 0 | CF30: 0 | CG30: 0 | CM30: 0 | CN30: Поправка: Мет.421/пр 04.08.20 Пр.10 Т.3 п. 1.2 Наименование: Производство ремонтно-строительных работ осуществляется в помещениях эксплуатируемого объекта капитального строительства без остановки рабочего процесса, при этом: в зоне производства ремонтно-строительных работ имеются действующее технологическое или лабораторное оборудование, мебель и иные загромождающие помещения предметы Поправка: МР 519/пр Табл.3, п.2 Наименование: Демонтаж: Оборудование, пригодное для дальнейшего использования, со снятием с места установки, необходимой (частичной) разборкой без надобности хранения (перемещается на другое место установки и т.п.) | CO30: 0 | CP30: =(P30+Q30+S30) -> 660.21 | CQ30: =AC30*BC30 -> 0 | CR30: =AD30*BB30 -> 0 | CS30: =AE30*BS30 -> 0 | CT30: =AF30*BA30 -> 220.071 | CU30: =AG30 -> 0 | CV30: =AH30 -> 0.6804 | CW30: =AI30 -> 0 | CX30: =AJ30 -> 0 | CY30: =(((S30+R30)*AT30)/100) -> 528.168 | CZ30: =(((S30+R30)*AU30)/100) -> 396.126 | DD30: )*0 | DE30: )*1,35)*0,6 | DF30: )*1,35)*0,6 | DG30: )*1,35)*0,6 | DI30: )*1,35)*0,6 | DJ30: )*1,35)*0,6 | DN30: 0 | DO30: 0 | DP30: 1 | DQ30: 1 | DU30: 1013 | DV30: ШТ | DW30: ШТ | DX30: 1 | EE30: 64094956 | EF30: 3 | EG30: Монтажные работы | EH30: 0 | EJ30: 2 | EK30: 110011 | EL30: Связь: пожарно-охранная сигнализация и пром. телевиз. установки ( отделы 8 и 9 ) (при устройстве средств посадки самолетов : НР=95%, СП=55% - {АВИА}=1) | EM30: мФЕР-10 | EO30: Поправка: Мет.421/пр 04.08.20 Пр.10 Т.3 п. 1.2 Поправка: МР 519/пр Табл.3, п.2 | EQ30: 0 | ER30: 9.96 | ES30: 1.88 | ET30: 0 | EU30: 0 | EV30: 8.08 | EW30: 0.84 | EX30: 0 | EY30: 0 | FQ30: 0 | FR30: =ROUND(IF(AND(BH30=3,BI30=3),P30,0),2) -> 0 | FS30: 0 | FX30: 80 | FY30: 60 | GD30: 1 | GF30: 317115444 | GG30: 2 | GH30: 1 | GI30: 2 | GJ30: 0 | GK30: 0 | GL30: =ROUND(IF(AND(BH30=3,BI30=3,FS30<>0),P30,0),2) -> 0 | GM30: =ROUND(O30+X30+Y30,2)+GX30 -> 1584.51 | GN30: =IF(OR(BI30=0,BI30=1),ROUND(O30+X30+Y30,2),0) -> 0 | GO30: =IF(BI30=2,ROUND(O30+X30+Y30,2),0) -> 1584.51 | GP30: =IF(BI30=4,ROUND(O30+X30+Y30,2)+GX30,0) -> 0 | GR30: 0 | GS30: 3 | GT30: 0 | GV30: =ROUND((GT30),2) -> 0 | GW30: 1 | GX30: =ROUND(HC30*I30,2) -> 0 | HA30: 0 | HB30: 0 | HC30: =GV30*GW30 -> 0 | IK30: 0
A31: 17 | B31: 1 | C31: =ROW(SmtRes!A18) -> 18 | D31: =ROW(EtalonRes!A18) -> 18 | E31: 3 | F31: 65-30-3 | G31: Разборка воздуховодов из листовой стали толщиной: до 0,9 мм диаметром/периметром до 495 мм /1550 мм | H31: 100 м2 | I31: =ROUND(2/100,5) -> 0.02 | J31: 0 | O31: =ROUND(CP31,2) -> 159.87 | P31: =ROUND(CQ31*I31,2) -> 0 | Q31: =ROUND(CR31*I31,2) -> 8.03 | R31: =ROUND(CS31*I31,2) -> 7.84 | S31: =ROUND(CT31*I31,2) -> 151.84 | T31: =ROUND(CU31*I31,2) -> 0 | U31: =CV31*I31 -> 0.529 | V31: =CW31*I31 -> 0.01725 | W31: =ROUND(CX31*I31,2) -> 0 | X31: =ROUND(CY31,2) -> 118.16 | Y31: =ROUND(CZ31,2) -> 79.84 | AA31: 68990560 | AB31: =ROUND((AC31+AD31+AF31),2) -> 252.59 | AC31: =ROUND((ES31),2) -> 0 | AD31: =ROUND(((((ET31*1.15))-((EU31*1.15)))+AE31),2) -> 26.97 | AE31: =ROUND(((EU31*1.15)),2) -> 11.65 | AF31: =ROUND(((EV31*1.15)),2) -> 225.62 | AG31: =ROUND((AP31),2) -> 0 | AH31: =((EW31*1.15)) -> 26.45 | AI31: =((EX31*1.15)) -> 0.8625 | AJ31: =(AS31) -> 0 | AK31: 219.64 | AL31: 0 | AM31: 23.45 | AN31: 10.13 | AO31: 196.19 | AP31: 0 | AQ31: 23 | AR31: 0.75 | AS31: 0 | AT31: 74 | AU31: 50 | AV31: 1 | AW31: 1 | AZ31: 1 | BA31: 33.65 | BB31: 14.88 | BC31: 1 | BH31: 0 | BI31: 1 | BJ31: ФЕРр-2001, 65-30-3, приказ Минстроя России № 876/пр от 26.12.2019 | BM31: 65005 | BN31: 0 | BO31: 65-30-3 | BP31: 1 | BQ31: 6 | BR31: 0 | BS31: 33.65 | BT31: 1 | BU31: 1 | BV31: 1 | BW31: 1 | BX31: 1 | BZ31: 74 | CA31: 50 | CE31: 0 | CF31: 0 | CG31: 0 | CM31: 0 | CN31: Поправка: Мет.421/пр 04.08.20 Пр.10 Т.3 п. 1.2 Наименование: Производство ремонтно-строительных работ осуществляется в помещениях эксплуатируемого объекта капитального строительства без остановки рабочего процесса, при этом: в зоне производства ремонтно-строительных работ имеются действующее технологическое или лабораторное оборудование, мебель и иные загромождающие помещения предметы | CO31: 0 | CP31: =(P31+Q31+S31) -> 159.87 | CQ31: =AC31*BC31 -> 0 | CR31: =AD31*BB31 -> 401.3136 | CS31: =AE31*BS31 -> 392.0225 | CT31: =AF31*BA31 -> 7592.113 | CU31: =AG31 -> 0 | CV31: =AH31 -> 26.45 | CW31: =AI31 -> 0.8625 | CX31: =AJ31 -> 0 | CY31: =(((S31+R31)*AT31)/100) -> 118.1632 | CZ31: =(((S31+R31)*AU31)/100) -> 79.84 | DE31: )*1,15 | DF31: )*1,15 | DG31: )*1,15 | DI31: )*1,15 | DJ31: )*1,15 | DN31: 0 | DO31: 0 | DP31: 1 | DQ31: 1 | DU31: 1005 | DV31: 100 м2 | DW31: 100 м2 | DX31: 100 | EE31: 64095123 | EF31: 6 | EG31: Ремонтно-строительные работы | EH31: 0 | EJ31: 1 | EK31: 65005 | EL31: Внтуренниие с/техработы: демонтаж, разборка, промывка | EM31: рФЕР-65 | EO31: Поправка: Мет.421/пр 04.08.20 Пр.10 Т.3 п. 1.2 | EQ31: 0 | ER31: 219.64 | ES31: 0 | ET31: 23.45 | EU31: 10.13 | EV31: 196.19 | EW31: 23 | EX31: 0.75 | EY31: 0 | FQ31: 0 | FR31: =ROUND(IF(AND(BH31=3,BI31=3),P31,0),2) -> 0 | FS31: 0 | FX31: 74 | FY31: 50 | GD31: 1 | GF31: 1075230502 | GG31: 2 | GH31: 1 | GI31: 2 | GJ31: 0 | GK31: 0 | GL31: =ROUND(IF(AND(BH31=3,BI31=3,FS31<>0),P31,0),2) -> 0 | GM31: =ROUND(O31+X31+Y31,2)+GX31 -> 357.87 | GN31: =IF(OR(BI31=0,BI31=1),ROUND(O31+X31+Y31,2),0) -> 357.87 | GO31: =IF(BI31=2,ROUND(O31+X31+Y31,2),0) -> 0 | GP31: =IF(BI31=4,ROUND(O31+X31+Y31,2)+GX31,0) -> 0 | GR31: 0 | GS31: 3 | GT31: 0 | GV31: =ROUND((GT31),2) -> 0 | GW31: 1 | GX31: =ROUND(HC31*I31,2) -> 0 | HA31: 0 | HB31: 0 | HC31: =GV31*GW31 -> 0 | IK31: 0
A32: 17 | B32: 1 | C32: =ROW(SmtRes!A25) -> 25 | D32: =ROW(EtalonRes!A27) -> 27 | E32: 4 | F32: 09-04-012-01 | G32: Демонтаж входной группы металлической | H32: м2 | I32: =ROUND(4.2,5) -> 4.2 | J32: 0 | O32: =ROUND(CP32,2) -> 3767.42 | P32: =ROUND(CQ32*I32,2) -> 0 | Q32: =ROUND(CR32*I32,2) -> 587.49 | R32: =ROUND(CS32*I32,2) -> 262.87 | S32: =ROUND(CT32*I32,2) -> 3179.93 | T32: =ROUND(CU32*I32,2) -> 0 | U32: =CV32*I32 -> 9.5256 | V32: =CW32*I32 -> 0.67473 | W32: =ROUND(CX32*I32,2) -> 0 | X32: =ROUND(CY32,2) -> 2788.67 | Y32: =ROUND(CZ32,2) -> 2478.82 | AA32: 68990560 | AB32: =ROUND((AC32+AD32+AF32),2) -> 36.12 | AC32: =ROUND(((ES32*0)),2) -> 0 | AD32: =ROUND((((((ET32*1.35)*0.7))-(((EU32*1.35)*0.7)))+AE32),2) -> 13.62 | AE32: =ROUND((((EU32*1.35)*0.7)),2) -> 1.86 | AF32: =ROUND((((EV32*1.35)*0.7)),2) -> 22.5 | AG32: =ROUND((AP32),2) -> 0 | AH32: =(((EW32*1.35)*0.7)) -> 2.268 | AI32: =(((EX32*1.35)*0.7)) -> 0.16065 | AJ32: =(AS32) -> 0 | AK32: 63.94 | AL32: 25.72 | AM32: 14.41 | AN32: 1.97 | AO32: 23.81 | AP32: 0 | AQ32: 2.4 | AR32: 0.17 | AS32: 0 | AT32: 81 | AU32: 72 | AV32: 1 | AW32: 1 | AZ32: 1 | BA32: 33.65 | BB32: 10.27 | BC32: 6.78 | BH32: 0 | BI32: 1 | BJ32: ФЕР-2001, 09-04-012-01, приказ Минстроя России № 876/пр от 26.12.2019 | BM32: 9001 | BN32: 0 | BO32: 09-04-012-01 | BP32: 1 | BQ32: 2 | BR32: 0 | BS32: 33.65 | BT32: 1 | BU32: 1 | BV32: 1 | BW32: 1 | BX32: 1 | BZ32: 90 | CA32: 85 | CE32: 0 | CF32: 0 | CG32: 0 | CM32: 0 | CN32: Поправка: Мет.421/пр 04.08.20 Пр.10 Т.3 п. 1.2 Наименование: Производство ремонтно-строительных работ осуществляется в помещениях эксплуатируемого объекта капитального строительства без остановки рабочего процесса, при этом: в зоне производства ремонтно-строительных работ имеются действующее технологическое или лабораторное оборудование, мебель и иные загромождающие помещения предметы Поправка: Прил. 9.3, п.5 Наименование: Разборка (демонтаж) металлических конструкций | CO32: 0 | CP32: =(P32+Q32+S32) -> 3767.42 | CQ32: =AC32*BC32 -> 0 | CR32: =AD32*BB32 -> 139.8774 | CS32: =AE32*BS32 -> 62.589 | CT32: =AF32*BA32 -> 757.125 | CU32: =AG32 -> 0 | CV32: =AH32 -> 2.268 | CW32: =AI32 -> 0.16065 | CX32: =AJ32 -> 0 | CY32: =(((S32+R32)*AT32)/100) -> 2788.668 | CZ32: =(((S32+R32)*AU32)/100) -> 2478.816 | DD32: )*0 | DE32: )*1,35)*0,7 | DF32: )*1,35)*0,7 | DG32: )*1,35)*0,7 | DI32: )*1,35)*0,7 | DJ32: )*1,35)*0,7 | DN32: 0 | DO32: 0 | DP32: 1 | DQ32: 1 | DU32: 1005 | DV32: м2 | DW32: м2 | DX32: 1 | EE32: 64095025 | EF32: 2 | EG32: Общестроительные работы | EH32: 0 | EJ32: 1 | EK32: 9001 | EL32: Металлические конструкции | EM32: ФЕР-09 | EO32: Поправка: Мет.421/пр 04.08.20 Пр.10 Т.3 п. 1.2 Поправка: Прил. 9.3, п.5 | EQ32: 0 | ER32: 63.94 | ES32: 25.72 | ET32: 14.41 | EU32: 1.97 | EV32: 23.81 | EW32: 2.4 | EX32: 0.17 | EY32: 0 | FQ32: 0 | FR32: =ROUND(IF(AND(BH32=3,BI32=3),P32,0),2) -> 0 | FS32: 0 | FT32: *0,9 | FU32: *0,85 | FX32: 81 | FY32: 72.25 | GD32: 1 | GF32: 134378973 | GG32: 2 | GH32: 1 | GI32: 2 | GJ32: 0 | GK32: 0 | GL32: =ROUND(IF(AND(BH32=3,BI32=3,FS32<>0),P32,0),2) -> 0 | GM32: =ROUND(O32+X32+Y32,2)+GX32 -> 9034.91 | GN32: =IF(OR(BI32=0,BI32=1),ROUND(O32+X32+Y32,2),0) -> 9034.91 | GO32: =IF(BI32=2,ROUND(O32+X32+Y32,2),0) -> 0 | GP32: =IF(BI32=4,ROUND(O32+X32+Y32,2)+GX32,0) -> 0 | GR32: 0 | GS32: 3 | GT32: 0 | GV32: =ROUND((GT32),2) -> 0 | GW32: 1 | GX32: =ROUND(HC32*I32,2) -> 0 | HA32: 0 | HB32: 0 | HC32: =GV32*GW32 -> 0 | IK32: 0
A33: 17 | B33: 1 | C33: =ROW(SmtRes!A31) -> 31 | D33: =ROW(EtalonRes!A34) -> 34 | E33: 5 | F33: 09-03-046-03 | G33: Демонтаж металлического тамбура с остеклением | H33: 100 м2 | I33: =ROUND(8.44/100,5) -> 0.0844 | J33: 0 | O33: =ROUND(CP33,2) -> 1216.66 | P33: =ROUND(CQ33*I33,2) -> 0 | Q33: =ROUND(CR33*I33,2) -> 38.97 | R33: =ROUND(CS33*I33,2) -> 17.47 | S33: =ROUND(CT33*I33,2) -> 1177.69 | T33: =ROUND(CU33*I33,2) -> 0 | U33: =CV33*I33 -> 3.8124324 | V33: =CW33*I33 -> 0.04067658 | W33: =ROUND(CX33*I33,2) -> 0 | X33: =ROUND(CY33,2) -> 968.08 | Y33: =ROUND(CZ33,2) -> 860.52 | AA33: 68990560 | AB33: =ROUND((AC33+AD33+AF33),2) -> 460.89 | AC33: =ROUND(((ES33*0)),2) -> 0 | AD33: =ROUND((((((ET33*1.35)*0.7))-(((EU33*1.35)*0.7)))+AE33),2) -> 46.22 | AE33: =ROUND((((EU33*1.35)*0.7)),2) -> 6.15 | AF33: =ROUND((((EV33*1.35)*0.7)),2) -> 414.67 | AG33: =ROUND((AP33),2) -> 0 | AH33: =(((EW33*1.35)*0.7)) -> 45.171 | AI33: =(((EX33*1.35)*0.7)) -> 0.48195 | AJ33: =(AS33) -> 0 | AK33: 775.46 | AL33: 287.75 | AM33: 48.91 | AN33: 6.51 | AO33: 438.8 | AP33: 0 | AQ33: 47.8 | AR33: 0.51 | AS33: 0 | AT33: 81 | AU33: 72 | AV33: 1 | AW33: 1 | AZ33: 1 | BA33: 33.65 | BB33: 9.99 | BC33: 5.4 | BH33: 0 | BI33: 1 | BJ33: ФЕР-2001, 09-03-046-03, приказ Минстроя России № 876/пр от 26.12.2019 | BM33: 9001 | BN33: 0 | BO33: 09-03-046-03 | BP33: 1 | BQ33: 2 | BR33: 0 | BS33: 33.65 | BT33: 1 | BU33: 1 | BV33: 1 | BW33: 1 | BX33: 1 | BZ33: 90 | CA33: 85 | CE33: 0 | CF33: 0 | CG33: 0 | CM33: 0 | CN33: Поправка: Мет.421/пр 04.08.20 Пр.10 Т.3 п. 1.2 Наименование: Производство ремонтно-строительных работ осуществляется в помещениях эксплуатируемого объекта капитального строительства без остановки рабочего процесса, при этом: в зоне производства ремонтно-строительных работ имеются действующее технологическое или лабораторное оборудование, мебель и иные загромождающие помещения предметы Поправка: Прил. 9.3, п.5 Наименование: Разборка (демонтаж) металлических конструкций | CO33: 0 | CP33: =(P33+Q33+S33) -> 1216.66 | CQ33: =AC33*BC33 -> 0 | CR33: =AD33*BB33 -> 461.7378 | CS33: =AE33*BS33 -> 206.9475 | CT33: =AF33*BA33 -> 13953.646 | CU33: =AG33 -> 0 | CV33: =AH33 -> 45.171 | CW33: =AI33 -> 0.48195 | CX33: =AJ33 -> 0 | CY33: =(((S33+R33)*AT33)/100) -> 968.0796 | CZ33: =(((S33+R33)*AU33)/100) -> 860.5152 | DD33: )*0 | DE33: )*1,35)*0,7 | DF33: )*1,35)*0,7 | DG33: )*1,35)*0,7 | DI33: )*1,35)*0,7 | DJ33: )*1,35)*0,7 | DN33: 0 | DO33: 0 | DP33: 1 | DQ33: 1 | DU33: 1005 | DV33: 100 м2 | DW33: 100 м2 | DX33: 100 | EE33: 64095025 | EF33: 2 | EG33: Общестроительные работы | EH33: 0 | EJ33: 1 | EK33: 9001 | EL33: Металлические конструкции | EM33: ФЕР-09 | EO33: Поправка: Мет.421/пр 04.08.20 Пр.10 Т.3 п. 1.2 Поправка: Прил. 9.3, п.5 | EQ33: 0 | ER33: 775.46 | ES33: 287.75 | ET33: 48.91 | EU33: 6.51 | EV33: 438.8 | EW33: 47.8 | EX33: 0.51 | EY33: 0 | FQ33: 0 | FR33: =ROUND(IF(AND(BH33=3,BI33=3),P33,0),2) -> 0 | FS33: 0 | FT33: *0,9 | FU33: *0,85 | FX33: 81 | FY33: 72.25 | GD33: 1 | GF33: 582212966 | GG33: 2 | GH33: 1 | GI33: 2 | GJ33: 0 | GK33: 0 | GL33: =ROUND(IF(AND(BH33=3,BI33=3,FS33<>0),P33,0),2) -> 0 | GM33: =ROUND(O33+X33+Y33,2)+GX33 -> 3045.26 | GN33: =IF(OR(BI33=0,BI33=1),ROUND(O33+X33+Y33,2),0) -> 3045.26 | GO33: =IF(BI33=2,ROUND(O33+X33+Y33,2),0) -> 0 | GP33: =IF(BI33=4,ROUND(O33+X33+Y33,2)+GX33,0) -> 0 | GR33: 0 | GS33: 3 | GT33: 0 | GV33: =ROUND((GT33),2) -> 0 | GW33: 1 | GX33: =ROUND(HC33*I33,2) -> 0 | HA33: 0 | HB33: 0 | HC33: =GV33*GW33 -> 0 | IK33: 0
A34: 17 | B34: 1 | C34: =ROW(SmtRes!A34) -> 34 | D34: =ROW(EtalonRes!A37) -> 37 | E34: 6 | F34: 46-04-012-03 | G34: Разборка деревянных заполнений проемов: дверных и воротных | H34: 100 м2 | I34: =ROUND(4.4/100,5) -> 0.044 | J34: 0 | O34: =ROUND(CP34,2) -> 1437.73 | P34: =ROUND(CQ34*I34,2) -> 0 | Q34: =ROUND(CR34*I34,2) -> 182.17 | R34: =ROUND(CS34*I34,2) -> 177.91 | S34: =ROUND(CT34*I34,2) -> 1255.56 | T34: =ROUND(CU34*I34,2) -> 0 | U34: =CV34*I34 -> 4.61219 | V34: =CW34*I34 -> 0.391644 | W34: =ROUND(CX34*I34,2) -> 0 | X34: =ROUND(CY34,2) -> 1419.14 | Y34: =ROUND(CZ34,2) -> 860.08 | AA34: 68990560 | AB34: =ROUND((AC34+AD34+AF34),2) -> 1126.25 | AC34: =ROUND((ES34),2) -> 0 | AD34: =ROUND(((((ET34*1.15))-((EU34*1.15)))+AE34),2) -> 278.24 | AE34: =ROUND(((EU34*1.15)),2) -> 120.16 | AF34: =ROUND(((EV34*1.15)),2) -> 848.01 | AG34: =ROUND((AP34),2) -> 0 | AH34: =((EW34*1.15)) -> 104.8225 | AI34: =((EX34*1.15)) -> 8.901 | AJ34: =(AS34) -> 0 | AK34: 979.35 | AL34: 0 | AM34: 241.95 | AN34: 104.49 | AO34: 737.4 | AP34: 0 | AQ34: 91.15 | AR34: 7.74 | AS34: 0 | AT34: 99 | AU34: 60 | AV34: 1 | AW34: 1 | AZ34: 1 | BA34: 33.65 | BB34: 14.88 | BC34: 1 | BH34: 0 | BI34: 1 | BJ34: ФЕР-2001, 46-04-012-03, приказ Минстроя России № 876/пр от 26.12.2019 | BM34: 46001 | BN34: 0 | BO34: 46-04-012-03 | BP34: 1 | BQ34: 2 | BR34: 0 | BS34: 33.65 | BT34: 1 | BU34: 1 | BV34: 1 | BW34: 1 | BX34: 1 | BZ34: 110 | CA34: 70 | CE34: 0 | CF34: 0 | CG34: 0 | CM34: 0 | CN34: Поправка: Мет.421/пр 04.08.20 Пр.10 Т.3 п. 1.2 Наименование: Производство ремонтно-строительных работ осуществляется в помещениях эксплуатируемого объекта капитального строительства без остановки рабочего процесса, при этом: в зоне производства ремонтно-строительных работ имеются действующее технологическое или лабораторное оборудование, мебель и иные загромождающие помещения предметы | CO34: 0 | CP34: =(P34+Q34+S34) -> 1437.73 | CQ34: =AC34*BC34 -> 0 | CR34: =AD34*BB34 -> 4140.2112 | CS34: =AE34*BS34 -> 4043.384 | CT34: =AF34*BA34 -> 28535.536 | CU34: =AG34 -> 0 | CV34: =AH34 -> 104.8225 | CW34: =AI34 -> 8.901 | CX34: =AJ34 -> 0 | CY34: =(((S34+R34)*AT34)/100) -> 1419.1353 | CZ34: =(((S34+R34)*AU34)/100) -> 860.082 | DE34: )*1,15 | DF34: )*1,15 | DG34: )*1,15 | DI34: )*1,15 | DJ34: )*1,15 | DN34: 0 | DO34: 0 | DP34: 1 | DQ34: 1 | DU34: 1005 | DV34: 100 м2 | DW34: 100 м2 | DX34: 100 | EE34: 64095094 | EF34: 2 | EG34: Общестроительные работы | EH34: 0 | EJ34: 1 | EK34: 46001 | EL34: Реконструкция зданий и сооружений | EM34: ФЕР-46 | EO34: Поправка: Мет.421/пр 04.08.20 Пр.10 Т.3 п. 1.2 | EQ34: 0 | ER34: 979.35 | ES34: 0 | ET34: 241.95 | EU34: 104.49 | EV34: 737.4 | EW34: 91.15 | EX34: 7.74 | EY34: 0 | FQ34: 0 | FR34: =ROUND(IF(AND(BH34=3,BI34=3),P34,0),2) -> 0 | FS34: 0 | FT34: *0,9 | FU34: *0,85 | FX34: 99 | FY34: 59.5 | GD34: 1 | GF34: 299657773 | GG34: 2 | GH34: 1 | GI34: 2 | GJ34: 0 | GK34: 0 | GL34: =ROUND(IF(AND(BH34=3,BI34=3,FS34<>0),P34,0),2) -> 0 | GM34: =ROUND(O34+X34+Y34,2)+GX34 -> 3716.95 | GN34: =IF(OR(BI34=0,BI34=1),ROUND(O34+X34+Y34,2),0) -> 3716.95 | GO34: =IF(BI34=2,ROUND(O34+X34+Y34,2),0) -> 0 | GP34: =IF(BI34=4,ROUND(O34+X34+Y34,2)+GX34,0) -> 0 | GR34: 0 | GS34: 3 | GT34: 0 | GV34: =ROUND((GT34),2) -> 0 | GW34: 1 | GX34: =ROUND(HC34*I34,2) -> 0 | HA34: 0 | HB34: 0 | HC34: =GV34*GW34 -> 0 | IK34: 0
A35: 17 | B35: 1 | C35: =ROW(SmtRes!A38) -> 38 | D35: =ROW(EtalonRes!A41) -> 41 | E35: 7 | F35: 46-04-011-02 | G35: Демонтаж плитки бетонной напольной (в тамбуре) | H35: 100 м2 | I35: =ROUND(3.2/100,5) -> 0.032 | J35: 0 | O35: =ROUND(CP35,2) -> 354.6 | P35: =ROUND(CQ35*I35,2) -> 0 | Q35: =ROUND(CR35*I35,2) -> 2.49 | R35: =ROUND(CS35*I35,2) -> 0 | S35: =ROUND(CT35*I35,2) -> 352.11 | T35: =ROUND(CU35*I35,2) -> 0 | U35: =CV35*I35 -> 1.16656 | V35: =CW35*I35 -> 0 | W35: =ROUND(CX35*I35,2) -> 0 | X35: =ROUND(CY35,2) -> 348.59 | Y35: =ROUND(CZ35,2) -> 211.27 | AA35: 68990560 | AB35: =ROUND((AC35+AD35+AF35),2) -> 354.44 | AC35: =ROUND((ES35),2) -> 0 | AD35: =ROUND(((((ET35*1.15))-((EU35*1.15)))+AE35),2) -> 27.44 | AE35: =ROUND(((EU35*1.15)),2) -> 0 | AF35: =ROUND(((EV35*1.15)),2) -> 327 | AG35: =ROUND((AP35),2) -> 0 | AH35: =((EW35*1.15)) -> 36.455 | AI35: =((EX35*1.15)) -> 0 | AJ35: =(AS35) -> 0 | AK35: 308.21 | AL35: 0 | AM35: 23.86 | AN35: 0 | AO35: 284.35 | AP35: 0 | AQ35: 31.7 | AR35: 0 | AS35: 0 | AT35: 99 | AU35: 60 | AV35: 1 | AW35: 1 | AZ35: 1 | BA35: 33.65 | BB35: 2.84 | BC35: 1 | BH35: 0 | BI35: 1 | BJ35: ФЕР-2001, 46-04-011-02, приказ Минстроя России № 876/пр от 26.12.2019 | BM35: 46001 | BN35: 0 | BO35: 46-04-011-02 | BP35: 1 | BQ35: 2 | BR35: 0 | BS35: 33.65 | BT35: 1 | BU35: 1 | BV35: 1 | BW35: 1 | BX35: 1 | BZ35: 110 | CA35: 70 | CE35: 0 | CF35: 0 | CG35: 0 | CM35: 0 | CN35: Поправка: Мет.421/пр 04.08.20 Пр.10 Т.3 п. 1.2 Наименование: Производство ремонтно-строительных работ осуществляется в помещениях эксплуатируемого объекта капитального строительства без остановки рабочего процесса, при этом: в зоне производства ремонтно-строительных работ имеются действующее технологическое или лабораторное оборудование, мебель и иные загромождающие помещения предметы | CO35: 0 | CP35: =(P35+Q35+S35) -> 354.6 | CQ35: =AC35*BC35 -> 0 | CR35: =AD35*BB35 -> 77.9296 | CS35: =AE35*BS35 -> 0 | CT35: =AF35*BA35 -> 11003.55 | CU35: =AG35 -> 0 | CV35: =AH35 -> 36.455 | CW35: =AI35 -> 0 | CX35: =AJ35 -> 0 | CY35: =(((S35+R35)*AT35)/100) -> 348.5889 | CZ35: =(((S35+R35)*AU35)/100) -> 211.266 | DE35: )*1,15 | DF35: )*1,15 | DG35: )*1,15 | DI35: )*1,15 | DJ35: )*1,15 | DN35: 0 | DO35: 0 | DP35: 1 | DQ35: 1 | DU35: 1005 | DV35: 100 м2 | DW35: 100 м2 | DX35: 100 | EE35: 64095094 | EF35: 2 | EG35: Общестроительные работы | EH35: 0 | EJ35: 1 | EK35: 46001 | EL35: Реконструкция зданий и сооружений | EM35: ФЕР-46 | EO35: Поправка: Мет.421/пр 04.08.20 Пр.10 Т.3 п. 1.2 | EQ35: 0 | ER35: 308.21 | ES35: 0 | ET35: 23.86 | EU35: 0 | EV35: 284.35 | EW35: 31.7 | EX35: 0 | EY35: 0 | FQ35: 0 | FR35: =ROUND(IF(AND(BH35=3,BI35=3),P35,0),2) -> 0 | FS35: 0 | FT35: *0,9 | FU35: *0,85 | FX35: 99 | FY35: 59.5 | GD35: 1 | GF35: 248325997 | GG35: 2 | GH35: 1 | GI35: 2 | GJ35: 0 | GK35: 0 | GL35: =ROUND(IF(AND(BH35=3,BI35=3,FS35<>0),P35,0),2) -> 0 | GM35: =ROUND(O35+X35+Y35,2)+GX35 -> 914.46 | GN35: =IF(OR(BI35=0,BI35=1),ROUND(O35+X35+Y35,2),0) -> 914.46 | GO35: =IF(BI35=2,ROUND(O35+X35+Y35,2),0) -> 0 | GP35: =IF(BI35=4,ROUND(O35+X35+Y35,2)+GX35,0) -> 0 | GR35: 0 | GS35: 3 | GT35: 0 | GV35: =ROUND((GT35),2) -> 0 | GW35: 1 | GX35: =ROUND(HC35*I35,2) -> 0 | HA35: 0 | HB35: 0 | HC35: =GV35*GW35 -> 0 | IK35: 0
A36: 18 | B36: 1 | C36: 38 | E36: 7,1 | F36: 999-9900 | G36: Строительный мусор | H36: т | I36: =I35*J36 -> 0.04544 | J36: 1.42 | O36: =ROUND(CP36,2) -> 0 | P36: =ROUND(CQ36*I36,2) -> 0 | Q36: =ROUND(CR36*I36,2) -> 0 | R36: =ROUND(CS36*I36,2) -> 0 | S36: =ROUND(CT36*I36,2) -> 0 | T36: =ROUND(CU36*I36,2) -> 0 | U36: =CV36*I36 -> 0 | V36: =CW36*I36 -> 0 | W36: =ROUND(CX36*I36,2) -> 0 | X36: =ROUND(CY36,2) -> 0 | Y36: =ROUND(CZ36,2) -> 0 | AA36: 68990560 | AB36: =ROUND((AC36+AD36+AF36),2) -> 0 | AC36: =ROUND((ES36),2) -> 0 | AD36: =ROUND((((ET36)-(EU36))+AE36),2) -> 0 | AE36: =ROUND((EU36),2) -> 0 | AF36: =ROUND((EV36),2) -> 0 | AG36: =ROUND((AP36),2) -> 0 | AH36: =(EW36) -> 0 | AI36: =(EX36) -> 0 | AJ36: =(AS36) -> 0 | AK36: 0 | AL36: 0 | AM36: 0 | AN36: 0 | AO36: 0 | AP36: 0 | AQ36: 0 | AR36: 0 | AS36: 0 | AT36: 99 | AU36: 60 | AV36: 1 | AW36: 1 | AZ36: 1 | BA36: 1 | BB36: 1 | BC36: 1 | BH36: 3 | BI36: 1 | BM36: 46001 | BN36: 0 | BP36: 0 | BQ36: 2 | BR36: 0 | BS36: 1 | BT36: 1 | BU36: 1 | BV36: 1 | BW36: 1 | BX36: 1 | BZ36: 110 | CA36: 70 | CE36: 0 | CF36: 0 | CG36: 0 | CM36: 0 | CO36: 0 | CP36: =(P36+Q36+S36) -> 0 | CQ36: =AC36*BC36 -> 0 | CR36: =AD36*BB36 -> 0 | CS36: =AE36*BS36 -> 0 | CT36: =AF36*BA36 -> 0 | CU36: =AG36 -> 0 | CV36: =AH36 -> 0 | CW36: =AI36 -> 0 | CX36: =AJ36 -> 0 | CY36: =(((S36+R36)*AT36)/100) -> 0 | CZ36: =(((S36+R36)*AU36)/100) -> 0 | DN36: 0 | DO36: 0 | DP36: 1 | DQ36: 1 | DU36: 1009 | DV36: т | DW36: т | DX36: 1000 | EE36: 64095094 | EF36: 2 | EG36: Общестроительные работы | EH36: 0 | EJ36: 1 | EK36: 46001 | EL36: Реконструкция зданий и сооружений | EM36: ФЕР-46 | EQ36: 0 | ER36: 0 | ES36: 0 | ET36: 0 | EU36: 0 | EV36: 0 | EW36: 0 | EX36: 0 | FQ36: 0 | FR36: =ROUND(IF(AND(BH36=3,BI36=3),P36,0),2) -> 0 | FS36: 0 | FT36: *0,9 | FU36: *0,85 | FX36: 99 | FY36: 59.5 | GD36: 1 | GF36: 2102561428 | GG36: 2 | GH36: 1 | GI36: -2 | GJ36: 0 | GK36: 0 | GL36: =ROUND(IF(AND(BH36=3,BI36=3,FS36<>0),P36,0),2) -> 0 | GM36: =ROUND(O36+X36+Y36,2)+GX36 -> 0 | GN36: =IF(OR(BI36=0,BI36=1),ROUND(O36+X36+Y36,2),0) -> 0 | GO36: =IF(BI36=2,ROUND(O36+X36+Y36,2),0) -> 0 | GP36: =IF(BI36=4,ROUND(O36+X36+Y36,2)+GX36,0) -> 0 | GR36: 0 | GS36: 3 | GT36: 0 | GV36: =ROUND((GT36),2) -> 0 | GW36: 1 | GX36: =ROUND(HC36*I36,2) -> 0 | HA36: 0 | HB36: 0 | HC36: =GV36*GW36 -> 0 | IK36: 0
A37: 17 | B37: 1 | C37: =ROW(SmtRes!A41) -> 41 | D37: =ROW(EtalonRes!A45) -> 45 | E37: 8 | F37: 54-3-2 | G37: Демонтаж потолка из а/ц листов | H37: 100 м2 | I37: =ROUND(3.2/100,5) -> 0.032 | J37: 0 | O37: =ROUND(CP37,2) -> 144.39 | P37: =ROUND(CQ37*I37,2) -> 0 | Q37: =ROUND(CR37*I37,2) -> 1.54 | R37: =ROUND(CS37*I37,2) -> 1.51 | S37: =ROUND(CT37*I37,2) -> 142.85 | T37: =ROUND(CU37*I37,2) -> 0 | U37: =CV37*I37 -> 0.544272 | V37: =CW37*I37 -> 0.003312 | W37: =ROUND(CX37*I37,2) -> 0 | X37: =ROUND(CY37,2) -> 122.71 | Y37: =ROUND(CZ37,2) -> 115.49 | AA37: 68990560 | AB37: =ROUND((AC37+AD37+AF37),2) -> 135.89 | AC37: =ROUND((ES37),2) -> 0 | AD37: =ROUND(((((ET37*1.15))-((EU37*1.15)))+AE37),2) -> 3.23 | AE37: =ROUND(((EU37*1.15)),2) -> 1.4 | AF37: =ROUND(((EV37*1.15)),2) -> 132.66 | AG37: =ROUND((AP37),2) -> 0 | AH37: =((EW37*1.15)) -> 17.0085 | AI37: =((EX37*1.15)) -> 0.1035 | AJ37: =(AS37) -> 0 | AK37: 118.17 | AL37: 0 | AM37: 2.81 | AN37: 1.22 | AO37: 115.36 | AP37: 0 | AQ37: 14.79 | AR37: 0.09 | AS37: 0 | AT37: 85 | AU37: 80 | AV37: 1 | AW37: 1 | AZ37: 1 | BA37: 33.65 | BB37: 14.88 | BC37: 1 | BH37: 0 | BI37: 1 | BJ37: ФЕРр-2001, 54-3-2, приказ Минстроя России № 876/пр от 26.12.2019 | BM37: 54001 | BN37: 0 | BO37: 54-3-2 | BP37: 1 | BQ37: 6 | BR37: 0 | BS37: 33.65 | BT37: 1 | BU37: 1 | BV37: 1 | BW37: 1 | BX37: 1 | BZ37: 85 | CA37: 80 | CE37: 0 | CF37: 0 | CG37: 0 | CM37: 0 | CN37: Поправка: Мет.421/пр 04.08.20 Пр.10 Т.3 п. 1.2 Наименование: Производство ремонтно-строительных работ осуществляется в помещениях эксплуатируемого объекта капитального строительства без остановки рабочего процесса, при этом: в зоне производства ремонтно-строительных работ имеются действующее технологическое или лабораторное оборудование, мебель и иные загромождающие помещения предметы | CO37: 0 | CP37: =(P37+Q37+S37) -> 144.39 | CQ37: =AC37*BC37 -> 0 | CR37: =AD37*BB37 -> 48.0624 | CS37: =AE37*BS37 -> 47.11 | CT37: =AF37*BA37 -> 4464.009 | CU37: =AG37 -> 0 | CV37: =AH37 -> 17.0085 | CW37: =AI37 -> 0.1035 | CX37: =AJ37 -> 0 | CY37: =(((S37+R37)*AT37)/100) -> 122.706 | CZ37: =(((S37+R37)*AU37)/100) -> 115.488 | DE37: )*1,15 | DF37: )*1,15 | DG37: )*1,15 | DI37: )*1,15 | DJ37: )*1,15 | DN37: 0 | DO37: 0 | DP37: 1 | DQ37: 1 | DU37: 1005 | DV37: 100 м2 | DW37: 100 м2 | DX37: 100 | EE37: 64095102 | EF37: 6 | EG37: Ремонтно-строительные работы | EH37: 0 | EJ37: 1 | EK37: 54001 | EL37: Перекрытия | EM37: рФЕР-54 | EO37: Поправка: Мет.421/пр 04.08.20 Пр.10 Т.3 п. 1.2 | EQ37: 0 | ER37: 118.17 | ES37: 0 | ET37: 2.81 | EU37: 1.22 | EV37: 115.36 | EW37: 14.79 | EX37: 0.09 | EY37: 0 | FQ37: 0 | FR37: =ROUND(IF(AND(BH37=3,BI37=3),P37,0),2) -> 0 | FS37: 0 | FX37: 85 | FY37: 80 | GD37: 1 | GF37: -1595506723 | GG37: 2 | GH37: 1 | GI37: 2 | GJ37: 0 | GK37: 0 | GL37: =ROUND(IF(AND(BH37=3,BI37=3,FS37<>0),P37,0),2) -> 0 | GM37: =ROUND(O37+X37+Y37,2)+GX37 -> 382.59 | GN37: =IF(OR(BI37=0,BI37=1),ROUND(O37+X37+Y37,2),0) -> 382.59 | GO37: =IF(BI37=2,ROUND(O37+X37+Y37,2),0) -> 0 | GP37: =IF(BI37=4,ROUND(O37+X37+Y37,2)+GX37,0) -> 0 | GR37: 0 | GS37: 3 | GT37: 0 | GV37: =ROUND((GT37),2) -> 0 | GW37: 1 | GX37: =ROUND(HC37*I37,2) -> 0 | HA37: 0 | HB37: 0 | HC37: =GV37*GW37 -> 0 | IK37: 0
A38: 17 | B38: 1 | C38: =ROW(SmtRes!A43) -> 43 | D38: =ROW(EtalonRes!A47) -> 47 | E38: 9 | F38: 63-15-1 | G38: Разборка элементов облицовки потолков с разборкой каркаса: Армстронг | H38: 100 м2 | I38: =ROUND(4.2/100,5) -> 0.042 | J38: 0 | O38: =ROUND(CP38,2) -> 474.5 | P38: =ROUND(CQ38*I38,2) -> 0 | Q38: =ROUND(CR38*I38,2) -> 0 | R38: =ROUND(CS38*I38,2) -> 0 | S38: =ROUND(CT38*I38,2) -> 474.5 | T38: =ROUND(CU38*I38,2) -> 0 | U38: =CV38*I38 -> 1.666833 | V38: =CW38*I38 -> 0 | W38: =ROUND(CX38*I38,2) -> 0 | X38: =ROUND(CY38,2) -> 365.37 | Y38: =ROUND(CZ38,2) -> 237.25 | AA38: 68990560 | AB38: =ROUND((AC38+AD38+AF38),2) -> 335.74 | AC38: =ROUND((ES38),2) -> 0 | AD38: =ROUND(((((ET38*1.15))-((EU38*1.15)))+AE38),2) -> 0 | AE38: =ROUND(((EU38*1.15)),2) -> 0 | AF38: =ROUND(((EV38*1.15)),2) -> 335.74 | AG38: =ROUND((AP38),2) -> 0 | AH38: =((EW38*1.15)) -> 39.6865 | AI38: =((EX38*1.15)) -> 0 | AJ38: =(AS38) -> 0 | AK38: 291.95 | AL38: 0 | AM38: 0 | AN38: 0 | AO38: 291.95 | AP38: 0 | AQ38: 34.51 | AR38: 0 | AS38: 0 | AT38: 77 | AU38: 50 | AV38: 1 | AW38: 1 | AZ38: 1 | BA38: 33.65 | BB38: 1 | BC38: 1 | BH38: 0 | BI38: 1 | BJ38: ФЕРр-2001, 63-15-1, приказ Минстроя России № 876/пр от 26.12.2019 | BM38: 63001 | BN38: 0 | BO38: 63-15-1 | BP38: 1 | BQ38: 6 | BR38: 0 | BS38: 33.65 | BT38: 1 | BU38: 1 | BV38: 1 | BW38: 1 | BX38: 1 | BZ38: 77 | CA38: 50 | CE38: 0 | CF38: 0 | CG38: 0 | CM38: 0 | CN38: Поправка: Мет.421/пр 04.08.20 Пр.10 Т.3 п. 1.2 Наименование: Производство ремонтно-строительных работ осуществляется в помещениях эксплуатируемого объекта капитального строительства без остановки рабочего процесса, при этом: в зоне производства ремонтно-строительных работ имеются действующее технологическое или лабораторное оборудование, мебель и иные загромождающие помещения предметы | CO38: 0 | CP38: =(P38+Q38+S38) -> 474.5 | CQ38: =AC38*BC38 -> 0 | CR38: =AD38*BB38 -> 0 | CS38: =AE38*BS38 -> 0 | CT38: =AF38*BA38 -> 11297.651 | CU38: =AG38 -> 0 | CV38: =AH38 -> 39.6865 | CW38: =AI38 -> 0 | CX38: =AJ38 -> 0 | CY38: =(((S38+R38)*AT38)/100) -> 365.365 | CZ38: =(((S38+R38)*AU38)/100) -> 237.25 | DE38: )*1,15 | DF38: )*1,15 | DG38: )*1,15 | DI38: )*1,15 | DJ38: )*1,15 | DN38: 0 | DO38: 0 | DP38: 1 | DQ38: 1 | DU38: 1005 | DV38: 100 м2 | DW38: 100 м2 | DX38: 100 | EE38: 64095111 | EF38: 6 | EG38: Ремонтно-строительные работы | EH38: 0 | EJ38: 1 | EK38: 63001 | EL38: Стекольные, обойные, облицовочные работы | EM38: рФЕР-63 | EO38: Поправка: Мет.421/пр 04.08.20 Пр.10 Т.3 п. 1.2 | EQ38: 0 | ER38: 291.95 | ES38: 0 | ET38: 0 | EU38: 0 | EV38: 291.95 | EW38: 34.51 | EX38: 0 | EY38: 0 | FQ38: 0 | FR38: =ROUND(IF(AND(BH38=3,BI38=3),P38,0),2) -> 0 | FS38: 0 | FX38: 77 | FY38: 50 | GD38: 1 | GF38: 466343886 | GG38: 2 | GH38: 1 | GI38: 2 | GJ38: 0 | GK38: 0 | GL38: =ROUND(IF(AND(BH38=3,BI38=3,FS38<>0),P38,0),2) -> 0 | GM38: =ROUND(O38+X38+Y38,2)+GX38 -> 1077.12 | GN38: =IF(OR(BI38=0,BI38=1),ROUND(O38+X38+Y38,2),0) -> 1077.12 | GO38: =IF(BI38=2,ROUND(O38+X38+Y38,2),0) -> 0 | GP38: =IF(BI38=4,ROUND(O38+X38+Y38,2)+GX38,0) -> 0 | GR38: 0 | GS38: 3 | GT38: 0 | GV38: =ROUND((GT38),2) -> 0 | GW38: 1 | GX38: =ROUND(HC38*I38,2) -> 0 | HA38: 0 | HB38: 0 | HC38: =GV38*GW38 -> 0 | IK38: 0
A39: 18 | B39: 1 | C39: 43 | E39: 9,1 | F39: 999-9899 | G39: Строительный мусор и масса возвратных материалов | H39: т | I39: =I38*J39 -> 0.014952 | J39: 0.356 | O39: =ROUND(CP39,2) -> 0 | P39: =ROUND(CQ39*I39,2) -> 0 | Q39: =ROUND(CR39*I39,2) -> 0 | R39: =ROUND(CS39*I39,2) -> 0 | S39: =ROUND(CT39*I39,2) -> 0 | T39: =ROUND(CU39*I39,2) -> 0 | U39: =CV39*I39 -> 0 | V39: =CW39*I39 -> 0 | W39: =ROUND(CX39*I39,2) -> 0 | X39: =ROUND(CY39,2) -> 0 | Y39: =ROUND(CZ39,2) -> 0 | AA39: 68990560 | AB39: =ROUND((AC39+AD39+AF39),2) -> 0 | AC39: =ROUND((ES39),2) -> 0 | AD39: =ROUND((((ET39)-(EU39))+AE39),2) -> 0 | AE39: =ROUND((EU39),2) -> 0 | AF39: =ROUND((EV39),2) -> 0 | AG39: =ROUND((AP39),2) -> 0 | AH39: =(EW39) -> 0 | AI39: =(EX39) -> 0 | AJ39: =(AS39) -> 0 | AK39: 0 | AL39: 0 | AM39: 0 | AN39: 0 | AO39: 0 | AP39: 0 | AQ39: 0 | AR39: 0 | AS39: 0 | AT39: 77 | AU39: 50 | AV39: 1 | AW39: 1 | AZ39: 1 | BA39: 1 | BB39: 1 | BC39: 1 | BH39: 3 | BI39: 1 | BM39: 63001 | BN39: 0 | BP39: 0 | BQ39: 6 | BR39: 0 | BS39: 1 | BT39: 1 | BU39: 1 | BV39: 1 | BW39: 1 | BX39: 1 | BZ39: 77 | CA39: 50 | CE39: 0 | CF39: 0 | CG39: 0 | CM39: 0 | CO39: 0 | CP39: =(P39+Q39+S39) -> 0 | CQ39: =AC39*BC39 -> 0 | CR39: =AD39*BB39 -> 0 | CS39: =AE39*BS39 -> 0 | CT39: =AF39*BA39 -> 0 | CU39: =AG39 -> 0 | CV39: =AH39 -> 0 | CW39: =AI39 -> 0 | CX39: =AJ39 -> 0 | CY39: =(((S39+R39)*AT39)/100) -> 0 | CZ39: =(((S39+R39)*AU39)/100) -> 0 | DN39: 0 | DO39: 0 | DP39: 1 | DQ39: 1 | DU39: 1009 | DV39: т | DW39: т | DX39: 1000 | EE39: 64095111 | EF39: 6 | EG39: Ремонтно-строительные работы | EH39: 0 | EJ39: 1 | EK39: 63001 | EL39: Стекольные, обойные, облицовочные работы | EM39: рФЕР-63 | EQ39: 0 | ER39: 0 | ES39: 0 | ET39: 0 | EU39: 0 | EV39: 0 | EW39: 0 | EX39: 0 | FQ39: 0 | FR39: =ROUND(IF(AND(BH39=3,BI39=3),P39,0),2) -> 0 | FS39: 0 | FX39: 77 | FY39: 50 | GD39: 1 | GF39: -1296435862 | GG39: 2 | GH39: 1 | GI39: -2 | GJ39: 0 | GK39: 0 | GL39: =ROUND(IF(AND(BH39=3,BI39=3,FS39<>0),P39,0),2) -> 0 | GM39: =ROUND(O39+X39+Y39,2)+GX39 -> 0 | GN39: =IF(OR(BI39=0,BI39=1),ROUND(O39+X39+Y39,2),0) -> 0 | GO39: =IF(BI39=2,ROUND(O39+X39+Y39,2),0) -> 0 | GP39: =IF(BI39=4,ROUND(O39+X39+Y39,2)+GX39,0) -> 0 | GR39: 0 | GS39: 3 | GT39: 0 | GV39: =ROUND((GT39),2) -> 0 | GW39: 1 | GX39: =ROUND(HC39*I39,2) -> 0 | HA39: 0 | HB39: 0 | HC39: =GV39*GW39 -> 0 | IK39: 0
A40: 17 | B40: 1 | C40: =ROW(SmtRes!A45) -> 45 | D40: =ROW(EtalonRes!A49) -> 49 | E40: 10 | F40: 57-3-1 | G40: Разборка плинтусов: деревянных и из пластмассовых материалов | H40: 100 м | I40: =ROUND(1.9/100,5) -> 0.019 | J40: 0 | O40: =ROUND(CP40,2) -> 21.62 | P40: =ROUND(CQ40*I40,2) -> 0 | Q40: =ROUND(CR40*I40,2) -> 0 | R40: =ROUND(CS40*I40,2) -> 0 | S40: =ROUND(CT40*I40,2) -> 21.62 | T40: =ROUND(CU40*I40,2) -> 0 | U40: =CV40*I40 -> 0.0823745 | V40: =CW40*I40 -> 0 | W40: =ROUND(CX40*I40,2) -> 0 | X40: =ROUND(CY40,2) -> 17.3 | Y40: =ROUND(CZ40,2) -> 14.7 | AA40: 68990560 | AB40: =ROUND((AC40+AD40+AF40),2) -> 33.82 | AC40: =ROUND((ES40),2) -> 0 | AD40: =ROUND(((((ET40*1.15))-((EU40*1.15)))+AE40),2) -> 0 | AE40: =ROUND(((EU40*1.15)),2) -> 0 | AF40: =ROUND(((EV40*1.15)),2) -> 33.82 | AG40: =ROUND((AP40),2) -> 0 | AH40: =((EW40*1.15)) -> 4.3355 | AI40: =((EX40*1.15)) -> 0 | AJ40: =(AS40) -> 0 | AK40: 29.41 | AL40: 0 | AM40: 0 | AN40: 0 | AO40: 29.41 | AP40: 0 | AQ40: 3.77 | AR40: 0 | AS40: 0 | AT40: 80 | AU40: 68 | AV40: 1 | AW40: 1 | AZ40: 1 | BA40: 33.65 | BB40: 1 | BC40: 1 | BH40: 0 | BI40: 1 | BJ40: ФЕРр-2001, 57-3-1 приказ Минстроя России № 876/пр от 26.12.2019 | BM40: 57001 | BN40: 0 | BO40: 57-3-1 | BP40: 1 | BQ40: 6 | BR40: 0 | BS40: 33.65 | BT40: 1 | BU40: 1 | BV40: 1 | BW40: 1 | BX40: 1 | BZ40: 80 | CA40: 68 | CE40: 0 | CF40: 0 | CG40: 0 | CM40: 0 | CN40: Поправка: Мет.421/пр 04.08.20 Пр.10 Т.3 п. 1.2 Наименование: Производство ремонтно-строительных работ осуществляется в помещениях эксплуатируемого объекта капитального строительства без остановки рабочего процесса, при этом: в зоне производства ремонтно-строительных работ имеются действующее технологическое или лабораторное оборудование, мебель и иные загромождающие помещения предметы | CO40: 0 | CP40: =(P40+Q40+S40) -> 21.62 | CQ40: =AC40*BC40 -> 0 | CR40: =AD40*BB40 -> 0 | CS40: =AE40*BS40 -> 0 | CT40: =AF40*BA40 -> 1138.043 | CU40: =AG40 -> 0 | CV40: =AH40 -> 4.3355 | CW40: =AI40 -> 0 | CX40: =AJ40 -> 0 | CY40: =(((S40+R40)*AT40)/100) -> 17.296 | CZ40: =(((S40+R40)*AU40)/100) -> 14.7016 | DE40: )*1,15 | DF40: )*1,15 | DG40: )*1,15 | DI40: )*1,15 | DJ40: )*1,15 | DN40: 0 | DO40: 0 | DP40: 1 | DQ40: 1 | DU40: 1003 | DV40: 100 м | DW40: 100 м | DX40: 100 | EE40: 64095105 | EF40: 6 | EG40: Ремонтно-строительные работы | EH40: 0 | EJ40: 1 | EK40: 57001 | EL40: Полы | EM40: рФЕР-57 | EO40: Поправка: Мет.421/пр 04.08.20 Пр.10 Т.3 п. 1.2 | EQ40: 0 | ER40: 29.41 | ES40: 0 | ET40: 0 | EU40: 0 | EV40: 29.41 | EW40: 3.77 | EX40: 0 | EY40: 0 | FQ40: 0 | FR40: =ROUND(IF(AND(BH40=3,BI40=3),P40,0),2) -> 0 | FS40: 0 | FX40: 80 | FY40: 68 | GD40: 1 | GF40: 56778636 | GG40: 2 | GH40: 1 | GI40: 2 | GJ40: 0 | GK40: 0 | GL40: =ROUND(IF(AND(BH40=3,BI40=3,FS40<>0),P40,0),2) -> 0 | GM40: =ROUND(O40+X40+Y40,2)+GX40 -> 53.62 | GN40: =IF(OR(BI40=0,BI40=1),ROUND(O40+X40+Y40,2),0) -> 53.62 | GO40: =IF(BI40=2,ROUND(O40+X40+Y40,2),0) -> 0 | GP40: =IF(BI40=4,ROUND(O40+X40+Y40,2)+GX40,0) -> 0 | GR40: 0 | GS40: 3 | GT40: 0 | GV40: =ROUND((GT40),2) -> 0 | GW40: 1 | GX40: =ROUND(HC40*I40,2) -> 0 | HA40: 0 | HB40: 0 | HC40: =GV40*GW40 -> 0 | IK40: 0
A41: 18 | B41: 1 | C41: 45 | E41: 10,1 | F41: 999-9900 | G41: Строительный мусор | H41: т | I41: =I40*J41 -> 0.00209 | J41: 0.11 | O41: =ROUND(CP41,2) -> 0 | P41: =ROUND(CQ41*I41,2) -> 0 | Q41: =ROUND(CR41*I41,2) -> 0 | R41: =ROUND(CS41*I41,2) -> 0 | S41: =ROUND(CT41*I41,2) -> 0 | T41: =ROUND(CU41*I41,2) -> 0 | U41: =CV41*I41 -> 0 | V41: =CW41*I41 -> 0 | W41: =ROUND(CX41*I41,2) -> 0 | X41: =ROUND(CY41,2) -> 0 | Y41: =ROUND(CZ41,2) -> 0 | AA41: 68990560 | AB41: =ROUND((AC41+AD41+AF41),2) -> 0 | AC41: =ROUND((ES41),2) -> 0 | AD41: =ROUND((((ET41)-(EU41))+AE41),2) -> 0 | AE41: =ROUND((EU41),2) -> 0 | AF41: =ROUND((EV41),2) -> 0 | AG41: =ROUND((AP41),2) -> 0 | AH41: =(EW41) -> 0 | AI41: =(EX41) -> 0 | AJ41: =(AS41) -> 0 | AK41: 0 | AL41: 0 | AM41: 0 | AN41: 0 | AO41: 0 | AP41: 0 | AQ41: 0 | AR41: 0 | AS41: 0 | AT41: 80 | AU41: 68 | AV41: 1 | AW41: 1 | AZ41: 1 | BA41: 1 | BB41: 1 | BC41: 1 | BH41: 3 | BI41: 1 | BM41: 57001 | BN41: 0 | BP41: 0 | BQ41: 6 | BR41: 0 | BS41: 1 | BT41: 1 | BU41: 1 | BV41: 1 | BW41: 1 | BX41: 1 | BZ41: 80 | CA41: 68 | CE41: 0 | CF41: 0 | CG41: 0 | CM41: 0 | CO41: 0 | CP41: =(P41+Q41+S41) -> 0 | CQ41: =AC41*BC41 -> 0 | CR41: =AD41*BB41 -> 0 | CS41: =AE41*BS41 -> 0 | CT41: =AF41*BA41 -> 0 | CU41: =AG41 -> 0 | CV41: =AH41 -> 0 | CW41: =AI41 -> 0 | CX41: =AJ41 -> 0 | CY41: =(((S41+R41)*AT41)/100) -> 0 | CZ41: =(((S41+R41)*AU41)/100) -> 0 | DN41: 0 | DO41: 0 | DP41: 1 | DQ41: 1 | DU41: 1009 | DV41: т | DW41: т | DX41: 1000 | EE41: 64095105 | EF41: 6 | EG41: Ремонтно-строительные работы | EH41: 0 | EJ41: 1 | EK41: 57001 | EL41: Полы | EM41: рФЕР-57 | EQ41: 0 | ER41: 0 | ES41: 0 | ET41: 0 | EU41: 0 | EV41: 0 | EW41: 0 | EX41: 0 | FQ41: 0 | FR41: =ROUND(IF(AND(BH41=3,BI41=3),P41,0),2) -> 0 | FS41: 0 | FX41: 80 | FY41: 68 | GD41: 1 | GF41: 2102561428 | GG41: 2 | GH41: 1 | GI41: -2 | GJ41: 0 | GK41: 0 | GL41: =ROUND(IF(AND(BH41=3,BI41=3,FS41<>0),P41,0),2) -> 0 | GM41: =ROUND(O41+X41+Y41,2)+GX41 -> 0 | GN41: =IF(OR(BI41=0,BI41=1),ROUND(O41+X41+Y41,2),0) -> 0 | GO41: =IF(BI41=2,ROUND(O41+X41+Y41,2),0) -> 0 | GP41: =IF(BI41=4,ROUND(O41+X41+Y41,2)+GX41,0) -> 0 | GR41: 0 | GS41: 3 | GT41: 0 | GV41: =ROUND((GT41),2) -> 0 | GW41: 1 | GX41: =ROUND(HC41*I41,2) -> 0 | HA41: 0 | HB41: 0 | HC41: =GV41*GW41 -> 0 | IK41: 0
A42: 17 | B42: 1 | C42: =ROW(SmtRes!A46) -> 46 | D42: =ROW(EtalonRes!A50) -> 50 | E42: 11 | F42: 67-2-11 | G42: Демонтаж кабельных каналов | H42: 100 м труб | I42: =ROUND(4.3/100,5) -> 0.043 | J42: 0 | O42: =ROUND(CP42,2) -> 54.12 | P42: =ROUND(CQ42*I42,2) -> 0 | Q42: =ROUND(CR42*I42,2) -> 0 | R42: =ROUND(CS42*I42,2) -> 0 | S42: =ROUND(CT42*I42,2) -> 54.12 | T42: =ROUND(CU42*I42,2) -> 0 | U42: =CV42*I42 -> 0.196811 | V42: =CW42*I42 -> 0 | W42: =ROUND(CX42*I42,2) -> 0 | X42: =ROUND(CY42,2) -> 46 | Y42: =ROUND(CZ42,2) -> 35.18 | AA42: 68990560 | AB42: =ROUND((AC42+AD42+AF42),2) -> 37.4 | AC42: =ROUND((ES42),2) -> 0 | AD42: =ROUND(((((ET42*1.15))-((EU42*1.15)))+AE42),2) -> 0 | AE42: =ROUND(((EU42*1.15)),2) -> 0 | AF42: =ROUND(((EV42*1.15)),2) -> 37.4 | AG42: =ROUND((AP42),2) -> 0 | AH42: =((EW42*1.15)) -> 4.577 | AI42: =((EX42*1.15)) -> 0 | AJ42: =(AS42) -> 0 | AK42: 32.52 | AL42: 0 | AM42: 0 | AN42: 0 | AO42: 32.52 | AP42: 0 | AQ42: 3.98 | AR42: 0 | AS42: 0 | AT42: 85 | AU42: 65 | AV42: 1 | AW42: 1 | AZ42: 1 | BA42: 33.65 | BB42: 1 | BC42: 1 | BH42: 0 | BI42: 1 | BJ42: ФЕРр-2001, 67-2-11, приказ Минстроя России № 876/пр от 26.12.2019 | BM42: 67001 | BN42: 0 | BO42: 67-2-11 | BP42: 1 | BQ42: 6 | BR42: 0 | BS42: 33.65 | BT42: 1 | BU42: 1 | BV42: 1 | BW42: 1 | BX42: 1 | BZ42: 85 | CA42: 65 | CE42: 0 | CF42: 0 | CG42: 0 | CM42: 0 | CN42: Поправка: Мет.421/пр 04.08.20 Пр.10 Т.3 п. 1.2 Наименование: Производство ремонтно-строительных работ осуществляется в помещениях эксплуатируемого объекта капитального строительства без остановки рабочего процесса, при этом: в зоне производства ремонтно-строительных работ имеются действующее технологическое или лабораторное оборудование, мебель и иные загромождающие помещения предметы | CO42: 0 | CP42: =(P42+Q42+S42) -> 54.12 | CQ42: =AC42*BC42 -> 0 | CR42: =AD42*BB42 -> 0 | CS42: =AE42*BS42 -> 0 | CT42: =AF42*BA42 -> 1258.51 | CU42: =AG42 -> 0 | CV42: =AH42 -> 4.577 | CW42: =AI42 -> 0 | CX42: =AJ42 -> 0 | CY42: =(((S42+R42)*AT42)/100) -> 46.002 | CZ42: =(((S42+R42)*AU42)/100) -> 35.178 | DE42: )*1,15 | DF42: )*1,15 | DG42: )*1,15 | DI42: )*1,15 | DJ42: )*1,15 | DN42: 0 | DO42: 0 | DP42: 1 | DQ42: 1 | DU42: 1013 | DV42: 100 м труб | DW42: 100 м труб | DX42: 1 | EE42: 64095151 | EF42: 6 | EG42: Ремонтно-строительные работы | EH42: 0 | EJ42: 1 | EK42: 67001 | EL42: Электромонтажные работы | EM42: рФЕР-67 | EO42: Поправка: Мет.421/пр 04.08.20 Пр.10 Т.3 п. 1.2 | EQ42: 0 | ER42: 32.52 | ES42: 0 | ET42: 0 | EU42: 0 | EV42: 32.52 | EW42: 3.98 | EX42: 0 | EY42: 0 | FQ42: 0 | FR42: =ROUND(IF(AND(BH42=3,BI42=3),P42,0),2) -> 0 | FS42: 0 | FX42: 85 | FY42: 65 | GD42: 1 | GF42: -1089465404 | GG42: 2 | GH42: 1 | GI42: 2 | GJ42: 0 | GK42: 0 | GL42: =ROUND(IF(AND(BH42=3,BI42=3,FS42<>0),P42,0),2) -> 0 | GM42: =ROUND(O42+X42+Y42,2)+GX42 -> 135.3 | GN42: =IF(OR(BI42=0,BI42=1),ROUND(O42+X42+Y42,2),0) -> 135.3 | GO42: =IF(BI42=2,ROUND(O42+X42+Y42,2),0) -> 0 | GP42: =IF(BI42=4,ROUND(O42+X42+Y42,2)+GX42,0) -> 0 | GR42: 0 | GS42: 3 | GT42: 0 | GV42: =ROUND((GT42),2) -> 0 | GW42: 1 | GX42: =ROUND(HC42*I42,2) -> 0 | HA42: 0 | HB42: 0 | HC42: =GV42*GW42 -> 0 | IK42: 0
