Workbook

Sheet Акт КС-2 8 граф
A1: =Source!B1 -> Smeta.RU (495) 974-1589
E2: Унифицированная форма № КС-2
E3: Утверждена постановлением Госкомстата России
E4: от 11.11.99. № 100
G6: Код
F7: Форма по ОКУД | G7: 0322005
G8: =IF(Source!AT15 <> "", Source!AT15, "")
A9: Инвестор | C9: =IF(Source!BA15 <> "", Source!BA15, IF(Source!AU15 <> "", Source!AU15, "")) | F9: по ОКПО
C10: организация, адрес, телефон, факс | G10: =IF(Source!AK15 <> "", Source!AK15, "") -> 39840615
A11: Заказчик | C11: =IF(Source!AX15<> "", Source!AX15, IF(Source!AJ15 <> "", Source!AJ15, "")) -> ООО "СЗ "Аркада" ИНН 5050115542 Юр. адрес: 141190, МО, г. Фрязино, ул. Вокзальная д.6а, офис 143 Тел/факс: 8(495) 995 59 06 | F11: по ОКПО | AE11: =IF(Source!AX15<> "", Source!AX15, IF(Source!AJ15 <> "", Source!AJ15, "")) -> ООО "СЗ "Аркада" ИНН 5050115542 Юр. адрес: 141190, МО, г. Фрязино, ул. Вокзальная д.6а, офис 143 Тел/факс: 8(495) 995 59 06
C12: организация, адрес, телефон, факс | G12: =IF(Source!AO15 <> "", Source!AO15, "")
A13: Подрядчик | C13: =IF(Source!AY15<> "", Source!AY15, IF(Source!AN15 <> "", Source!AN15, "")) -> ООО "Строительная компания", 141190, Московская область, г. Фрязино, ул. Вокзальная, д.6а, оф. 77 | F13: по ОКПО | AE13: =IF(Source!AY15<> "", Source!AY15, IF(Source!AN15 <> "", Source!AN15, "")) -> ООО "Строительная компания", 141190, Московская область, г. Фрязино, ул. Вокзальная, д.6а, оф. 77
C14: организация, адрес, телефон, факс | G14: =IF(Source!CO15 <> "", Source!CO15, "")
A15: Стройка | C15: "КЛЮКВЕННЫЙ" ДОГОВОР 4-КС-2019-КЛ от 18.03.2019 | AE15: "КЛЮКВЕННЫЙ" ДОГОВОР 4-КС-2019-КЛ от 18.03.2019
C16: наименование, адрес | G16: =IF(Source!CP15 <> "", Source!CP15, "")
A17: Объект | C17: =IF(Source!G12<>"Новый объект", Source!G12, "") -> "КЛЮКВЕННЫЙ" ДОГОВОР 4-КС-2019-КЛ от 18.03.2019 | AE17: =IF(Source!G12<>"Новый объект", Source!G12, "") -> "КЛЮКВЕННЫЙ" ДОГОВОР 4-КС-2019-КЛ от 18.03.2019
C18: наименование
D19: Вид деятельности по ОКДП | G19: =IF(Source!CQ15 <> "", Source!CQ15, "")
D20: Договор подряда | F20: номер | G20: =IF(Source!CR15 <> "", Source!CR15, "") -> 4/КС-2019/КЛ
F21: дата | G21: =IF(Source!CS15 <> 0, Source!CS15, "") -> 43542
F22: Вид операции | G22: =IF(Source!CT15 <> "", Source!CT15, "")
D24: Номер документа | E24: Дата составления | F24: Отчетный период
F25: с | G25: по
D26: =IF(Source!CN15 <> "", Source!CN15, "") | E26: =IF(Source!CX15 <> 0, Source!CX15, "") | F26: =IF(Source!CV15 <> 0, Source!CV15, "") -> 44013 | G26: =IF(Source!CW15 <> 0, Source!CW15, "") -> 44043
A28: AKT
A29: О ПРИЕМКЕ ВЫПОЛНЕННЫХ РАБОТ
A31: Сметная (договорная) стоимость в соответствии с договором подряда (субподряда) | F31: =(Source!P321/1000) -> 5228.5252 | H31: тыс.руб
A33: Номер | C33: Наименование работ | D33: Номер единичной расценки | E33: Единица измерения | F33: Выполнено работ
A34: по порядку | B34: поз. по смете | F34: Количество | G34: цена за единицу, руб | H34: стоимость, руб
A35: 1 | B35: 2 | C35: 3 | D35: 4 | E35: 5 | F35: 6 | G35: 7 | H35: 8
A37: =CONCATENATE("Локальная смета: ",IF(Source!G20<>"Новая локальная смета", Source!G20, "")) -> Локальная смета: локальная смета
A39: =CONCATENATE("Раздел: ",IF(Source!G24<>"Новый раздел", Source!G24, "")) -> Раздел: Раздел 1. Подготовка территории строительства и содержание строительной площадки | AF39: =CONCATENATE("Раздел: ",IF(Source!G24<>"Новый раздел", Source!G24, "")) -> Раздел: Раздел 1. Подготовка территории строительства и содержание строительной площадки
A40: 1 | B40: =Source!E31 -> 2 | C40: =Source!G31 -> Охрана объекта (24 месяца*45000руб.) | D40: =Source!F31 -> 1.2 | E40: =Source!H31 -> КОМПЛ | F40: =Source!I31 -> 0.0417 | G40: =Source!AB31 -> 1080000 | H40: =Source!O31 -> 45036 | T40: =Source!O31 -> 45036 | U40: =Source!P31 -> 0 | V40: =Source!S31 -> 45036 | W40: =Source!Q31 -> 0 | X40: =Source!R31 -> 0 | Y40: =Source!U31 -> 0 | Z40: =Source!V31 -> 0 | AA40: =Source!X31 -> 0 | AB40: =Source!Y31 -> 0
C42: =CONCATENATE("Итого по разделу: ",IF(Source!G35<>"Новый раздел", Source!G35, "")) -> Итого по разделу: Раздел 1. Подготовка территории строительства и содержание строительной площадки | H42: =IF(SUM(T39:T41)=0, "-", SUM(T39:T41)) -> 45036 | AG42: =CONCATENATE("Итого по разделу: ",IF(Source!G35<>"Новый раздел", Source!G35, "")) -> Итого по разделу: Раздел 1. Подготовка территории строительства и содержание строительной площадки
A46: =CONCATENATE("Раздел: ",IF(Source!G65<>"Новый раздел", Source!G65, "")) -> Раздел: Раздел 2. Основные объекты строительства
C48: =Source!G71 -> Конструктивные элементы ниже отм.0.000 | AC48: =Source!G71 -> Конструктивные элементы ниже отм.0.000
C50: =Source!G88 -> Конструктивные элементы выше отм.0.000 | AC50: =Source!G88 -> Конструктивные элементы выше отм.0.000
A51: 2 | B51: =Source!E96 -> 16 | C51: =Source!G96 -> Шахты монолитные (Ш1.2,Ш2.2,Ш1.3,Ш1.4) | D51: =Source!F96 -> 2.13 | E51: =Source!H96 -> КОМПЛ | F51: =Source!I96 -> 0.17 | G51: =Source!AB96 -> 11129971 | H51: =Source!O96 -> 1892095.1 | T51: =Source!O96 -> 1892095.1 | U51: =Source!P96 -> 0 | V51: =Source!S96 -> 1892095.1 | W51: =Source!Q96 -> 0 | X51: =Source!R96 -> 0 | Y51: =Source!U96 -> 0 | Z51: =Source!V96 -> 0 | AA51: =Source!X96 -> 0 | AB51: =Source!Y96 -> 0
A52: 3 | B52: =Source!E98 -> 17 | C52: =Source!G98 -> Лестницы межэтажные | D52: =Source!F98 -> 2.14 | E52: =Source!H98 -> КОМПЛ | F52: =Source!I98 -> 0.12 | G52: =Source!AB98 -> 6374296.6 | H52: =Source!O98 -> 764915.6 | T52: =Source!O98 -> 764915.6 | U52: =Source!P98 -> 0 | V52: =Source!S98 -> 764915.6 | W52: =Source!Q98 -> 0 | X52: =Source!R98 -> 0 | Y52: =Source!U98 -> 0 | Z52: =Source!V98 -> 0 | AA52: =Source!X98 -> 0 | AB52: =Source!Y98 -> 0
C54: =Source!G99 -> Наружные, внутренние стены и перегородки | AC54: =Source!G99 -> Наружные, внутренние стены и перегородки
...

Sheet Source
A1: 0 | B1: Smeta.RU (495) 974-1589 | D1: _PS_ | F1: 0 | G1: 0 | H1: 0 | I1: Smeta.RU | K1: 0 | L1: 23404 | M1: 10 | N1: 11 | O1: 0 | P1: 1 | Q1: 6
A12: 1 | B12: 329 | C12: 0 | D12: =ROW(A293) -> 293 | E12: 0 | F12: Новый объект | G12: "КЛЮКВЕННЫЙ" ДОГОВОР 4-КС-2019-КЛ от 18.03.2019 | I12: 0 | K12: 0 | O12: 0 | P12: 0 | Q12: 0 | R12: 0 | S12: 0 | V12: 0 | AB12: Вороненко А. В. | AC12: Начальник СДО | AH12: Г.В. Агекян | AI12: Генеральный директор | AJ12: ООО "СЗ "Аркада" ИНН 5050115542 Юр. адрес: 141190, МО, г. Фрязино, ул. Вокзальная д.6а, офис 143 Тел/факс: 8(495) 995 59 06 | AL12: Г. Ж. Мурадян | AM12: Зам. генерального директора | AN12: ООО "Строительная компания", 141190, Московская область, г. Фрязино, ул. Вокзальная, д.6а, оф. 77 | AX12: ООО "СЗ "Аркада" ИНН 5050115542 Юр. адрес: 141190, МО, г. Фрязино, ул. Вокзальная д.6а, офис 143 Тел/факс: 8(495) 995 59 06 | AY12: ООО "Строительная компания", ИНН 5050117620. 141190, Московская область, г. Фрязино, ул. Вокзальная, д.6а, оф. 77 | BH12: Сметные нормы списания | BI12: Коды ценников | BJ12: 0 | BK12: 1 | BL12: 0 | BM12: 0 | BN12: 0 | BO12: 0 | BP12: 2 | BQ12: 2 | BR12: 0 | BS12: 0 | BT12: 0 | BU12: 0 | BV12: 0 | BW12: 0 | BX12: 0 | BZ12: Версия 5. Типовой расчёт (0,94) для норм 2001 года промышл без параметров | CF12: 0 | CG12: 0 | CH12: 8 | CK12: 0 | EC12: 0
A15: 61300291 | B15: 1 | C15: 2020 | D15: 7 | F15: Июль, 2020 г. | G15: КС-2 №9 Июль 2020 г | Q15: 0 | AB15: Г. Ж. Мурадян | AC15: Зам. генерального директора | AF15: Г.В. Агекян | AG15: Генеральный директор | AH15: Г.В. Агекян | AI15: Генеральный директор | AJ15: ООО "СЗ "Аркада" ИНН 5050115542 Юр. адрес: 141190, МО, г. Фрязино, ул. Вокзальная д.6а, офис 143 Тел/факс: 8(495) 995 59 06 | AK15: 39840615 | AL15: Г. Ж. Мурадян | AM15: Зам. генерального директора | AN15: ООО "Строительная компания", 141190, Московская область, г. Фрязино, ул. Вокзальная, д.6а, оф. 77 | AP15: Г. Ж. Мурадян | AQ15: Зам. генерального директора | AR15: ООО "Строительная компания", 141190, Московская область, г. Фрязино, ул. Вокзальная, д.6а, оф. 77 | AX15: ООО "СЗ "Аркада" ИНН 5050115542 Юр. адрес: 141190, МО, г. Фрязино, ул. Вокзальная д.6а, офис 143 Тел/факс: 8(495) 995 59 06 | AZ15: ООО "Строительная компания", ИНН 5050117620. 141190, Московская область, г. Фрязино, ул. Вокзальная, д.6а, оф. 77 | BH15: Сметные нормы списания | BI15: Сметные нормы списания | BJ15: 0 | BK15: 1 | BL15: 0 | BM15: 0 | BN15: 0 | BO15: 0 | BP15: 2 | BQ15: 2 | BR15: 0 | BS15: 0 | BT15: 0 | BU15: 0 | BV15: 0 | BW15: 0 | BX15: 0 | BZ15: Версия 5. Типовой расчёт (0,94) для норм 2001 года промышл без параметров | CF15: 0 | CH15: 8 | CK15: 0 | CL15: 0 | CM15: 0 | CR15: 4/КС-2019/КЛ | CS15: 43542 | CU15: 0 | CV15: 44013 | CW15: 44043 | CX15: 0 | EC15: 0
A18: 52 | B18: =B293 -> 329 | C18: =C293 -> 1 | D18: =D293 -> 12 | E18: =E293 -> 0 | F18: =F293 -> Новый объект | G18: =G293 -> "КЛЮКВЕННЫЙ" ДОГОВОР 4-КС-2019-КЛ от 18.03.2019 | O18: =O293 -> 5083568.7 | P18: =P293 -> 0 | Q18: =Q293 -> 0 | R18: =R293 -> 0 | S18: =S293 -> 5083568.7 | T18: =T293 -> 0 | U18: =U293 -> 0 | V18: =V293 -> 0 | ... GX18: =GX293 -> 0
A20: 3 | B20: 1 | D20: =ROW(A263) -> 263 | F20: Новая локальная смета | G20: локальная смета | I20: 0 | K20: -1 | V20: 0 | BX20: 0 | CF20: 0 | CG20: 0
A22: 52 | B22: =B263 -> 1 | C22: =C263 -> 3 | D22: =D263 -> 20 | E22: =E263 -> 0 | F22: =F263 -> Новая локальная смета | G22: =G263 -> локальная смета | O22: =O263 -> 5083568.7 | P22: =P263 -> 0 | Q22: =Q263 -> 0 | R22: =R263 -> 0 | S22: =S263 -> 5083568.7 | T22: =T263 -> 0 | U22: =U263 -> 0 | V22: =V263 -> 0 | ... GX22: =GX263 -> 0
A24: 4 | B24: 1 | D24: =ROW(A35) -> 35 | F24: Новый раздел | G24: Раздел 1. Подготовка территории строительства и содержание строительной площадки | I24: 0 | K24: 0 | V24: 0 | BX24: 0 | CJ24: 0
A26: 52 | B26: =B35 -> 1 | C26: =C35 -> 4 | D26: =D35 -> 24 | E26: =E35 -> 0 | F26: =F35 -> Новый раздел | G26: =G35 -> Раздел 1. Подготовка территории строительства и содержание строительной площадки | O26: =O35 -> 45036 | P26: =P35 -> 0 | Q26: =Q35 -> 0 | R26: =R35 -> 0 | S26: =S35 -> 45036 | T26: =T35 -> 0 | U26: =U35 -> 0 | V26: =V35 -> 0 | ... GX26: =GX35 -> 0
A28: 17 | B28: 1 | E28: 1 | F28: 1.1. | G28: Временные здания, перебазировка крана | H28: КОМПЛ | I28: 0 | J28: 0 | L28: 1 | M28: 1 | N28: =ROUND(L28-M28,4) -> 0 | O28: =ROUND(CP28,2) -> 0 | P28: =ROUND(CQ28*I28,2) -> 0 | Q28: =ROUND(CR28*I28,2) -> 0 | R28: =ROUND(CS28*I28,2) -> 0 | S28: =ROUND(CT28*I28,2) -> 0 | T28: =ROUND(CU28*I28,2) -> 0 | U28: =CV28*I28 -> 0 | V28: =CW28*I28 -> 0 | W28: =ROUND(CX28*I28,2) -> 0 | X28: =ROUND(CY28,2) -> 0 | Y28: =ROUND(CZ28,2) -> 0 | AA28: 58262852 | AB28: =ROUND((AC28+AD28+AF28),2) -> 2186825.4 | AC28: =ROUND((ES28),2) -> 0 | AD28: =ROUND((ET28),2) -> 0 | AE28: =ROUND((EU28),2) -> 0 | AF28: =ROUND((EV28),2) -> 2186825.4 | AG28: =ROUND((AP28),2) -> 0 | AH28: =(EW28) -> 0 | AI28: =(EX28) -> 0 | AJ28: =(AS28) -> 0 | AK28: 2186825.4 | AL28: 0 | AM28: 0 | AN28: 0 | AO28: 2186825.4 | AP28: 0 | AQ28: 0 | AR28: 0 | AS28: 0 | AT28: 0 | AU28: 0 | AV28: 1 | AW28: 1 | AZ28: 1 | BA28: 1 | BB28: 1 | BC28: 1 | BH28: 0 | BI28: 1 | BM28: 1211 | BN28: 0 | BP28: 0 | BQ28: 8 | BR28: 0 | BS28: 1 | BT28: 1 | BU28: 1 | BV28: 1 | BW28: 1 | BX28: 1 | BZ28: 0 | CA28: 0 | CE28: 0 | CF28: 0 | CG28: 0 | CH28: 1 | CI28: 0 | CJ28: 0 | CK28: 0 | CL28: 0 | CM28: 0 | CO28: 0 | CP28: =(P28+Q28+S28) -> 0 | CQ28: =AC28*BC28 -> 0 | CR28: =((AD28*BB28-(EU28)*BS28)+AE28*BS28) -> 0 | CS28: =AE28*BS28 -> 0 | CT28: =AF28*BA28 -> 2186825.4 | CU28: =AG28 -> 0 | CV28: =AH28 -> 0 | CW28: =AI28 -> 0 | CX28: =AJ28 -> 0 | CY28: =(((S28+R28)*FX28)/100) -> 0 | CZ28: =(((S28+R28)*CA28)/100) -> 0 | DN28: 0 | DO28: 0 | DP28: 1 | DQ28: 1 | DU28: 1013 | DV28: КОМПЛ | DW28: КОМПЛ | DX28: 1 | EE28: 58262974 | EF28: 8 | EG28: Материалы | EH28: 0 | EJ28: 1 | EK28: 1211 | EL28: Материал по прайсу | EM28: материалы | EQ28: 0 | ER28: 2186825.4 | ES28: 0 | ET28: 0 | EU28: 0 | EV28: 2186825.4 | EW28: 0 | EX28: 0 | EY28: 0 | FQ28: 0 | FR28: =ROUND(IF(AND(BH28=3,BI28=3),P28,0),2) -> 0 | FS28: 0 | FT28: *0,94 | FX28: 0 | FY28: 0 | GD28: 1 | GF28: 964743395 | GG28: 2 | GH28: 2 | GI28: 0 | GJ28: 0 | GK28: 0 | GL28: =ROUND(IF(AND(BH28=3,BI28=3,FS28<>0),P28,0),2) -> 0 | GM28: =ROUND(O28+X28+Y28,2)+GX28 -> 0 | GN28: =IF(OR(BI28=0,BI28=1),ROUND(O28+X28+Y28,2),0) -> 0 | GO28: =IF(BI28=2,ROUND(O28+X28+Y28,2),0) -> 0 | GP28: =IF(BI28=4,ROUND(O28+X28+Y28,2)+GX28,0) -> 0 | GR28: 0 | GS28: 4 | GT28: 0 | GV28: =ROUND((GT28),2) -> 0 | GW28: 1 | GX28: =ROUND(HC28*I28,2) -> 0 | HA28: 0 | HB28: 0 | HC28: =GV28*GW28 -> 0 | IK28: 0
A29: 17 | B29: 1 | E29: 1 | F29: 1.1. | G29: Временные здания, перебазировка крана | H29: КОМПЛ | I29: 0 | J29: 0 | L29: 1 | M29: 1 | N29: =ROUND(L29-M29,4) -> 0 | O29: =ROUND(CP29,2) -> 0 | P29: =ROUND(CQ29*I29,2) -> 0 | Q29: =ROUND(CR29*I29,2) -> 0 | R29: =ROUND(CS29*I29,2) -> 0 | S29: =ROUND(CT29*I29,2) -> 0 | T29: =ROUND(CU29*I29,2) -> 0 | U29: =CV29*I29 -> 0 | V29: =CW29*I29 -> 0 | W29: =ROUND(CX29*I29,2) -> 0 | X29: =ROUND(CY29,2) -> 0 | Y29: =ROUND(CZ29,2) -> 0 | AA29: 58262851 | AB29: =ROUND((AC29+AD29+AF29),2) -> 2186825.4 | AC29: =ROUND((ES29),2) -> 0 | AD29: =ROUND((ET29),2) -> 0 | AE29: =ROUND((EU29),2) -> 0 | AF29: =ROUND((EV29),2) -> 2186825.4 | AG29: =ROUND((AP29),2) -> 0 | AH29: =(EW29) -> 0 | AI29: =(EX29) -> 0 | AJ29: =(AS29) -> 0 | AK29: 2186825.4 | AL29: 0 | AM29: 0 | AN29: 0 | AO29: 2186825.4 | AP29: 0 | AQ29: 0 | AR29: 0 | AS29: 0 | AT29: 0 | AU29: 0 | AV29: 1 | AW29: 1 | AZ29: 1 | BA29: 1 | BB29: 1 | BC29: 1 | BH29: 0 | BI29: 1 | BM29: 1211 | BN29: 0 | BP29: 0 | BQ29: 8 | BR29: 0 | BS29: 1 | BT29: 1 | BU29: 1 | BV29: 1 | BW29: 1 | BX29: 1 | BZ29: 0 | CA29: 0 | CE29: 0 | CF29: 0 | CG29: 0 | CH29: 1 | CI29: 0 | CJ29: 0 | CK29: 0 | CL29: 0 | CM29: 0 | CO29: 0 | CP29: =(P29+Q29+S29) -> 0 | CQ29: =AC29*BC29 -> 0 | CR29: =((AD29*BB29-(EU29)*BS29)+AE29*BS29) -> 0 | CS29: =AE29*BS29 -> 0 | CT29: =AF29*BA29 -> 2186825.4 | CU29: =AG29 -> 0 | CV29: =AH29 -> 0 | CW29: =AI29 -> 0 | CX29: =AJ29 -> 0 | CY29: =(((S29+R29)*FX29)/100) -> 0 | CZ29: =(((S29+R29)*CA29)/100) -> 0 | DN29: 0 | DO29: 0 | DP29: 1 | DQ29: 1 | DU29: 1013 | DV29: КОМПЛ | DW29: КОМПЛ | DX29: 1 | EE29: 58262974 | EF29: 8 | EG29: Материалы | EH29: 0 | EJ29: 1 | EK29: 1211 | EL29: Материал по прайсу | EM29: материалы | EQ29: 0 | ER29: 2186825.4 | ES29: 0 | ET29: 0 | EU29: 0 | EV29: 2186825.4 | EW29: 0 | EX29: 0 | EY29: 0 | FQ29: 0 | FR29: =ROUND(IF(AND(BH29=3,BI29=3),P29,0),2) -> 0 | FS29: 0 | FT29: *0,94 | FX29: 0 | FY29: 0 | GD29: 1 | GF29: 964743395 | GG29: 2 | GH29: 2 | GI29: 0 | GJ29: 0 | GK29: 0 | GL29: =ROUND(IF(AND(BH29=3,BI29=3,FS29<>0),P29,0),2) -> 0 | GM29: =ROUND(O29+X29+Y29,2)+GX29 -> 0 | GN29: =IF(OR(BI29=0,BI29=1),ROUND(O29+X29+Y29,2),0) -> 0 | GO29: =IF(BI29=2,ROUND(O29+X29+Y29,2),0) -> 0 | GP29: =IF(BI29=4,ROUND(O29+X29+Y29,2)+GX29,0) -> 0 | GR29: 0 | GS29: 4 | GT29: 0 | GV29: =ROUND((GT29),2) -> 0 | GW29: 1 | GX29: =ROUND(HC29*I29,2) -> 0 | HA29: 0 | HB29: 0 | HC29: =GV29*GW29 -> 0 | IK29: 0
A30: 17 | B30: 1 | E30: 2 | F30: 1.2 | G30: Охрана объекта (24 месяца*45000руб.) | H30: КОМПЛ | I30: 0.0417 | J30: 0 | L30: 1 | M30: 0.58339967 | N30: =ROUND(L30-M30,4) -> 0.4166 | O30: =ROUND(CP30,2) -> 45036 | P30: =ROUND(CQ30*I30,2) -> 0 | Q30: =ROUND(CR30*I30,2) -> 0 | R30: =ROUND(CS30*I30,2) -> 0 | S30: =ROUND(CT30*I30,2) -> 45036 | T30: =ROUND(CU30*I30,2) -> 0 | U30: =CV30*I30 -> 0 | V30: =CW30*I30 -> 0 | W30: =ROUND(CX30*I30,2) -> 0 | X30: =ROUND(CY30,2) -> 0 | Y30: =ROUND(CZ30,2) -> 0 | AA30: 58262852 | AB30: =ROUND((AC30+AD30+AF30),2) -> 1080000 | AC30: =ROUND((ES30),2) -> 0 | AD30: =ROUND((ET30),2) -> 0 | AE30: =ROUND((EU30),2) -> 0 | AF30: =ROUND((EV30),2) -> 1080000 | AG30: =ROUND((AP30),2) -> 0 | AH30: =(EW30) -> 0 | AI30: =(EX30) -> 0 | AJ30: =(AS30) -> 0 | AK30: 1080000 | AL30: 0 | AM30: 0 | AN30: 0 | AO30: 1080000 | AP30: 0 | AQ30: 0 | AR30: 0 | AS30: 0 | AT30: 0 | AU30: 0 | AV30: 1 | AW30: 1 | AZ30: 1 | BA30: 1 | BB30: 1 | BC30: 1 | BH30: 0 | BI30: 1 | BM30: 1211 | BN30: 0 | BP30: 0 | BQ30: 8 | BR30: 0 | BS30: 1 | BT30: 1 | BU30: 1 | BV30: 1 | BW30: 1 | BX30: 1 | BZ30: 0 | CA30: 0 | CE30: 0 | CF30: 0 | CG30: 0 | CH30: 2 | CI30: 0 | CJ30: 0 | CK30: 0 | CL30: 0 | CM30: 0 | CO30: 0 | CP30: =(P30+Q30+S30) -> 45036 | CQ30: =AC30*BC30 -> 0 | CR30: =((AD30*BB30-(EU30)*BS30)+AE30*BS30) -> 0 | CS30: =AE30*BS30 -> 0 | CT30: =AF30*BA30 -> 1080000 | CU30: =AG30 -> 0 | CV30: =AH30 -> 0 | CW30: =AI30 -> 0 | CX30: =AJ30 -> 0 | CY30: =(((S30+R30)*FX30)/100) -> 0 | CZ30: =(((S30+R30)*CA30)/100) -> 0 | DN30: 0 | DO30: 0 | DP30: 1 | DQ30: 1 | DU30: 1013 | DV30: КОМПЛ | DW30: КОМПЛ | DX30: 1 | EE30: 58262974 | EF30: 8 | EG30: Материалы | EH30: 0 | EJ30: 1 | EK30: 1211 | EL30: Материал по прайсу | EM30: материалы | EQ30: 0 | ER30: 1080000 | ES30: 0 | ET30: 0 | EU30: 0 | EV30: 1080000 | EW30: 0 | EX30: 0 | EY30: 0 | FQ30: 0 | FR30: =ROUND(IF(AND(BH30=3,BI30=3),P30,0),2) -> 0 | FS30: 0 | FT30: *0,94 | FX30: 0 | FY30: 0 | GD30: 1 | GF30: 1628738907 | GG30: 2 | GH30: 2 | GI30: 0 | GJ30: 0 | GK30: 0 | GL30: =ROUND(IF(AND(BH30=3,BI30=3,FS30<>0),P30,0),2) -> 0 | GM30: =ROUND(O30+X30+Y30,2)+GX30 -> 45036 | GN30: =IF(OR(BI30=0,BI30=1),ROUND(O30+X30+Y30,2),0) -> 45036 | GO30: =IF(BI30=2,ROUND(O30+X30+Y30,2),0) -> 0 | GP30: =IF(BI30=4,ROUND(O30+X30+Y30,2)+GX30,0) -> 0 | GR30: 0 | GS30: 4 | GT30: 0 | GV30: =ROUND((GT30),2) -> 0 | GW30: 1 | GX30: =ROUND(HC30*I30,2) -> 0 | HA30: 0 | HB30: 0 | HC30: =GV30*GW30 -> 0 | IK30: 0
A31: 17 | B31: 1 | E31: 2 | F31: 1.2 | G31: Охрана объекта (24 месяца*45000руб.) | H31: КОМПЛ | I31: 0.0417 | J31: 0 | L31: 1 | M31: 0.58339967 | N31: =ROUND(L31-M31,4) -> 0.4166 | O31: =ROUND(CP31,2) -> 45036 | P31: =ROUND(CQ31*I31,2) -> 0 | Q31: =ROUND(CR31*I31,2) -> 0 | R31: =ROUND(CS31*I31,2) -> 0 | S31: =ROUND(CT31*I31,2) -> 45036 | T31: =ROUND(CU31*I31,2) -> 0 | U31: =CV31*I31 -> 0 | V31: =CW31*I31 -> 0 | W31: =ROUND(CX31*I31,2) -> 0 | X31: =ROUND(CY31,2) -> 0 | Y31: =ROUND(CZ31,2) -> 0 | AA31: 58262851 | AB31: =ROUND((AC31+AD31+AF31),2) -> 1080000 | AC31: =ROUND((ES31),2) -> 0 | AD31: =ROUND((ET31),2) -> 0 | AE31: =ROUND((EU31),2) -> 0 | AF31: =ROUND((EV31),2) -> 1080000 | AG31: =ROUND((AP31),2) -> 0 | AH31: =(EW31) -> 0 | AI31: =(EX31) -> 0 | AJ31: =(AS31) -> 0 | AK31: 1080000 | AL31: 0 | AM31: 0 | AN31: 0 | AO31: 1080000 | AP31: 0 | AQ31: 0 | AR31: 0 | AS31: 0 | AT31: 0 | AU31: 0 | AV31: 1 | AW31: 1 | AZ31: 1 | BA31: 1 | BB31: 1 | BC31: 1 | BH31: 0 | BI31: 1 | BM31: 1211 | BN31: 0 | BP31: 0 | BQ31: 8 | BR31: 0 | BS31: 1 | BT31: 1 | BU31: 1 | BV31: 1 | BW31: 1 | BX31: 1 | BZ31: 0 | CA31: 0 | CE31: 0 | CF31: 0 | CG31: 0 | CH31: 2 | CI31: 0 | CJ31: 0 | CK31: 0 | CL31: 0 | CM31: 0 | CO31: 0 | CP31: =(P31+Q31+S31) -> 45036 | CQ31: =AC31*BC31 -> 0 | CR31: =((AD31*BB31-(EU31)*BS31)+AE31*BS31) -> 0 | CS31: =AE31*BS31 -> 0 | CT31: =AF31*BA31 -> 1080000 | CU31: =AG31 -> 0 | CV31: =AH31 -> 0 | CW31: =AI31 -> 0 | CX31: =AJ31 -> 0 | CY31: =(((S31+R31)*FX31)/100) -> 0 | CZ31: =(((S31+R31)*CA31)/100) -> 0 | DN31: 0 | DO31: 0 | DP31: 1 | DQ31: 1 | DU31: 1013 | DV31: КОМПЛ | DW31: КОМПЛ | DX31: 1 | EE31: 58262974 | EF31: 8 | EG31: Материалы | EH31: 0 | EJ31: 1 | EK31: 1211 | EL31: Материал по прайсу | EM31: материалы | EQ31: 0 | ER31: 1080000 | ES31: 0 | ET31: 0 | EU31: 0 | EV31: 1080000 | EW31: 0 | EX31: 0 | EY31: 0 | FQ31: 0 | FR31: =ROUND(IF(AND(BH31=3,BI31=3),P31,0),2) -> 0 | FS31: 0 | FT31: *0,94 | FX31: 0 | FY31: 0 | GD31: 1 | GF31: 1628738907 | GG31: 2 | GH31: 2 | GI31: 0 | GJ31: 0 | GK31: 0 | GL31: =ROUND(IF(AND(BH31=3,BI31=3,FS31<>0),P31,0),2) -> 0 | GM31: =ROUND(O31+X31+Y31,2)+GX31 -> 45036 | GN31: =IF(OR(BI31=0,BI31=1),ROUND(O31+X31+Y31,2),0) -> 45036 | GO31: =IF(BI31=2,ROUND(O31+X31+Y31,2),0) -> 0 | GP31: =IF(BI31=4,ROUND(O31+X31+Y31,2)+GX31,0) -> 0 | GR31: 0 | GS31: 4 | GT31: 0 | GV31: =ROUND((GT31),2) -> 0 | GW31: 1 | GX31: =ROUND(HC31*I31,2) -> 0 | HA31: 0 | HB31: 0 | HC31: =GV31*GW31 -> 0 | IK31: 0
A32: 17 | B32: 1 | E32: 3 | F32: 1.3 | G32: - геодезические и гидрогеологические работы, разбивка осей здания и т. п., вынос коммуникаций из пятна застройки, вырубка деревьев | H32: КОМПЛ | I32: 0 | J32: 0 | L32: 1 | M32: 1 | N32: =ROUND(L32-M32,4) -> 0 | O32: =ROUND(CP32,2) -> 0 | P32: =ROUND(CQ32*I32,2) -> 0 | Q32: =ROUND(CR32*I32,2) -> 0 | R32: =ROUND(CS32*I32,2) -> 0 | S32: =ROUND(CT32*I32,2) -> 0 | T32: =ROUND(CU32*I32,2) -> 0 | U32: =CV32*I32 -> 0 | V32: =CW32*I32 -> 0 | W32: =ROUND(CX32*I32,2) -> 0 | X32: =ROUND(CY32,2) -> 0 | Y32: =ROUND(CZ32,2) -> 0 | AA32: 58262852 | AB32: =ROUND((AC32+AD32+AF32),2) -> 450000 | AC32: =ROUND((ES32),2) -> 0 | AD32: =ROUND((ET32),2) -> 0 | AE32: =ROUND((EU32),2) -> 0 | AF32: =ROUND((EV32),2) -> 450000 | AG32: =ROUND((AP32),2) -> 0 | AH32: =(EW32) -> 0 | AI32: =(EX32) -> 0 | AJ32: =(AS32) -> 0 | AK32: 450000 | AL32: 0 | AM32: 0 | AN32: 0 | AO32: 450000 | AP32: 0 | AQ32: 0 | AR32: 0 | AS32: 0 | AT32: 0 | AU32: 0 | AV32: 1 | AW32: 1 | AZ32: 1 | BA32: 1 | BB32: 1 | BC32: 1 | BH32: 0 | BI32: 1 | BM32: 1211 | BN32: 0 | BP32: 0 | BQ32: 8 | BR32: 0 | BS32: 1 | BT32: 1 | BU32: 1 | BV32: 1 | BW32: 1 | BX32: 1 | BZ32: 0 | CA32: 0 | CE32: 0 | CF32: 0 | CG32: 0 | CH32: 3 | CI32: 0 | CJ32: 0 | CK32: 0 | CL32: 0 | CM32: 0 | CO32: 0 | CP32: =(P32+Q32+S32) -> 0 | CQ32: =AC32*BC32 -> 0 | CR32: =((AD32*BB32-(EU32)*BS32)+AE32*BS32) -> 0 | CS32: =AE32*BS32 -> 0 | CT32: =AF32*BA32 -> 450000 | CU32: =AG32 -> 0 | CV32: =AH32 -> 0 | CW32: =AI32 -> 0 | CX32: =AJ32 -> 0 | CY32: =(((S32+R32)*FX32)/100) -> 0 | CZ32: =(((S32+R32)*CA32)/100) -> 0 | DN32: 0 | DO32: 0 | DP32: 1 | DQ32: 1 | DU32: 1013 | DV32: КОМПЛ | DW32: КОМПЛ | DX32: 1 | EE32: 58262974 | EF32: 8 | EG32: Материалы | EH32: 0 | EJ32: 1 | EK32: 1211 | EL32: Материал по прайсу | EM32: материалы | EQ32: 0 | ER32: 450000 | ES32: 0 | ET32: 0 | EU32: 0 | EV32: 450000 | EW32: 0 | EX32: 0 | EY32: 0 | FQ32: 0 | FR32: =ROUND(IF(AND(BH32=3,BI32=3),P32,0),2) -> 0 | FS32: 0 | FT32: *0,94 | FX32: 0 | FY32: 0 | GD32: 1 | GF32: 1450843093 | GG32: 2 | GH32: 2 | GI32: 0 | GJ32: 0 | GK32: 0 | GL32: =ROUND(IF(AND(BH32=3,BI32=3,FS32<>0),P32,0),2) -> 0 | GM32: =ROUND(O32+X32+Y32,2)+GX32 -> 0 | GN32: =IF(OR(BI32=0,BI32=1),ROUND(O32+X32+Y32,2),0) -> 0 | GO32: =IF(BI32=2,ROUND(O32+X32+Y32,2),0) -> 0 | GP32: =IF(BI32=4,ROUND(O32+X32+Y32,2)+GX32,0) -> 0 | GR32: 0 | GS32: 4 | GT32: 0 | GV32: =ROUND((GT32),2) -> 0 | GW32: 1 | GX32: =ROUND(HC32*I32,2) -> 0 | HA32: 0 | HB32: 0 | HC32: =GV32*GW32 -> 0 | IK32: 0
A33: 17 | B33: 1 | E33: 3 | F33: 1.3 | G33: - геодезические и гидрогеологические работы, разбивка осей здания и т. п., вынос коммуникаций из пятна застройки, вырубка деревьев | H33: КОМПЛ | I33: 0 | J33: 0 | L33: 1 | M33: 1 | N33: =ROUND(L33-M33,4) -> 0 | O33: =ROUND(CP33,2) -> 0 | P33: =ROUND(CQ33*I33,2) -> 0 | Q33: =ROUND(CR33*I33,2) -> 0 | R33: =ROUND(CS33*I33,2) -> 0 | S33: =ROUND(CT33*I33,2) -> 0 | T33: =ROUND(CU33*I33,2) -> 0 | U33: =CV33*I33 -> 0 | V33: =CW33*I33 -> 0 | W33: =ROUND(CX33*I33,2) -> 0 | X33: =ROUND(CY33,2) -> 0 | Y33: =ROUND(CZ33,2) -> 0 | AA33: 58262851 | AB33: =ROUND((AC33+AD33+AF33),2) -> 450000 | AC33: =ROUND((ES33),2) -> 0 | AD33: =ROUND((ET33),2) -> 0 | AE33: =ROUND((EU33),2) -> 0 | AF33: =ROUND((EV33),2) -> 450000 | AG33: =ROUND((AP33),2) -> 0 | AH33: =(EW33) -> 0 | AI33: =(EX33) -> 0 | AJ33: =(AS33) -> 0 | AK33: 450000 | AL33: 0 | AM33: 0 | AN33: 0 | AO33: 450000 | AP33: 0 | AQ33: 0 | AR33: 0 | AS33: 0 | AT33: 0 | AU33: 0 | AV33: 1 | AW33: 1 | AZ33: 1 | BA33: 1 | BB33: 1 | BC33: 1 | BH33: 0 | BI33: 1 | BM33: 1211 | BN33: 0 | BP33: 0 | BQ33: 8 | BR33: 0 | BS33: 1 | BT33: 1 | BU33: 1 | BV33: 1 | BW33: 1 | BX33: 1 | BZ33: 0 | CA33: 0 | CE33: 0 | CF33: 0 | CG33: 0 | CH33: 3 | CI33: 0 | CJ33: 0 | CK33: 0 | CL33: 0 | CM33: 0 | CO33: 0 | CP33: =(P33+Q33+S33) -> 0 | CQ33: =AC33*BC33 -> 0 | CR33: =((AD33*BB33-(EU33)*BS33)+AE33*BS33) -> 0 | CS33: =AE33*BS33 -> 0 | CT33: =AF33*BA33 -> 450000 | CU33: =AG33 -> 0 | CV33: =AH33 -> 0 | CW33: =AI33 -> 0 | CX33: =AJ33 -> 0 | CY33: =(((S33+R33)*FX33)/100) -> 0 | CZ33: =(((S33+R33)*CA33)/100) -> 0 | DN33: 0 | DO33: 0 | DP33: 1 | DQ33: 1 | DU33: 1013 | DV33: КОМПЛ | DW33: КОМПЛ | DX33: 1 | EE33: 58262974 | EF33: 8 | EG33: Материалы | EH33: 0 | EJ33: 1 | EK33: 1211 | EL33: Материал по прайсу | EM33: материалы | EQ33: 0 | ER33: 450000 | ES33: 0 | ET33: 0 | EU33: 0 | EV33: 450000 | EW33: 0 | EX33: 0 | EY33: 0 | FQ33: 0 | FR33: =ROUND(IF(AND(BH33=3,BI33=3),P33,0),2) -> 0 | FS33: 0 | FT33: *0,94 | FX33: 0 | FY33: 0 | GD33: 1 | GF33: 1450843093 | GG33: 2 | GH33: 2 | GI33: 0 | GJ33: 0 | GK33: 0 | GL33: =ROUND(IF(AND(BH33=3,BI33=3,FS33<>0),P33,0),2) -> 0 | GM33: =ROUND(O33+X33+Y33,2)+GX33 -> 0 | GN33: =IF(OR(BI33=0,BI33=1),ROUND(O33+X33+Y33,2),0) -> 0 | GO33: =IF(BI33=2,ROUND(O33+X33+Y33,2),0) -> 0 | GP33: =IF(BI33=4,ROUND(O33+X33+Y33,2)+GX33,0) -> 0 | GR33: 0 | GS33: 4 | GT33: 0 | GV33: =ROUND((GT33),2) -> 0 | GW33: 1 | GX33: =ROUND(HC33*I33,2) -> 0 | HA33: 0 | HB33: 0 | HC33: =GV33*GW33 -> 0 | IK33: 0
A35: 51 | B35: =B24 -> 1 | C35: =A24 -> 4 | D35: =ROW(A24) -> 24 | F35: =IF(F24<>"",F24,"") -> Новый раздел | G35: =IF(G24<>"",G24,"") -> Раздел 1. Подготовка территории строительства и содержание строительной площадки | H35: 0 | O35: =ROUND(AB35,2) -> 45036 | P35: =ROUND(AC35,2) -> 0 | Q35: =ROUND(AD35,2) -> 0 | R35: =ROUND(AE35,2) -> 0 | S35: =ROUND(AF35,2) -> 45036 | T35: =ROUND(AG35,2) -> 0 | U35: =AH35 -> 0 | V35: =AI35 -> 0 | W35: =ROUND(AJ35,2) -> 0 | X35: =ROUND(AK35,2) -> 0 | Y35: =ROUND(AL35,2) -> 0 | AB35: =ROUND(SUMIF(AA28:AA33,"=58262852",O28:O33),2) -> 45036 | AC35: =ROUND(SUMIF(AA28:AA33,"=58262852",P28:P33),2) -> 0 | AD35: =ROUND(SUMIF(AA28:AA33,"=58262852",Q28:Q33),2) -> 0 | AE35: =ROUND(SUMIF(AA28:AA33,"=58262852",R28:R33),2) -> 0 | AF35: =ROUND(SUMIF(AA28:AA33,"=58262852",S28:S33),2) -> 45036 | AG35: =ROUND(SUMIF(AA28:AA33,"=58262852",T28:T33),2) -> 0 | AH35: =SUMIF(AA28:AA33,"=58262852",U28:U33) -> 0 | AI35: =SUMIF(AA28:AA33,"=58262852",V28:V33) -> 0 | AJ35: =ROUND(SUMIF(AA28:AA33,"=58262852",W28:W33),2) -> 0 | AK35: =ROUND(SUMIF(AA28:AA33,"=58262852",X28:X33),2) -> 0 | AL35: =ROUND(SUMIF(AA28:AA33,"=58262852",Y28:Y33),2) -> 0 | AO35: =ROUND(BX35,2) -> 0 | AP35: =ROUND(BY35,2) -> 0 | AQ35: =ROUND(BZ35,2) -> 0 | AR35: =ROUND(CA35,2) -> 45036 | AS35: =ROUND(CB35,2) -> 45036 | AT35: =ROUND(CC35,2) -> 0 | AU35: =ROUND(CD35,2) -> 0 | AV35: =ROUND(CE35,2) -> 0 | ... BD35: =ROUND(CM35,2) -> 0 | BX35: =ROUND(SUMIF(AA28:AA33,"=58262852",FQ28:FQ33),2) -> 0 | BY35: =ROUND(SUMIF(AA28:AA33,"=58262852",FR28:FR33),2) -> 0 | BZ35: =ROUND(SUMIF(AA28:AA33,"=58262852",GL28:GL33),2) -> 0 | CA35: =ROUND(SUMIF(AA28:AA33,"=58262852",GM28:GM33),2) -> 45036 | CB35: =ROUND(SUMIF(AA28:AA33,"=58262852",GN28:GN33),2) -> 45036 | CC35: =ROUND(SUMIF(AA28:AA33,"=58262852",GO28:GO33),2) -> 0 | CD35: =ROUND(SUMIF(AA28:AA33,"=58262852",GP28:GP33),2) -> 0 | CE35: =AC35-BX35 -> 0 | CF35: =AC35-BY35 -> 0 | CG35: =BX35-BZ35 -> 0 | CH35: =AC35-BX35-BY35+BZ35 -> 0 | CI35: =BY35-BZ35 -> 0 | CJ35: =ROUND(SUMIF(AA28:AA33,"=58262852",GX28:GX33),2) -> 0 | CK35: =ROUND(SUMIF(AA28:AA33,"=58262852",GY28:GY33),2) -> 0 | CL35: =ROUND(SUMIF(AA28:AA33,"=58262852",GZ28:GZ33),2) -> 0 | CM35: =ROUND(SUMIF(AA28:AA33,"=58262852",HD28:HD33),2) -> 0 | DG35: =ROUND(DT35,2) -> 45036 | DH35: =ROUND(DU35,2) -> 0 | DI35: =ROUND(DV35,2) -> 0 | DJ35: =ROUND(DW35,2) -> 0 | DK35: =ROUND(DX35,2) -> 45036 | DL35: =ROUND(DY35,2) -> 0 | DM35: =DZ35 -> 0 | DN35: =EA35 -> 0 | DO35: =ROUND(EB35,2) -> 0 | DP35: =ROUND(EC35,2) -> 0 | DQ35: =ROUND(ED35,2) -> 0 | DT35: =ROUND(SUMIF(AA28:AA33,"=58262851",O28:O33),2) -> 45036 | DU35: =ROUND(SUMIF(AA28:AA33,"=58262851",P28:P33),2) -> 0 | DV35: =ROUND(SUMIF(AA28:AA33,"=58262851",Q28:Q33),2) -> 0 | DW35: =ROUND(SUMIF(AA28:AA33,"=58262851",R28:R33),2) -> 0 | DX35: =ROUND(SUMIF(AA28:AA33,"=58262851",S28:S33),2) -> 45036 | DY35: =ROUND(SUMIF(AA28:AA33,"=58262851",T28:T33),2) -> 0 | DZ35: =SUMIF(AA28:AA33,"=58262851",U28:U33) -> 0 | EA35: =SUMIF(AA28:AA33,"=58262851",V28:V33) -> 0 | EB35: =ROUND(SUMIF(AA28:AA33,"=58262851",W28:W33),2) -> 0 | EC35: =ROUND(SUMIF(AA28:AA33,"=58262851",X28:X33),2) -> 0 | ED35: =ROUND(SUMIF(AA28:AA33,"=58262851",Y28:Y33),2) -> 0 | EG35: =ROUND(FP35,2) -> 0 | EH35: =ROUND(FQ35,2) -> 0 | EI35: =ROUND(FR35,2) -> 0 | EJ35: =ROUND(FS35,2) -> 45036 | EK35: =ROUND(FT35,2) -> 45036 | EL35: =ROUND(FU35,2) -> 0 | EM35: =ROUND(FV35,2) -> 0 | EN35: =ROUND(FW35,2) -> 0 | ... EV35: =ROUND(GE35,2) -> 0 | FP35: =ROUND(SUMIF(AA28:AA33,"=58262851",FQ28:FQ33),2) -> 0 | FQ35: =ROUND(SUMIF(AA28:AA33,"=58262851",FR28:FR33),2) -> 0 | FR35: =ROUND(SUMIF(AA28:AA33,"=58262851",GL28:GL33),2) -> 0 | FS35: =ROUND(SUMIF(AA28:AA33,"=58262851",GM28:GM33),2) -> 45036 | FT35: =ROUND(SUMIF(AA28:AA33,"=58262851",GN28:GN33),2) -> 45036 | FU35: =ROUND(SUMIF(AA28:AA33,"=58262851",GO28:GO33),2) -> 0 | FV35: =ROUND(SUMIF(AA28:AA33,"=58262851",GP28:GP33),2) -> 0 | FW35: =DU35-FP35 -> 0 | FX35: =DU35-FQ35 -> 0 | FY35: =FP35-FR35 -> 0 | FZ35: =DU35-FP35-FQ35+FR35 -> 0 | GA35: =FQ35-FR35 -> 0 | GB35: =ROUND(SUMIF(AA28:AA33,"=58262851",GX28:GX33),2) -> 0 | GC35: =ROUND(SUMIF(AA28:AA33,"=58262851",GY28:GY33),2) -> 0 | GD35: =ROUND(SUMIF(AA28:AA33,"=58262851",GZ28:GZ33),2) -> 0 | GE35: =ROUND(SUMIF(AA28:AA33,"=58262851",HD28:HD33),2) -> 0 | GX35: 0
A37: 50 | B37: 0 | C37: 0 | D37: 1 | E37: 201 | F37: =ROUND(Source!O35,O37) -> 45036 | G37: ПЗ | H37: Прямые затраты | K37: -201 | L37: 1 | M37: 3 | O37: 2 | P37: =ROUND(Source!DG35,O37) -> 45036
A38: 50 | B38: 0 | C38: 0 | D38: 1 | E38: 202 | F38: =ROUND(Source!P35,O38) -> 0 | G38: СтМатОб | H38: Стоимость материальных ресурсов (всего) | K38: -202 | L38: 2 | M38: 3 | O38: 2 | P38: =ROUND(Source!DH35,O38) -> 0
A39: 50 | B39: 0 | C39: 0 | D39: 1 | E39: 222 | F39: =ROUND(Source!AO35,O39) -> 0 | G39: СтМатОбЗак | H39: Стоимость материалов и оборудования заказчика | K39: -222 | L39: 3 | M39: 3 | O39: 2 | P39: =ROUND(Source!EG35,O39) -> 0
A40: 50 | B40: 0 | C40: 0 | D40: 1 | E40: 225 | F40: =ROUND(Source!AV35,O40) -> 0 | G40: СтМатОбПод | H40: Стоимость материалов и оборудования подрядчика | K40: -225 | L40: 4 | M40: 3 | O40: 2 | P40: =ROUND(Source!EN35,O40) -> 0
A41: 50 | B41: 0 | C41: 0 | D41: 1 | E41: 226 | F41: =ROUND(Source!AW35,O41) -> 0 | G41: СтМат | H41: Стоимость материалов (всего) | K41: -226 | L41: 5 | M41: 3 | O41: 2 | P41: =ROUND(Source!EO35,O41) -> 0
A42: 50 | B42: 0 | C42: 0 | D42: 1 | E42: 227 | F42: =ROUND(Source!AX35,O42) -> 0 | G42: СтМатЗак | H42: Стоимость материалов заказчика | K42: -227 | L42: 6 | M42: 3 | O42: 2 | P42: =ROUND(Source!EP35,O42) -> 0
A43: 50 | B43: 0 | C43: 0 | D43: 1 | E43: 228 | F43: =ROUND(Source!AY35,O43) -> 0 | G43: СтМатПод | H43: Стоимость материалов подрядчика | K43: -228 | L43: 7 | M43: 3 | O43: 2 | P43: =ROUND(Source!EQ35,O43) -> 0
A44: 50 | B44: 0 | C44: 0 | D44: 1 | E44: 216 | F44: =ROUND(Source!AP35,O44) -> 0 | G44: Оборуд | H44: Стоимость оборудования (всего) | K44: -216 | L44: 8 | M44: 3 | O44: 2 | P44: =ROUND(Source!EH35,O44) -> 0
A45: 50 | B45: 0 | C45: 0 | D45: 1 | E45: 223 | F45: =ROUND(Source!AQ35,O45) -> 0 | G45: ОборудЗак | H45: Стоимость оборудования заказчика | K45: -223 | L45: 9 | M45: 3 | O45: 2 | P45: =ROUND(Source!EI35,O45) -> 0
A46: 50 | B46: 0 | C46: 0 | D46: 1 | E46: 229 | F46: =ROUND(Source!AZ35,O46) -> 0 | G46: ОборудПод | H46: Стоимость оборудования подрядчика | K46: -229 | L46: 10 | M46: 3 | O46: 2 | P46: =ROUND(Source!ER35,O46) -> 0
A47: 50 | B47: 0 | C47: 0 | D47: 1 | E47: 203 | F47: =ROUND(Source!Q35,O47) -> 0 | G47: ЭММ | H47: Эксплуатация машин | K47: -203 | L47: 11 | M47: 3 | O47: 2 | P47: =ROUND(Source!DI35,O47) -> 0
A48: 50 | B48: 0 | C48: 0 | D48: 1 | E48: 231 | F48: =ROUND(Source!BB35,O48) -> 0 | G48: ЭММсНРиСП | H48: Эксплуатация машин по ТСН-2001.16 | K48: -231 | L48: 12 | M48: 3 | O48: 2 | P48: =ROUND(Source!ET35,O48) -> 0
A49: 50 | B49: 0 | C49: 0 | D49: 1 | E49: 204 | F49: =ROUND(Source!R35,O49) -> 0 | G49: ЗПМ | H49: ЗП машинистов | K49: -204 | L49: 13 | M49: 3 | O49: 2 | P49: =ROUND(Source!DJ35,O49) -> 0
A50: 50 | B50: 0 | C50: 0 | D50: 1 | E50: 205 | F50: =ROUND(Source!S35,O50) -> 45036 | G50: ОЗП | H50: Основная ЗП рабочих | K50: -205 | L50: 14 | M50: 3 | O50: 2 | P50: =ROUND(Source!DK35,O50) -> 45036
A51: 50 | B51: 0 | C51: 0 | D51: 1 | E51: 232 | F51: =ROUND(Source!BC35,O51) -> 0 | G51: ОЗПсНРиСП | H51: Основная ЗП рабочих по ТСН-2001.16 | K51: -232 | L51: 15 | M51: 3 | O51: 2 | P51: =ROUND(Source!EU35,O51) -> 0
A52: 50 | B52: 0 | C52: 0 | D52: 1 | E52: 214 | F52: =ROUND(Source!AS35,O52) -> 45036 | G52: Строит | H52: Строительные работы с НР и СП | K52: -214 | L52: 16 | M52: 3 | O52: 2 | P52: =ROUND(Source!EK35,O52) -> 45036
A53: 50 | B53: 0 | C53: 0 | D53: 1 | E53: 215 | F53: =ROUND(Source!AT35,O53) -> 0 | G53: Монтаж | H53: Монтажные работы с НР и СП | K53: -215 | L53: 17 | M53: 3 | O53: 2 | P53: =ROUND(Source!EL35,O53) -> 0
A54: 50 | B54: 0 | C54: 0 | D54: 1 | E54: 217 | F54: =ROUND(Source!AU35,O54) -> 0 | G54: Прочие | H54: Прочие работы с НР и СП | K54: -217 | L54: 18 | M54: 3 | O54: 2 | P54: =ROUND(Source!EM35,O54) -> 0
A55: 50 | B55: 0 | C55: 0 | D55: 1 | E55: 230 | F55: =ROUND(Source!BA35,O55) -> 0 | G55: ПрочиеЗатр | H55: Прочие затраты по ТСН-2001.16 | K55: -230 | L55: 19 | M55: 3 | O55: 2 | P55: =ROUND(Source!ES35,O55) -> 0
A56: 50 | B56: 0 | C56: 0 | D56: 1 | E56: 206 | F56: =ROUND(Source!T35,O56) -> 0 | G56: ВозврМат | H56: Возврат материалов | K56: -206 | L56: 20 | M56: 3 | O56: 2 | P56: =ROUND(Source!DL35,O56) -> 0
A57: 50 | B57: 0 | C57: 0 | D57: 1 | E57: 207 | F57: =Source!U35 -> 0 | G57: ТрудСтр | H57: Трудозатраты строителей | K57: -207 | L57: 21 | M57: 3 | O57: -1 | P57: =Source!DM35 -> 0
A58: 50 | B58: 0 | C58: 0 | D58: 1 | E58: 208 | F58: =Source!V35 -> 0 | G58: ТрудМаш | H58: Трудозатраты машинистов | K58: -208 | L58: 22 | M58: 3 | O58: -1 | P58: =Source!DN35 -> 0
A59: 50 | B59: 0 | C59: 0 | D59: 1 | E59: 209 | F59: =ROUND(Source!W35,O59) -> 0 | G59: ТранспМат | H59: Транспорт материалов | K59: -209 | L59: 23 | M59: 3 | O59: 2 | P59: =ROUND(Source!DO35,O59) -> 0
A60: 50 | B60: 0 | C60: 0 | D60: 1 | E60: 233 | F60: =ROUND(Source!BD35,O60) -> 0 | G60: Перевозка | H60: Перевозка грузов | K60: -233 | L60: 24 | M60: 3 | O60: 2 | P60: =ROUND(Source!EV35,O60) -> 0
A61: 50 | B61: 0 | C61: 0 | D61: 1 | E61: 210 | F61: =ROUND(Source!X35,O61) -> 0 | G61: НР | H61: Накладные расходы | K61: -210 | L61: 25 | M61: 3 | O61: 2 | P61: =ROUND(Source!DP35,O61) -> 0
...

Sheet SourceObSm
A1: 0 | B1: Smeta.RU (495) 974-1589 | D1: _OBSM_ | F1: 0 | G1: 0 | H1: 0 | I1: Smeta.RU | K1: 0 | L1: 23404 | M1: 10 | N1: 11 | O1: 0 | P1: 1 | Q1: 6
A12: 1 | B12: 24 | C12: 0 | E12: 0 | F12: Новый объект | G12: "КЛЮКВЕННЫЙ" ДОГОВОР 4-КС-2019-КЛ от 18.03.2019 | I12: 0 | K12: 0 | O12: 0 | P12: 0 | Q12: 0 | R12: 0 | S12: 0 | V12: 0 | AB12: Вороненко А. В. | AC12: Начальник СДО | AH12: Г.В. Агекян | AI12: Генеральный директор | AJ12: ООО "СЗ "Аркада" ИНН 5050115542 Юр. адрес: 141190, МО, г. Фрязино, ул. Вокзальная д.6а, офис 143 Тел/факс: 8(495) 995 59 06 | AL12: Г. Ж. Мурадян | AM12: Зам. генерального директора | AN12: ООО "Строительная компания", 141190, Московская область, г. Фрязино, ул. Вокзальная, д.6а, оф. 77 | AX12: ООО "СЗ "Аркада" ИНН 5050115542 Юр. адрес: 141190, МО, г. Фрязино, ул. Вокзальная д.6а, офис 143 Тел/факс: 8(495) 995 59 06 | AY12: ООО "Строительная компания", ИНН 5050117620. 141190, Московская область, г. Фрязино, ул. Вокзальная, д.6а, оф. 77 | BH12: Сметные нормы списания | BI12: Коды ценников | BJ12: 0 | BK12: 1 | BL12: 0 | BM12: 0 | BN12: 0 | BO12: 0 | BP12: 2 | BQ12: 2 | BR12: 0 | BS12: 0 | BT12: 0 | BU12: 0 | BV12: 0 | BW12: 0 | BX12: 0 | BZ12: Версия 5. Типовой расчёт (0,94) для норм 2001 года промышл без параметров | CF12: 0 | CG12: 0 | CH12: 8 | CK12: 0 | EC12: 0
A14: 22 | B14: 0 | C14: 0 | D14: 58262852 | E14: 58262851 | F14: 3
A16: 3 | B16: 1 | C16: Новая локальная смета | D16: локальная смета | E16: =(Source!F280)/1000 -> 5083.5687 | F16: =(Source!F281)/1000 -> 0 | G16: =(Source!F272)/1000 -> 0 | H16: =(Source!F282)/1000+(Source!F283)/1000 -> 0 | I16: =E16+F16+G16+H16 -> 5083.5687 | J16: =(Source!F278)/1000 -> 5083.5687 | T16: =(Source!P280)/1000 -> 5228.5252 | U16: =(Source!P281)/1000 -> 0 | V16: =(Source!P272)/1000 -> 0 | W16: =(Source!P282)/1000+(Source!P283)/1000 -> 0 | X16: =T16+U16+V16+W16 -> 5228.5252 | Y16: =(Source!P278)/1000 -> 5228.5252 | AI16: 0 | AJ16: -1 | AN16: 0 | AT16: 5083568.7 | AU16: 0 | AV16: 0 | AW16: 0 | AX16: 0 | AY16: 0 | AZ16: 0 | BA16: 5083568.7 | BB16: 5083568.7 | BC16: 0 | BD16: 0 | BE16: 0 | BF16: 0 | BG16: 0 | BH16: 0 | BI16: 0 | BJ16: 0 | BK16: 5083568.7 | BR16: 5228525.2 | BS16: 0 | BT16: 0 | BU16: 0 | BV16: 0 | BW16: 0 | BX16: 0 | BY16: 5228525.2 | BZ16: 5228525.2 | CA16: 0 | CB16: 0 | CC16: 0 | CD16: 0 | CE16: 0 | CF16: 0 | CG16: 0 | CH16: 0 | CI16: 5228525.2
A18: 51 | E18: =SUMIF(A16:A17,3,E16:E17) -> 5083.5687 | F18: =SUMIF(A16:A17,3,F16:F17) -> 0 | G18: =SUMIF(A16:A17,3,G16:G17) -> 0 | H18: =SUMIF(A16:A17,3,H16:H17) -> 0 | I18: =SUMIF(A16:A17,3,I16:I17) -> 5083.5687 | J18: =SUMIF(A16:A17,3,J16:J17) -> 5083.5687 | T18: =SUMIF(A16:A17,3,T16:T17) -> 5228.5252 | U18: =SUMIF(A16:A17,3,U16:U17) -> 0 | V18: =SUMIF(A16:A17,3,V16:V17) -> 0 | W18: =SUMIF(A16:A17,3,W16:W17) -> 0 | X18: =SUMIF(A16:A17,3,X16:X17) -> 5228.5252 | Y18: =SUMIF(A16:A17,3,Y16:Y17) -> 5228.5252
A21: -1
A24: 75 | B24: Уровень цен | C24: 2000 | D24: 0 | E24: 1 | F24: 0 | G24: 0 | H24: 1 | I24: 0 | J24: 1 | K24: 0 | L24: 0 | M24: 0 | N24: 58262852 | O24: 1
A25: 75 | B25: Уровень цен | C25: 2000 | D25: 0 | E25: 1 | F25: 0 | G25: 0 | H25: 1 | I25: 0 | J25: 1 | K25: 0 | L25: 0 | M25: 1 | N25: 58262851 | O25: 2

Sheet SmtRes

Sheet EtalonRes
