Workbook

Sheet Смета СН-2012 по гл. 1-5
A1: =CONCATENATE(Source!B1, " СН-2012 (© ОАО МЦЦС 'Мосстройцены', ", "2020", ")") -> Smeta.RU (495) 974-1589 СН-2012 (© ОАО МЦЦС 'Мосстройцены', 2020)
J2: Форма № 1а (глава 1-5)
B3: "СОГЛАСОВАНО" | G3: "УТВЕРЖДАЮ"
B6: =CONCATENATE("______________________ ", IF(Source!AL12<>"", Source!AL12, "")) -> ______________________ | G6: =CONCATENATE("______________________ ", IF(Source!AH12<>"", Source!AH12, "")) -> ______________________
B7: "_____"________________ 2020 г. | G7: "_____"________________ 2020 г.
A10: =CONCATENATE( "ЛОКАЛЬНАЯ СМЕТА № ",IF(Source!F20<>"Новая локальная смета", Source!F20, "")) -> ЛОКАЛЬНАЯ СМЕТА №
A11: (локальный сметный расчет)
A13: =IF(Source!G20<>"Новая локальная смета", Source!G20, "")
A15: =IF(Source!G12<>"Новый объект", Source!G12, "") -> Оказание услуг по круглосуточному обслуживанию и текущему ремонту лифтового оборудования ГБУЗ "ГКБ № 29 им. Н.Э. Баумана" | AE15: =IF(Source!G12<>"Новый объект", Source!G12, "") -> Оказание услуг по круглосуточному обслуживанию и текущему ремонту лифтового оборудования ГБУЗ "ГКБ № 29 им. Н.Э. Баумана"
A16: (наименование работ и затрат, наименование объекта)
A18: =CONCATENATE( "Основание: чертежи № ", Source!J20) -> Основание: чертежи №
F20: Сметная стоимость | I20: =(Source!F430/1000) -> 4600.8685 | K20: тыс.руб
F21: Строительные работы | I21: =(Source!F419)/1000 -> 0 | K21: тыс.руб
F22: Монтажные работы | I22: =(Source!F420)/1000 -> 0 | K22: тыс.руб
F23: Оборудование | I23: =(Source!F411)/1000 -> 0 | K23: тыс.руб
F24: Прочие работы | I24: =(Source!F421+Source!F422)/1000 -> 4600.8685 | K24: тыс.руб
F25: Средства на оплату труда | I25: =(Source!F417+ Source!F416)/1000 -> 2737.7437 | K25: тыс.руб
A26: Составлен(а) в уровне текущих (прогнозных) цен октябрь 2019 года
A27: №№ п/п | B27: Шифр расценки и коды ресурсов | C27: Наименование работ и затрат | D27: Единица измерения | E27: Кол-во единиц | F27: Цена на ед. изм. руб. | G27: Попра-вочные коэфф. | H27: Коэфф. зимних удоро-жаний | I27: Коэфф. пересчета | J27: ВСЕГО затрат, руб. | K27: Справочно
K28: ЗТР, всего чел.-час
K29: Ст-ть ед. с начислен.
A30: 1 | B30: 2 | C30: 3 | D30: 4 | E30: 5 | F30: 6 | G30: 7 | H30: 8 | I30: 9 | J30: 10 | K30: 11
A32: =CONCATENATE("Раздел: ",IF(Source!G24<>"Новый раздел", Source!G24, "")) -> Раздел: ТО лифтов 8 этажей
A34: =CONCATENATE("Подраздел: ",IF(Source!G28<>"Новый подраздел", Source!G28, "")) -> Подраздел: Лифты с автоматическими дверями
A35: =Source!E32 -> 1 | B35: =Source!F32 -> 6.4-0122-1-6 | C35: =Source!G32 -> Техническое обслуживание лифтов пассажирских с верхним машинным помещением, с раздвижными автоматическими дверями, грузоподъемность 1000 кг, скорость движения кабины 1 м/с, ежемесячное, на количество этажей 8 | D35: =Source!H32 -> 1 лифт | E35: =Source!I32 -> 9 | Q35: =ROUND((Source!BZ32/100)*ROUND((Source!AF32*Source!AV32)*Source!I32, 2), 2) -> 15018362 | R35: =Source!X32 -> 38229.75 | S35: =ROUND((Source!CA32/100)*ROUND((Source!AF32*Source!AV32)*Source!I32, 2), 2) -> 2418423.9 | T35: =Source!Y32 -> 6156.18 | U35: =ROUND((175/100)*ROUND((Source!AE32*Source!AV32)*Source!I32, 2), 2) -> 0 | V35: =ROUND((108/100)*ROUND(Source!CS32*Source!I32, 2), 2) -> 0
C36: ЗП | F36: =Source!AO32 -> 5612.07 | G36: =Source!DG32 -> )*7 | H36: =Source!AV32 -> 1 | I36: =IF(Source!BA32<> 0, Source!BA32, 1) -> 1 | J36: =Source!S32 -> 353560.41
C37: ЭМ | F37: =Source!AM32 -> 644.22 | G37: =Source!DE32 -> )*7 | H37: =Source!AV32 -> 1 | I37: =IF(Source!BB32<> 0, Source!BB32, 1) -> 1 | J37: =Source!Q32 -> 40585.86
C38: МР | F38: =Source!AL32 -> 357.11 | G38: =Source!DD32 -> )*7 | H38: =Source!AW32 -> 1 | I38: =IF(Source!BC32<> 0, Source!BC32, 1) -> 1 | J38: =Source!P32 -> 22497.93
C39: НР от ЗП | D39: % | E39: =Source!AT32 -> 0 | J39: =SUM(R35:R38) -> 38229.75
C40: СП от ЗП | D40: % | E40: =Source!AU32 -> 0 | J40: =SUM(T35:T39) -> 6156.18
C41: ЗТР | D41: чел-ч | E41: =Source!AQ32 -> 22.31 | G41: =Source!DI32 -> )*7 | H41: =Source!AV32 -> 1 | K41: =Source!U32 -> 1405.53
I42: =J36+J37+J38+J39+J40 -> 461030.13 | K42: =IF(Source!I32<>0, ROUND(I42/Source!I32, 2), 0) -> 51225.57 | P42: =I42 -> 461030.13
A43: =Source!E33 -> 2 | B43: =Source!F33 -> 6.4-0122-2-6 | C43: =Source!G33 -> Техническое обслуживание лифтов пассажирских с верхним машинным помещением, с раздвижными автоматическими дверями, грузоподъемность 1000 кг, скорость движения кабины 1 м/с, ежеквартальное, на количество этажей 8 | D43: =Source!H33 -> 1 лифт | E43: =Source!I33 -> 9 | Q43: =ROUND((Source!BZ33/100)*ROUND((Source!AF33*Source!AV33)*Source!I33, 2), 2) -> 29730326 | R43: =Source!X33 -> 82674.63 | S43: =ROUND((Source!CA33/100)*ROUND((Source!AF33*Source!AV33)*Source!I33, 2), 2) -> 4869444.7 | T43: =Source!Y33 -> 13541.04 | U43: =ROUND((175/100)*ROUND((Source!AE33*Source!AV33)*Source!I33, 2), 2) -> 0 | V43: =ROUND((108/100)*ROUND(Source!CS33*Source!I33, 2), 2) -> 0
C44: ЗП | F44: =Source!AO33 -> 11986.88 | G44: =Source!DG33 -> )*3 | H44: =Source!AV33 -> 1 | I44: =IF(Source!BA33<> 0, Source!BA33, 1) -> 1 | J44: =Source!S33 -> 323645.76
C45: ЭМ | F45: =Source!AM33 -> 1604.37 | G45: =Source!DE33 -> )*3 | H45: =Source!AV33 -> 1 | I45: =IF(Source!BB33<> 0, Source!BB33, 1) -> 1 | J45: =Source!Q33 -> 43317.99
C46: МР | F46: =Source!AL33 -> 1080.23 | G46: =Source!DD33 -> )*3 | H46: =Source!AW33 -> 1 | I46: =IF(Source!BC33<> 0, Source!BC33, 1) -> 1 | J46: =Source!P33 -> 29166.21
C47: НР от ЗП | D47: % | E47: =Source!AT33 -> 0 | J47: =SUM(R43:R46) -> 82674.63
C48: СП от ЗП | D48: % | E48: =Source!AU33 -> 0 | J48: =SUM(T43:T47) -> 13541.04
C49: ЗТР | D49: чел-ч | E49: =Source!AQ33 -> 46.27 | G49: =Source!DI33 -> )*3 | H49: =Source!AV33 -> 1 | K49: =Source!U33 -> 1249.29
I50: =J44+J45+J46+J47+J48 -> 492345.63 | K50: =IF(Source!I33<>0, ROUND(I50/Source!I33, 2), 0) -> 54705.07 | P50: =I50 -> 492345.63
...

Sheet Source
A1: 0 | B1: Smeta.RU (495) 974-1589 | D1: _PS_ | F1: 0 | G1: 0 | H1: 0 | I1: Smeta.RU | K1: 0 | L1: 29412 | M1: 10 | N1: 11 | O1: 0 | P1: 1 | Q1: 6
A12: 1 | B12: 465 | C12: 0 | D12: =ROW(A432) -> 432 | E12: 0 | F12: Новый объект | G12: Оказание услуг по круглосуточному обслуживанию и текущему ремонту лифтового оборудования ГБУЗ "ГКБ № 29 им. Н.Э. Баумана" | I12: 0 | K12: 0 | O12: 0 | P12: 0 | Q12: 0 | R12: 108 | V12: 0 | BH12: Сметные нормы списания | BI12: Коды ОКП для СН-2012 - 2020 г. | BJ12: 1 | BK12: 1 | BL12: 0 | BM12: 0 | BN12: 1 | BO12: 0 | BP12: 6 | BQ12: 2 | BR12: 1 | BS12: 1 | BT12: 0 | BU12: 0 | BV12: 0 | BW12: 0 | BX12: 0 | BY12: СН-2012 - 2020 г_глава_1-5,7 | BZ12: Типовой расчет для СН-2012 - 2020 г | CA12: СН-2012-2020 г. База данных "Сборник стоимостных нормативов" | CB12: СН-2012-2020 г. База данных "Сборник стоимостных нормативов" | CC12: СН-2012-2020 г. База данных "Сборник стоимостных нормативов" | CD12: СН-2012-2020 г. База данных "Сборник стоимостных нормативов" | CE12: Поправки для СН-2012-2020 в ценах на 01.10.2019 г доп.2 | CF12: 0 | CG12: 0 | CH12: 8 | CK12: 3 | EC12: 0
A15: 15 | B15: 1
A18: 52 | B18: =B432 -> 465 | C18: =C432 -> 1 | D18: =D432 -> 12 | E18: =E432 -> 0 | F18: =F432 -> Новый объект | G18: =G432 -> Оказание услуг по круглосуточному обслуживанию и текущему ремонту лифтового оборудования ГБУЗ "ГКБ № 29 им. Н.Э. Баумана" | O18: =O432 -> 3261759.3 | P18: =P432 -> 229069.3 | Q18: =Q432 -> 294946.3 | R18: =R432 -> 0 | S18: =S432 -> 2737743.7 | T18: =T432 -> 0 | U18: =U432 -> 10400.78 | V18: =V432 -> 0 | ... GX18: =GX432 -> 0
A20: 3 | B20: 1 | D20: =ROW(A402) -> 402 | F20: Новая локальная смета | G20: Новая локальная смета | I20: 0 | K20: 0 | V20: 0 | BX20: 0 | CF20: 0 | CG20: 0
A22: 52 | B22: =B402 -> 1 | C22: =C402 -> 3 | D22: =D402 -> 20 | E22: =E402 -> 0 | F22: =F402 -> Новая локальная смета | G22: =G402 -> Новая локальная смета | O22: =O402 -> 3261759.3 | P22: =P402 -> 229069.3 | Q22: =Q402 -> 294946.3 | R22: =R402 -> 0 | S22: =S402 -> 2737743.7 | T22: =T402 -> 0 | U22: =U402 -> 10400.78 | V22: =V402 -> 0 | ... GX22: =GX402 -> 0
A24: 4 | B24: 1 | D24: =ROW(A106) -> 106 | F24: Новый раздел | G24: ТО лифтов 8 этажей | I24: 0 | K24: 0 | V24: 0 | BX24: 0 | CJ24: 0
A26: 52 | B26: =B106 -> 1 | C26: =C106 -> 4 | D26: =D106 -> 24 | E26: =E106 -> 0 | F26: =F106 -> Новый раздел | G26: =G106 -> ТО лифтов 8 этажей | O26: =O106 -> 1393551 | P26: =P106 -> 108936.95 | Q26: =Q106 -> 136458.39 | R26: =R106 -> 0 | S26: =S106 -> 1148155.6 | T26: =T106 -> 0 | U26: =U106 -> 4491.17 | V26: =V106 -> 0 | ... GX26: =GX106 -> 0
A28: 5 | B28: 1 | D28: =ROW(A37) -> 37 | F28: Новый подраздел | G28: Лифты с автоматическими дверями | I28: 0 | K28: -1 | V28: 0 | BX28: 0 | CJ28: 0
A30: 52 | B30: =B37 -> 1 | C30: =C37 -> 5 | D30: =D37 -> 28 | E30: =E37 -> 0 | F30: =F37 -> Новый подраздел | G30: =G37 -> Лифты с автоматическими дверями | O30: =O37 -> 1255707.4 | P30: =P37 -> 95463.09 | Q30: =Q37 -> 131278.77 | R30: =R37 -> 0 | S30: =S37 -> 1028965.6 | T30: =T37 -> 0 | U30: =U37 -> 4017.51 | V30: =V37 -> 0 | ... GX30: =GX37 -> 0
A32: 17 | B32: 1 | C32: =ROW(SmtRes!A1) -> 1 | D32: =ROW(EtalonRes!A1) -> 1 | E32: 1 | F32: 6.4-0122-1-6 | G32: Техническое обслуживание лифтов пассажирских с верхним машинным помещением, с раздвижными автоматическими дверями, грузоподъемность 1000 кг, скорость движения кабины 1 м/с, ежемесячное, на количество этажей 8 | H32: 1 лифт | I32: 9 | J32: 0 | O32: =ROUND(CP32,2) -> 416644.2 | P32: =ROUND(CQ32*I32,2) -> 22497.93 | Q32: =ROUND(CR32*I32,2) -> 40585.86 | R32: =ROUND(CS32*I32,2) -> 0 | S32: =ROUND(CT32*I32,2) -> 353560.41 | T32: =ROUND(CU32*I32,2) -> 0 | U32: =CV32*I32 -> 1405.53 | V32: =CW32*I32 -> 0 | W32: =ROUND(CX32*I32,2) -> 0 | X32: =ROUND(CY32*I32,2) -> 38229.75 | Y32: =ROUND(CZ32*I32,2) -> 6156.18 | AA32: 64312874 | AB32: =ROUND((AC32+AD32+AF32),6) -> 46293.8 | AC32: =ROUND(((ES32*7)),6) -> 2499.77 | AD32: =ROUND(((((ET32*7))-((EU32*7)))+AE32),6) -> 4509.54 | AE32: =ROUND(((EU32*7)),6) -> 0 | AF32: =ROUND(((EV32*7)),6) -> 39284.49 | AG32: =ROUND((AP32),6) -> 0 | AH32: =((EW32*7)) -> 156.17 | AI32: =((EX32*7)) -> 0 | AJ32: =(AS32) -> 0 | AK32: 6613.4 | AL32: 357.11 | AM32: 644.22 | AN32: 0 | AO32: 5612.07 | AP32: 0 | AQ32: 22.31 | AR32: 0 | AS32: 0 | AT32: 0 | AU32: 0 | AV32: 1 | AW32: 1 | AZ32: 1 | BA32: 1 | BB32: 1 | BC32: 1 | BH32: 0 | BI32: 4 | BJ32: СН-2012-2020.6. Доп.3. Сб.4-0122-1-6 | BM32: 6000 | BN32: 0 | BP32: 0 | BQ32: 1 | BR32: 0 | BS32: 1 | BT32: 1 | BU32: 1 | BV32: 1 | BW32: 1 | BX32: 1 | BZ32: 4247.75 | CA32: 684.02 | CE32: 0 | CF32: 0 | CG32: 0 | CM32: 0 | CO32: 0 | CP32: =(P32+Q32+S32) -> 416644.2 | CQ32: =(AC32*BC32*AW32) -> 2499.77 | CR32: =(((((ET32*7))*BB32-((EU32*7))*BS32)+AE32*BS32)*AV32) -> 4509.54 | CS32: =(AE32*BS32*AV32) -> 0 | CT32: =(AF32*BA32*AV32) -> 39284.49 | CU32: =AG32 -> 0 | CV32: =(AH32*AV32) -> 156.17 | CW32: =AI32 -> 0 | CX32: =AJ32 -> 0 | CY32: =FX32 -> 4247.75 | CZ32: =FY32 -> 684.02 | DD32: )*7 | DE32: )*7 | DF32: )*7 | DG32: )*7 | DI32: )*7 | DJ32: )*7 | DN32: 0 | DO32: 0 | DP32: 1 | DQ32: 1 | DU32: 1013 | DV32: 1 лифт | DW32: 1 лифт | DX32: 1 | EE32: 64176908 | EF32: 1 | EG32: СН-2012 | EH32: 0 | EJ32: 4 | EK32: 6000 | EL32: Укрупненка, глава 6 | EM32: работа | EQ32: 65536 | ER32: 6613.4 | ES32: 357.11 | ET32: 644.22 | EU32: 0 | EV32: 5612.07 | EW32: 22.31 | EX32: 0 | EY32: 0 | FQ32: 0 | FR32: =ROUND(IF(AND(BH32=3,BI32=3),P32,0),2) -> 0 | FS32: 0 | FX32: 4247.75 | FY32: 684.02 | GD32: 1 | GF32: 1686057452 | GG32: 2 | GH32: 1 | GI32: -2 | GJ32: 0 | GK32: 0 | GL32: =ROUND(IF(AND(BH32=3,BI32=3,FS32<>0),P32,0),2) -> 0 | GM32: =ROUND(O32+X32+Y32,2)+GX32 -> 461030.13 | GN32: =IF(OR(BI32=0,BI32=1),ROUND(O32+X32+Y32,2),0) -> 0 | GO32: =IF(BI32=2,ROUND(O32+X32+Y32,2),0) -> 0 | GP32: =IF(BI32=4,ROUND(O32+X32+Y32,2)+GX32,0) -> 461030.13 | GR32: 0 | GS32: 3 | GT32: 0 | GV32: =ROUND((GT32),6) -> 0 | GW32: 1 | GX32: =ROUND(HC32*I32,2) -> 0 | HA32: 0 | HB32: 0 | HC32: =GV32*GW32 -> 0 | IK32: 0
A33: 17 | B33: 1 | C33: =ROW(SmtRes!A2) -> 2 | D33: =ROW(EtalonRes!A2) -> 2 | E33: 2 | F33: 6.4-0122-2-6 | G33: Техническое обслуживание лифтов пассажирских с верхним машинным помещением, с раздвижными автоматическими дверями, грузоподъемность 1000 кг, скорость движения кабины 1 м/с, ежеквартальное, на количество этажей 8 | H33: 1 лифт | I33: 9 | J33: 0 | O33: =ROUND(CP33,2) -> 396129.96 | P33: =ROUND(CQ33*I33,2) -> 29166.21 | Q33: =ROUND(CR33*I33,2) -> 43317.99 | R33: =ROUND(CS33*I33,2) -> 0 | S33: =ROUND(CT33*I33,2) -> 323645.76 | T33: =ROUND(CU33*I33,2) -> 0 | U33: =CV33*I33 -> 1249.29 | V33: =CW33*I33 -> 0 | W33: =ROUND(CX33*I33,2) -> 0 | X33: =ROUND(CY33*I33,2) -> 82674.63 | Y33: =ROUND(CZ33*I33,2) -> 13541.04 | AA33: 64312874 | AB33: =ROUND((AC33+AD33+AF33),6) -> 44014.44 | AC33: =ROUND(((ES33*3)),6) -> 3240.69 | AD33: =ROUND(((((ET33*3))-((EU33*3)))+AE33),6) -> 4813.11 | AE33: =ROUND(((EU33*3)),6) -> 0 | AF33: =ROUND(((EV33*3)),6) -> 35960.64 | AG33: =ROUND((AP33),6) -> 0 | AH33: =((EW33*3)) -> 138.81 | AI33: =((EX33*3)) -> 0 | AJ33: =(AS33) -> 0 | AK33: 14671.48 | AL33: 1080.23 | AM33: 1604.37 | AN33: 0 | AO33: 11986.88 | AP33: 0 | AQ33: 46.27 | AR33: 0 | AS33: 0 | AT33: 0 | AU33: 0 | AV33: 1 | AW33: 1 | AZ33: 1 | BA33: 1 | BB33: 1 | BC33: 1 | BH33: 0 | BI33: 4 | BJ33: СН-2012-2020.6. Доп.3. Сб.4-0122-2-6 | BM33: 6000 | BN33: 0 | BP33: 0 | BQ33: 1 | BR33: 0 | BS33: 1 | BT33: 1 | BU33: 1 | BV33: 1 | BW33: 1 | BX33: 1 | BZ33: 9186.07 | CA33: 1504.56 | CE33: 0 | CF33: 0 | CG33: 0 | CM33: 0 | CO33: 0 | CP33: =(P33+Q33+S33) -> 396129.96 | CQ33: =(AC33*BC33*AW33) -> 3240.69 | CR33: =(((((ET33*3))*BB33-((EU33*3))*BS33)+AE33*BS33)*AV33) -> 4813.11 | CS33: =(AE33*BS33*AV33) -> 0 | CT33: =(AF33*BA33*AV33) -> 35960.64 | CU33: =AG33 -> 0 | CV33: =(AH33*AV33) -> 138.81 | CW33: =AI33 -> 0 | CX33: =AJ33 -> 0 | CY33: =FX33 -> 9186.07 | CZ33: =FY33 -> 1504.56 | DD33: )*3 | DE33: )*3 | DF33: )*3 | DG33: )*3 | DI33: )*3 | DJ33: )*3 | DN33: 0 | DO33: 0 | DP33: 1 | DQ33: 1 | DU33: 1013 | DV33: 1 лифт | DW33: 1 лифт | DX33: 1 | EE33: 64176908 | EF33: 1 | EG33: СН-2012 | EH33: 0 | EJ33: 4 | EK33: 6000 | EL33: Укрупненка, глава 6 | EM33: работа | EQ33: 65536 | ER33: 14671.48 | ES33: 1080.23 | ET33: 1604.37 | EU33: 0 | EV33: 11986.88 | EW33: 46.27 | EX33: 0 | EY33: 0 | FQ33: 0 | FR33: =ROUND(IF(AND(BH33=3,BI33=3),P33,0),2) -> 0 | FS33: 0 | FX33: 9186.07 | FY33: 1504.56 | GD33: 1 | GF33: 1118188767 | GG33: 2 | GH33: 1 | GI33: -2 | GJ33: 0 | GK33: 0 | GL33: =ROUND(IF(AND(BH33=3,BI33=3,FS33<>0),P33,0),2) -> 0 | GM33: =ROUND(O33+X33+Y33,2)+GX33 -> 492345.63 | GN33: =IF(OR(BI33=0,BI33=1),ROUND(O33+X33+Y33,2),0) -> 0 | GO33: =IF(BI33=2,ROUND(O33+X33+Y33,2),0) -> 0 | GP33: =IF(BI33=4,ROUND(O33+X33+Y33,2)+GX33,0) -> 492345.63 | GR33: 0 | GS33: 0 | GT33: 0 | GV33: =ROUND((GT33),6) -> 0 | GW33: 1 | GX33: =ROUND(HC33*I33,2) -> 0 | HA33: 0 | HB33: 0 | HC33: =GV33*GW33 -> 0 | IK33: 0
A34: 17 | B34: 1 | C34: =ROW(SmtRes!A3) -> 3 | D34: =ROW(EtalonRes!A3) -> 3 | E34: 3 | F34: 6.4-0122-3-6 | G34: Техническое обслуживание лифтов пассажирских с верхним машинным помещением, с раздвижными автоматическими дверями, грузоподъемность 1000 кг, скорость движения кабины 1 м/с, полугодовое, на количество этажей 8 | H34: 1 лифт | I34: 9 | J34: 0 | O34: =ROUND(CP34,2) -> 187472.97 | P34: =ROUND(CQ34*I34,2) -> 21068.37 | Q34: =ROUND(CR34*I34,2) -> 20013.57 | R34: =ROUND(CS34*I34,2) -> 0 | S34: =ROUND(CT34*I34,2) -> 146391.03 | T34: =ROUND(CU34*I34,2) -> 0 | U34: =CV34*I34 -> 564.57 | V34: =CW34*I34 -> 0 | W34: =ROUND(CX34*I34,2) -> 0 | X34: =ROUND(CY34*I34,2) -> 112394.97 | Y34: =ROUND(CZ34*I34,2) -> 18454.95 | AA34: 64312874 | AB34: =ROUND((AC34+AD34+AF34),6) -> 20830.33 | AC34: =ROUND((ES34),6) -> 2340.93 | AD34: =ROUND((((ET34)-(EU34))+AE34),6) -> 2223.73 | AE34: =ROUND((EU34),6) -> 0 | AF34: =ROUND((EV34),6) -> 16265.67 | AG34: =ROUND((AP34),6) -> 0 | AH34: =(EW34) -> 62.73 | AI34: =(EX34) -> 0 | AJ34: =(AS34) -> 0 | AK34: 20830.33 | AL34: 2340.93 | AM34: 2223.73 | AN34: 0 | AO34: 16265.67 | AP34: 0 | AQ34: 62.73 | AR34: 0 | AS34: 0 | AT34: 0 | AU34: 0 | AV34: 1 | AW34: 1 | AZ34: 1 | BA34: 1 | BB34: 1 | BC34: 1 | BH34: 0 | BI34: 4 | BJ34: СН-2012-2020.6. Доп.3. Сб.4-0122-3-6 | BM34: 6000 | BN34: 0 | BP34: 0 | BQ34: 1 | BR34: 0 | BS34: 1 | BT34: 1 | BU34: 1 | BV34: 1 | BW34: 1 | BX34: 1 | BZ34: 12488.33 | CA34: 2050.55 | CE34: 0 | CF34: 0 | CG34: 0 | CM34: 0 | CO34: 0 | CP34: =(P34+Q34+S34) -> 187472.97 | CQ34: =(AC34*BC34*AW34) -> 2340.93 | CR34: =((((ET34)*BB34-(EU34)*BS34)+AE34*BS34)*AV34) -> 2223.73 | CS34: =(AE34*BS34*AV34) -> 0 | CT34: =(AF34*BA34*AV34) -> 16265.67 | CU34: =AG34 -> 0 | CV34: =(AH34*AV34) -> 62.73 | CW34: =AI34 -> 0 | CX34: =AJ34 -> 0 | CY34: =FX34 -> 12488.33 | CZ34: =FY34 -> 2050.55 | DN34: 0 | DO34: 0 | DP34: 1 | DQ34: 1 | DU34: 1013 | DV34: 1 лифт | DW34: 1 лифт | DX34: 1 | EE34: 64176908 | EF34: 1 | EG34: СН-2012 | EH34: 0 | EJ34: 4 | EK34: 6000 | EL34: Укрупненка, глава 6 | EM34: работа | EQ34: 65536 | ER34: 20830.33 | ES34: 2340.93 | ET34: 2223.73 | EU34: 0 | EV34: 16265.67 | EW34: 62.73 | EX34: 0 | EY34: 0 | FQ34: 0 | FR34: =ROUND(IF(AND(BH34=3,BI34=3),P34,0),2) -> 0 | FS34: 0 | FX34: 12488.33 | FY34: 2050.55 | GD34: 1 | GF34: -2086712641 | GG34: 2 | GH34: 1 | GI34: -2 | GJ34: 0 | GK34: 0 | GL34: =ROUND(IF(AND(BH34=3,BI34=3,FS34<>0),P34,0),2) -> 0 | GM34: =ROUND(O34+X34+Y34,2)+GX34 -> 318322.89 | GN34: =IF(OR(BI34=0,BI34=1),ROUND(O34+X34+Y34,2),0) -> 0 | GO34: =IF(BI34=2,ROUND(O34+X34+Y34,2),0) -> 0 | GP34: =IF(BI34=4,ROUND(O34+X34+Y34,2)+GX34,0) -> 318322.89 | GR34: 0 | GS34: 0 | GT34: 0 | GV34: =ROUND((GT34),6) -> 0 | GW34: 1 | GX34: =ROUND(HC34*I34,2) -> 0 | HA34: 0 | HB34: 0 | HC34: =GV34*GW34 -> 0 | IK34: 0
A35: 17 | B35: 1 | C35: =ROW(SmtRes!A4) -> 4 | D35: =ROW(EtalonRes!A4) -> 4 | E35: 4 | F35: 6.4-0122-4-6 | G35: Техническое обслуживание лифтов пассажирских с верхним машинным помещением, с раздвижными автоматическими дверями, грузоподъемность 1000 кг, скорость движения кабины 1 м/с, годовое, на количество этажей 8 | H35: 1 лифт | I35: 9 | J35: 0 | O35: =ROUND(CP35,2) -> 255460.32 | P35: =ROUND(CQ35*I35,2) -> 22730.58 | Q35: =ROUND(CR35*I35,2) -> 27361.35 | R35: =ROUND(CS35*I35,2) -> 0 | S35: =ROUND(CT35*I35,2) -> 205368.39 | T35: =ROUND(CU35*I35,2) -> 0 | U35: =CV35*I35 -> 798.12 | V35: =CW35*I35 -> 0 | W35: =ROUND(CX35*I35,2) -> 0 | X35: =ROUND(CY35*I35,2) -> 157320.54 | Y35: =ROUND(CZ35*I35,2) -> 25753.41 | AA35: 64312874 | AB35: =ROUND((AC35+AD35+AF35),6) -> 28384.48 | AC35: =ROUND((ES35),6) -> 2525.62 | AD35: =ROUND((((ET35)-(EU35))+AE35),6) -> 3040.15 | AE35: =ROUND((EU35),6) -> 0 | AF35: =ROUND((EV35),6) -> 22818.71 | AG35: =ROUND((AP35),6) -> 0 | AH35: =(EW35) -> 88.68 | AI35: =(EX35) -> 0 | AJ35: =(AS35) -> 0 | AK35: 28384.48 | AL35: 2525.62 | AM35: 3040.15 | AN35: 0 | AO35: 22818.71 | AP35: 0 | AQ35: 88.68 | AR35: 0 | AS35: 0 | AT35: 0 | AU35: 0 | AV35: 1 | AW35: 1 | AZ35: 1 | BA35: 1 | BB35: 1 | BC35: 1 | BH35: 0 | BI35: 4 | BJ35: СН-2012-2020.6. Доп.3. Сб.4-0122-4-6 | BM35: 6000 | BN35: 0 | BP35: 0 | BQ35: 1 | BR35: 0 | BS35: 1 | BT35: 1 | BU35: 1 | BV35: 1 | BW35: 1 | BX35: 1 | BZ35: 17480.06 | CA35: 2861.49 | CE35: 0 | CF35: 0 | CG35: 0 | CM35: 0 | CO35: 0 | CP35: =(P35+Q35+S35) -> 255460.32 | CQ35: =(AC35*BC35*AW35) -> 2525.62 | CR35: =((((ET35)*BB35-(EU35)*BS35)+AE35*BS35)*AV35) -> 3040.15 | CS35: =(AE35*BS35*AV35) -> 0 | CT35: =(AF35*BA35*AV35) -> 22818.71 | CU35: =AG35 -> 0 | CV35: =(AH35*AV35) -> 88.68 | CW35: =AI35 -> 0 | CX35: =AJ35 -> 0 | CY35: =FX35 -> 17480.06 | CZ35: =FY35 -> 2861.49 | DN35: 0 | DO35: 0 | DP35: 1 | DQ35: 1 | DU35: 1013 | DV35: 1 лифт | DW35: 1 лифт | DX35: 1 | EE35: 64176908 | EF35: 1 | EG35: СН-2012 | EH35: 0 | EJ35: 4 | EK35: 6000 | EL35: Укрупненка, глава 6 | EM35: работа | EQ35: 65536 | ER35: 28384.48 | ES35: 2525.62 | ET35: 3040.15 | EU35: 0 | EV35: 22818.71 | EW35: 88.68 | EX35: 0 | EY35: 0 | FQ35: 0 | FR35: =ROUND(IF(AND(BH35=3,BI35=3),P35,0),2) -> 0 | FS35: 0 | FX35: 17480.06 | FY35: 2861.49 | GD35: 1 | GF35: -1621577679 | GG35: 2 | GH35: 1 | GI35: -2 | GJ35: 0 | GK35: 0 | GL35: =ROUND(IF(AND(BH35=3,BI35=3,FS35<>0),P35,0),2) -> 0 | GM35: =ROUND(O35+X35+Y35,2)+GX35 -> 438534.27 | GN35: =IF(OR(BI35=0,BI35=1),ROUND(O35+X35+Y35,2),0) -> 0 | GO35: =IF(BI35=2,ROUND(O35+X35+Y35,2),0) -> 0 | GP35: =IF(BI35=4,ROUND(O35+X35+Y35,2)+GX35,0) -> 438534.27 | GR35: 0 | GS35: 0 | GT35: 0 | GV35: =ROUND((GT35),6) -> 0 | GW35: 1 | GX35: =ROUND(HC35*I35,2) -> 0 | HA35: 0 | HB35: 0 | HC35: =GV35*GW35 -> 0 | IK35: 0
A37: 51 | B37: =B28 -> 1 | C37: =A28 -> 5 | D37: =ROW(A28) -> 28 | F37: =IF(F28<>"",F28,"") -> Новый подраздел | G37: =IF(G28<>"",G28,"") -> Лифты с автоматическими дверями | H37: 0 | O37: =ROUND(AB37,2) -> 1255707.4 | P37: =ROUND(AC37,2) -> 95463.09 | Q37: =ROUND(AD37,2) -> 131278.77 | R37: =ROUND(AE37,2) -> 0 | S37: =ROUND(AF37,2) -> 1028965.6 | T37: =ROUND(AG37,2) -> 0 | U37: =AH37 -> 4017.51 | V37: =AI37 -> 0 | W37: =ROUND(AJ37,2) -> 0 | X37: =ROUND(AK37,2) -> 390619.89 | Y37: =ROUND(AL37,2) -> 63905.58 | AB37: =ROUND(SUMIF(AA32:AA35,"=64312874",O32:O35),2) -> 1255707.4 | AC37: =ROUND(SUMIF(AA32:AA35,"=64312874",P32:P35),2) -> 95463.09 | AD37: =ROUND(SUMIF(AA32:AA35,"=64312874",Q32:Q35),2) -> 131278.77 | AE37: =ROUND(SUMIF(AA32:AA35,"=64312874",R32:R35),2) -> 0 | AF37: =ROUND(SUMIF(AA32:AA35,"=64312874",S32:S35),2) -> 1028965.6 | AG37: =ROUND(SUMIF(AA32:AA35,"=64312874",T32:T35),2) -> 0 | AH37: =SUMIF(AA32:AA35,"=64312874",U32:U35) -> 4017.51 | AI37: =SUMIF(AA32:AA35,"=64312874",V32:V35) -> 0 | AJ37: =ROUND(SUMIF(AA32:AA35,"=64312874",W32:W35),2) -> 0 | AK37: =ROUND(SUMIF(AA32:AA35,"=64312874",X32:X35),2) -> 390619.89 | AL37: =ROUND(SUMIF(AA32:AA35,"=64312874",Y32:Y35),2) -> 63905.58 | AO37: =ROUND(BX37,2) -> 0 | AP37: =ROUND(BY37,2) -> 0 | AQ37: =ROUND(BZ37,2) -> 0 | AR37: =ROUND(CA37,2) -> 1710232.9 | AS37: =ROUND(CB37,2) -> 0 | AT37: =ROUND(CC37,2) -> 0 | AU37: =ROUND(CD37,2) -> 1710232.9 | AV37: =ROUND(CE37,2) -> 95463.09 | ... BD37: =ROUND(CM37,2) -> 0 | BX37: =ROUND(SUMIF(AA32:AA35,"=64312874",FQ32:FQ35),2) -> 0 | BY37: =ROUND(SUMIF(AA32:AA35,"=64312874",FR32:FR35),2) -> 0 | BZ37: =ROUND(SUMIF(AA32:AA35,"=64312874",GL32:GL35),2) -> 0 | CA37: =ROUND(SUMIF(AA32:AA35,"=64312874",GM32:GM35),2) -> 1710232.9 | CB37: =ROUND(SUMIF(AA32:AA35,"=64312874",GN32:GN35),2) -> 0 | CC37: =ROUND(SUMIF(AA32:AA35,"=64312874",GO32:GO35),2) -> 0 | CD37: =ROUND(SUMIF(AA32:AA35,"=64312874",GP32:GP35),2) -> 1710232.9 | CE37: =AC37-BX37 -> 95463.09 | CF37: =AC37-BY37 -> 95463.09 | CG37: =BX37-BZ37 -> 0 | CH37: =AC37-BX37-BY37+BZ37 -> 95463.09 | CI37: =BY37-BZ37 -> 0 | CJ37: =ROUND(SUMIF(AA32:AA35,"=64312874",GX32:GX35),2) -> 0 | CK37: =ROUND(SUMIF(AA32:AA35,"=64312874",GY32:GY35),2) -> 0 | CL37: =ROUND(SUMIF(AA32:AA35,"=64312874",GZ32:GZ35),2) -> 0 | CM37: =ROUND(SUMIF(AA32:AA35,"=64312874",HD32:HD35),2) -> 0 | GX37: 0
A39: 50 | B39: 0 | C39: 0 | D39: 1 | E39: 201 | F39: =ROUND(Source!O37,O39) -> 1255707.4 | G39: ПЗ | H39: Прямые затраты | K39: 201 | L39: 1 | M39: 3 | O39: 2
A40: 50 | B40: 0 | C40: 0 | D40: 1 | E40: 202 | F40: =ROUND(Source!P37,O40) -> 95463.09 | G40: СтМатОб | H40: Стоимость материальных ресурсов (всего) | K40: 202 | L40: 2 | M40: 3 | O40: 2
A41: 50 | B41: 0 | C41: 0 | D41: 1 | E41: 222 | F41: =ROUND(Source!AO37,O41) -> 0 | G41: СтМатОбЗак | H41: Стоимость материалов и оборудования заказчика | K41: 222 | L41: 3 | M41: 3 | O41: 2
A42: 50 | B42: 0 | C42: 0 | D42: 1 | E42: 225 | F42: =ROUND(Source!AV37,O42) -> 95463.09 | G42: СтМатОбПод | H42: Стоимость материалов и оборудования подрядчика | K42: 225 | L42: 4 | M42: 3 | O42: 2
A43: 50 | B43: 0 | C43: 0 | D43: 1 | E43: 226 | F43: =ROUND(Source!AW37,O43) -> 95463.09 | G43: СтМат | H43: Стоимость материалов (всего) | K43: 226 | L43: 5 | M43: 3 | O43: 2
A44: 50 | B44: 0 | C44: 0 | D44: 1 | E44: 227 | F44: =ROUND(Source!AX37,O44) -> 0 | G44: СтМатЗак | H44: Стоимость материалов заказчика | K44: 227 | L44: 6 | M44: 3 | O44: 2
A45: 50 | B45: 0 | C45: 0 | D45: 1 | E45: 228 | F45: =ROUND(Source!AY37,O45) -> 95463.09 | G45: СтМатПод | H45: Стоимость материалов подрядчика | K45: 228 | L45: 7 | M45: 3 | O45: 2
A46: 50 | B46: 0 | C46: 0 | D46: 1 | E46: 216 | F46: =ROUND(Source!AP37,O46) -> 0 | G46: Оборуд | H46: Стоимость оборудования (всего) | K46: 216 | L46: 8 | M46: 3 | O46: 2
A47: 50 | B47: 0 | C47: 0 | D47: 1 | E47: 223 | F47: =ROUND(Source!AQ37,O47) -> 0 | G47: ОборудЗак | H47: Стоимость оборудования заказчика | K47: 223 | L47: 9 | M47: 3 | O47: 2
A48: 50 | B48: 0 | C48: 0 | D48: 1 | E48: 229 | F48: =ROUND(Source!AZ37,O48) -> 0 | G48: ОборудПод | H48: Стоимость оборудования подрядчика | K48: 229 | L48: 10 | M48: 3 | O48: 2
A49: 50 | B49: 0 | C49: 0 | D49: 1 | E49: 203 | F49: =ROUND(Source!Q37,O49) -> 131278.77 | G49: ЭММ | H49: Эксплуатация машин | K49: 203 | L49: 11 | M49: 3 | O49: 2
A50: 50 | B50: 0 | C50: 0 | D50: 1 | E50: 231 | F50: =ROUND(Source!BB37,O50) -> 0 | G50: ЭММсНРиСП | H50: Эксплуатация машин по ТСН-2001.16 | K50: 231 | L50: 12 | M50: 3 | O50: 2
A51: 50 | B51: 0 | C51: 0 | D51: 1 | E51: 204 | F51: =ROUND(Source!R37,O51) -> 0 | G51: ЗПМ | H51: ЗП машинистов | K51: 204 | L51: 13 | M51: 3 | O51: 2
A52: 50 | B52: 0 | C52: 0 | D52: 1 | E52: 205 | F52: =ROUND(Source!S37,O52) -> 1028965.6 | G52: ОЗП | H52: Основная ЗП рабочих | K52: 205 | L52: 14 | M52: 3 | O52: 2
A53: 50 | B53: 0 | C53: 0 | D53: 1 | E53: 232 | F53: =ROUND(Source!BC37,O53) -> 0 | G53: ОЗПсНРиСП | H53: Основная ЗП рабочих по ТСН-2001.16 | K53: 232 | L53: 15 | M53: 3 | O53: 2
A54: 50 | B54: 0 | C54: 0 | D54: 1 | E54: 214 | F54: =ROUND(Source!AS37,O54) -> 0 | G54: Строит | H54: Строительные работы с НР и СП | K54: 214 | L54: 16 | M54: 3 | O54: 2
A55: 50 | B55: 0 | C55: 0 | D55: 1 | E55: 215 | F55: =ROUND(Source!AT37,O55) -> 0 | G55: Монтаж | H55: Монтажные работы с НР и СП | K55: 215 | L55: 17 | M55: 3 | O55: 2
A56: 50 | B56: 0 | C56: 0 | D56: 1 | E56: 217 | F56: =ROUND(Source!AU37,O56) -> 1710232.9 | G56: Прочие | H56: Прочие работы с НР и СП | K56: 217 | L56: 18 | M56: 3 | O56: 2
A57: 50 | B57: 0 | C57: 0 | D57: 1 | E57: 230 | F57: =ROUND(Source!BA37,O57) -> 0 | G57: ПрочиеЗатр | H57: Прочие затраты по ТСН-2001.16 | K57: 230 | L57: 19 | M57: 3 | O57: 2
A58: 50 | B58: 0 | C58: 0 | D58: 1 | E58: 206 | F58: =ROUND(Source!T37,O58) -> 0 | G58: ВозврМат | H58: Возврат материалов | K58: 206 | L58: 20 | M58: 3 | O58: 2
A59: 50 | B59: 0 | C59: 0 | D59: 1 | E59: 207 | F59: =Source!U37 -> 4017.51 | G59: ТрудСтр | H59: Трудозатраты строителей | K59: 207 | L59: 21 | M59: 3 | O59: -1
A60: 50 | B60: 0 | C60: 0 | D60: 1 | E60: 208 | F60: =Source!V37 -> 0 | G60: ТрудМаш | H60: Трудозатраты машинистов | K60: 208 | L60: 22 | M60: 3 | O60: -1
A61: 50 | B61: 0 | C61: 0 | D61: 1 | E61: 209 | F61: =ROUND(Source!W37,O61) -> 0 | G61: ТранспМат | H61: Транспорт материалов | K61: 209 | L61: 23 | M61: 3 | O61: 2
A62: 50 | B62: 0 | C62: 0 | D62: 1 | E62: 233 | F62: =ROUND(Source!BD37,O62) -> 0 | G62: Перевозка | H62: Перевозка грузов | K62: 233 | L62: 24 | M62: 3 | O62: 2
A63: 50 | B63: 0 | C63: 0 | D63: 1 | E63: 210 | F63: =ROUND(Source!X37,O63) -> 390619.89 | G63: НР | H63: Накладные расходы | K63: 210 | L63: 25 | M63: 3 | O63: 2
...

Sheet SourceObSm
A1: 0 | B1: Smeta.RU (495) 974-1589 | D1: _OBSM_ | F1: 0 | G1: 0 | H1: 0 | I1: Smeta.RU | K1: 0 | L1: 29412 | M1: 10 | N1: 11 | O1: 0 | P1: 1 | Q1: 6
A12: 1 | B12: 51 | C12: 0 | E12: 0 | F12: Новый объект | G12: Оказание услуг по круглосуточному обслуживанию и текущему ремонту лифтового оборудования ГБУЗ "ГКБ № 29 им. Н.Э. Баумана" | I12: 0 | K12: 0 | O12: 0 | P12: 0 | Q12: 0 | R12: 108 | V12: 0 | BH12: Сметные нормы списания | BI12: Коды ОКП для СН-2012 - 2020 г. | BJ12: 1 | BK12: 1 | BL12: 0 | BM12: 0 | BN12: 1 | BO12: 0 | BP12: 6 | BQ12: 2 | BR12: 1 | BS12: 1 | BT12: 0 | BU12: 0 | BV12: 0 | BW12: 0 | BX12: 0 | BY12: СН-2012 - 2020 г_глава_1-5,7 | BZ12: Типовой расчет для СН-2012 - 2020 г | CA12: СН-2012-2020 г. База данных "Сборник стоимостных нормативов" | CB12: СН-2012-2020 г. База данных "Сборник стоимостных нормативов" | CC12: СН-2012-2020 г. База данных "Сборник стоимостных нормативов" | CD12: СН-2012-2020 г. База данных "Сборник стоимостных нормативов" | CE12: Поправки для СН-2012-2020 в ценах на 01.10.2019 г доп.2 | CF12: 0 | CG12: 0 | CH12: 8 | CK12: 3 | EC12: 0
A14: 22 | B14: 0 | C14: 0 | D14: 64312874 | E14: 0 | F14: 3
A16: 3 | B16: 1 | C16: Новая локальная смета | D16: Новая локальная смета | E16: =(Source!F419)/1000 -> 0 | F16: =(Source!F420)/1000 -> 0 | G16: =(Source!F411)/1000 -> 0 | H16: =(Source!F421)/1000+(Source!F422)/1000 -> 4600.8685 | I16: =E16+F16+G16+H16 -> 4600.8685 | J16: =(Source!F417)/1000 -> 2737.7437 | AI16: 0 | AJ16: 0 | AN16: 0 | AT16: 3261759.3 | AU16: 229069.3 | AV16: 0 | AW16: 0 | AX16: 0 | AY16: 294946.3 | AZ16: 0 | BA16: 2737743.7 | BB16: 0 | BC16: 0 | BD16: 4600868.5 | BE16: 0 | BF16: 10400.78 | BG16: 0 | BH16: 0 | BI16: 1155648.9 | BJ16: 183460.3 | BK16: 4600868.5
A18: 51 | E18: =SUMIF(A16:A17,3,E16:E17) -> 0 | F18: =SUMIF(A16:A17,3,F16:F17) -> 0 | G18: =SUMIF(A16:A17,3,G16:G17) -> 0 | H18: =SUMIF(A16:A17,3,H16:H17) -> 4600.8685 | I18: =SUMIF(A16:A17,3,I16:I17) -> 4600.8685 | J18: =SUMIF(A16:A17,3,J16:J17) -> 2737.7437
A20: 50 | B20: 0 | C20: 0 | D20: 1 | E20: 201 | F20: 3261759.3 | G20: ПЗ | H20: Прямые затраты | K20: 201 | L20: 1 | M20: 3 | O20: 2
A21: 50 | B21: 0 | C21: 0 | D21: 1 | E21: 202 | F21: 229069.3 | G21: СтМатОб | H21: Стоимость материальных ресурсов (всего) | K21: 202 | L21: 2 | M21: 3 | O21: 2
A22: 50 | B22: 0 | C22: 0 | D22: 1 | E22: 222 | F22: 0 | G22: СтМатОбЗак | H22: Стоимость материалов и оборудования заказчика | K22: 222 | L22: 3 | M22: 3 | O22: 2
A23: 50 | B23: 0 | C23: 0 | D23: 1 | E23: 225 | F23: 229069.3 | G23: СтМатОбПод | H23: Стоимость материалов и оборудования подрядчика | K23: 225 | L23: 4 | M23: 3 | O23: 2
A24: 50 | B24: 0 | C24: 0 | D24: 1 | E24: 226 | F24: 229069.3 | G24: СтМат | H24: Стоимость материалов (всего) | K24: 226 | L24: 5 | M24: 3 | O24: 2
A25: 50 | B25: 0 | C25: 0 | D25: 1 | E25: 227 | F25: 0 | G25: СтМатЗак | H25: Стоимость материалов заказчика | K25: 227 | L25: 6 | M25: 3 | O25: 2
A26: 50 | B26: 0 | C26: 0 | D26: 1 | E26: 228 | F26: 229069.3 | G26: СтМатПод | H26: Стоимость материалов подрядчика | K26: 228 | L26: 7 | M26: 3 | O26: 2
A27: 50 | B27: 0 | C27: 0 | D27: 1 | E27: 216 | F27: 0 | G27: Оборуд | H27: Стоимость оборудования (всего) | K27: 216 | L27: 8 | M27: 3 | O27: 2
A28: 50 | B28: 0 | C28: 0 | D28: 1 | E28: 223 | F28: 0 | G28: ОборудЗак | H28: Стоимость оборудования заказчика | K28: 223 | L28: 9 | M28: 3 | O28: 2
A29: 50 | B29: 0 | C29: 0 | D29: 1 | E29: 229 | F29: 0 | G29: ОборудПод | H29: Стоимость оборудования подрядчика | K29: 229 | L29: 10 | M29: 3 | O29: 2
A30: 50 | B30: 0 | C30: 0 | D30: 1 | E30: 203 | F30: 294946.3 | G30: ЭММ | H30: Эксплуатация машин | K30: 203 | L30: 11 | M30: 3 | O30: 2
A31: 50 | B31: 0 | C31: 0 | D31: 1 | E31: 231 | F31: 0 | G31: ЭММсНРиСП | H31: Эксплуатация машин по ТСН-2001.16 | K31: 231 | L31: 12 | M31: 3 | O31: 2
... A46: 50 | B46: 0 | C46: 0 | D46: 1 | E46: 224 | F46: 4600868.5 | G46: Всего | H46: Всего с НР и СП | K46: 224 | L46: 27 | M46: 3 | O46: 2
A48: -1
A51: 75 | B51: Уровень цен на 01.10.2019 г | C51: 2019 | D51: 0 | E51: 10 | F51: 0 | G51: 0 | H51: 1 | I51: 0 | J51: 1 | K51: 78 | L51: 30 | M51: 0 | N51: 64312874 | O51: 1

Sheet SmtRes
A1: =ROW(Source!A32) -> 32 | B1: 64312874 | C1: 64312526 | D1: 58823480 | E1: 25 | F1: 1 | G1: 25 | H1: 1 | I1: 9999990008 | K1: Трудозатраты рабочих | L1: 1191 | N1: 1013 | O1: чел.-ч. | P1: чел.-ч. | Q1: 1 | W1: 0 | X1: 476480486 | Y1: 156.17 | AA1: 0 | AB1: 0 | AC1: 0 | AD1: 0 | AE1: 0 | AF1: 0 | AG1: 0 | AH1: 0 | AI1: 1 | AJ1: 1 | AK1: 1 | AL1: 1 | AN1: 0 | AO1: 1 | AP1: 1 | AQ1: 0 | AR1: 0 | AT1: 22.31 | AU1: )*7 | AV1: 1 | AW1: 2 | AX1: 64313072 | AY1: 1 | AZ1: 0 | BA1: 1 | BB1: 0 | BC1: 0 | BD1: 0 | BE1: 0 | BF1: 0 | BG1: 0 | BH1: 0 | BI1: 0 | BJ1: 0 | BK1: 0 | BL1: 0 | BM1: 0 | BN1: 0 | BO1: 0 | BP1: 0 | BQ1: 0 | BR1: 0 | BS1: 0 | BT1: 0 | BU1: 0 | BV1: 0 | BW1: 0 | CX1: =Y1*Source!I32 -> 1405.53 | CY1: =AD1 -> 0 | CZ1: =AH1 -> 0 | DA1: =AL1 -> 1 | DB1: =ROUND((ROUND(AT1*CZ1,2)*7),6) -> 0 | DC1: =ROUND((ROUND(AT1*AG1,2)*7),6) -> 0
A2: =ROW(Source!A33) -> 33 | B2: 64312874 | C2: 64312530 | D2: 58823480 | E2: 25 | F2: 1 | G2: 25 | H2: 1 | I2: 9999990008 | K2: Трудозатраты рабочих | L2: 1191 | N2: 1013 | O2: чел.-ч. | P2: чел.-ч. | Q2: 1 | W2: 0 | X2: 476480486 | Y2: 138.81 | AA2: 0 | AB2: 0 | AC2: 0 | AD2: 0 | AE2: 0 | AF2: 0 | AG2: 0 | AH2: 0 | AI2: 1 | AJ2: 1 | AK2: 1 | AL2: 1 | AN2: 0 | AO2: 1 | AP2: 1 | AQ2: 0 | AR2: 0 | AT2: 46.27 | AU2: )*3 | AV2: 1 | AW2: 2 | AX2: 64312531 | AY2: 1 | AZ2: 0 | BA2: 2 | BB2: 0 | BC2: 0 | BD2: 0 | BE2: 0 | BF2: 0 | BG2: 0 | BH2: 0 | BI2: 0 | BJ2: 0 | BK2: 0 | BL2: 0 | BM2: 0 | BN2: 0 | BO2: 0 | BP2: 0 | BQ2: 0 | BR2: 0 | BS2: 0 | BT2: 0 | BU2: 0 | BV2: 0 | BW2: 0 | CX2: =Y2*Source!I33 -> 1249.29 | CY2: =AD2 -> 0 | CZ2: =AH2 -> 0 | DA2: =AL2 -> 1 | DB2: =ROUND((ROUND(AT2*CZ2,2)*3),6) -> 0 | DC2: =ROUND((ROUND(AT2*AG2,2)*3),6) -> 0
A3: =ROW(Source!A34) -> 34 | B3: 64312874 | C3: 64312532 | D3: 58823480 | E3: 25 | F3: 1 | G3: 25 | H3: 1 | I3: 9999990008 | K3: Трудозатраты рабочих | L3: 1191 | N3: 1013 | O3: чел.-ч. | P3: чел.-ч. | Q3: 1 | W3: 0 | X3: 476480486 | Y3: 62.73 | AA3: 0 | AB3: 0 | AC3: 0 | AD3: 0 | AE3: 0 | AF3: 0 | AG3: 0 | AH3: 0 | AI3: 1 | AJ3: 1 | AK3: 1 | AL3: 1 | AN3: 0 | AO3: 1 | AP3: 0 | AQ3: 0 | AR3: 0 | AT3: 62.73 | AV3: 1 | AW3: 2 | AX3: 64312533 | AY3: 1 | AZ3: 0 | BA3: 3 | BB3: 0 | BC3: 0 | BD3: 0 | BE3: 0 | BF3: 0 | BG3: 0 | BH3: 0 | BI3: 0 | BJ3: 0 | BK3: 0 | BL3: 0 | BM3: 0 | BN3: 0 | BO3: 0 | BP3: 0 | BQ3: 0 | BR3: 0 | BS3: 0 | BT3: 0 | BU3: 0 | BV3: 0 | BW3: 0 | CX3: =Y3*Source!I34 -> 564.57 | CY3: =AD3 -> 0 | CZ3: =AH3 -> 0 | DA3: =AL3 -> 1 | DB3: =ROUND(ROUND(AT3*CZ3,2),6) -> 0 | DC3: =ROUND(ROUND(AT3*AG3,2),6) -> 0
A4: =ROW(Source!A35) -> 35 | B4: 64312874 | C4: 64312534 | D4: 58823480 | E4: 25 | F4: 1 | G4: 25 | H4: 1 | I4: 9999990008 | K4: Трудозатраты рабочих | L4: 1191 | N4: 1013 | O4: чел.-ч. | P4: чел.-ч. | Q4: 1 | W4: 0 | X4: 476480486 | Y4: 88.68 | AA4: 0 | AB4: 0 | AC4: 0 | AD4: 0 | AE4: 0 | AF4: 0 | AG4: 0 | AH4: 0 | AI4: 1 | AJ4: 1 | AK4: 1 | AL4: 1 | AN4: 0 | AO4: 1 | AP4: 0 | AQ4: 0 | AR4: 0 | AT4: 88.68 | AV4: 1 | AW4: 2 | AX4: 64312535 | AY4: 1 | AZ4: 0 | BA4: 4 | BB4: 0 | BC4: 0 | BD4: 0 | BE4: 0 | BF4: 0 | BG4: 0 | BH4: 0 | BI4: 0 | BJ4: 0 | BK4: 0 | BL4: 0 | BM4: 0 | BN4: 0 | BO4: 0 | BP4: 0 | BQ4: 0 | BR4: 0 | BS4: 0 | BT4: 0 | BU4: 0 | BV4: 0 | BW4: 0 | CX4: =Y4*Source!I35 -> 798.12 | CY4: =AD4 -> 0 | CZ4: =AH4 -> 0 | DA4: =AL4 -> 1 | DB4: =ROUND(ROUND(AT4*CZ4,2),6) -> 0 | DC4: =ROUND(ROUND(AT4*AG4,2),6) -> 0
A5: =ROW(Source!A71) -> 71 | B5: 64312874 | C5: 64312595 | D5: 58823480 | E5: 25 | F5: 1 | G5: 25 | H5: 1 | I5: 9999990008 | K5: Трудозатраты рабочих | L5: 1191 | N5: 1013 | O5: чел.-ч. | P5: чел.-ч. | Q5: 1 | W5: 0 | X5: 476480486 | Y5: 74.83 | AA5: 0 | AB5: 0 | AC5: 0 | AD5: 0 | AE5: 0 | AF5: 0 | AG5: 0 | AH5: 0 | AI5: 1 | AJ5: 1 | AK5: 1 | AL5: 1 | AN5: 0 | AO5: 1 | AP5: 1 | AQ5: 0 | AR5: 0 | AT5: 10.69 | AU5: )*7 | AV5: 1 | AW5: 2 | AX5: 64312596 | AY5: 1 | AZ5: 0 | BA5: 5 | BB5: 0 | BC5: 0 | BD5: 0 | BE5: 0 | BF5: 0 | BG5: 0 | BH5: 0 | BI5: 0 | BJ5: 0 | BK5: 0 | BL5: 0 | BM5: 0 | BN5: 0 | BO5: 0 | BP5: 0 | BQ5: 0 | BR5: 0 | BS5: 0 | BT5: 0 | BU5: 0 | BV5: 0 | BW5: 0 | CX5: =Y5*Source!I71 -> 149.66 | CY5: =AD5 -> 0 | CZ5: =AH5 -> 0 | DA5: =AL5 -> 1 | DB5: =ROUND((ROUND(AT5*CZ5,2)*7),6) -> 0 | DC5: =ROUND((ROUND(AT5*AG5,2)*7),6) -> 0
A6: =ROW(Source!A72) -> 72 | B6: 64312874 | C6: 64312597 | D6: 58823480 | E6: 25 | F6: 1 | G6: 25 | H6: 1 | I6: 9999990008 | K6: Трудозатраты рабочих | L6: 1191 | N6: 1013 | O6: чел.-ч. | P6: чел.-ч. | Q6: 1 | W6: 0 | X6: 476480486 | Y6: 74.94 | AA6: 0 | AB6: 0 | AC6: 0 | AD6: 0 | AE6: 0 | AF6: 0 | AG6: 0 | AH6: 0 | AI6: 1 | AJ6: 1 | AK6: 1 | AL6: 1 | AN6: 0 | AO6: 1 | AP6: 1 | AQ6: 0 | AR6: 0 | AT6: 24.98 | AU6: )*3 | AV6: 1 | AW6: 2 | AX6: 64312598 | AY6: 1 | AZ6: 0 | BA6: 6 | BB6: 0 | BC6: 0 | BD6: 0 | BE6: 0 | BF6: 0 | BG6: 0 | BH6: 0 | BI6: 0 | BJ6: 0 | BK6: 0 | BL6: 0 | BM6: 0 | BN6: 0 | BO6: 0 | BP6: 0 | BQ6: 0 | BR6: 0 | BS6: 0 | BT6: 0 | BU6: 0 | BV6: 0 | BW6: 0 | CX6: =Y6*Source!I72 -> 149.88 | CY6: =AD6 -> 0 | CZ6: =AH6 -> 0 | DA6: =AL6 -> 1 | DB6: =ROUND((ROUND(AT6*CZ6,2)*3),6) -> 0 | DC6: =ROUND((ROUND(AT6*AG6,2)*3),6) -> 0
A7: =ROW(Source!A73) -> 73 | B7: 64312874 | C7: 64312599 | D7: 58823480 | E7: 25 | F7: 1 | G7: 25 | H7: 1 | I7: 9999990008 | K7: Трудозатраты рабочих | L7: 1191 | N7: 1013 | O7: чел.-ч. | P7: чел.-ч. | Q7: 1 | W7: 0 | X7: 476480486 | Y7: 36.2 | AA7: 0 | AB7: 0 | AC7: 0 | AD7: 0 | AE7: 0 | AF7: 0 | AG7: 0 | AH7: 0 | AI7: 1 | AJ7: 1 | AK7: 1 | AL7: 1 | AN7: 0 | AO7: 1 | AP7: 0 | AQ7: 0 | AR7: 0 | AT7: 36.2 | AV7: 1 | AW7: 2 | AX7: 64312600 | AY7: 1 | AZ7: 0 | BA7: 7 | BB7: 0 | BC7: 0 | BD7: 0 | BE7: 0 | BF7: 0 | BG7: 0 | BH7: 0 | BI7: 0 | BJ7: 0 | BK7: 0 | BL7: 0 | BM7: 0 | BN7: 0 | BO7: 0 | BP7: 0 | BQ7: 0 | BR7: 0 | BS7: 0 | BT7: 0 | BU7: 0 | BV7: 0 | BW7: 0 | CX7: =Y7*Source!I73 -> 72.4 | CY7: =AD7 -> 0 | CZ7: =AH7 -> 0 | DA7: =AL7 -> 1 | DB7: =ROUND(ROUND(AT7*CZ7,2),6) -> 0 | DC7: =ROUND(ROUND(AT7*AG7,2),6) -> 0
A8: =ROW(Source!A74) -> 74 | B8: 64312874 | C8: 64312601 | D8: 58823480 | E8: 25 | F8: 1 | G8: 25 | H8: 1 | I8: 9999990008 | K8: Трудозатраты рабочих | L8: 1191 | N8: 1013 | O8: чел.-ч. | P8: чел.-ч. | Q8: 1 | W8: 0 | X8: 476480486 | Y8: 50.86 | AA8: 0 | AB8: 0 | AC8: 0 | AD8: 0 | AE8: 0 | AF8: 0 | AG8: 0 | AH8: 0 | AI8: 1 | AJ8: 1 | AK8: 1 | AL8: 1 | AN8: 0 | AO8: 1 | AP8: 0 | AQ8: 0 | AR8: 0 | AT8: 50.86 | AV8: 1 | AW8: 2 | AX8: 64312602 | AY8: 1 | AZ8: 0 | BA8: 8 | BB8: 0 | BC8: 0 | BD8: 0 | BE8: 0 | BF8: 0 | BG8: 0 | BH8: 0 | BI8: 0 | BJ8: 0 | BK8: 0 | BL8: 0 | BM8: 0 | BN8: 0 | BO8: 0 | BP8: 0 | BQ8: 0 | BR8: 0 | BS8: 0 | BT8: 0 | BU8: 0 | BV8: 0 | BW8: 0 | CX8: =Y8*Source!I74 -> 101.72 | CY8: =AD8 -> 0 | CZ8: =AH8 -> 0 | DA8: =AL8 -> 1 | DB8: =ROUND(ROUND(AT8*CZ8,2),6) -> 0 | DC8: =ROUND(ROUND(AT8*AG8,2),6) -> 0
A9: =ROW(Source!A140) -> 140 | B9: 64312874 | C9: 64312661 | D9: 58823480 | E9: 25 | F9: 1 | G9: 25 | H9: 1 | I9: 9999990008 | K9: Трудозатраты рабочих | L9: 1191 | N9: 1013 | O9: чел.-ч. | P9: чел.-ч. | Q9: 1 | W9: 0 | X9: 476480486 | Y9: 145.81 | AA9: 0 | AB9: 0 | AC9: 0 | AD9: 0 | AE9: 0 | AF9: 0 | AG9: 0 | AH9: 0 | AI9: 1 | AJ9: 1 | AK9: 1 | AL9: 1 | AN9: 0 | AO9: 1 | AP9: 1 | AQ9: 0 | AR9: 0 | AT9: 20.83 | AU9: )*7 | AV9: 1 | AW9: 2 | AX9: 64312668 | AY9: 1 | AZ9: 0 | BA9: 9 | BB9: 0 | BC9: 0 | BD9: 0 | BE9: 0 | BF9: 0 | BG9: 0 | BH9: 0 | BI9: 0 | BJ9: 0 | BK9: 0 | BL9: 0 | BM9: 0 | BN9: 0 | BO9: 0 | BP9: 0 | BQ9: 0 | BR9: 0 | BS9: 0 | BT9: 0 | BU9: 0 | BV9: 0 | BW9: 0 | CX9: =Y9*Source!I140 -> 729.05 | CY9: =AD9 -> 0 | CZ9: =AH9 -> 0 | DA9: =AL9 -> 1 | DB9: =ROUND((ROUND(AT9*CZ9,2)*7),6) -> 0 | DC9: =ROUND((ROUND(AT9*AG9,2)*7),6) -> 0
A10: =ROW(Source!A141) -> 141 | B10: 64312874 | C10: 64312662 | D10: 58823480 | E10: 25 | F10: 1 | G10: 25 | H10: 1 | I10: 9999990008 | K10: Трудозатраты рабочих | L10: 1191 | N10: 1013 | O10: чел.-ч. | P10: чел.-ч. | Q10: 1 | W10: 0 | X10: 476480486 | Y10: 133.83 | AA10: 0 | AB10: 0 | AC10: 0 | AD10: 0 | AE10: 0 | AF10: 0 | AG10: 0 | AH10: 0 | AI10: 1 | AJ10: 1 | AK10: 1 | AL10: 1 | AN10: 0 | AO10: 1 | AP10: 1 | AQ10: 0 | AR10: 0 | AT10: 44.61 | AU10: )*3 | AV10: 1 | AW10: 2 | AX10: 64312667 | AY10: 1 | AZ10: 0 | BA10: 10 | BB10: 0 | BC10: 0 | BD10: 0 | BE10: 0 | BF10: 0 | BG10: 0 | BH10: 0 | BI10: 0 | BJ10: 0 | BK10: 0 | BL10: 0 | BM10: 0 | BN10: 0 | BO10: 0 | BP10: 0 | BQ10: 0 | BR10: 0 | BS10: 0 | BT10: 0 | BU10: 0 | BV10: 0 | BW10: 0 | CX10: =Y10*Source!I141 -> 669.15 | CY10: =AD10 -> 0 | CZ10: =AH10 -> 0 | DA10: =AL10 -> 1 | DB10: =ROUND((ROUND(AT10*CZ10,2)*3),6) -> 0 | DC10: =ROUND((ROUND(AT10*AG10,2)*3),6) -> 0
A11: =ROW(Source!A142) -> 142 | B11: 64312874 | C11: 64312663 | D11: 58823480 | E11: 25 | F11: 1 | G11: 25 | H11: 1 | I11: 9999990008 | K11: Трудозатраты рабочих | L11: 1191 | N11: 1013 | O11: чел.-ч. | P11: чел.-ч. | Q11: 1 | W11: 0 | X11: 476480486 | Y11: 60.59 | AA11: 0 | AB11: 0 | AC11: 0 | AD11: 0 | AE11: 0 | AF11: 0 | AG11: 0 | AH11: 0 | AI11: 1 | AJ11: 1 | AK11: 1 | AL11: 1 | AN11: 0 | AO11: 1 | AP11: 0 | AQ11: 0 | AR11: 0 | AT11: 60.59 | AV11: 1 | AW11: 2 | AX11: 64312666 | AY11: 1 | AZ11: 0 | BA11: 11 | BB11: 0 | BC11: 0 | BD11: 0 | BE11: 0 | BF11: 0 | BG11: 0 | BH11: 0 | BI11: 0 | BJ11: 0 | BK11: 0 | BL11: 0 | BM11: 0 | BN11: 0 | BO11: 0 | BP11: 0 | BQ11: 0 | BR11: 0 | BS11: 0 | BT11: 0 | BU11: 0 | BV11: 0 | BW11: 0 | CX11: =Y11*Source!I142 -> 302.95 | CY11: =AD11 -> 0 | CZ11: =AH11 -> 0 | DA11: =AL11 -> 1 | DB11: =ROUND(ROUND(AT11*CZ11,2),6) -> 0 | DC11: =ROUND(ROUND(AT11*AG11,2),6) -> 0
A12: =ROW(Source!A143) -> 143 | B12: 64312874 | C12: 64312664 | D12: 58823480 | E12: 25 | F12: 1 | G12: 25 | H12: 1 | I12: 9999990008 | K12: Трудозатраты рабочих | L12: 1191 | N12: 1013 | O12: чел.-ч. | P12: чел.-ч. | Q12: 1 | W12: 0 | X12: 476480486 | Y12: 85.32 | AA12: 0 | AB12: 0 | AC12: 0 | AD12: 0 | AE12: 0 | AF12: 0 | AG12: 0 | AH12: 0 | AI12: 1 | AJ12: 1 | AK12: 1 | AL12: 1 | AN12: 0 | AO12: 1 | AP12: 0 | AQ12: 0 | AR12: 0 | AT12: 85.32 | AV12: 1 | AW12: 2 | AX12: 64312665 | AY12: 1 | AZ12: 0 | BA12: 12 | BB12: 0 | BC12: 0 | BD12: 0 | BE12: 0 | BF12: 0 | BG12: 0 | BH12: 0 | BI12: 0 | BJ12: 0 | BK12: 0 | BL12: 0 | BM12: 0 | BN12: 0 | BO12: 0 | BP12: 0 | BQ12: 0 | BR12: 0 | BS12: 0 | BT12: 0 | BU12: 0 | BV12: 0 | BW12: 0 | CX12: =Y12*Source!I143 -> 426.6 | CY12: =AD12 -> 0 | CZ12: =AH12 -> 0 | DA12: =AL12 -> 1 | DB12: =ROUND(ROUND(AT12*CZ12,2),6) -> 0 | DC12: =ROUND(ROUND(AT12*AG12,2),6) -> 0
A13: =ROW(Source!A183) -> 183 | B13: 64312874 | C13: 64312784 | D13: 58823480 | E13: 25 | F13: 1 | G13: 25 | H13: 1 | I13: 9999990008 | K13: Трудозатраты рабочих | L13: 1191 | N13: 1013 | O13: чел.-ч. | P13: чел.-ч. | Q13: 1 | W13: 0 | X13: 476480486 | Y13: 125.09 | AA13: 0 | AB13: 0 | AC13: 0 | AD13: 0 | AE13: 0 | AF13: 0 | AG13: 0 | AH13: 0 | AI13: 1 | AJ13: 1 | AK13: 1 | AL13: 1 | AN13: 0 | AO13: 1 | AP13: 1 | AQ13: 0 | AR13: 0 | AT13: 17.87 | AU13: )*7 | AV13: 1 | AW13: 2 | AX13: 64312799 | AY13: 1 | AZ13: 0 | BA13: 13 | BB13: 0 | BC13: 0 | BD13: 0 | BE13: 0 | BF13: 0 | BG13: 0 | BH13: 0 | BI13: 0 | BJ13: 0 | BK13: 0 | BL13: 0 | BM13: 0 | BN13: 0 | BO13: 0 | BP13: 0 | BQ13: 0 | BR13: 0 | BS13: 0 | BT13: 0 | BU13: 0 | BV13: 0 | BW13: 0 | CX13: =Y13*Source!I183 -> 125.09 | CY13: =AD13 -> 0 | CZ13: =AH13 -> 0 | DA13: =AL13 -> 1 | DB13: =ROUND((ROUND(AT13*CZ13,2)*7),6) -> 0 | DC13: =ROUND((ROUND(AT13*AG13,2)*7),6) -> 0
A14: =ROW(Source!A184) -> 184 | B14: 64312874 | C14: 64312787 | D14: 58823480 | E14: 25 | F14: 1 | G14: 25 | H14: 1 | I14: 9999990008 | K14: Трудозатраты рабочих | L14: 1191 | N14: 1013 | O14: чел.-ч. | P14: чел.-ч. | Q14: 1 | W14: 0 | X14: 476480486 | Y14: 123.87 | AA14: 0 | AB14: 0 | AC14: 0 | AD14: 0 | AE14: 0 | AF14: 0 | AG14: 0 | AH14: 0 | AI14: 1 | AJ14: 1 | AK14: 1 | AL14: 1 | AN14: 0 | AO14: 1 | AP14: 1 | AQ14: 0 | AR14: 0 | AT14: 41.29 | AU14: )*3 | AV14: 1 | AW14: 2 | AX14: 64312798 | AY14: 1 | AZ14: 0 | BA14: 14 | BB14: 0 | BC14: 0 | BD14: 0 | BE14: 0 | BF14: 0 | BG14: 0 | BH14: 0 | BI14: 0 | BJ14: 0 | BK14: 0 | BL14: 0 | BM14: 0 | BN14: 0 | BO14: 0 | BP14: 0 | BQ14: 0 | BR14: 0 | BS14: 0 | BT14: 0 | BU14: 0 | BV14: 0 | BW14: 0 | CX14: =Y14*Source!I184 -> 123.87 | CY14: =AD14 -> 0 | CZ14: =AH14 -> 0 | DA14: =AL14 -> 1 | DB14: =ROUND((ROUND(AT14*CZ14,2)*3),6) -> 0 | DC14: =ROUND((ROUND(AT14*AG14,2)*3),6) -> 0
A15: =ROW(Source!A185) -> 185 | B15: 64312874 | C15: 64312790 | D15: 58823480 | E15: 25 | F15: 1 | G15: 25 | H15: 1 | I15: 9999990008 | K15: Трудозатраты рабочих | L15: 1191 | N15: 1013 | O15: чел.-ч. | P15: чел.-ч. | Q15: 1 | W15: 0 | X15: 476480486 | Y15: 56.31 | AA15: 0 | AB15: 0 | AC15: 0 | AD15: 0 | AE15: 0 | AF15: 0 | AG15: 0 | AH15: 0 | AI15: 1 | AJ15: 1 | AK15: 1 | AL15: 1 | AN15: 0 | AO15: 1 | AP15: 0 | AQ15: 0 | AR15: 0 | AT15: 56.31 | AV15: 1 | AW15: 2 | AX15: 64312797 | AY15: 1 | AZ15: 0 | BA15: 15 | BB15: 0 | BC15: 0 | BD15: 0 | BE15: 0 | BF15: 0 | BG15: 0 | BH15: 0 | BI15: 0 | BJ15: 0 | BK15: 0 | BL15: 0 | BM15: 0 | BN15: 0 | BO15: 0 | BP15: 0 | BQ15: 0 | BR15: 0 | BS15: 0 | BT15: 0 | BU15: 0 | BV15: 0 | BW15: 0 | CX15: =Y15*Source!I185 -> 56.31 | CY15: =AD15 -> 0 | CZ15: =AH15 -> 0 | DA15: =AL15 -> 1 | DB15: =ROUND(ROUND(AT15*CZ15,2),6) -> 0 | DC15: =ROUND(ROUND(AT15*AG15,2),6) -> 0
A16: =ROW(Source!A186) -> 186 | B16: 64312874 | C16: 64312793 | D16: 58823480 | E16: 25 | F16: 1 | G16: 25 | H16: 1 | I16: 9999990008 | K16: Трудозатраты рабочих | L16: 1191 | N16: 1013 | O16: чел.-ч. | P16: чел.-ч. | Q16: 1 | W16: 0 | X16: 476480486 | Y16: 78.6 | AA16: 0 | AB16: 0 | AC16: 0 | AD16: 0 | AE16: 0 | AF16: 0 | AG16: 0 | AH16: 0 | AI16: 1 | AJ16: 1 | AK16: 1 | AL16: 1 | AN16: 0 | AO16: 1 | AP16: 0 | AQ16: 0 | AR16: 0 | AT16: 78.6 | AV16: 1 | AW16: 2 | AX16: 64312796 | AY16: 1 | AZ16: 0 | BA16: 16 | BB16: 0 | BC16: 0 | BD16: 0 | BE16: 0 | BF16: 0 | BG16: 0 | BH16: 0 | BI16: 0 | BJ16: 0 | BK16: 0 | BL16: 0 | BM16: 0 | BN16: 0 | BO16: 0 | BP16: 0 | BQ16: 0 | BR16: 0 | BS16: 0 | BT16: 0 | BU16: 0 | BV16: 0 | BW16: 0 | CX16: =Y16*Source!I186 -> 78.6 | CY16: =AD16 -> 0 | CZ16: =AH16 -> 0 | DA16: =AL16 -> 1 | DB16: =ROUND(ROUND(AT16*CZ16,2),6) -> 0 | DC16: =ROUND(ROUND(AT16*AG16,2),6) -> 0
A17: =ROW(Source!A222) -> 222 | B17: 64312874 | C17: 64312857 | D17: 58823480 | E17: 25 | F17: 1 | G17: 25 | H17: 1 | I17: 9999990008 | K17: Трудозатраты рабочих | L17: 1191 | N17: 1013 | O17: чел.-ч. | P17: чел.-ч. | Q17: 1 | W17: 0 | X17: 476480486 | Y17: 59.29 | AA17: 0 | AB17: 0 | AC17: 0 | AD17: 0 | AE17: 0 | AF17: 0 | AG17: 0 | AH17: 0 | AI17: 1 | AJ17: 1 | AK17: 1 | AL17: 1 | AN17: 0 | AO17: 1 | AP17: 1 | AQ17: 0 | AR17: 0 | AT17: 8.47 | AU17: )*7 | AV17: 1 | AW17: 2 | AX17: 64312872 | AY17: 1 | AZ17: 0 | BA17: 17 | BB17: 0 | BC17: 0 | BD17: 0 | BE17: 0 | BF17: 0 | BG17: 0 | BH17: 0 | BI17: 0 | BJ17: 0 | BK17: 0 | BL17: 0 | BM17: 0 | BN17: 0 | BO17: 0 | BP17: 0 | BQ17: 0 | BR17: 0 | BS17: 0 | BT17: 0 | BU17: 0 | BV17: 0 | BW17: 0 | CX17: =Y17*Source!I222 -> 118.58 | CY17: =AD17 -> 0 | CZ17: =AH17 -> 0 | DA17: =AL17 -> 1 | DB17: =ROUND((ROUND(AT17*CZ17,2)*7),6) -> 0 | DC17: =ROUND((ROUND(AT17*AG17,2)*7),6) -> 0
A18: =ROW(Source!A223) -> 223 | B18: 64312874 | C18: 64312860 | D18: 58823480 | E18: 25 | F18: 1 | G18: 25 | H18: 1 | I18: 9999990008 | K18: Трудозатраты рабочих | L18: 1191 | N18: 1013 | O18: чел.-ч. | P18: чел.-ч. | Q18: 1 | W18: 0 | X18: 476480486 | Y18: 66.66 | AA18: 0 | AB18: 0 | AC18: 0 | AD18: 0 | AE18: 0 | AF18: 0 | AG18: 0 | AH18: 0 | AI18: 1 | AJ18: 1 | AK18: 1 | AL18: 1 | AN18: 0 | AO18: 1 | AP18: 1 | AQ18: 0 | AR18: 0 | AT18: 22.22 | AU18: )*3 | AV18: 1 | AW18: 2 | AX18: 64312871 | AY18: 1 | AZ18: 0 | BA18: 18 | BB18: 0 | BC18: 0 | BD18: 0 | BE18: 0 | BF18: 0 | BG18: 0 | BH18: 0 | BI18: 0 | BJ18: 0 | BK18: 0 | BL18: 0 | BM18: 0 | BN18: 0 | BO18: 0 | BP18: 0 | BQ18: 0 | BR18: 0 | BS18: 0 | BT18: 0 | BU18: 0 | BV18: 0 | BW18: 0 | CX18: =Y18*Source!I223 -> 133.32 | CY18: =AD18 -> 0 | CZ18: =AH18 -> 0 | DA18: =AL18 -> 1 | DB18: =ROUND((ROUND(AT18*CZ18,2)*3),6) -> 0 | DC18: =ROUND((ROUND(AT18*AG18,2)*3),6) -> 0
A19: =ROW(Source!A224) -> 224 | B19: 64312874 | C19: 64312863 | D19: 58823480 | E19: 25 | F19: 1 | G19: 25 | H19: 1 | I19: 9999990008 | K19: Трудозатраты рабочих | L19: 1191 | N19: 1013 | O19: чел.-ч. | P19: чел.-ч. | Q19: 1 | W19: 0 | X19: 476480486 | Y19: 32.24 | AA19: 0 | AB19: 0 | AC19: 0 | AD19: 0 | AE19: 0 | AF19: 0 | AG19: 0 | AH19: 0 | AI19: 1 | AJ19: 1 | AK19: 1 | AL19: 1 | AN19: 0 | AO19: 1 | AP19: 0 | AQ19: 0 | AR19: 0 | AT19: 32.24 | AV19: 1 | AW19: 2 | AX19: 64312870 | AY19: 1 | AZ19: 0 | BA19: 19 | BB19: 0 | BC19: 0 | BD19: 0 | BE19: 0 | BF19: 0 | BG19: 0 | BH19: 0 | BI19: 0 | BJ19: 0 | BK19: 0 | BL19: 0 | BM19: 0 | BN19: 0 | BO19: 0 | BP19: 0 | BQ19: 0 | BR19: 0 | BS19: 0 | BT19: 0 | BU19: 0 | BV19: 0 | BW19: 0 | CX19: =Y19*Source!I224 -> 64.48 | CY19: =AD19 -> 0 | CZ19: =AH19 -> 0 | DA19: =AL19 -> 1 | DB19: =ROUND(ROUND(AT19*CZ19,2),6) -> 0 | DC19: =ROUND(ROUND(AT19*AG19,2),6) -> 0
A20: =ROW(Source!A225) -> 225 | B20: 64312874 | C20: 64312866 | D20: 58823480 | E20: 25 | F20: 1 | G20: 25 | H20: 1 | I20: 9999990008 | K20: Трудозатраты рабочих | L20: 1191 | N20: 1013 | O20: чел.-ч. | P20: чел.-ч. | Q20: 1 | W20: 0 | X20: 476480486 | Y20: 43.78 | AA20: 0 | AB20: 0 | AC20: 0 | AD20: 0 | AE20: 0 | AF20: 0 | AG20: 0 | AH20: 0 | AI20: 1 | AJ20: 1 | AK20: 1 | AL20: 1 | AN20: 0 | AO20: 1 | AP20: 0 | AQ20: 0 | AR20: 0 | AT20: 43.78 | AV20: 1 | AW20: 2 | AX20: 64312869 | AY20: 1 | AZ20: 0 | BA20: 20 | BB20: 0 | BC20: 0 | BD20: 0 | BE20: 0 | BF20: 0 | BG20: 0 | BH20: 0 | BI20: 0 | BJ20: 0 | BK20: 0 | BL20: 0 | BM20: 0 | BN20: 0 | BO20: 0 | BP20: 0 | BQ20: 0 | BR20: 0 | BS20: 0 | BT20: 0 | BU20: 0 | BV20: 0 | BW20: 0 | CX20: =Y20*Source!I225 -> 87.56 | CY20: =AD20 -> 0 | CZ20: =AH20 -> 0 | DA20: =AL20 -> 1 | DB20: =ROUND(ROUND(AT20*CZ20,2),6) -> 0 | DC20: =ROUND(ROUND(AT20*AG20,2),6) -> 0
A21: =ROW(Source!A291) -> 291 | B21: 64312874 | C21: 64312933 | D21: 58823480 | E21: 25 | F21: 1 | G21: 25 | H21: 1 | I21: 9999990008 | K21: Трудозатраты рабочих | L21: 1191 | N21: 1013 | O21: чел.-ч. | P21: чел.-ч. | Q21: 1 | W21: 0 | X21: 476480486 | Y21: 104.37 | AA21: 0 | AB21: 0 | AC21: 0 | AD21: 0 | AE21: 0 | AF21: 0 | AG21: 0 | AH21: 0 | AI21: 1 | AJ21: 1 | AK21: 1 | AL21: 1 | AN21: 0 | AO21: 1 | AP21: 1 | AQ21: 0 | AR21: 0 | AT21: 14.91 | AU21: )*7 | AV21: 1 | AW21: 2 | AX21: 64312940 | AY21: 1 | AZ21: 0 | BA21: 21 | BB21: 0 | BC21: 0 | BD21: 0 | BE21: 0 | BF21: 0 | BG21: 0 | BH21: 0 | BI21: 0 | BJ21: 0 | BK21: 0 | BL21: 0 | BM21: 0 | BN21: 0 | BO21: 0 | BP21: 0 | BQ21: 0 | BR21: 0 | BS21: 0 | BT21: 0 | BU21: 0 | BV21: 0 | BW21: 0 | CX21: =Y21*Source!I291 -> 521.85 | CY21: =AD21 -> 0 | CZ21: =AH21 -> 0 | DA21: =AL21 -> 1 | DB21: =ROUND((ROUND(AT21*CZ21,2)*7),6) -> 0 | DC21: =ROUND((ROUND(AT21*AG21,2)*7),6) -> 0
A22: =ROW(Source!A292) -> 292 | B22: 64312874 | C22: 64312934 | D22: 58823480 | E22: 25 | F22: 1 | G22: 25 | H22: 1 | I22: 9999990008 | K22: Трудозатраты рабочих | L22: 1191 | N22: 1013 | O22: чел.-ч. | P22: чел.-ч. | Q22: 1 | W22: 0 | X22: 476480486 | Y22: 113.91 | AA22: 0 | AB22: 0 | AC22: 0 | AD22: 0 | AE22: 0 | AF22: 0 | AG22: 0 | AH22: 0 | AI22: 1 | AJ22: 1 | AK22: 1 | AL22: 1 | AN22: 0 | AO22: 1 | AP22: 1 | AQ22: 0 | AR22: 0 | AT22: 37.97 | AU22: )*3 | AV22: 1 | AW22: 2 | AX22: 64312939 | AY22: 1 | AZ22: 0 | BA22: 22 | BB22: 0 | BC22: 0 | BD22: 0 | BE22: 0 | BF22: 0 | BG22: 0 | BH22: 0 | BI22: 0 | BJ22: 0 | BK22: 0 | BL22: 0 | BM22: 0 | BN22: 0 | BO22: 0 | BP22: 0 | BQ22: 0 | BR22: 0 | BS22: 0 | BT22: 0 | BU22: 0 | BV22: 0 | BW22: 0 | CX22: =Y22*Source!I292 -> 569.55 | CY22: =AD22 -> 0 | CZ22: =AH22 -> 0 | DA22: =AL22 -> 1 | DB22: =ROUND((ROUND(AT22*CZ22,2)*3),6) -> 0 | DC22: =ROUND((ROUND(AT22*AG22,2)*3),6) -> 0
A23: =ROW(Source!A293) -> 293 | B23: 64312874 | C23: 64312935 | D23: 58823480 | E23: 25 | F23: 1 | G23: 25 | H23: 1 | I23: 9999990008 | K23: Трудозатраты рабочих | L23: 1191 | N23: 1013 | O23: чел.-ч. | P23: чел.-ч. | Q23: 1 | W23: 0 | X23: 476480486 | Y23: 52.03 | AA23: 0 | AB23: 0 | AC23: 0 | AD23: 0 | AE23: 0 | AF23: 0 | AG23: 0 | AH23: 0 | AI23: 1 | AJ23: 1 | AK23: 1 | AL23: 1 | AN23: 0 | AO23: 1 | AP23: 0 | AQ23: 0 | AR23: 0 | AT23: 52.03 | AV23: 1 | AW23: 2 | AX23: 64312938 | AY23: 1 | AZ23: 0 | BA23: 23 | BB23: 0 | BC23: 0 | BD23: 0 | BE23: 0 | BF23: 0 | BG23: 0 | BH23: 0 | BI23: 0 | BJ23: 0 | BK23: 0 | BL23: 0 | BM23: 0 | BN23: 0 | BO23: 0 | BP23: 0 | BQ23: 0 | BR23: 0 | BS23: 0 | BT23: 0 | BU23: 0 | BV23: 0 | BW23: 0 | CX23: =Y23*Source!I293 -> 260.15 | CY23: =AD23 -> 0 | CZ23: =AH23 -> 0 | DA23: =AL23 -> 1 | DB23: =ROUND(ROUND(AT23*CZ23,2),6) -> 0 | DC23: =ROUND(ROUND(AT23*AG23,2),6) -> 0
A24: =ROW(Source!A294) -> 294 | B24: 64312874 | C24: 64312936 | D24: 58823480 | E24: 25 | F24: 1 | G24: 25 | H24: 1 | I24: 9999990008 | K24: Трудозатраты рабочих | L24: 1191 | N24: 1013 | O24: чел.-ч. | P24: чел.-ч. | Q24: 1 | W24: 0 | X24: 476480486 | Y24: 71.88 | AA24: 0 | AB24: 0 | AC24: 0 | AD24: 0 | AE24: 0 | AF24: 0 | AG24: 0 | AH24: 0 | AI24: 1 | AJ24: 1 | AK24: 1 | AL24: 1 | AN24: 0 | AO24: 1 | AP24: 0 | AQ24: 0 | AR24: 0 | AT24: 71.88 | AV24: 1 | AW24: 2 | AX24: 64312937 | AY24: 1 | AZ24: 0 | BA24: 24 | BB24: 0 | BC24: 0 | BD24: 0 | BE24: 0 | BF24: 0 | BG24: 0 | BH24: 0 | BI24: 0 | BJ24: 0 | BK24: 0 | BL24: 0 | BM24: 0 | BN24: 0 | BO24: 0 | BP24: 0 | BQ24: 0 | BR24: 0 | BS24: 0 | BT24: 0 | BU24: 0 | BV24: 0 | BW24: 0 | CX24: =Y24*Source!I294 -> 359.4 | CY24: =AD24 -> 0 | CZ24: =AH24 -> 0 | DA24: =AL24 -> 1 | DB24: =ROUND(ROUND(AT24*CZ24,2),6) -> 0 | DC24: =ROUND(ROUND(AT24*AG24,2),6) -> 0
A25: =ROW(Source!A330) -> 330 | B25: 64312874 | C25: 64312999 | D25: 58823480 | E25: 25 | F25: 1 | G25: 25 | H25: 1 | I25: 9999990008 | K25: Трудозатраты рабочих | L25: 1191 | N25: 1013 | O25: чел.-ч. | P25: чел.-ч. | Q25: 1 | W25: 0 | X25: 476480486 | Y25: 17.36 | AA25: 0 | AB25: 0 | AC25: 0 | AD25: 0 | AE25: 0 | AF25: 0 | AG25: 0 | AH25: 0 | AI25: 1 | AJ25: 1 | AK25: 1 | AL25: 1 | AN25: 0 | AO25: 1 | AP25: 1 | AQ25: 0 | AR25: 0 | AT25: 2.48 | AU25: )*7 | AV25: 1 | AW25: 2 | AX25: 64313004 | AY25: 1 | AZ25: 0 | BA25: 25 | BB25: 0 | BC25: 0 | BD25: 0 | BE25: 0 | BF25: 0 | BG25: 0 | BH25: 0 | BI25: 0 | BJ25: 0 | BK25: 0 | BL25: 0 | BM25: 0 | BN25: 0 | BO25: 0 | BP25: 0 | BQ25: 0 | BR25: 0 | BS25: 0 | BT25: 0 | BU25: 0 | BV25: 0 | BW25: 0 | CX25: =Y25*Source!I330 -> 104.16 | CY25: =AD25 -> 0 | CZ25: =AH25 -> 0 | DA25: =AL25 -> 1 | DB25: =ROUND((ROUND(AT25*CZ25,2)*7),6) -> 0 | DC25: =ROUND((ROUND(AT25*AG25,2)*7),6) -> 0
A26: =ROW(Source!A331) -> 331 | B26: 64312874 | C26: 64313000 | D26: 58823480 | E26: 25 | F26: 1 | G26: 25 | H26: 1 | I26: 9999990008 | K26: Трудозатраты рабочих | L26: 1191 | N26: 1013 | O26: чел.-ч. | P26: чел.-ч. | Q26: 1 | W26: 0 | X26: 476480486 | Y26: 15.6 | AA26: 0 | AB26: 0 | AC26: 0 | AD26: 0 | AE26: 0 | AF26: 0 | AG26: 0 | AH26: 0 | AI26: 1 | AJ26: 1 | AK26: 1 | AL26: 1 | AN26: 0 | AO26: 1 | AP26: 1 | AQ26: 0 | AR26: 0 | AT26: 5.2 | AU26: )*3 | AV26: 1 | AW26: 2 | AX26: 64313005 | AY26: 1 | AZ26: 0 | BA26: 26 | BB26: 0 | BC26: 0 | BD26: 0 | BE26: 0 | BF26: 0 | BG26: 0 | BH26: 0 | BI26: 0 | BJ26: 0 | BK26: 0 | BL26: 0 | BM26: 0 | BN26: 0 | BO26: 0 | BP26: 0 | BQ26: 0 | BR26: 0 | BS26: 0 | BT26: 0 | BU26: 0 | BV26: 0 | BW26: 0 | CX26: =Y26*Source!I331 -> 93.6 | CY26: =AD26 -> 0 | CZ26: =AH26 -> 0 | DA26: =AL26 -> 1 | DB26: =ROUND((ROUND(AT26*CZ26,2)*3),6) -> 0 | DC26: =ROUND((ROUND(AT26*AG26,2)*3),6) -> 0
A27: =ROW(Source!A332) -> 332 | B27: 64312874 | C27: 64313001 | D27: 58823480 | E27: 25 | F27: 1 | G27: 25 | H27: 1 | I27: 9999990008 | K27: Трудозатраты рабочих | L27: 1191 | N27: 1013 | O27: чел.-ч. | P27: чел.-ч. | Q27: 1 | W27: 0 | X27: 476480486 | Y27: 10.22 | AA27: 0 | AB27: 0 | AC27: 0 | AD27: 0 | AE27: 0 | AF27: 0 | AG27: 0 | AH27: 0 | AI27: 1 | AJ27: 1 | AK27: 1 | AL27: 1 | AN27: 0 | AO27: 1 | AP27: 0 | AQ27: 0 | AR27: 0 | AT27: 10.22 | AV27: 1 | AW27: 2 | AX27: 64313006 | AY27: 1 | AZ27: 0 | BA27: 27 | BB27: 0 | BC27: 0 | BD27: 0 | BE27: 0 | BF27: 0 | BG27: 0 | BH27: 0 | BI27: 0 | BJ27: 0 | BK27: 0 | BL27: 0 | BM27: 0 | BN27: 0 | BO27: 0 | BP27: 0 | BQ27: 0 | BR27: 0 | BS27: 0 | BT27: 0 | BU27: 0 | BV27: 0 | BW27: 0 | CX27: =Y27*Source!I332 -> 61.32 | CY27: =AD27 -> 0 | CZ27: =AH27 -> 0 | DA27: =AL27 -> 1 | DB27: =ROUND(ROUND(AT27*CZ27,2),6) -> 0 | DC27: =ROUND(ROUND(AT27*AG27,2),6) -> 0
A28: =ROW(Source!A333) -> 333 | B28: 64312874 | C28: 64313002 | D28: 58823480 | E28: 25 | F28: 1 | G28: 25 | H28: 1 | I28: 9999990008 | K28: Трудозатраты рабочих | L28: 1191 | N28: 1013 | O28: чел.-ч. | P28: чел.-ч. | Q28: 1 | W28: 0 | X28: 476480486 | Y28: 10.72 | AA28: 0 | AB28: 0 | AC28: 0 | AD28: 0 | AE28: 0 | AF28: 0 | AG28: 0 | AH28: 0 | AI28: 1 | AJ28: 1 | AK28: 1 | AL28: 1 | AN28: 0 | AO28: 1 | AP28: 0 | AQ28: 0 | AR28: 0 | AT28: 10.72 | AV28: 1 | AW28: 2 | AX28: 64313003 | AY28: 1 | AZ28: 0 | BA28: 28 | BB28: 0 | BC28: 0 | BD28: 0 | BE28: 0 | BF28: 0 | BG28: 0 | BH28: 0 | BI28: 0 | BJ28: 0 | BK28: 0 | BL28: 0 | BM28: 0 | BN28: 0 | BO28: 0 | BP28: 0 | BQ28: 0 | BR28: 0 | BS28: 0 | BT28: 0 | BU28: 0 | BV28: 0 | BW28: 0 | CX28: =Y28*Source!I333 -> 64.32 | CY28: =AD28 -> 0 | CZ28: =AH28 -> 0 | DA28: =AL28 -> 1 | DB28: =ROUND(ROUND(AT28*CZ28,2),6) -> 0 | DC28: =ROUND(ROUND(AT28*AG28,2),6) -> 0
A29: =ROW(Source!A369) -> 369 | B29: 64312874 | C29: 64313065 | D29: 58823480 | E29: 25 | F29: 1 | G29: 25 | H29: 1 | I29: 9999990008 | K29: Трудозатраты рабочих | L29: 1191 | N29: 1013 | O29: чел.-ч. | P29: чел.-ч. | Q29: 1 | W29: 0 | X29: 476480486 | Y29: 24.64 | AA29: 0 | AB29: 0 | AC29: 0 | AD29: 0 | AE29: 0 | AF29: 0 | AG29: 0 | AH29: 0 | AI29: 1 | AJ29: 1 | AK29: 1 | AL29: 1 | AN29: 0 | AO29: 1 | AP29: 0 | AQ29: 0 | AR29: 0 | AT29: 24.64 | AV29: 1 | AW29: 2 | AX29: 64313068 | AY29: 1 | AZ29: 0 | BA29: 29 | BB29: 0 | BC29: 0 | BD29: 0 | BE29: 0 | BF29: 0 | BG29: 0 | BH29: 0 | BI29: 0 | BJ29: 0 | BK29: 0 | BL29: 0 | BM29: 0 | BN29: 0 | BO29: 0 | BP29: 0 | BQ29: 0 | BR29: 0 | BS29: 0 | BT29: 0 | BU29: 0 | BV29: 0 | BW29: 0 | CX29: =Y29*Source!I369 -> 739.2 | CY29: =AD29 -> 0 | CZ29: =AH29 -> 0 | DA29: =AL29 -> 1 | DB29: =ROUND(ROUND(AT29*CZ29,2),6) -> 0 | DC29: =ROUND(ROUND(AT29*AG29,2),6) -> 0
A30: =ROW(Source!A370) -> 370 | B30: 64312874 | C30: 64313066 | D30: 58823480 | E30: 25 | F30: 1 | G30: 25 | H30: 1 | I30: 9999990008 | K30: Трудозатраты рабочих | L30: 1191 | N30: 1013 | O30: чел.-ч. | P30: чел.-ч. | Q30: 1 | W30: 0 | X30: 476480486 | Y30: 2.1 | AA30: 0 | AB30: 0 | AC30: 0 | AD30: 0 | AE30: 0 | AF30: 0 | AG30: 0 | AH30: 0 | AI30: 1 | AJ30: 1 | AK30: 1 | AL30: 1 | AN30: 0 | AO30: 1 | AP30: 1 | AQ30: 0 | AR30: 0 | AT30: 2.1 | AV30: 1 | AW30: 2 | AX30: 64313067 | AY30: 1 | AZ30: 0 | BA30: 30 | BB30: 0 | BC30: 0 | BD30: 0 | BE30: 0 | BF30: 0 | BG30: 0 | BH30: 0 | BI30: 0 | BJ30: 0 | BK30: 0 | BL30: 0 | BM30: 0 | BN30: 0 | BO30: 0 | BP30: 0 | BQ30: 0 | BR30: 0 | BS30: 0 | BT30: 0 | BU30: 0 | BV30: 0 | BW30: 0 | CX30: =Y30*Source!I370 -> 220.5 | CY30: =AD30 -> 0 | CZ30: =AH30 -> 0 | DA30: =AL30 -> 1 | DB30: =ROUND(ROUND(AT30*CZ30,2),6) -> 0 | DC30: =ROUND(ROUND(AT30*AG30,2),6) -> 0

Sheet EtalonRes
A1: =ROW(Source!A32) -> 32 | B1: 64313072 | C1: 64312526 | D1: 58823480 | E1: 25 | F1: 1 | G1: 25 | H1: 1 | I1: 9999990008 | K1: Трудозатраты рабочих | L1: 1191 | N1: 1013 | O1: чел.-ч. | P1: чел.-ч. | Q1: 1 | X1: 22.31 | Y1: 0 | Z1: 0 | AA1: 0 | AB1: 0 | AC1: 0 | AD1: 1 | AE1: 1 | AF1: )*7 | AG1: 156.17 | AH1: 2 | AI1: 64313072 | AJ1: 1 | AK1: 0 | AL1: 0 | AM1: 0 | AN1: 0 | AO1: 0 | AP1: 0 | AQ1: 0 | AR1: 0
A2: =ROW(Source!A33) -> 33 | B2: 64312531 | C2: 64312530 | D2: 58823480 | E2: 25 | F2: 1 | G2: 25 | H2: 1 | I2: 9999990008 | K2: Трудозатраты рабочих | L2: 1191 | N2: 1013 | O2: чел.-ч. | P2: чел.-ч. | Q2: 1 | X2: 46.27 | Y2: 0 | Z2: 0 | AA2: 0 | AB2: 0 | AC2: 0 | AD2: 1 | AE2: 1 | AF2: )*3 | AG2: 138.81 | AH2: 2 | AI2: 64312531 | AJ2: 2 | AK2: 0 | AL2: 0 | AM2: 0 | AN2: 0 | AO2: 0 | AP2: 0 | AQ2: 0 | AR2: 0
A3: =ROW(Source!A34) -> 34 | B3: 64312533 | C3: 64312532 | D3: 58823480 | E3: 25 | F3: 1 | G3: 25 | H3: 1 | I3: 9999990008 | K3: Трудозатраты рабочих | L3: 1191 | N3: 1013 | O3: чел.-ч. | P3: чел.-ч. | Q3: 1 | X3: 62.73 | Y3: 0 | Z3: 0 | AA3: 0 | AB3: 0 | AC3: 0 | AD3: 1 | AE3: 1 | AG3: 62.73 | AH3: 2 | AI3: 64312533 | AJ3: 3 | AK3: 0 | AL3: 0 | AM3: 0 | AN3: 0 | AO3: 0 | AP3: 0 | AQ3: 0 | AR3: 0
A4: =ROW(Source!A35) -> 35 | B4: 64312535 | C4: 64312534 | D4: 58823480 | E4: 25 | F4: 1 | G4: 25 | H4: 1 | I4: 9999990008 | K4: Трудозатраты рабочих | L4: 1191 | N4: 1013 | O4: чел.-ч. | P4: чел.-ч. | Q4: 1 | X4: 88.68 | Y4: 0 | Z4: 0 | AA4: 0 | AB4: 0 | AC4: 0 | AD4: 1 | AE4: 1 | AG4: 88.68 | AH4: 2 | AI4: 64312535 | AJ4: 4 | AK4: 0 | AL4: 0 | AM4: 0 | AN4: 0 | AO4: 0 | AP4: 0 | AQ4: 0 | AR4: 0
