Workbook

Sheet Смета 11 граф c НР и СП
A2: Наименование стройки: | C2: ТЕР
A3: Объект: | C3: =IF(Source!F12<>"Новый объект", Source!F12, "")
A5: =CONCATENATE( "Локальная смета ", IF(Source!F20<>"Новая локальная смета", Source!F20, "")) -> Локальная смета
A6: =CONCATENATE( "Локальная смета ", IF(Source!G20<>"Новая локальная смета", Source!G20, "")) -> Локальная смета
A8: Наименование объекта: | C8: =IF(Source!G12<>"Новый объект", Source!G12, "") -> ТЕР
A10: =CONCATENATE( "Основание: ", Source!J20) -> Основание:
A12: Составлена в ценах январь 2000 года | F12: Сметная стоимость | I12: =(Source!F54/1000) -> 0.576 | K12: тыс.руб
F13: Нормативная трудоемкость | I13: =(Source!F49+Source!F50) -> 22 | K13: чел.-ч
F14: Сметная заработная плата | I14: =(Source!F42+ Source!F41)/1000 -> 0.201 | K14: тыс.руб
A15: № п/п | B15: Шифр и № позиции норматива | C15: Наименование работ и затрат, единица измерения | D15: Кол-во | E15: Стоимость ед, руб. | G15: Общая стоимость, руб. | J15: Затраты труда рабочих, чел.-ч., не занятых обсл. Машин
E16: Всего | F16: Экспл. Машин | G16: Всего | H16: зар.платы | I16: Экспл. Машин
E18: Основной зар.платы | F18: в т.ч. Зарплаты | I18: в т.ч. Зарплаты | J18: обслуж. машины
J19: на един. | K19: всего
A20: 1 | B20: 2 | C20: 3 | D20: 4 | E20: 5 | F20: 6 | G20: 7 | H20: 8 | I20: 9 | J20: 10 | K20: 11
A21: =Source!E24 -> 1 | B21: ТЕР 08-02-390-1 | C21: =Source!G24 -> Короба пластмассовые шириной до 40 мм | D21: =Source!I24 -> 1 | E21: =Source!AB24 -> 229.93 | F21: =Source!AD24 -> 31.19 | G21: =Source!O24 -> 230 | H21: =Source!S24 -> 150 | I21: =Source!Q24 -> 31 | J21: =Source!AH24 -> 16.29 | K21: =Source!U24 -> 16.29 | T21: =Source!O24+Source!X24+Source!Y24 -> 420 | U21: =Source!P24 -> 49 | V21: =Source!S24 -> 150 | W21: =Source!Q24 -> 31 | X21: =Source!R24 -> 0 | Y21: =Source!U24 -> 16.29 | Z21: =Source!V24 -> 0.01 | AA21: =Source!X24 -> 101 | AB21: =Source!Y24 -> 89
C22: =Source!H24 -> 100 м | E22: =Source!AF24 -> 149.54 | F22: =Source!AE24 -> 0.13 | I22: =Source!R24 -> 0 | J22: =Source!AI24 -> 0.01 | K22: =Source!V24 -> 0.01
C23: ="Объем: "&Source!I24&"=100/"&"100" -> Объем: 1=100/100
C24: % НР | D24: =Source!BZ24 -> 95 | E24: =(Source!AF24+Source!AE24)*Source!FX24/100 -> 99.53055 | F24: =CONCATENATE(Source!DL24,Source!FT24, "=", Source!FX24, "%") -> *0,7=66,5% | G24: =Source!X24 -> 101 | H24: =CONCATENATE(Source!AT24) -> 67
C25: % СП | D25: =Source!CA24 -> 65 | E25: =(Source!AF24+Source!AE24)*Source!FY24/100 -> 87.55695 | F25: =CONCATENATE(Source!DM24,Source!FU24, "=", Source!FY24, "%") -> *0,9=58,5% | G25: =Source!Y24 -> 89 | H25: =CONCATENATE(Source!AU24) -> 59
C26: Итого с НР и СП | E26: =((Source!AF24+Source!AE24)*Source!FX24/100)+((Source!AF24+Source!AE24)*Source!FY24/100)+Source!AB24 -> 417.0175 | G26: =Source!O24+Source!X24+Source!Y24 -> 420
A27: =Source!E25 -> 2 | B27: ТЕР 08-02-395-1 | C27: =Source!G25 -> Лоток металлический штампованный по установленным конструкциям, ширина лотка до 200 мм | D27: =Source!I25 -> 0.1 | E27: =Source!AB25 -> 924.64 | F27: =Source!AD25 -> 363.3 | G27: =Source!O25 -> 92 | H27: =Source!S25 -> 49 | I27: =Source!Q25 -> 36 | J27: =Source!AH25 -> 54 | K27: =Source!U25 -> 5.4 | T27: =Source!O25+Source!X25+Source!Y25 -> 156 | U27: =Source!P25 -> 7 | V27: =Source!S25 -> 49 | W27: =Source!Q25 -> 36 | X27: =Source!R25 -> 2 | Y27: =Source!U25 -> 5.4 | Z27: =Source!V25 -> 0.125 | AA27: =Source!X25 -> 34 | AB27: =Source!Y25 -> 30
C28: =Source!H25 -> 1 Т | E28: =Source!AF25 -> 490.32 | F28: =Source!AE25 -> 16.29 | I28: =Source!R25 -> 2 | J28: =Source!AI25 -> 1.25 | K28: =Source!V25 -> 0.125
C29: % НР | D29: =Source!BZ25 -> 95 | E29: =(Source!AF25+Source!AE25)*Source!FX25/100 -> 336.89565 | F29: =CONCATENATE(Source!DL25,Source!FT25, "=", Source!FX25, "%") -> *0,7=66,5% | G29: =Source!X25 -> 34 | H29: =CONCATENATE(Source!AT25) -> 67
C30: % СП | D30: =Source!CA25 -> 65 | E30: =(Source!AF25+Source!AE25)*Source!FY25/100 -> 296.36685 | F30: =CONCATENATE(Source!DM25,Source!FU25, "=", Source!FY25, "%") -> *0,9=58,5% | G30: =Source!Y25 -> 30 | H30: =CONCATENATE(Source!AU25) -> 59
C31: Итого с НР и СП | E31: =((Source!AF25+Source!AE25)*Source!FX25/100)+((Source!AF25+Source!AE25)*Source!FY25/100)+Source!AB25 -> 1557.9025 | G31: =Source!O25+Source!X25+Source!Y25 -> 156
C33: =CONCATENATE("Итого по локальной смете: ",IF(Source!G27<>"Новая локальная смета", Source!G27, "")) -> Итого по локальной смете: | G33: =IF(SUM(T21:T32)=0, "-", SUM(T21:T32)) -> 576 | H33: =IF(SUM(V21:V32)=0, "-", SUM(V21:V32)) -> 199 | I33: =IF(SUM(W21:W32)=0, "-", SUM(W21:W32)) -> 67 | K33: =IF(SUM(Y21:Y32)=0, "-", SUM(Y21:Y32)) -> 21.69
I34: =IF(SUM(X21:X32)=0, "-", SUM(X21:X32)) -> 2 | K34: =IF(SUM(Z21:Z32)=0, "-", SUM(Z21:Z32)) -> 0.135
C37: =Source!H29 -> Прямые затраты | H37: =IF(Source!F29=0, "", Source!F29) -> 322
C38: =Source!H30 -> Стоимость материальных ресурсов (всего) | H38: =IF(Source!F30=0, "", Source!F30) -> 56
C39: =Source!H33 -> Стоимость материалов (всего) | H39: =IF(Source!F33=0, "", Source!F33) -> 56
C40: =Source!H39 -> Эксплуатация машин | H40: =IF(Source!F39=0, "", Source!F39) -> 67
C41: =Source!H41 -> ЗП машинистов | H41: =IF(Source!F41=0, "", Source!F41) -> 2
C42: =Source!H42 -> Основная ЗП рабочих | H42: =IF(Source!F42=0, "", Source!F42) -> 199
C43: =Source!H45 -> Монтажные работы с НР и СП | H43: =IF(Source!F45=0, "", Source!F45) -> 576
C44: =Source!H49 -> Трудозатраты строителей | H44: =IF(Source!F49=0, "", Source!F49) -> 22
C45: =Source!H52 -> Накладные расходы | H45: =IF(Source!F52=0, "", Source!F52) -> 135
C46: =Source!H53 -> Сметная прибыль | H46: =IF(Source!F53=0, "", Source!F53) -> 119
C47: =Source!H54 -> Всего с НР и СП | H47: =IF(Source!F54=0, "", Source!F54) -> 576
A50: Составил | C50: =IF(Source!AC12<>"", Source!AC12," ") | I50: =IF(Source!AB12<>"", Source!AB12," ")
C51: [должность,подпись(инициалы,фамилия)]
...

Sheet Source
A1: 0 | B1: Smeta.RU (495) 974-1589 | D1: _PS_ | F1: 0 | G1: 0 | H1: 0 | I1: Smeta.RU | K1: 1 | L1: 28224 | M1: 10 | N1: 10 | O1: 1 | P1: 0 | Q1: 11
A12: 1 | B12: 114 | C12: 0 | D12: =ROW(A56) -> 56 | E12: 0 | F12: Новый объект | G12: ТЕР | I12: 0 | K12: 0 | O12: 0 | P12: 0 | Q12: 0 | R12: 0 | V12: 0 | BH12: Сметные нормы списания | BI12: Коды ценников | BJ12: 0 | BK12: 1 | BL12: 0 | BM12: 1 | BN12: 1 | BO12: 0 | BP12: 6 | BQ12: 0 | BR12: 1 | BS12: 1 | BT12: 0 | BU12: 0 | BV12: 1 | BW12: 0 | BX12: 0 | BY12: ТЕР Тверской области (ред. 2015) | BZ12: ТР для Версии 10: Центральные регионы (с уч. п-ма 2536-ИП/12/ГС от 27.11.12, 01/57049-ЮЛ от 27.04.2018) от 30.08.2018 г | CA12: ТЕР-2015 | CB12: ТЕР-2015 | CC12: ТЕР-2015 | CD12: ТЕР-2015 | CE12: Поправки для НБ 2014 года от 17.02.2017 | CF12: 0 | CG12: 0 | CH12: 8 | CK12: 0 | EC12: 0
A15: 15 | B15: 1
A18: 52 | B18: =B56 -> 114 | C18: =C56 -> 1 | D18: =D56 -> 12 | E18: =E56 -> 0 | F18: =F56 -> Новый объект | G18: =G56 -> ТЕР | O18: =O56 -> 322 | P18: =P56 -> 56 | Q18: =Q56 -> 67 | R18: =R56 -> 2 | S18: =S56 -> 199 | T18: =T56 -> 0 | U18: =U56 -> 21.69 | V18: =V56 -> 0.135 | ... GX18: =GX56 -> 0
A20: 3 | B20: 1 | D20: =ROW(A27) -> 27 | F20: Новая локальная смета | G20: Новая локальная смета | I20: 0 | K20: 0 | V20: 0 | BX20: 0 | CF20: 0 | CG20: 0
A22: 52 | B22: =B27 -> 1 | C22: =C27 -> 3 | D22: =D27 -> 20 | E22: =E27 -> 0 | F22: =F27 -> Новая локальная смета | G22: =G27 -> Новая локальная смета | O22: =O27 -> 322 | P22: =P27 -> 56 | Q22: =Q27 -> 67 | R22: =R27 -> 2 | S22: =S27 -> 199 | T22: =T27 -> 0 | U22: =U27 -> 21.69 | V22: =V27 -> 0.135 | ... GX22: =GX27 -> 0
A24: 17 | B24: 1 | C24: =ROW(SmtRes!A8) -> 8 | D24: =ROW(EtalonRes!A8) -> 8 | E24: 1 | F24: м08-02-390-1 | G24: Короба пластмассовые шириной до 40 мм | H24: 100 м | I24: =ROUND(100/100,9) -> 1 | J24: 0 | O24: =ROUND(CP24,0) -> 230 | P24: =ROUND(CQ24*I24,0) -> 49 | Q24: =ROUND(CR24*I24,0) -> 31 | R24: =ROUND(CS24*I24,0) -> 0 | S24: =ROUND(CT24*I24,0) -> 150 | T24: =ROUND(CU24*I24,0) -> 0 | U24: =CV24*I24 -> 16.29 | V24: =CW24*I24 -> 0.01 | W24: =ROUND(CX24*I24,0) -> 0 | X24: =ROUND(CY24,0) -> 101 | Y24: =ROUND(CZ24,0) -> 89 | AA24: 37217027 | AB24: =ROUND((AC24+AD24+AF24),6) -> 229.93 | AC24: =ROUND((ES24),6) -> 49.2 | AD24: =ROUND((((ET24)-(EU24))+AE24),6) -> 31.19 | AE24: =ROUND((EU24),6) -> 0.13 | AF24: =ROUND((EV24),6) -> 149.54 | AG24: =ROUND((AP24),6) -> 0 | AH24: =(EW24) -> 16.29 | AI24: =(EX24) -> 0.01 | AJ24: =(AS24) -> 0 | AK24: 229.93 | AL24: 49.2 | AM24: 31.19 | AN24: 0.13 | AO24: 149.54 | AP24: 0 | AQ24: 16.29 | AR24: 0.01 | AS24: 0 | AT24: 67 | AU24: 59 | AV24: 1 | AW24: 1 | AZ24: 1 | BA24: 1 | BB24: 1 | BC24: 1 | BH24: 0 | BI24: 2 | BJ24: ТЕР (ред.2014)Тверской обл.изм.2,пр. № 337/пр,сб.08,гл.02,табл.390,поз.1 | BM24: 108001 | BN24: 0 | BP24: 0 | BQ24: 3 | BR24: 0 | BS24: 1 | BT24: 1 | BU24: 1 | BV24: 1 | BW24: 1 | BX24: 1 | BZ24: 95 | CA24: 65 | CE24: 0 | CF24: 0 | CG24: 0 | CM24: 0 | CO24: 0 | CP24: =(P24+Q24+S24) -> 230 | CQ24: =AC24*BC24 -> 49.2 | CR24: =AD24*BB24 -> 31.19 | CS24: =AE24*BS24 -> 0.13 | CT24: =AF24*BA24 -> 149.54 | CU24: =AG24 -> 0 | CV24: =AH24 -> 16.29 | CW24: =AI24 -> 0.01 | CX24: =AJ24 -> 0 | CY24: =(((S24+R24)*AT24)/100) -> 100.5 | CZ24: =(((S24+R24)*AU24)/100) -> 88.5 | DN24: 0 | DO24: 0 | DP24: 1 | DQ24: 1 | DU24: 1003 | DV24: 100 м | DW24: 100 м | DX24: 100 | EE24: 36976932 | EF24: 3 | EG24: Монтажные работы | EH24: 0 | EJ24: 2 | EK24: 108001 | EL24: Электромонтажные работы , отдел 01-03 : ( на АЭС НР = 110% ) - (работы по упр. авиа.- движением: СП=55% ( {АВИА}=1; обычные работы : СП=65 - {AВИА}=0), при работе на АЭС СП= 68% ) | EM24: мФЕР-08 | EQ24: 0 | ER24: 229.93 | ES24: 49.2 | ET24: 31.19 | EU24: 0.13 | EV24: 149.54 | EW24: 16.29 | EX24: 0.01 | EY24: 0 | FQ24: 0 | FR24: =ROUND(IF(AND(BH24=3,BI24=3),P24,0),0) -> 0 | FS24: 0 | FT24: *0,7 | FU24: *0,9 | FX24: 66.5 | FY24: 58.5 | GD24: 1 | GF24: -1978551762 | GG24: 2 | GH24: 1 | GI24: -2 | GJ24: 0 | GK24: 0 | GL24: =ROUND(IF(AND(BH24=3,BI24=3,FS24<>0),P24,0),0) -> 0 | GM24: =ROUND(O24+X24+Y24,0)+GX24 -> 420 | GN24: =IF(OR(BI24=0,BI24=1),ROUND(O24+X24+Y24,0),0) -> 0 | GO24: =IF(BI24=2,ROUND(O24+X24+Y24,0),0) -> 420 | GP24: =IF(BI24=4,ROUND(O24+X24+Y24,0)+GX24,0) -> 0 | GR24: 0 | GS24: 3 | GT24: 0 | GV24: =ROUND((GT24),6) -> 0 | GW24: 1 | GX24: =ROUND(HC24*I24,0) -> 0 | HA24: 0 | HB24: 0 | HC24: =GV24*GW24 -> 0 | IK24: 0
A25: 17 | B25: 1 | C25: =ROW(SmtRes!A16) -> 16 | D25: =ROW(EtalonRes!A16) -> 16 | E25: 2 | F25: м08-02-395-1 | G25: Лоток металлический штампованный по установленным конструкциям, ширина лотка до 200 мм | H25: 1 Т | I25: 0.1 | J25: 0 | O25: =ROUND(CP25,0) -> 92 | P25: =ROUND(CQ25*I25,0) -> 7 | Q25: =ROUND(CR25*I25,0) -> 36 | R25: =ROUND(CS25*I25,0) -> 2 | S25: =ROUND(CT25*I25,0) -> 49 | T25: =ROUND(CU25*I25,0) -> 0 | U25: =CV25*I25 -> 5.4 | V25: =CW25*I25 -> 0.125 | W25: =ROUND(CX25*I25,0) -> 0 | X25: =ROUND(CY25,0) -> 34 | Y25: =ROUND(CZ25,0) -> 30 | AA25: 37217027 | AB25: =ROUND((AC25+AD25+AF25),6) -> 924.64 | AC25: =ROUND((ES25),6) -> 71.02 | AD25: =ROUND((((ET25)-(EU25))+AE25),6) -> 363.3 | AE25: =ROUND((EU25),6) -> 16.29 | AF25: =ROUND((EV25),6) -> 490.32 | AG25: =ROUND((AP25),6) -> 0 | AH25: =(EW25) -> 54 | AI25: =(EX25) -> 1.25 | AJ25: =(AS25) -> 0 | AK25: 924.64 | AL25: 71.02 | AM25: 363.3 | AN25: 16.29 | AO25: 490.32 | AP25: 0 | AQ25: 54 | AR25: 1.25 | AS25: 0 | AT25: 67 | AU25: 59 | AV25: 1 | AW25: 1 | AZ25: 1 | BA25: 1 | BB25: 1 | BC25: 1 | BH25: 0 | BI25: 2 | BJ25: ТЕР (ред.2014)Тверской обл.изм.2,пр. № 337/пр,сб.08,гл.02,табл.395,поз.1 | BM25: 108001 | BN25: 0 | BP25: 0 | BQ25: 3 | BR25: 0 | BS25: 1 | BT25: 1 | BU25: 1 | BV25: 1 | BW25: 1 | BX25: 1 | BZ25: 95 | CA25: 65 | CE25: 0 | CF25: 0 | CG25: 0 | CM25: 0 | CO25: 0 | CP25: =(P25+Q25+S25) -> 92 | CQ25: =AC25*BC25 -> 71.02 | CR25: =AD25*BB25 -> 363.3 | CS25: =AE25*BS25 -> 16.29 | CT25: =AF25*BA25 -> 490.32 | CU25: =AG25 -> 0 | CV25: =AH25 -> 54 | CW25: =AI25 -> 1.25 | CX25: =AJ25 -> 0 | CY25: =(((S25+R25)*AT25)/100) -> 34.17 | CZ25: =(((S25+R25)*AU25)/100) -> 30.09 | DN25: 0 | DO25: 0 | DP25: 1 | DQ25: 1 | DU25: 1013 | DV25: 1 Т | DW25: 1 Т | DX25: 1 | EE25: 36976932 | EF25: 3 | EG25: Монтажные работы | EH25: 0 | EJ25: 2 | EK25: 108001 | EL25: Электромонтажные работы , отдел 01-03 : ( на АЭС НР = 110% ) - (работы по упр. авиа.- движением: СП=55% ( {АВИА}=1; обычные работы : СП=65 - {AВИА}=0), при работе на АЭС СП= 68% ) | EM25: мФЕР-08 | EQ25: 0 | ER25: 924.64 | ES25: 71.02 | ET25: 363.3 | EU25: 16.29 | EV25: 490.32 | EW25: 54 | EX25: 1.25 | EY25: 0 | FQ25: 0 | FR25: =ROUND(IF(AND(BH25=3,BI25=3),P25,0),0) -> 0 | FS25: 0 | FT25: *0,7 | FU25: *0,9 | FX25: 66.5 | FY25: 58.5 | GD25: 1 | GF25: 196067589 | GG25: 2 | GH25: 1 | GI25: -2 | GJ25: 0 | GK25: 0 | GL25: =ROUND(IF(AND(BH25=3,BI25=3,FS25<>0),P25,0),0) -> 0 | GM25: =ROUND(O25+X25+Y25,0)+GX25 -> 156 | GN25: =IF(OR(BI25=0,BI25=1),ROUND(O25+X25+Y25,0),0) -> 0 | GO25: =IF(BI25=2,ROUND(O25+X25+Y25,0),0) -> 156 | GP25: =IF(BI25=4,ROUND(O25+X25+Y25,0)+GX25,0) -> 0 | GR25: 0 | GS25: 3 | GT25: 0 | GV25: =ROUND((GT25),6) -> 0 | GW25: 1 | GX25: =ROUND(HC25*I25,0) -> 0 | HA25: 0 | HB25: 0 | HC25: =GV25*GW25 -> 0 | IK25: 0
A27: 51 | B27: =B20 -> 1 | C27: =A20 -> 3 | D27: =ROW(A20) -> 20 | F27: =IF(F20<>"",F20,"") -> Новая локальная смета | G27: =IF(G20<>"",G20,"") -> Новая локальная смета | H27: 0 | O27: =ROUND(AB27,0) -> 322 | P27: =ROUND(AC27,0) -> 56 | Q27: =ROUND(AD27,0) -> 67 | R27: =ROUND(AE27,0) -> 2 | S27: =ROUND(AF27,0) -> 199 | T27: =ROUND(AG27,0) -> 0 | U27: =AH27 -> 21.69 | V27: =AI27 -> 0.135 | W27: =ROUND(AJ27,0) -> 0 | X27: =ROUND(AK27,0) -> 135 | Y27: =ROUND(AL27,0) -> 119 | AB27: =ROUND(SUMIF(AA24:AA25,"=37217027",O24:O25),0) -> 322 | AC27: =ROUND(SUMIF(AA24:AA25,"=37217027",P24:P25),0) -> 56 | AD27: =ROUND(SUMIF(AA24:AA25,"=37217027",Q24:Q25),0) -> 67 | AE27: =ROUND(SUMIF(AA24:AA25,"=37217027",R24:R25),0) -> 2 | AF27: =ROUND(SUMIF(AA24:AA25,"=37217027",S24:S25),0) -> 199 | AG27: =ROUND(SUMIF(AA24:AA25,"=37217027",T24:T25),0) -> 0 | AH27: =SUMIF(AA24:AA25,"=37217027",U24:U25) -> 21.69 | AI27: =SUMIF(AA24:AA25,"=37217027",V24:V25) -> 0.135 | AJ27: =ROUND(SUMIF(AA24:AA25,"=37217027",W24:W25),0) -> 0 | AK27: =ROUND(SUMIF(AA24:AA25,"=37217027",X24:X25),0) -> 135 | AL27: =ROUND(SUMIF(AA24:AA25,"=37217027",Y24:Y25),0) -> 119 | AO27: =ROUND(BX27,0) -> 0 | AP27: =ROUND(BY27,0) -> 0 | AQ27: =ROUND(BZ27,0) -> 0 | AR27: =ROUND(CA27,0) -> 576 | AS27: =ROUND(CB27,0) -> 0 | AT27: =ROUND(CC27,0) -> 576 | AU27: =ROUND(CD27,0) -> 0 | AV27: =ROUND(CE27,0) -> 56 | ... BC27: =ROUND(CL27,0) -> 0 | BX27: =ROUND(SUMIF(AA24:AA25,"=37217027",FQ24:FQ25),0) -> 0 | BY27: =ROUND(SUMIF(AA24:AA25,"=37217027",FR24:FR25),0) -> 0 | BZ27: =ROUND(SUMIF(AA24:AA25,"=37217027",GL24:GL25),0) -> 0 | CA27: =ROUND(SUMIF(AA24:AA25,"=37217027",GM24:GM25),0) -> 576 | CB27: =ROUND(SUMIF(AA24:AA25,"=37217027",GN24:GN25),0) -> 0 | CC27: =ROUND(SUMIF(AA24:AA25,"=37217027",GO24:GO25),0) -> 576 | CD27: =ROUND(SUMIF(AA24:AA25,"=37217027",GP24:GP25),0) -> 0 | CE27: =AC27-BX27 -> 56 | CF27: =AC27-BY27 -> 56 | CG27: =BX27-BZ27 -> 0 | CH27: =AC27-BX27-BY27+BZ27 -> 56 | CI27: =BY27-BZ27 -> 0 | CJ27: =ROUND(SUMIF(AA24:AA25,"=37217027",GX24:GX25),0) -> 0 | CK27: =ROUND(SUMIF(AA24:AA25,"=37217027",GY24:GY25),0) -> 0 | CL27: =ROUND(SUMIF(AA24:AA25,"=37217027",GZ24:GZ25),0) -> 0 | GX27: 0
A29: 50 | B29: 1 | C29: 0 | D29: 1 | E29: 201 | F29: =ROUND(Source!O27,O29) -> 322 | G29: ПЗ | H29: Прямые затраты | K29: 201 | L29: 1 | M29: 1 | O29: 0
A30: 50 | B30: 1 | C30: 0 | D30: 1 | E30: 202 | F30: =ROUND(Source!P27,O30) -> 56 | G30: СтМатОб | H30: Стоимость материальных ресурсов (всего) | K30: 202 | L30: 2 | M30: 1 | O30: 0
A31: 50 | B31: 0 | C31: 0 | D31: 1 | E31: 222 | F31: =ROUND(Source!AO27,O31) -> 0 | G31: СтМатОбЗак | H31: Стоимость материалов и оборудования заказчика | K31: 222 | L31: 3 | M31: 3 | O31: 0
A32: 50 | B32: 0 | C32: 0 | D32: 1 | E32: 225 | F32: =ROUND(Source!AV27,O32) -> 56 | G32: СтМатОбПод | H32: Стоимость материалов и оборудования подрядчика | K32: 225 | L32: 4 | M32: 3 | O32: 0
A33: 50 | B33: 1 | C33: 0 | D33: 1 | E33: 226 | F33: =ROUND(Source!AW27,O33) -> 56 | G33: СтМат | H33: Стоимость материалов (всего) | K33: 226 | L33: 5 | M33: 1 | O33: 0
A34: 50 | B34: 0 | C34: 0 | D34: 1 | E34: 227 | F34: =ROUND(Source!AX27,O34) -> 0 | G34: СтМатЗак | H34: Стоимость материалов заказчика | K34: 227 | L34: 6 | M34: 3 | O34: 0
A35: 50 | B35: 0 | C35: 0 | D35: 1 | E35: 228 | F35: =ROUND(Source!AY27,O35) -> 56 | G35: СтМатПод | H35: Стоимость материалов подрядчика | K35: 228 | L35: 7 | M35: 3 | O35: 0
A36: 50 | B36: 0 | C36: 0 | D36: 1 | E36: 216 | F36: =ROUND(Source!AP27,O36) -> 0 | G36: Оборуд | H36: Стоимость оборудования (всего) | K36: 216 | L36: 8 | M36: 1 | O36: 0
A37: 50 | B37: 0 | C37: 0 | D37: 1 | E37: 223 | F37: =ROUND(Source!AQ27,O37) -> 0 | G37: ОборудЗак | H37: Стоимость оборудования заказчика | K37: 223 | L37: 9 | M37: 3 | O37: 0
A38: 50 | B38: 0 | C38: 0 | D38: 1 | E38: 229 | F38: =ROUND(Source!AZ27,O38) -> 0 | G38: ОборудПод | H38: Стоимость оборудования подрядчика | K38: 229 | L38: 10 | M38: 3 | O38: 0
A39: 50 | B39: 1 | C39: 0 | D39: 1 | E39: 203 | F39: =ROUND(Source!Q27,O39) -> 67 | G39: ЭММ | H39: Эксплуатация машин | K39: 203 | L39: 11 | M39: 1 | O39: 0
A40: 50 | B40: 0 | C40: 0 | D40: 1 | E40: 231 | F40: =ROUND(Source!BB27,O40) -> 0 | G40: ЭММсНРиСП | H40: Эксплуатация машин по ТСН-2001.16 | K40: 231 | L40: 12 | M40: 3 | O40: 0
A41: 50 | B41: 1 | C41: 0 | D41: 1 | E41: 204 | F41: =ROUND(Source!R27,O41) -> 2 | G41: ЗПМ | H41: ЗП машинистов | K41: 204 | L41: 13 | M41: 1 | O41: 0
A42: 50 | B42: 1 | C42: 0 | D42: 1 | E42: 205 | F42: =ROUND(Source!S27,O42) -> 199 | G42: ОЗП | H42: Основная ЗП рабочих | K42: 205 | L42: 14 | M42: 1 | O42: 0
A43: 50 | B43: 0 | C43: 0 | D43: 1 | E43: 232 | F43: =ROUND(Source!BC27,O43) -> 0 | G43: ОЗПсНРиСП | H43: Основная ЗП рабочих по ТСН-2001.16 | K43: 232 | L43: 15 | M43: 3 | O43: 0
A44: 50 | B44: 0 | C44: 0 | D44: 1 | E44: 214 | F44: =ROUND(Source!AS27,O44) -> 0 | G44: Строит | H44: Строительные работы с НР и СП | K44: 214 | L44: 16 | M44: 1 | O44: 0
A45: 50 | B45: 1 | C45: 0 | D45: 1 | E45: 215 | F45: =ROUND(Source!AT27,O45) -> 576 | G45: Монтаж | H45: Монтажные работы с НР и СП | K45: 215 | L45: 17 | M45: 1 | O45: 0
A46: 50 | B46: 0 | C46: 0 | D46: 1 | E46: 217 | F46: =ROUND(Source!AU27,O46) -> 0 | G46: Прочие | H46: Прочие работы с НР и СП | K46: 217 | L46: 18 | M46: 1 | O46: 0
A47: 50 | B47: 0 | C47: 0 | D47: 1 | E47: 230 | F47: =ROUND(Source!BA27,O47) -> 0 | G47: ПрочиеЗатр | H47: Прочие затраты по ТСН-2001.16 | K47: 230 | L47: 19 | M47: 3 | O47: 0
A48: 50 | B48: 0 | C48: 0 | D48: 1 | E48: 206 | F48: =ROUND(Source!T27,O48) -> 0 | G48: ВозврМат | H48: Возврат материалов | K48: 206 | L48: 20 | M48: 1 | O48: 0
A49: 50 | B49: 1 | C49: 0 | D49: 1 | E49: 207 | F49: =ROUND(Source!U27,O49) -> 22 | G49: ТрудСтр | H49: Трудозатраты строителей | K49: 207 | L49: 21 | M49: 1 | O49: 0
A50: 50 | B50: 0 | C50: 0 | D50: 1 | E50: 208 | F50: =ROUND(Source!V27,O50) -> 0 | G50: ТрудМаш | H50: Трудозатраты машинистов | K50: 208 | L50: 22 | M50: 1 | O50: 0
A51: 50 | B51: 0 | C51: 0 | D51: 1 | E51: 209 | F51: =ROUND(Source!W27,O51) -> 0 | G51: ТранспМат | H51: Транспорт материалов | K51: 209 | L51: 23 | M51: 3 | O51: 0
A52: 50 | B52: 1 | C52: 0 | D52: 1 | E52: 210 | F52: =ROUND(Source!X27,O52) -> 135 | G52: НР | H52: Накладные расходы | K52: 210 | L52: 24 | M52: 1 | O52: 0
A53: 50 | B53: 1 | C53: 0 | D53: 1 | E53: 211 | F53: =ROUND(Source!Y27,O53) -> 119 | G53: СмПриб | H53: Сметная прибыль | K53: 211 | L53: 25 | M53: 1 | O53: 0
A54: 50 | B54: 1 | C54: 0 | D54: 1 | E54: 224 | F54: =ROUND(Source!AR27,O54) -> 576 | G54: Всего | H54: Всего с НР и СП | K54: 224 | L54: 26 | M54: 1 | O54: 0
A56: 51 | B56: =B12 -> 114 | C56: =A12 -> 1 | D56: =ROW(A12) -> 12 | F56: =IF(F12<>"",F12,"") -> Новый объект | G56: =IF(G12<>"",G12,"") -> ТЕР | H56: 0 | O56: =ROUND(O27,0) -> 322 | P56: =ROUND(P27,0) -> 56 | Q56: =ROUND(Q27,0) -> 67 | R56: =ROUND(R27,0) -> 2 | S56: =ROUND(S27,0) -> 199 | T56: =ROUND(T27,0) -> 0 | U56: =U27 -> 21.69 | V56: =V27 -> 0.135 | W56: =ROUND(W27,0) -> 0 | X56: =ROUND(X27,0) -> 135 | Y56: =ROUND(Y27,0) -> 119 | AO56: =ROUND(AO27,0) -> 0 | AP56: =ROUND(AP27,0) -> 0 | AQ56: =ROUND(AQ27,0) -> 0 | AR56: =ROUND(AR27,0) -> 576 | AS56: =ROUND(AS27,0) -> 0 | AT56: =ROUND(AT27,0) -> 576 | AU56: =ROUND(AU27,0) -> 0 | AV56: =ROUND(AV27,0) -> 56 | ... BC56: =ROUND(BC27,0) -> 0 | GX56: 0
A58: 50 | B58: 1 | C58: 0 | D58: 1 | E58: 201 | F58: =ROUND(Source!O56,O58) -> 322 | G58: ПЗ | H58: Прямые затраты | K58: 201 | L58: 1 | M58: 1 | O58: 0
A59: 50 | B59: 1 | C59: 0 | D59: 1 | E59: 202 | F59: =ROUND(Source!P56,O59) -> 56 | G59: СтМатОб | H59: Стоимость материальных ресурсов (всего) | K59: 202 | L59: 2 | M59: 1 | O59: 0
A60: 50 | B60: 0 | C60: 0 | D60: 1 | E60: 222 | F60: =ROUND(Source!AO56,O60) -> 0 | G60: СтМатОбЗак | H60: Стоимость материалов и оборудования заказчика | K60: 222 | L60: 3 | M60: 3 | O60: 0
A61: 50 | B61: 0 | C61: 0 | D61: 1 | E61: 225 | F61: =ROUND(Source!AV56,O61) -> 56 | G61: СтМатОбПод | H61: Стоимость материалов и оборудования подрядчика | K61: 225 | L61: 4 | M61: 3 | O61: 0
...

Sheet SourceObSm
A1: 0 | B1: Smeta.RU (495) 974-1589 | D1: _OBSM_ | F1: 0 | G1: 0 | H1: 0 | I1: Smeta.RU | K1: 1 | L1: 28224 | M1: 10 | N1: 10 | O1: 1 | P1: 0 | Q1: 11
A12: 1 | B12: 50 | C12: 0 | E12: 0 | F12: Новый объект | G12: ТЕР | I12: 0 | K12: 0 | O12: 0 | P12: 0 | Q12: 0 | R12: 0 | V12: 0 | BH12: Сметные нормы списания | BI12: Коды ценников | BJ12: 0 | BK12: 1 | BL12: 0 | BM12: 1 | BN12: 1 | BO12: 0 | BP12: 6 | BQ12: 0 | BR12: 1 | BS12: 1 | BT12: 0 | BU12: 0 | BV12: 1 | BW12: 0 | BX12: 0 | BY12: ТЕР Тверской области (ред. 2015) | BZ12: ТР для Версии 10: Центральные регионы (с уч. п-ма 2536-ИП/12/ГС от 27.11.12, 01/57049-ЮЛ от 27.04.2018) от 30.08.2018 г | CA12: ТЕР-2015 | CB12: ТЕР-2015 | CC12: ТЕР-2015 | CD12: ТЕР-2015 | CE12: Поправки для НБ 2014 года от 17.02.2017 | CF12: 0 | CG12: 0 | CH12: 8 | CK12: 0 | EC12: 0
A14: 22 | B14: 0 | C14: 0 | D14: 37217027 | E14: 0 | F14: 3
A16: 3 | B16: 1 | C16: Новая локальная смета | D16: Новая локальная смета | E16: =(Source!F44)/1000 -> 0 | F16: =(Source!F45)/1000 -> 0.576 | G16: =(Source!F36)/1000 -> 0 | H16: =(Source!F46)/1000+(Source!F47)/1000 -> 0 | I16: =E16+F16+G16+H16 -> 0.576 | J16: =(Source!F42)/1000 -> 0.199 | AI16: 0 | AJ16: 0 | AN16: 0 | AT16: 322 | AU16: 56 | AV16: 0 | AW16: 0 | AX16: 0 | AY16: 67 | AZ16: 2 | BA16: 199 | BB16: 0 | BC16: 576 | BD16: 0 | BE16: 0 | BF16: 22 | BG16: 0 | BH16: 0 | BI16: 135 | BJ16: 119 | BK16: 576
A18: 51 | E18: =SUMIF(A16:A17,3,E16:E17) -> 0 | F18: =SUMIF(A16:A17,3,F16:F17) -> 0.576 | G18: =SUMIF(A16:A17,3,G16:G17) -> 0 | H18: =SUMIF(A16:A17,3,H16:H17) -> 0 | I18: =SUMIF(A16:A17,3,I16:I17) -> 0.576 | J18: =SUMIF(A16:A17,3,J16:J17) -> 0.199
A20: 50 | B20: =IF(SourceObSm!F20<>0,1,0) -> 1 | C20: 0 | D20: 1 | E20: 201 | F20: 322 | G20: ПЗ | H20: Прямые затраты | K20: 201 | L20: 1 | M20: 1 | O20: 0
A21: 50 | B21: =IF(SourceObSm!F21<>0,1,0) -> 1 | C21: 0 | D21: 1 | E21: 202 | F21: 56 | G21: СтМатОб | H21: Стоимость материальных ресурсов (всего) | K21: 202 | L21: 2 | M21: 1 | O21: 0
A22: 50 | B22: 0 | C22: 0 | D22: 1 | E22: 222 | F22: 0 | G22: СтМатОбЗак | H22: Стоимость материалов и оборудования заказчика | K22: 222 | L22: 3 | M22: 3 | O22: 0
A23: 50 | B23: 0 | C23: 0 | D23: 1 | E23: 225 | F23: 56 | G23: СтМатОбПод | H23: Стоимость материалов и оборудования подрядчика | K23: 225 | L23: 4 | M23: 3 | O23: 0
A24: 50 | B24: =IF(SourceObSm!F24<>0,1,0) -> 1 | C24: 0 | D24: 1 | E24: 226 | F24: 56 | G24: СтМат | H24: Стоимость материалов (всего) | K24: 226 | L24: 5 | M24: 1 | O24: 0
A25: 50 | B25: 0 | C25: 0 | D25: 1 | E25: 227 | F25: 0 | G25: СтМатЗак | H25: Стоимость материалов заказчика | K25: 227 | L25: 6 | M25: 3 | O25: 0
A26: 50 | B26: 0 | C26: 0 | D26: 1 | E26: 228 | F26: 56 | G26: СтМатПод | H26: Стоимость материалов подрядчика | K26: 228 | L26: 7 | M26: 3 | O26: 0
A27: 50 | B27: =IF(SourceObSm!F27<>0,1,0) -> 0 | C27: 0 | D27: 1 | E27: 216 | F27: 0 | G27: Оборуд | H27: Стоимость оборудования (всего) | K27: 216 | L27: 8 | M27: 1 | O27: 0
A28: 50 | B28: 0 | C28: 0 | D28: 1 | E28: 223 | F28: 0 | G28: ОборудЗак | H28: Стоимость оборудования заказчика | K28: 223 | L28: 9 | M28: 3 | O28: 0
A29: 50 | B29: 0 | C29: 0 | D29: 1 | E29: 229 | F29: 0 | G29: ОборудПод | H29: Стоимость оборудования подрядчика | K29: 229 | L29: 10 | M29: 3 | O29: 0
A30: 50 | B30: =IF(SourceObSm!F30<>0,1,0) -> 1 | C30: 0 | D30: 1 | E30: 203 | F30: 67 | G30: ЭММ | H30: Эксплуатация машин | K30: 203 | L30: 11 | M30: 1 | O30: 0
A31: 50 | B31: 0 | C31: 0 | D31: 1 | E31: 231 | F31: 0 | G31: ЭММсНРиСП | H31: Эксплуатация машин по ТСН-2001.16 | K31: 231 | L31: 12 | M31: 3 | O31: 0
A32: 50 | B32: =IF(SourceObSm!F32<>0,1,0) -> 1 | C32: 0 | D32: 1 | E32: 204 | F32: 2 | G32: ЗПМ | H32: ЗП машинистов | K32: 204 | L32: 13 | M32: 1 | O32: 0
A33: 50 | B33: =IF(SourceObSm!F33<>0,1,0) -> 1 | C33: 0 | D33: 1 | E33: 205 | F33: 199 | G33: ОЗП | H33: Основная ЗП рабочих | K33: 205 | L33: 14 | M33: 1 | O33: 0
A34: 50 | B34: 0 | C34: 0 | D34: 1 | E34: 232 | F34: 0 | G34: ОЗПсНРиСП | H34: Основная ЗП рабочих по ТСН-2001.16 | K34: 232 | L34: 15 | M34: 3 | O34: 0
A35: 50 | B35: =IF(SourceObSm!F35<>0,1,0) -> 0 | C35: 0 | D35: 1 | E35: 214 | F35: 0 | G35: Строит | H35: Строительные работы с НР и СП | K35: 214 | L35: 16 | M35: 1 | O35: 0
A36: 50 | B36: =IF(SourceObSm!F36<>0,1,0) -> 1 | C36: 0 | D36: 1 | E36: 215 | F36: 576 | G36: Монтаж | H36: Монтажные работы с НР и СП | K36: 215 | L36: 17 | M36: 1 | O36: 0
A37: 50 | B37: =IF(SourceObSm!F37<>0,1,0) -> 0 | C37: 0 | D37: 1 | E37: 217 | F37: 0 | G37: Прочие | H37: Прочие работы с НР и СП | K37: 217 | L37: 18 | M37: 1 | O37: 0
A38: 50 | B38: 0 | C38: 0 | D38: 1 | E38: 230 | F38: 0 | G38: ПрочиеЗатр | H38: Прочие затраты по ТСН-2001.16 | K38: 230 | L38: 19 | M38: 3 | O38: 0
A39: 50 | B39: =IF(SourceObSm!F39<>0,1,0) -> 0 | C39: 0 | D39: 1 | E39: 206 | F39: 0 | G39: ВозврМат | H39: Возврат материалов | K39: 206 | L39: 20 | M39: 1 | O39: 0
A40: 50 | B40: =IF(SourceObSm!F40<>0,1,0) -> 1 | C40: 0 | D40: 1 | E40: 207 | F40: 22 | G40: ТрудСтр | H40: Трудозатраты строителей | K40: 207 | L40: 21 | M40: 1 | O40: 0
A41: 50 | B41: =IF(SourceObSm!F41<>0,1,0) -> 0 | C41: 0 | D41: 1 | E41: 208 | F41: 0 | G41: ТрудМаш | H41: Трудозатраты машинистов | K41: 208 | L41: 22 | M41: 1 | O41: 0
A42: 50 | B42: 0 | C42: 0 | D42: 1 | E42: 209 | F42: 0 | G42: ТранспМат | H42: Транспорт материалов | K42: 209 | L42: 23 | M42: 3 | O42: 0
A43: 50 | B43: =IF(SourceObSm!F43<>0,1,0) -> 1 | C43: 0 | D43: 1 | E43: 210 | F43: 135 | G43: НР | H43: Накладные расходы | K43: 210 | L43: 24 | M43: 1 | O43: 0
A44: 50 | B44: =IF(SourceObSm!F44<>0,1,0) -> 1 | C44: 0 | D44: 1 | E44: 211 | F44: 119 | G44: СмПриб | H44: Сметная прибыль | K44: 211 | L44: 25 | M44: 1 | O44: 0
A45: 50 | B45: =IF(SourceObSm!F45<>0,1,0) -> 1 | C45: 0 | D45: 1 | E45: 224 | F45: 576 | G45: Всего | H45: Всего с НР и СП | K45: 224 | L45: 26 | M45: 1 | O45: 0
A47: -1
A50: 75 | B50: Уровень цен | C50: 2000 | D50: 0 | E50: 1 | F50: 0 | G50: 0 | H50: 1 | I50: 0 | J50: 1 | K50: 0 | L50: 0 | M50: 0 | N50: 37217027 | O50: 1

Sheet SmtRes
A1: =ROW(Source!A24) -> 24 | B1: 37217027 | C1: 39889147 | D1: 29084596 | E1: 1 | F1: 1 | G1: 1 | H1: 1 | I1: 1-1039-69 | K1: Рабочий строитель среднего разряда 3,9 | L1: 1369 | N1: 1013 | O1: чел.-ч | P1: чел.-ч | Q1: 1 | W1: 0 | X1: 1607597053 | Y1: 16.29 | AA1: 0 | AB1: 0 | AC1: 0 | AD1: 9.18 | AE1: 0 | AF1: 0 | AG1: 0 | AH1: 9.18 | AI1: 1 | AJ1: 1 | AK1: 1 | AL1: 1 | AN1: 0 | AO1: 1 | AP1: 0 | AQ1: 0 | AR1: 0 | AT1: 16.29 | AV1: 1 | AW1: 2 | AX1: 39889148 | AY1: 1 | AZ1: 0 | BA1: 1 | BB1: 0 | BC1: 0 | BD1: 0 | BE1: 0 | BF1: 0 | BG1: 0 | BH1: 0 | BI1: 0 | BJ1: 0 | BK1: 0 | BL1: 0 | BM1: 0 | BN1: 0 | BO1: 0 | BP1: 0 | BQ1: 0 | BR1: 0 | BS1: 0 | BT1: 0 | BU1: 0 | BV1: 0 | BW1: 0 | CX1: =Y1*Source!I24 -> 16.29 | CY1: =AD1 -> 9.18 | CZ1: =AH1 -> 9.18 | DA1: =AL1 -> 1 | DB1: =ROUND(ROUND(AT1*CZ1,2),6) -> 149.54 | DC1: =ROUND(ROUND(AT1*AG1,2),6) -> 0
A2: =ROW(Source!A24) -> 24 | B2: 37217027 | C2: 39889147 | D2: 29084573 | E2: 1 | F2: 1 | G2: 1 | H2: 1 | I2: 2-69 | K2: Затраты труда машинистов | L2: 608254 | N2: 1013 | O2: чел.час | P2: чел.час | Q2: 1 | W2: 0 | X2: 95408949 | Y2: 0.01 | AA2: 0 | AB2: 0 | AC2: 0 | AD2: 0 | AE2: 0 | AF2: 0 | AG2: 0 | AH2: 0 | AI2: 1 | AJ2: 1 | AK2: 1 | AL2: 1 | AN2: 0 | AO2: 1 | AP2: 0 | AQ2: 0 | AR2: 0 | AT2: 0.01 | AV2: 2 | AW2: 2 | AX2: 39889149 | AY2: 1 | AZ2: 0 | BA2: 2 | BB2: 0 | BC2: 0 | BD2: 0 | BE2: 0 | BF2: 0 | BG2: 0 | BH2: 0 | BI2: 0 | BJ2: 0 | BK2: 0 | BL2: 0 | BM2: 0 | BN2: 0 | BO2: 0 | BP2: 0 | BQ2: 0 | BR2: 0 | BS2: 0 | BT2: 0 | BU2: 0 | BV2: 0 | BW2: 0 | CX2: =Y2*Source!I24 -> 0.01 | CY2: =AD2 -> 0 | CZ2: =AH2 -> 0 | DA2: =AL2 -> 1 | DB2: =ROUND(ROUND(AT2*CZ2,2),6) -> 0 | DC2: =ROUND(ROUND(AT2*AG2,2),6) -> 0
A3: =ROW(Source!A24) -> 24 | B3: 37217027 | C3: 39889147 | D3: 33441040 | E3: 1 | F3: 1 | G3: 1 | H3: 2 | I3: 030954 | J3: ЦЭМ Тверской обл.(редакции 2014), пр. №337/пр, сб.03,поз.0954 | K3: Подъемники грузоподъемностью до 500 кг одномачтовые, высота подъема 45 м | L3: 1368 | N3: 1011 | O3: маш.-ч | P3: маш.-ч | Q3: 1 | W3: 0 | X3: -1205898307 | Y3: 0.01 | AA3: 0 | AB3: 30.85 | AC3: 13.03 | AD3: 0 | AE3: 0 | AF3: 30.85 | AG3: 13.03 | AH3: 0 | AI3: 1 | AJ3: 1 | AK3: 1 | AL3: 1 | AN3: 0 | AO3: 1 | AP3: 0 | AQ3: 0 | AR3: 0 | AT3: 0.01 | AV3: 0 | AW3: 2 | AX3: 39889150 | AY3: 1 | AZ3: 0 | BA3: 3 | BB3: 0 | BC3: 0 | BD3: 0 | BE3: 0 | BF3: 0 | BG3: 0 | BH3: 0 | BI3: 0 | BJ3: 0 | BK3: 0 | BL3: 0 | BM3: 0 | BN3: 0 | BO3: 0 | BP3: 0 | BQ3: 0 | BR3: 0 | BS3: 0 | BT3: 0 | BU3: 0 | BV3: 0 | BW3: 0 | CX3: =Y3*Source!I24 -> 0.01 | CY3: =AB3 -> 30.85 | CZ3: =AF3 -> 30.85 | DA3: =AJ3 -> 1 | DB3: =ROUND(ROUND(AT3*CZ3,2),6) -> 0.31 | DC3: =ROUND(ROUND(AT3*AG3,2),6) -> 0.13
A4: =ROW(Source!A24) -> 24 | B4: 37217027 | C4: 39889147 | D4: 33441967 | E4: 1 | F4: 1 | G4: 1 | H4: 2 | I4: 134041 | J4: ЦЭМ Тверской обл.(редакции 2014), пр. №337/пр, сб.13,поз.4041 | K4: Шуруповерт | L4: 1368 | N4: 1011 | O4: маш.-ч | P4: маш.-ч | Q4: 1 | W4: 0 | X4: -422547563 | Y4: 6.08 | AA4: 0 | AB4: 3 | AC4: 0 | AD4: 0 | AE4: 0 | AF4: 3 | AG4: 0 | AH4: 0 | AI4: 1 | AJ4: 1 | AK4: 1 | AL4: 1 | AN4: 0 | AO4: 1 | AP4: 0 | AQ4: 0 | AR4: 0 | AT4: 6.08 | AV4: 0 | AW4: 2 | AX4: 39889151 | AY4: 1 | AZ4: 0 | BA4: 4 | BB4: 0 | BC4: 0 | BD4: 0 | BE4: 0 | BF4: 0 | BG4: 0 | BH4: 0 | BI4: 0 | BJ4: 0 | BK4: 0 | BL4: 0 | BM4: 0 | BN4: 0 | BO4: 0 | BP4: 0 | BQ4: 0 | BR4: 0 | BS4: 0 | BT4: 0 | BU4: 0 | BV4: 0 | BW4: 0 | CX4: =Y4*Source!I24 -> 6.08 | CY4: =AB4 -> 3 | CZ4: =AF4 -> 3 | DA4: =AJ4 -> 1 | DB4: =ROUND(ROUND(AT4*CZ4,2),6) -> 18.24 | DC4: =ROUND(ROUND(AT4*AG4,2),6) -> 0
A5: =ROW(Source!A24) -> 24 | B5: 37217027 | C5: 39889147 | D5: 33443101 | E5: 1 | F5: 1 | G5: 1 | H5: 2 | I5: 331451 | J5: ЦЭМ Тверской обл.(редакции 2014), пр. №337/пр, сб.33,поз.1451 | K5: Перфораторы электрические | L5: 1368 | N5: 1011 | O5: маш.-ч | P5: маш.-ч | Q5: 1 | W5: 0 | X5: 1464343275 | Y5: 6.08 | AA5: 0 | AB5: 2.08 | AC5: 0 | AD5: 0 | AE5: 0 | AF5: 2.08 | AG5: 0 | AH5: 0 | AI5: 1 | AJ5: 1 | AK5: 1 | AL5: 1 | AN5: 0 | AO5: 1 | AP5: 0 | AQ5: 0 | AR5: 0 | AT5: 6.08 | AV5: 0 | AW5: 2 | AX5: 39889152 | AY5: 1 | AZ5: 0 | BA5: 5 | BB5: 0 | BC5: 0 | BD5: 0 | BE5: 0 | BF5: 0 | BG5: 0 | BH5: 0 | BI5: 0 | BJ5: 0 | BK5: 0 | BL5: 0 | BM5: 0 | BN5: 0 | BO5: 0 | BP5: 0 | BQ5: 0 | BR5: 0 | BS5: 0 | BT5: 0 | BU5: 0 | BV5: 0 | BW5: 0 | CX5: =Y5*Source!I24 -> 6.08 | CY5: =AB5 -> 2.08 | CZ5: =AF5 -> 2.08 | DA5: =AJ5 -> 1 | DB5: =ROUND(ROUND(AT5*CZ5,2),6) -> 12.65 | DC5: =ROUND(ROUND(AT5*AG5,2),6) -> 0
A6: =ROW(Source!A24) -> 24 | B6: 37217027 | C6: 39889147 | D6: 33445990 | E6: 1 | F6: 1 | G6: 1 | H6: 3 | I6: 101-1481 | J6: ССЦ Тверской обл. (редакции 2014), пр. № 337/пр, сб.101, поз.1481 | K6: Шурупы с полукруглой головкой 4x40 мм | L6: 1348 | N6: 1009 | O6: т | P6: т | Q6: 1000 | W6: 0 | X6: -1607691118 | Y6: 0.001 | AA6: 10207 | AB6: 0 | AC6: 0 | AD6: 0 | AE6: 10207 | AF6: 0 | AG6: 0 | AH6: 0 | AI6: 1 | AJ6: 1 | AK6: 1 | AL6: 1 | AN6: 0 | AO6: 1 | AP6: 0 | AQ6: 0 | AR6: 0 | AT6: 0.001 | AV6: 0 | AW6: 2 | AX6: 39889153 | AY6: 1 | AZ6: 0 | BA6: 6 | BB6: 0 | BC6: 0 | BD6: 0 | BE6: 0 | BF6: 0 | BG6: 0 | BH6: 0 | BI6: 0 | BJ6: 0 | BK6: 0 | BL6: 0 | BM6: 0 | BN6: 0 | BO6: 0 | BP6: 0 | BQ6: 0 | BR6: 0 | BS6: 0 | BT6: 0 | BU6: 0 | BV6: 0 | BW6: 0 | CX6: =Y6*Source!I24 -> 0.001 | CY6: =AA6 -> 10207 | CZ6: =AE6 -> 10207 | DA6: =AI6 -> 1 | DB6: =ROUND(ROUND(AT6*CZ6,2),6) -> 10.21 | DC6: =ROUND(ROUND(AT6*AG6,2),6) -> 0
A7: =ROW(Source!A24) -> 24 | B7: 37217027 | C7: 39889147 | D7: 33446786 | E7: 1 | F7: 1 | G7: 1 | H7: 3 | I7: 101-2202 | J7: ССЦ Тверской обл. (редакции 2014), пр. № 337/пр, сб.101, поз.2202 | K7: Дюбели распорные полиэтиленовые 6х40 мм | L7: 1358 | N7: 1010 | O7: 10 шт. | P7: 10 шт. | Q7: 10 | W7: 0 | X7: 492670035 | Y7: 20 | AA7: 1.8 | AB7: 0 | AC7: 0 | AD7: 0 | AE7: 1.8 | AF7: 0 | AG7: 0 | AH7: 0 | AI7: 1 | AJ7: 1 | AK7: 1 | AL7: 1 | AN7: 0 | AO7: 1 | AP7: 0 | AQ7: 0 | AR7: 0 | AT7: 20 | AV7: 0 | AW7: 2 | AX7: 39889154 | AY7: 1 | AZ7: 0 | BA7: 7 | BB7: 0 | BC7: 0 | BD7: 0 | BE7: 0 | BF7: 0 | BG7: 0 | BH7: 0 | BI7: 0 | BJ7: 0 | BK7: 0 | BL7: 0 | BM7: 0 | BN7: 0 | BO7: 0 | BP7: 0 | BQ7: 0 | BR7: 0 | BS7: 0 | BT7: 0 | BU7: 0 | BV7: 0 | BW7: 0 | CX7: =Y7*Source!I24 -> 20 | CY7: =AA7 -> 1.8 | CZ7: =AE7 -> 1.8 | DA7: =AI7 -> 1 | DB7: =ROUND(ROUND(AT7*CZ7,2),6) -> 36 | DC7: =ROUND(ROUND(AT7*AG7,2),6) -> 0
A8: =ROW(Source!A24) -> 24 | B8: 37217027 | C8: 39889147 | D8: 33511561 | E8: 1 | F8: 1 | G8: 1 | H8: 3 | I8: 999-9950 | J8: ССЦ Тверской обл. (редакции 2014), пр. № 337/пр, сб.999, поз.9950 | K8: Вспомогательные ненормируемые материалы (2% от ОЗП) | L8: 1344 | N8: 1008 | O8: руб. | P8: руб. | Q8: 1 | W8: 0 | X8: -1930947569 | Y8: 3.1 | AA8: 1 | AB8: 0 | AC8: 0 | AD8: 0 | AE8: 1 | AF8: 0 | AG8: 0 | AH8: 0 | AI8: 1 | AJ8: 1 | AK8: 1 | AL8: 1 | AN8: 0 | AO8: 1 | AP8: 0 | AQ8: 0 | AR8: 0 | AT8: 3.1 | AV8: 0 | AW8: 2 | AX8: 39889155 | AY8: 1 | AZ8: 0 | BA8: 8 | BB8: 0 | BC8: 0 | BD8: 0 | BE8: 0 | BF8: 0 | BG8: 0 | BH8: 0 | BI8: 0 | BJ8: 0 | BK8: 0 | BL8: 0 | BM8: 0 | BN8: 0 | BO8: 0 | BP8: 0 | BQ8: 0 | BR8: 0 | BS8: 0 | BT8: 0 | BU8: 0 | BV8: 0 | BW8: 0 | CX8: =Y8*Source!I24 -> 3.1 | CY8: =AA8 -> 1 | CZ8: =AE8 -> 1 | DA8: =AI8 -> 1 | DB8: =ROUND(ROUND(AT8*CZ8,2),6) -> 3.1 | DC8: =ROUND(ROUND(AT8*AG8,2),6) -> 0
A9: =ROW(Source!A25) -> 25 | B9: 37217027 | C9: 39889156 | D9: 29084611 | E9: 1 | F9: 1 | G9: 1 | H9: 1 | I9: 1-2038-69 | K9: Рабочий монтажник среднего разряда 3,8 | L9: 1369 | N9: 1013 | O9: чел.-ч | P9: чел.-ч | Q9: 1 | W9: 0 | X9: -1664314294 | Y9: 54 | AA9: 0 | AB9: 0 | AC9: 0 | AD9: 9.08 | AE9: 0 | AF9: 0 | AG9: 0 | AH9: 9.08 | AI9: 1 | AJ9: 1 | AK9: 1 | AL9: 1 | AN9: 0 | AO9: 1 | AP9: 0 | AQ9: 0 | AR9: 0 | AT9: 54 | AV9: 1 | AW9: 2 | AX9: 39889157 | AY9: 1 | AZ9: 0 | BA9: 9 | BB9: 0 | BC9: 0 | BD9: 0 | BE9: 0 | BF9: 0 | BG9: 0 | BH9: 0 | BI9: 0 | BJ9: 0 | BK9: 0 | BL9: 0 | BM9: 0 | BN9: 0 | BO9: 0 | BP9: 0 | BQ9: 0 | BR9: 0 | BS9: 0 | BT9: 0 | BU9: 0 | BV9: 0 | BW9: 0 | CX9: =Y9*Source!I25 -> 5.4 | CY9: =AD9 -> 9.08 | CZ9: =AH9 -> 9.08 | DA9: =AL9 -> 1 | DB9: =ROUND(ROUND(AT9*CZ9,2),6) -> 490.32 | DC9: =ROUND(ROUND(AT9*AG9,2),6) -> 0
A10: =ROW(Source!A25) -> 25 | B10: 37217027 | C10: 39889156 | D10: 29084573 | E10: 1 | F10: 1 | G10: 1 | H10: 1 | I10: 2-69 | K10: Затраты труда машинистов | L10: 608254 | N10: 1013 | O10: чел.час | P10: чел.час | Q10: 1 | W10: 0 | X10: 95408949 | Y10: 1.25 | AA10: 0 | AB10: 0 | AC10: 0 | AD10: 0 | AE10: 0 | AF10: 0 | AG10: 0 | AH10: 0 | AI10: 1 | AJ10: 1 | AK10: 1 | AL10: 1 | AN10: 0 | AO10: 1 | AP10: 0 | AQ10: 0 | AR10: 0 | AT10: 1.25 | AV10: 2 | AW10: 2 | AX10: 39889158 | AY10: 1 | AZ10: 0 | BA10: 10 | BB10: 0 | BC10: 0 | BD10: 0 | BE10: 0 | BF10: 0 | BG10: 0 | BH10: 0 | BI10: 0 | BJ10: 0 | BK10: 0 | BL10: 0 | BM10: 0 | BN10: 0 | BO10: 0 | BP10: 0 | BQ10: 0 | BR10: 0 | BS10: 0 | BT10: 0 | BU10: 0 | BV10: 0 | BW10: 0 | CX10: =Y10*Source!I25 -> 0.125 | CY10: =AD10 -> 0 | CZ10: =AH10 -> 0 | DA10: =AL10 -> 1 | DB10: =ROUND(ROUND(AT10*CZ10,2),6) -> 0 | DC10: =ROUND(ROUND(AT10*AG10,2),6) -> 0
A11: =ROW(Source!A25) -> 25 | B11: 37217027 | C11: 39889156 | D11: 33440846 | E11: 1 | F11: 1 | G11: 1 | H11: 2 | I11: 021102 | J11: ЦЭМ Тверской обл.(редакции 2014), пр. №337/пр, сб.02,поз.1102 | K11: Краны на автомобильном ходу при работе на монтаже технологического оборудования 10 т | L11: 1368 | N11: 1011 | O11: маш.-ч | P11: маш.-ч | Q11: 1 | W11: 0 | X11: 858668480 | Y11: 1.25 | AA11: 0 | AB11: 131.11 | AC11: 13.03 | AD11: 0 | AE11: 0 | AF11: 131.11 | AG11: 13.03 | AH11: 0 | AI11: 1 | AJ11: 1 | AK11: 1 | AL11: 1 | AN11: 0 | AO11: 1 | AP11: 0 | AQ11: 0 | AR11: 0 | AT11: 1.25 | AV11: 0 | AW11: 2 | AX11: 39889159 | AY11: 1 | AZ11: 0 | BA11: 11 | BB11: 0 | BC11: 0 | BD11: 0 | BE11: 0 | BF11: 0 | BG11: 0 | BH11: 0 | BI11: 0 | BJ11: 0 | BK11: 0 | BL11: 0 | BM11: 0 | BN11: 0 | BO11: 0 | BP11: 0 | BQ11: 0 | BR11: 0 | BS11: 0 | BT11: 0 | BU11: 0 | BV11: 0 | BW11: 0 | CX11: =Y11*Source!I25 -> 0.125 | CY11: =AB11 -> 131.11 | CZ11: =AF11 -> 131.11 | DA11: =AJ11 -> 1 | DB11: =ROUND(ROUND(AT11*CZ11,2),6) -> 163.89 | DC11: =ROUND(ROUND(AT11*AG11,2),6) -> 16.29
A12: =ROW(Source!A25) -> 25 | B12: 37217027 | C12: 39889156 | D12: 33441141 | E12: 1 | F12: 1 | G12: 1 | H12: 2 | I12: 040502 | J12: ЦЭМ Тверской обл.(редакции 2014), пр. №337/пр, сб.04,поз.0502 | K12: Установки для сварки ручной дуговой (постоянного тока) | L12: 1368 | N12: 1011 | O12: маш.-ч | P12: маш.-ч | Q12: 1 | W12: 0 | X12: 574955774 | Y12: 10.48 | AA12: 0 | AB12: 8.1 | AC12: 0 | AD12: 0 | AE12: 0 | AF12: 8.1 | AG12: 0 | AH12: 0 | AI12: 1 | AJ12: 1 | AK12: 1 | AL12: 1 | AN12: 0 | AO12: 1 | AP12: 0 | AQ12: 0 | AR12: 0 | AT12: 10.48 | AV12: 0 | AW12: 2 | AX12: 39889160 | AY12: 1 | AZ12: 0 | BA12: 12 | BB12: 0 | BC12: 0 | BD12: 0 | BE12: 0 | BF12: 0 | BG12: 0 | BH12: 0 | BI12: 0 | BJ12: 0 | BK12: 0 | BL12: 0 | BM12: 0 | BN12: 0 | BO12: 0 | BP12: 0 | BQ12: 0 | BR12: 0 | BS12: 0 | BT12: 0 | BU12: 0 | BV12: 0 | BW12: 0 | CX12: =Y12*Source!I25 -> 1.048 | CY12: =AB12 -> 8.1 | CZ12: =AF12 -> 8.1 | DA12: =AJ12 -> 1 | DB12: =ROUND(ROUND(AT12*CZ12,2),6) -> 84.89 | DC12: =ROUND(ROUND(AT12*AG12,2),6) -> 0
A13: =ROW(Source!A25) -> 25 | B13: 37217027 | C13: 39889156 | D13: 33443435 | E13: 1 | F13: 1 | G13: 1 | H13: 2 | I13: 400001 | J13: ЦЭМ Тверской обл.(редакции 2014), пр. №337/пр, сб.40,поз.0001 | K13: Автомобили бортовые, грузоподъемность до 5 т | L13: 1368 | N13: 1011 | O13: маш.-ч | P13: маш.-ч | Q13: 1 | W13: 0 | X13: -1931461795 | Y13: 1.25 | AA13: 0 | AB13: 91.62 | AC13: 0 | AD13: 0 | AE13: 0 | AF13: 91.62 | AG13: 0 | AH13: 0 | AI13: 1 | AJ13: 1 | AK13: 1 | AL13: 1 | AN13: 0 | AO13: 1 | AP13: 0 | AQ13: 0 | AR13: 0 | AT13: 1.25 | AV13: 0 | AW13: 2 | AX13: 39889161 | AY13: 1 | AZ13: 0 | BA13: 13 | BB13: 0 | BC13: 0 | BD13: 0 | BE13: 0 | BF13: 0 | BG13: 0 | BH13: 0 | BI13: 0 | BJ13: 0 | BK13: 0 | BL13: 0 | BM13: 0 | BN13: 0 | BO13: 0 | BP13: 0 | BQ13: 0 | BR13: 0 | BS13: 0 | BT13: 0 | BU13: 0 | BV13: 0 | BW13: 0 | CX13: =Y13*Source!I25 -> 0.125 | CY13: =AB13 -> 91.62 | CZ13: =AF13 -> 91.62 | DA13: =AJ13 -> 1 | DB13: =ROUND(ROUND(AT13*CZ13,2),6) -> 114.53 | DC13: =ROUND(ROUND(AT13*AG13,2),6) -> 0
A14: =ROW(Source!A25) -> 25 | B14: 37217027 | C14: 39889156 | D14: 33446525 | E14: 1 | F14: 1 | G14: 1 | H14: 3 | I14: 101-1924 | J14: ССЦ Тверской обл. (редакции 2014), пр. № 337/пр, сб.101, поз.1924 | K14: Электроды диаметром 4 мм Э42А | L14: 1346 | N14: 1009 | O14: кг | P14: кг | Q14: 1 | W14: 0 | X14: -1161580858 | Y14: 3.36 | AA14: 11.11 | AB14: 0 | AC14: 0 | AD14: 0 | AE14: 11.11 | AF14: 0 | AG14: 0 | AH14: 0 | AI14: 1 | AJ14: 1 | AK14: 1 | AL14: 1 | AN14: 0 | AO14: 1 | AP14: 0 | AQ14: 0 | AR14: 0 | AT14: 3.36 | AV14: 0 | AW14: 2 | AX14: 39889162 | AY14: 1 | AZ14: 0 | BA14: 14 | BB14: 0 | BC14: 0 | BD14: 0 | BE14: 0 | BF14: 0 | BG14: 0 | BH14: 0 | BI14: 0 | BJ14: 0 | BK14: 0 | BL14: 0 | BM14: 0 | BN14: 0 | BO14: 0 | BP14: 0 | BQ14: 0 | BR14: 0 | BS14: 0 | BT14: 0 | BU14: 0 | BV14: 0 | BW14: 0 | CX14: =Y14*Source!I25 -> 0.336 | CY14: =AA14 -> 11.11 | CZ14: =AE14 -> 11.11 | DA14: =AI14 -> 1 | DB14: =ROUND(ROUND(AT14*CZ14,2),6) -> 37.33 | DC14: =ROUND(ROUND(AT14*AG14,2),6) -> 0
A15: =ROW(Source!A25) -> 25 | B15: 37217027 | C15: 39889156 | D15: 33446572 | E15: 1 | F15: 1 | G15: 1 | H15: 3 | I15: 101-1977 | J15: ССЦ Тверской обл. (редакции 2014), пр. № 337/пр, сб.101, поз.1977 | K15: Болты с гайками и шайбами строительные | L15: 1346 | N15: 1009 | O15: кг | P15: кг | Q15: 1 | W15: 0 | X15: -2031188702 | Y15: 2.54 | AA15: 9.4 | AB15: 0 | AC15: 0 | AD15: 0 | AE15: 9.4 | AF15: 0 | AG15: 0 | AH15: 0 | AI15: 1 | AJ15: 1 | AK15: 1 | AL15: 1 | AN15: 0 | AO15: 1 | AP15: 0 | AQ15: 0 | AR15: 0 | AT15: 2.54 | AV15: 0 | AW15: 2 | AX15: 39889163 | AY15: 1 | AZ15: 0 | BA15: 15 | BB15: 0 | BC15: 0 | BD15: 0 | BE15: 0 | BF15: 0 | BG15: 0 | BH15: 0 | BI15: 0 | BJ15: 0 | BK15: 0 | BL15: 0 | BM15: 0 | BN15: 0 | BO15: 0 | BP15: 0 | BQ15: 0 | BR15: 0 | BS15: 0 | BT15: 0 | BU15: 0 | BV15: 0 | BW15: 0 | CX15: =Y15*Source!I25 -> 0.254 | CY15: =AA15 -> 9.4 | CZ15: =AE15 -> 9.4 | DA15: =AI15 -> 1 | DB15: =ROUND(ROUND(AT15*CZ15,2),6) -> 23.88 | DC15: =ROUND(ROUND(AT15*AG15,2),6) -> 0
A16: =ROW(Source!A25) -> 25 | B16: 37217027 | C16: 39889156 | D16: 33511561 | E16: 1 | F16: 1 | G16: 1 | H16: 3 | I16: 999-9950 | J16: ССЦ Тверской обл. (редакции 2014), пр. № 337/пр, сб.999, поз.9950 | K16: Вспомогательные ненормируемые материалы (2% от ОЗП) | L16: 1344 | N16: 1008 | O16: руб. | P16: руб. | Q16: 1 | W16: 0 | X16: -1930947569 | Y16: 10.15 | AA16: 1 | AB16: 0 | AC16: 0 | AD16: 0 | AE16: 1 | AF16: 0 | AG16: 0 | AH16: 0 | AI16: 1 | AJ16: 1 | AK16: 1 | AL16: 1 | AN16: 0 | AO16: 1 | AP16: 0 | AQ16: 0 | AR16: 0 | AT16: 10.15 | AV16: 0 | AW16: 2 | AX16: 39889164 | AY16: 1 | AZ16: 0 | BA16: 16 | BB16: 0 | BC16: 0 | BD16: 0 | BE16: 0 | BF16: 0 | BG16: 0 | BH16: 0 | BI16: 0 | BJ16: 0 | BK16: 0 | BL16: 0 | BM16: 0 | BN16: 0 | BO16: 0 | BP16: 0 | BQ16: 0 | BR16: 0 | BS16: 0 | BT16: 0 | BU16: 0 | BV16: 0 | BW16: 0 | CX16: =Y16*Source!I25 -> 1.015 | CY16: =AA16 -> 1 | CZ16: =AE16 -> 1 | DA16: =AI16 -> 1 | DB16: =ROUND(ROUND(AT16*CZ16,2),6) -> 10.15 | DC16: =ROUND(ROUND(AT16*AG16,2),6) -> 0

Sheet EtalonRes
A1: =ROW(Source!A24) -> 24 | B1: 39889148 | C1: 39889147 | D1: 29084596 | E1: 1 | F1: 1 | G1: 1 | H1: 1 | I1: 1-1039-69 | K1: Рабочий строитель среднего разряда 3,9 | L1: 1369 | N1: 1013 | O1: чел.-ч | P1: чел.-ч | Q1: 1 | X1: 16.29 | Y1: 0 | Z1: 0 | AA1: 0 | AB1: 9.18 | AC1: 0 | AD1: 1 | AE1: 1 | AG1: 16.29 | AH1: 2 | AI1: 39889148 | AJ1: 1 | AK1: 0 | AL1: 0 | AM1: 0 | AN1: 0 | AO1: 0 | AP1: 0 | AQ1: 0 | AR1: 0
A2: =ROW(Source!A24) -> 24 | B2: 39889149 | C2: 39889147 | D2: 29084573 | E2: 1 | F2: 1 | G2: 1 | H2: 1 | I2: 2-69 | K2: Затраты труда машинистов | L2: 608254 | N2: 1013 | O2: чел.час | P2: чел.час | Q2: 1 | X2: 0.01 | Y2: 0 | Z2: 0 | AA2: 0 | AB2: 0 | AC2: 0 | AD2: 1 | AE2: 2 | AG2: 0.01 | AH2: 2 | AI2: 39889149 | AJ2: 2 | AK2: 0 | AL2: 0 | AM2: 0 | AN2: 0 | AO2: 0 | AP2: 0 | AQ2: 0 | AR2: 0
A3: =ROW(Source!A24) -> 24 | B3: 39889150 | C3: 39889147 | D3: 33441040 | E3: 1 | F3: 1 | G3: 1 | H3: 2 | I3: 030954 | J3: ЦЭМ Тверской обл.(редакции 2014), пр. №337/пр, сб.03,поз.0954 | K3: Подъемники грузоподъемностью до 500 кг одномачтовые, высота подъема 45 м | L3: 1368 | N3: 1011 | O3: маш.-ч | P3: маш.-ч | Q3: 1 | X3: 0.01 | Y3: 0 | Z3: 30.85 | AA3: 13.03 | AB3: 0 | AC3: 0 | AD3: 1 | AE3: 0 | AG3: 0.01 | AH3: 2 | AI3: 39889150 | AJ3: 3 | AK3: 0 | AL3: 0 | AM3: 0 | AN3: 0 | AO3: 0 | AP3: 0 | AQ3: 0 | AR3: 0
A4: =ROW(Source!A24) -> 24 | B4: 39889151 | C4: 39889147 | D4: 33441967 | E4: 1 | F4: 1 | G4: 1 | H4: 2 | I4: 134041 | J4: ЦЭМ Тверской обл.(редакции 2014), пр. №337/пр, сб.13,поз.4041 | K4: Шуруповерт | L4: 1368 | N4: 1011 | O4: маш.-ч | P4: маш.-ч | Q4: 1 | X4: 6.08 | Y4: 0 | Z4: 3 | AA4: 0 | AB4: 0 | AC4: 0 | AD4: 1 | AE4: 0 | AG4: 6.08 | AH4: 2 | AI4: 39889151 | AJ4: 4 | AK4: 0 | AL4: 0 | AM4: 0 | AN4: 0 | AO4: 0 | AP4: 0 | AQ4: 0 | AR4: 0
A5: =ROW(Source!A24) -> 24 | B5: 39889152 | C5: 39889147 | D5: 33443101 | E5: 1 | F5: 1 | G5: 1 | H5: 2 | I5: 331451 | J5: ЦЭМ Тверской обл.(редакции 2014), пр. №337/пр, сб.33,поз.1451 | K5: Перфораторы электрические | L5: 1368 | N5: 1011 | O5: маш.-ч | P5: маш.-ч | Q5: 1 | X5: 6.08 | Y5: 0 | Z5: 2.08 | AA5: 0 | AB5: 0 | AC5: 0 | AD5: 1 | AE5: 0 | AG5: 6.08 | AH5: 2 | AI5: 39889152 | AJ5: 5 | AK5: 0 | AL5: 0 | AM5: 0 | AN5: 0 | AO5: 0 | AP5: 0 | AQ5: 0 | AR5: 0
A6: =ROW(Source!A24) -> 24 | B6: 39889153 | C6: 39889147 | D6: 33445990 | E6: 1 | F6: 1 | G6: 1 | H6: 3 | I6: 101-1481 | J6: ССЦ Тверской обл. (редакции 2014), пр. № 337/пр, сб.101, поз.1481 | K6: Шурупы с полукруглой головкой 4x40 мм | L6: 1348 | N6: 1009 | O6: т | P6: т | Q6: 1000 | X6: 0.001 | Y6: 10207 | Z6: 0 | AA6: 0 | AB6: 0 | AC6: 0 | AD6: 1 | AE6: 0 | AG6: 0.001 | AH6: 2 | AI6: 39889153 | AJ6: 6 | AK6: 0 | AL6: 0 | AM6: 0 | AN6: 0 | AO6: 0 | AP6: 0 | AQ6: 0 | AR6: 0
A7: =ROW(Source!A24) -> 24 | B7: 39889154 | C7: 39889147 | D7: 33446786 | E7: 1 | F7: 1 | G7: 1 | H7: 3 | I7: 101-2202 | J7: ССЦ Тверской обл. (редакции 2014), пр. № 337/пр, сб.101, поз.2202 | K7: Дюбели распорные полиэтиленовые 6х40 мм | L7: 1358 | N7: 1010 | O7: 10 шт. | P7: 10 шт. | Q7: 10 | X7: 20 | Y7: 1.8 | Z7: 0 | AA7: 0 | AB7: 0 | AC7: 0 | AD7: 1 | AE7: 0 | AG7: 20 | AH7: 2 | AI7: 39889154 | AJ7: 7 | AK7: 0 | AL7: 0 | AM7: 0 | AN7: 0 | AO7: 0 | AP7: 0 | AQ7: 0 | AR7: 0
A8: =ROW(Source!A24) -> 24 | B8: 39889155 | C8: 39889147 | D8: 33511561 | E8: 1 | F8: 1 | G8: 1 | H8: 3 | I8: 999-9950 | J8: ССЦ Тверской обл. (редакции 2014), пр. № 337/пр, сб.999, поз.9950 | K8: Вспомогательные ненормируемые материалы (2% от ОЗП) | L8: 1344 | N8: 1008 | O8: руб. | P8: руб. | Q8: 1 | X8: 3.1 | Y8: 1 | Z8: 0 | AA8: 0 | AB8: 0 | AC8: 0 | AD8: 1 | AE8: 0 | AG8: 3.1 | AH8: 2 | AI8: 39889155 | AJ8: 8 | AK8: 0 | AL8: 0 | AM8: 0 | AN8: 0 | AO8: 0 | AP8: 0 | AQ8: 0 | AR8: 0
A9: =ROW(Source!A25) -> 25 | B9: 39889157 | C9: 39889156 | D9: 29084611 | E9: 1 | F9: 1 | G9: 1 | H9: 1 | I9: 1-2038-69 | K9: Рабочий монтажник среднего разряда 3,8 | L9: 1369 | N9: 1013 | O9: чел.-ч | P9: чел.-ч | Q9: 1 | X9: 54 | Y9: 0 | Z9: 0 | AA9: 0 | AB9: 9.08 | AC9: 0 | AD9: 1 | AE9: 1 | AG9: 54 | AH9: 2 | AI9: 39889157 | AJ9: 9 | AK9: 0 | AL9: 0 | AM9: 0 | AN9: 0 | AO9: 0 | AP9: 0 | AQ9: 0 | AR9: 0
A10: =ROW(Source!A25) -> 25 | B10: 39889158 | C10: 39889156 | D10: 29084573 | E10: 1 | F10: 1 | G10: 1 | H10: 1 | I10: 2-69 | K10: Затраты труда машинистов | L10: 608254 | N10: 1013 | O10: чел.час | P10: чел.час | Q10: 1 | X10: 1.25 | Y10: 0 | Z10: 0 | AA10: 0 | AB10: 0 | AC10: 0 | AD10: 1 | AE10: 2 | AG10: 1.25 | AH10: 2 | AI10: 39889158 | AJ10: 10 | AK10: 0 | AL10: 0 | AM10: 0 | AN10: 0 | AO10: 0 | AP10: 0 | AQ10: 0 | AR10: 0
A11: =ROW(Source!A25) -> 25 | B11: 39889159 | C11: 39889156 | D11: 33440846 | E11: 1 | F11: 1 | G11: 1 | H11: 2 | I11: 021102 | J11: ЦЭМ Тверской обл.(редакции 2014), пр. №337/пр, сб.02,поз.1102 | K11: Краны на автомобильном ходу при работе на монтаже технологического оборудования 10 т | L11: 1368 | N11: 1011 | O11: маш.-ч | P11: маш.-ч | Q11: 1 | X11: 1.25 | Y11: 0 | Z11: 131.11 | AA11: 13.03 | AB11: 0 | AC11: 0 | AD11: 1 | AE11: 0 | AG11: 1.25 | AH11: 2 | AI11: 39889159 | AJ11: 11 | AK11: 0 | AL11: 0 | AM11: 0 | AN11: 0 | AO11: 0 | AP11: 0 | AQ11: 0 | AR11: 0
A12: =ROW(Source!A25) -> 25 | B12: 39889160 | C12: 39889156 | D12: 33441141 | E12: 1 | F12: 1 | G12: 1 | H12: 2 | I12: 040502 | J12: ЦЭМ Тверской обл.(редакции 2014), пр. №337/пр, сб.04,поз.0502 | K12: Установки для сварки ручной дуговой (постоянного тока) | L12: 1368 | N12: 1011 | O12: маш.-ч | P12: маш.-ч | Q12: 1 | X12: 10.48 | Y12: 0 | Z12: 8.1 | AA12: 0 | AB12: 0 | AC12: 0 | AD12: 1 | AE12: 0 | AG12: 10.48 | AH12: 2 | AI12: 39889160 | AJ12: 12 | AK12: 0 | AL12: 0 | AM12: 0 | AN12: 0 | AO12: 0 | AP12: 0 | AQ12: 0 | AR12: 0
A13: =ROW(Source!A25) -> 25 | B13: 39889161 | C13: 39889156 | D13: 33443435 | E13: 1 | F13: 1 | G13: 1 | H13: 2 | I13: 400001 | J13: ЦЭМ Тверской обл.(редакции 2014), пр. №337/пр, сб.40,поз.0001 | K13: Автомобили бортовые, грузоподъемность до 5 т | L13: 1368 | N13: 1011 | O13: маш.-ч | P13: маш.-ч | Q13: 1 | X13: 1.25 | Y13: 0 | Z13: 91.62 | AA13: 0 | AB13: 0 | AC13: 0 | AD13: 1 | AE13: 0 | AG13: 1.25 | AH13: 2 | AI13: 39889161 | AJ13: 13 | AK13: 0 | AL13: 0 | AM13: 0 | AN13: 0 | AO13: 0 | AP13: 0 | AQ13: 0 | AR13: 0
A14: =ROW(Source!A25) -> 25 | B14: 39889162 | C14: 39889156 | D14: 33446525 | E14: 1 | F14: 1 | G14: 1 | H14: 3 | I14: 101-1924 | J14: ССЦ Тверской обл. (редакции 2014), пр. № 337/пр, сб.101, поз.1924 | K14: Электроды диаметром 4 мм Э42А | L14: 1346 | N14: 1009 | O14: кг | P14: кг | Q14: 1 | X14: 3.36 | Y14: 11.11 | Z14: 0 | AA14: 0 | AB14: 0 | AC14: 0 | AD14: 1 | AE14: 0 | AG14: 3.36 | AH14: 2 | AI14: 39889162 | AJ14: 14 | AK14: 0 | AL14: 0 | AM14: 0 | AN14: 0 | AO14: 0 | AP14: 0 | AQ14: 0 | AR14: 0
A15: =ROW(Source!A25) -> 25 | B15: 39889163 | C15: 39889156 | D15: 33446572 | E15: 1 | F15: 1 | G15: 1 | H15: 3 | I15: 101-1977 | J15: ССЦ Тверской обл. (редакции 2014), пр. № 337/пр, сб.101, поз.1977 | K15: Болты с гайками и шайбами строительные | L15: 1346 | N15: 1009 | O15: кг | P15: кг | Q15: 1 | X15: 2.54 | Y15: 9.4 | Z15: 0 | AA15: 0 | AB15: 0 | AC15: 0 | AD15: 1 | AE15: 0 | AG15: 2.54 | AH15: 2 | AI15: 39889163 | AJ15: 15 | AK15: 0 | AL15: 0 | AM15: 0 | AN15: 0 | AO15: 0 | AP15: 0 | AQ15: 0 | AR15: 0
A16: =ROW(Source!A25) -> 25 | B16: 39889164 | C16: 39889156 | D16: 33511561 | E16: 1 | F16: 1 | G16: 1 | H16: 3 | I16: 999-9950 | J16: ССЦ Тверской обл. (редакции 2014), пр. № 337/пр, сб.999, поз.9950 | K16: Вспомогательные ненормируемые материалы (2% от ОЗП) | L16: 1344 | N16: 1008 | O16: руб. | P16: руб. | Q16: 1 | X16: 10.15 | Y16: 1 | Z16: 0 | AA16: 0 | AB16: 0 | AC16: 0 | AD16: 1 | AE16: 0 | AG16: 10.15 | AH16: 2 | AI16: 39889164 | AJ16: 16 | AK16: 0 | AL16: 0 | AM16: 0 | AN16: 0 | AO16: 0 | AP16: 0 | AQ16: 0 | AR16: 0
