Workbook

Sheet Смета 12 гр. по ФЕР
A1: =Source!B1 -> Smeta.RU (495) 974-1589
B3: "СОГЛАСОВАНО" | H3: "УТВЕРЖДАЮ"
B6: =CONCATENATE("______________________ ", IF(Source!AL12<>"", Source!AL12, "")) -> ______________________ | H6: =CONCATENATE("______________________ ", IF(Source!AH12<>"", Source!AH12, "")) -> ______________________
B7: "_____"________________ 2020 г. | H7: "_____"________________ 2020 г.
B11: (наименование стройки)
F13: Номер заказа | H13: =IF(Source!F12<>"Новый объект", Source!F12, "")
B15: =CONCATENATE( "ЛОКАЛЬНАЯ СМЕТА № ",IF(Source!F12<>"Новый объект", Source!F12, "")) -> ЛОКАЛЬНАЯ СМЕТА №
B19: =IF(Source!G12<>"Новый объект", Source!G12, "") -> Выходной документ. Тест
B20: (наименование работ и затрат, наименование объекта)
A22: Основание: 1
G25: базовая цена | I25: текущая цена
C26: Сметная стоимость | G26: =SUM(O1:O79)/1000 -> 3508.2725 | I26: =(Source!F162/1000) -> 4260.4426 | K26: тыс. руб.
C27: Строительные работы | G27: =SUM(W1:W79)/1000 -> 19.46884 | I27: =(Source!F148)/1000 -> 31.78088 | K27: тыс. руб.
C28: Монтажные работы | G28: =SUM(X1:X79)/1000 -> 1.58653 | I28: =(Source!F149)/1000 -> 31.37091 | K28: тыс. руб.
C29: Оборудование | G29: =SUM(Y1:Y79)/1000 -> 3487.2171 | I29: =(Source!F140)/1000 -> 3487.2171 | K29: тыс. руб.
C30: Прочие работы | G30: =SUM(Z1:Z79)/1000 -> 0 | I30: =(Source!F150+Source!F151)/1000 -> 0 | K30: тыс. руб.
C31: Нормативная трудоемкость | G31: =I31 -> 58.671905 | I31: =(Source!F153+Source!F154) -> 58.671905 | K31: чел. -ч.
C32: Средства на оплату труда | G32: =SUM(R1:R79)/1000 -> 0.5339 | I32: =(Source!F146+ Source!F145)/1000 -> 15.78737 | K32: тыс. руб.
C33: Возврат материалов | K33: тыс. руб.
A35: Строительный объем:
A36: Стоимость ед.стр.объема:
A38: Составлена в ценах ТСНБ-2001 Московской области (редакция 2014 г) ноябрь 2019 года
A39: № п/п | B39: Шифр расценки и коды ресурсов | C39: Наименование работ и затрат | D39: Ед. изм. | E39: Кол-во единиц | F39: Цена на ед. изм. | G39: Попра-вочные коэфф. | H39: Стоимость в ценах 2001г. | I39: Пункт коэфф. пересчета | J39: Коэфф. пересчета | K39: Стоимость в текущих ценах | L39: ЗТР всего чел.-час
A40: 1 | B40: 2 | C40: 3 | D40: 4 | E40: 5 | F40: 6 | G40: 7 | H40: 8 | I40: 9 | J40: 10 | K40: 11 | L40: 12
A42: =CONCATENATE("Локальная смета: ",IF(Source!G20<>"Новая локальная смета", Source!G20, "")) -> Локальная смета: Монтаж оборудования
A44: =CONCATENATE("Раздел: ",IF(Source!G24<>"Новый раздел", Source!G24, "")) -> Раздел: Строение 1
A46: =CONCATENATE("Подраздел: ",IF(Source!G28<>"Новый подраздел", Source!G28, "")) -> Подраздел: Пусковая часть 2
A47: =Source!E32 -> 1 | B47: =Source!F32 -> 06-01-005-4 | C47: =Source!G32 -> Устройство железобетонных фундаментов общего назначения объемом до 5 м3 | D47: =Source!H32 -> 100 м3 бетона и железобетона в деле | E47: =Source!I32 -> 0.0295 | F47: =Source!AL32+Source!AM32+Source!AO32 -> 83518.43 | I47: =Source!BO32 -> 06-01-005-4 | S47: =ROUND((Source!FX32/100)*((ROUND(Source!AF32*Source!I32, 2)+ROUND(Source!AE32*Source!I32, 2))), 2) -> 149.18 | T47: =Source!X32 -> 4411.31 | U47: =ROUND((Source!FY32/100)*((ROUND(Source!AF32*Source!I32, 2)+ROUND(Source!AE32*Source!I32, 2))), 2) -> 92.35 | V47: =Source!Y32 -> 2730.81
C48: ="Объем: "&Source!I32&"=(0,15+"&"1,6+"&"1,2)/"&"100" -> Объем: 0,0295=(0,15+1,6+1,2)/100
C49: Зарплата | F49: =Source!AO32 -> 3837.46 | G49: =Source!DG32 -> )*1,15 | H49: =ROUND(Source!AF32*Source!I32, 2) -> 130.19 | J49: =IF(Source!BA32<> 0, Source!BA32, 1) -> 29.57 | K49: =Source!S32 -> 3849.6 | R49: =H49 -> 130.19
C50: Эксплуатация машин | F50: =Source!AM32 -> 2534.34 | G50: =Source!DE32 -> )*1,25 | H50: =ROUND(Source!AD32*Source!I32, 2) -> 93.45 | J50: =IF(Source!BB32<> 0, Source!BB32, 1) -> 9.18 | K50: =Source!Q32 -> 857.91
C51: в т.ч. зарплата машинистов | F51: =Source!AN32 -> 322.5 | G51: =Source!DF32 -> )*1,25 | H51: =ROUND(Source!AE32*Source!I32, 2) -> 11.89 | J51: =IF(Source!BS32<> 0, Source!BS32, 1) -> 29.57 | K51: =Source!R32 -> 351.65 | R51: =H51 -> 11.89
C52: Материальные ресурсы | F52: =Source!AL32 -> 77146.63 | G52: =Source!DD32 | H52: =ROUND(Source!AC32*Source!I32, 2) -> 2275.83 | J52: =IF(Source!BC32<> 0, Source!BC32, 1) -> 5.96 | K52: =Source!P32 -> 13563.92
C53: НР от ФОТ | D53: % | E53: =Source!BZ32 -> 105 | H53: =SUM(S47:S59) -> 149.18 | J53: =Source!AT32 -> 105 | K53: =SUM(T47:T59) -> 4411.31
C54: СП от ФОТ | D54: % | E54: =Source!CA32 -> 65 | H54: =SUM(U47:U59) -> 92.35 | J54: =Source!AU32 -> 65 | K54: =SUM(V47:V59) -> 2730.81
C55: Затраты труда | D55: чел-ч | E55: =Source!AQ32 -> 453.6 | G55: =Source!DI32 -> )*1,15 | L55: =Source!U32 -> 15.38838
A56: =Source!E33 -> 1,1 | B56: =Source!F33 -> 204-0100 | C56: =Source!G33 -> Горячекатаная арматурная сталь класса А-I, А-II, А-III | D56: =Source!H33 -> т | E56: =Source!I33 -> -0.0295 | F56: =Source!AL33+Source!AM33+Source!AO33 -> 5649.99 | H56: =ROUND(Source!AC33*Source!I33, 2)+ROUND(Source!AD33*Source!I33, 2)+ROUND(Source!AF33*Source!I33, 2) -> -166.67 | J56: =IF(Source!BC33<> 0, Source!BC33, 1) -> 5.91 | K56: =Source!O33 -> -985.05 | S56: =ROUND((Source!FX33/100)*((ROUND(Source!AF33*Source!I33, 2)+ROUND(Source!AE33*Source!I33, 2))), 2) -> 0 | T56: =Source!X33 -> 0 | U56: =ROUND((Source!FY33/100)*((ROUND(Source!AF33*Source!I33, 2)+ROUND(Source!AE33*Source!I33, 2))), 2) -> 0 | V56: =Source!Y33 -> 0 | W56: =IF(Source!BI33<=1,H56, 0) -> -166.67 | X56: =IF(Source!BI33=2,H56, 0) -> 0 | Y56: =IF(Source!BI33=3,H56, 0) -> 0 | Z56: =IF(Source!BI33=4,H56, 0) -> 0
A57: =Source!E34 -> 1,2 | B57: =Source!F34 -> 204-0109 | C57: =Source!G34 -> Горячекатанная арматурная сталь класса А500 С, диаметром 12 мм | D57: =Source!H34 -> т | E57: =Source!I34 -> 0.022 | F57: =Source!AL34+Source!AM34+Source!AO34 -> 10565.61 | H57: =ROUND(Source!AC34*Source!I34, 2)+ROUND(Source!AD34*Source!I34, 2)+ROUND(Source!AF34*Source!I34, 2) -> 232.44 | J57: =IF(Source!BC34<> 0, Source!BC34, 1) -> 2.78 | K57: =Source!O34 -> 646.19 | S57: =ROUND((Source!FX34/100)*((ROUND(Source!AF34*Source!I34, 2)+ROUND(Source!AE34*Source!I34, 2))), 2) -> 0 | T57: =Source!X34 -> 0 | U57: =ROUND((Source!FY34/100)*((ROUND(Source!AF34*Source!I34, 2)+ROUND(Source!AE34*Source!I34, 2))), 2) -> 0 | V57: =Source!Y34 -> 0 | W57: =IF(Source!BI34<=1,H57, 0) -> 232.44 | X57: =IF(Source!BI34=2,H57, 0) -> 0 | Y57: =IF(Source!BI34=3,H57, 0) -> 0 | Z57: =IF(Source!BI34=4,H57, 0) -> 0
A58: =Source!E35 -> 1,3 | B58: =Source!F35 -> 401-0066 | C58: =Source!G35 -> Бетон тяжелый, крупность заполнителя 20 мм, класс В15 (М200) | D58: =Source!H35 -> комплекс работ | E58: =Source!I35 -> -2.99425 | F58: =Source!AL35+Source!AM35+Source!AO35 -> 665 | H58: =ROUND(Source!AC35*Source!I35, 2)+ROUND(Source!AD35*Source!I35, 2)+ROUND(Source!AF35*Source!I35, 2) -> -1991.18 | J58: =IF(Source!BC35<> 0, Source!BC35, 1) -> 6 | K58: =Source!O35 -> -11947.06 | S58: =ROUND((Source!FX35/100)*((ROUND(Source!AF35*Source!I35, 2)+ROUND(Source!AE35*Source!I35, 2))), 2) -> 0 | T58: =Source!X35 -> 0 | U58: =ROUND((Source!FY35/100)*((ROUND(Source!AF35*Source!I35, 2)+ROUND(Source!AE35*Source!I35, 2))), 2) -> 0 | V58: =Source!Y35 -> 0 | W58: =IF(Source!BI35<=1,H58, 0) -> -1991.18 | X58: =IF(Source!BI35=2,H58, 0) -> 0 | Y58: =IF(Source!BI35=3,H58, 0) -> 0 | Z58: =IF(Source!BI35=4,H58, 0) -> 0
A59: =Source!E36 -> 1,4 | B59: =Source!F36 -> Дог Цена | C59: Бетон тяжелый В12,5 F300 с учетом поставки Базисная стоимость: 4 441,25 = [5 225 / 1,2] + 2% Заг.скл | D59: =Source!H36 -> 1 м3 | E59: =Source!I36 -> 3 | F59: =Source!AL36+Source!AM36+Source!AO36 -> 4441.25 | H59: =ROUND(Source!AC36*Source!I36, 2)+ROUND(Source!AD36*Source!I36, 2)+ROUND(Source!AF36*Source!I36, 2) -> 13323.75 | J59: =IF(Source!BC36<> 0, Source!BC36, 1) -> 1 | K59: =Source!O36 -> 13323.75 | S59: =ROUND((Source!FX36/100)*((ROUND(Source!AF36*Source!I36, 2)+ROUND(Source!AE36*Source!I36, 2))), 2) -> 0 | T59: =Source!X36 -> 0 | U59: =ROUND((Source!FY36/100)*((ROUND(Source!AF36*Source!I36, 2)+ROUND(Source!AE36*Source!I36, 2))), 2) -> 0 | V59: =Source!Y36 -> 0 | W59: =IF(Source!BI36<=1,H59, 0) -> 13323.75 | X59: =IF(Source!BI36=2,H59, 0) -> 0 | Y59: =IF(Source!BI36=3,H59, 0) -> 0 | Z59: =IF(Source!BI36=4,H59, 0) -> 0
...

Sheet Смета Коммерческая
A1: =Source!B1 -> Smeta.RU (495) 974-1589 | G1: Приложение №1 к Договору №
B3: "СОГЛАСОВАНО" | G3: "УТВЕРЖДАЮ"
B6: =CONCATENATE("______________________ ", IF(Source!AL12<>"", Source!AL12, "")) -> ______________________ | G6: =CONCATENATE("______________________ ", IF(Source!AH12<>"", Source!AH12, "")) -> ______________________
B7: "_____"________________ 2020 г. | G7: "_____"________________ 2020 г.
A11: (наименование стройки)
A13: =CONCATENATE( "ЛОКАЛЬНАЯ СМЕТА № ",IF(Source!F12<>"Новый объект", Source!F12, "")) -> ЛОКАЛЬНАЯ СМЕТА №
A14: (локальный сметный расчет)
A18: =IF(Source!G12<>"Новый объект", Source!G12, "") -> Выходной документ. Тест
A19: (наименование работ и затрат, наименование объекта)
A21: =CONCATENATE( "Основание: чертежи № ", Source!J12) -> Основание: чертежи №
F23: Сметная стоимость | I23: =(Source!F162) -> 4260442.6 | K23: руб.
F24: Строительные работы | I24: =(Source!F148) -> 31780.88 | K24: руб.
F25: Монтажные работы | I25: =(Source!F149) -> 31370.91 | K25: руб.
F26: Оборудование | I26: =(Source!F140) -> 3487217.1 | K26: руб.
F27: Прочие работы | I27: =(Source!F150+Source!F151) -> 0 | K27: руб.
F28: Нормативная трудоемкость | I28: =Source!F153 -> 57.18838 | K28: чел.-ч.
F29: Средства на оплату труда | I29: =(Source!F146+ Source!F145)/1000 -> 15.78737 | K29: руб.
A31: Составлен(а) в уровне текущих (прогнозных) цен ТСНБ-2001 Московской области (редакция 2014 г) ноябрь 2019 года | AK31: Составлен(а) в уровне текущих (прогнозных) цен ТСНБ-2001 Московской области (редакция 2014 г) ноябрь 2019 года
A32: №№ п/п | B32: Шифр расценки и коды ресурсов | C32: Наименование работ и затрат | D32: Единица измерения | E32: Кол-во единиц | F32: Цена работ за единицу | I32: Стоимость работ
F33: Работа | G33: Материалы | H33: Итого за ед. гр. (6+7) | I33: Работа | J33: Материалы | K33: Всего гр.(9+10)
A35: 1 | B35: 2 | C35: 3 | D35: 4 | E35: 5 | F35: 6 | G35: 7 | H35: 8 | I35: 9 | J35: 10 | K35: 11
A37: =CONCATENATE("Локальная смета: ",IF(Source!G20<>"Новая локальная смета", Source!G20, "")) -> Локальная смета: Монтаж оборудования
A39: =CONCATENATE("Раздел: ",IF(Source!G24<>"Новый раздел", Source!G24, "")) -> Раздел: Строение 1
A41: =CONCATENATE("Подраздел: ",IF(Source!G28<>"Новый подраздел", Source!G28, "")) -> Подраздел: Пусковая часть 2
A42: =Source!E32 -> 1 | B42: =Source!F32 -> 06-01-005-4 | C42: Устройство железобетонных фундаментов общего назначения объемом до 5 м3 Объем: 0,0295=(0,15+1,6+1,2)/100 | D42: =Source!H32 -> 100 м3 бетона и железобетона в деле | E42: =Source!I32 -> 0.0295 | F42: =ROUND(ROUND(Source!CT32,2)+ROUND(Source!CR32,2)+ROUND(Source!AT32/100*(ROUND(Source!CT32,2)+ROUND(Source!CS32,2)),2)+ROUND(Source!AU32/100*(ROUND(Source!CT32,2)+ROUND(Source!CS32,2)),2),2) -> 401682.07 | G42: =ROUND(Source!CQ32,2) -> 459793.91 | H42: =ROUND(F42+G42,2) -> 861475.98 | I42: =Source!S32+Source!Q32+Source!X32+Source!Y32 -> 11849.63 | J42: =Source!P32 -> 13563.92 | K42: =ROUND(I42+J42,2) -> 25413.55 | P42: =K42 -> 25413.55
A43: =Source!E33 -> 1,1 | B43: =Source!F33 -> 204-0100 | C43: Горячекатаная арматурная сталь класса А-I, А-II, А-III | D43: =Source!H33 -> т | E43: =Source!I33 -> -0.0295 | G43: =ROUND(Source!CQ33,2) -> 33391.44 | J43: =Source!P33 -> -985.05 | K43: =ROUND(I43+J43,2) -> -985.05 | P43: =K43 -> -985.05
A44: =Source!E34 -> 1,2 | B44: =Source!F34 -> 204-0109 | C44: Горячекатанная арматурная сталь класса А500 С, диаметром 12 мм | D44: =Source!H34 -> т | E44: =Source!I34 -> 0.022 | G44: =ROUND(Source!CQ34,2) -> 29372.4 | J44: =Source!P34 -> 646.19 | K44: =ROUND(I44+J44,2) -> 646.19 | P44: =K44 -> 646.19
A45: =Source!E35 -> 1,3 | B45: =Source!F35 -> 401-0066 | C45: Бетон тяжелый, крупность заполнителя 20 мм, класс В15 (М200) | D45: =Source!H35 -> комплекс работ | E45: =Source!I35 -> -2.99425 | G45: =ROUND(Source!CQ35,2) -> 3990 | J45: =Source!P35 -> -11947.06 | K45: =ROUND(I45+J45,2) -> -11947.06 | P45: =K45 -> -11947.06
A46: =Source!E36 -> 1,4 | B46: =Source!F36 -> Дог Цена | C46: Бетон тяжелый В12,5 F300 с учетом поставки Базисная стоимость: 4 441,25 = [5 225 / 1,2] + 2% Заг.скл | D46: =Source!H36 -> 1 м3 | E46: =Source!I36 -> 3 | G46: =ROUND(Source!CQ36,2) -> 4441.25 | J46: =Source!P36 -> 13323.75 | K46: =ROUND(I46+J46,2) -> 13323.75 | P46: =K46 -> 13323.75
A47: =Source!E37 -> 2 | B47: =Source!F37 -> м37-01-001-3 | C47: Монтаж оборудования без механизмов на открытой площадке, масса оборудования 0,1 т | D47: =Source!H37 -> 1 ШТ. | E47: =Source!I37 -> 2 | F47: =ROUND(ROUND(Source!CT37,2)+ROUND(Source!CR37,2)+ROUND(Source!AT37/100*(ROUND(Source!CT37,2)+ROUND(Source!CS37,2)),2)+ROUND(Source!AU37/100*(ROUND(Source!CT37,2)+ROUND(Source!CS37,2)),2),2) -> 14332.77 | G47: =ROUND(Source!CQ37,2) -> 1352.68 | H47: =ROUND(F47+G47,2) -> 15685.45 | I47: =Source!S37+Source!Q37+Source!X37+Source!Y37 -> 28665.54 | J47: =Source!P37 -> 2705.37 | K47: =ROUND(I47+J47,2) -> 31370.91 | P47: =K47 -> 31370.91
A48: =Source!E38 -> 3 | B48: =Source!F38 -> Поставка | C48: ОБОРУДОВАНИЕ: Станок напольный Базисная стоимость: 1 743 608,54 = [1 988 000 / 1,2] + 4% Трансп + 1,2% Заг.скл | D48: =Source!H38 -> КОМПЛ | E48: =Source!I38 -> 2 | G48: =ROUND(Source!CQ38,2) -> 1743608.5 | J48: =Source!P38 -> 3487217.1 | K48: =ROUND(I48+J48,2) -> 3487217.1 | P48: =K48 -> 3487217.1
A49: =Source!E39 -> 4 | B49: =Source!F39 -> Дог Цена | C49: Бетон тяжелый В12,5 F600 Базисная стоимость: 4 441,25 = [5 225 / 1,2] + 2% Заг.скл | D49: =Source!H39 -> 1 м3 | E49: =Source!I39 -> 1.2 | G49: =ROUND(Source!CQ39,2) -> 4441.25 | J49: =Source!P39 -> 5329.5 | K49: =ROUND(I49+J49,2) -> 5329.5 | P49: =K49 -> 5329.5
A51: =CONCATENATE("Итого по подразделу: ",IF(Source!G41<>"Новый подраздел", Source!G41, "")) -> Итого по подразделу: Пусковая часть 2 | K51: =SUM(P41:P50) -> 3550368.9
A52: Итого по ТСН-2001.16 | J52: =SUM(AD41:AD51) -> 0
A53: Итого возвратных сумм | J53: =SUM(AF41:AF52) -> 0
A55: =CONCATENATE("Итого по разделу: ",IF(Source!G71<>"Новый раздел", Source!G71, "")) -> Итого по разделу: Строение 1 | K55: =SUM(P39:P54) -> 3550368.9
A56: Итого по ТСН-2001.16 | J56: =SUM(AD39:AD55) -> 0
A57: Итого возвратных сумм | J57: =SUM(AF39:AF56) -> 0
A59: =CONCATENATE("Итого по локальной смете: ",IF(Source!G101<>"Новая локальная смета", Source!G101, "")) -> Итого по локальной смете: Монтаж оборудования | K59: =SUM(P37:P58) -> 3550368.9
A60: Итого по ТСН-2001.16 | J60: =SUM(AD37:AD59) -> 0
...

Sheet Source
A1: 0 | B1: Smeta.RU (495) 974-1589 | D1: _PS_ | F1: 0 | G1: 0 | H1: 0 | I1: Smeta.RU | K1: 0 | L1: 23404 | M1: 10 | N1: 11 | O1: 0 | P1: 0 | Q1: 6
A2: разработана форма по тех. заданию Вороненко А. В.
A12: 1 | B12: 193 | C12: 0 | D12: =ROW(A131) -> 131 | E12: 0 | F12: Новый объект | G12: Выходной документ. Тест | I12: 0 | K12: 0 | O12: 0 | P12: 0 | Q12: 0 | R12: 0 | V12: 0 | BH12: Сметные нормы списания | BI12: Коды ценников | BJ12: 1 | BK12: 1 | BL12: 0 | BM12: 0 | BN12: 1 | BO12: 0 | BP12: 6 | BQ12: 2 | BR12: 1 | BS12: 1 | BT12: 0 | BU12: 0 | BV12: 0 | BW12: 0 | BX12: 0 | BY12: ТСНБ-2014 | BZ12: ТР для Версии 10: Центральные регионы (с уч. п-ма 2536-ИП/12/ГС от 27.11.12, 01/57049-ЮЛ от 27.04.2018) от 14.03.2019 г | CA12: ТСНБ-2001 Московской области (редакция 2014 г версия 15.0) | CB12: ТСНБ-2001 Московской области (редакция 2014 г версия 15.0) | CC12: ТСНБ-2001 Московской области (редакция 2014 г версия 15.0) | CD12: ТСНБ-2001 Московской области (редакция 2014 г версия 15.0) | CE12: Поправки для НБ 2014 года от 03.03.2016 ЭТАЛОН | CF12: 0 | CG12: 0 | CH12: 0 | CK12: 1 | EC12: 0
A15: 15 | B15: 1
A18: 52 | B18: =B131 -> 193 | C18: =C131 -> 1 | D18: =D131 -> 12 | E18: =E131 -> 0 | F18: =F131 -> Новый объект | G18: =G131 -> Выходной документ. Тест | O18: =O131 -> 3527006.2 | P18: =P131 -> 3509853.7 | Q18: =Q131 -> 1956.28 | R18: =R131 -> 591.17 | S18: =S131 -> 15196.2 | T18: =T131 -> 0 | U18: =U131 -> 57.18838 | V18: =V131 -> 1.483525 | ... GX18: =GX131 -> 0
A20: 3 | B20: 1 | D20: =ROW(A101) -> 101 | F20: Новая локальная смета | G20: Монтаж оборудования | I20: 0 | K20: -1 | V20: 0 | BX20: 0 | CF20: 0 | CG20: 0
A22: 52 | B22: =B101 -> 1 | C22: =C101 -> 3 | D22: =D101 -> 20 | E22: =E101 -> 0 | F22: =F101 -> Новая локальная смета | G22: =G101 -> Монтаж оборудования | O22: =O101 -> 3527006.2 | P22: =P101 -> 3509853.7 | Q22: =Q101 -> 1956.28 | R22: =R101 -> 591.17 | S22: =S101 -> 15196.2 | T22: =T101 -> 0 | U22: =U101 -> 57.18838 | V22: =V101 -> 1.483525 | ... GX22: =GX101 -> 0
A24: 4 | B24: 1 | D24: =ROW(A71) -> 71 | F24: Новый раздел | G24: Строение 1 | I24: 0 | K24: -1 | V24: 0 | BX24: 0 | CJ24: 0
A26: 52 | B26: =B71 -> 1 | C26: =C71 -> 4 | D26: =D71 -> 24 | E26: =E71 -> 0 | F26: =F71 -> Новый раздел | G26: =G71 -> Строение 1 | O26: =O71 -> 3527006.2 | P26: =P71 -> 3509853.7 | Q26: =Q71 -> 1956.28 | R26: =R71 -> 591.17 | S26: =S71 -> 15196.2 | T26: =T71 -> 0 | U26: =U71 -> 57.18838 | V26: =V71 -> 1.483525 | ... GX26: =GX71 -> 0
A28: 5 | B28: 1 | D28: =ROW(A41) -> 41 | F28: Новый подраздел | G28: Пусковая часть 2 | I28: 0 | K28: 0 | V28: 0 | BX28: 0 | CJ28: 0
A30: 52 | B30: =B41 -> 1 | C30: =C41 -> 5 | D30: =D41 -> 28 | E30: =E41 -> 0 | F30: =F41 -> Новый подраздел | G30: =G41 -> Пусковая часть 2 | O30: =O41 -> 3527006.2 | P30: =P41 -> 3509853.7 | Q30: =Q41 -> 1956.28 | R30: =R41 -> 591.17 | S30: =S41 -> 15196.2 | T30: =T41 -> 0 | U30: =U41 -> 57.18838 | V30: =V41 -> 1.483525 | ... GX30: =GX41 -> 0
A32: 17 | B32: 1 | C32: =ROW(SmtRes!A24) -> 24 | D32: =ROW(EtalonRes!A22) -> 22 | E32: 1 | F32: 06-01-005-4 | G32: Устройство железобетонных фундаментов общего назначения объемом до 5 м3 | H32: 100 м3 бетона и железобетона в деле | I32: =ROUND((0.15+1.6+1.2)/100,9) -> 0.0295 | J32: 0 | O32: =ROUND(CP32,2) -> 18271.43 | P32: =ROUND(CQ32*I32,2) -> 13563.92 | Q32: =ROUND(CR32*I32,2) -> 857.91 | R32: =ROUND(CS32*I32,2) -> 351.65 | S32: =ROUND(CT32*I32,2) -> 3849.6 | T32: =ROUND(CU32*I32,2) -> 0 | U32: =CV32*I32 -> 15.38838 | V32: =CW32*I32 -> 0.883525 | W32: =ROUND(CX32*I32,2) -> 0 | X32: =ROUND(CY32,2) -> 4411.31 | Y32: =ROUND(CZ32,2) -> 2730.81 | AA32: 59844155 | AB32: =ROUND((AC32+AD32+AF32),6) -> 84727.634 | AC32: =ROUND((ES32),6) -> 77146.63 | AD32: =ROUND(((((ET32*1.25))-((EU32*1.25)))+AE32),6) -> 3167.925 | AE32: =ROUND(((EU32*1.25)),6) -> 403.125 | AF32: =ROUND(((EV32*1.15)),6) -> 4413.079 | AG32: =ROUND((AP32),6) -> 0 | AH32: =((EW32*1.15)) -> 521.64 | AI32: =((EX32*1.25)) -> 29.95 | AJ32: =(AS32) -> 0 | AK32: 83518.43 | AL32: 77146.63 | AM32: 2534.34 | AN32: 322.5 | AO32: 3837.46 | AP32: 0 | AQ32: 453.6 | AR32: 23.96 | AS32: 0 | AT32: 105 | AU32: 65 | AV32: 1 | AW32: 1 | AZ32: 1 | BA32: 29.57 | BB32: 9.18 | BC32: 5.96 | BH32: 0 | BI32: 1 | BJ32: ТЕР Московской обл., 06-01-005-4, приказ Минстроя России №675/пр от 28.02.2017 № 260/пр | BM32: 6001 | BN32: 0 | BO32: 06-01-005-4 | BP32: 1 | BQ32: 2 | BR32: 0 | BS32: 29.57 | BT32: 1 | BU32: 1 | BV32: 1 | BW32: 1 | BX32: 1 | BZ32: 105 | CA32: 65 | CE32: 0 | CF32: 0 | CG32: 0 | CM32: 1 | CN32: Поправка: МДС 81-35.2004, п.4.7 Наименование: Работы, выполняемые при реконструкции зданий и сооружений работы, аналогичные технологическим процессам в новом строительстве (в том числе возведение новых конструктивных элементов) стоимость которых определена по соответствующим сборникам ФЕР, кроме сборника № 46 «Работы при реконструкции зданий и сооружений» | CO32: 0 | CP32: =(P32+Q32+S32) -> 18271.43 | CQ32: =AC32*BC32 -> 459793.91 | CR32: =AD32*BB32 -> 29081.552 | CS32: =AE32*BS32 -> 11920.406 | CT32: =AF32*BA32 -> 130494.75 | CU32: =AG32 -> 0 | CV32: =AH32 -> 521.64 | CW32: =AI32 -> 29.95 | CX32: =AJ32 -> 0 | CY32: =(((S32+R32)*AT32)/100) -> 4411.3125 | CZ32: =(((S32+R32)*AU32)/100) -> 2730.8125 | DE32: )*1,25 | DF32: )*1,25 | DG32: )*1,15 | DI32: )*1,15 | DJ32: )*1,25 | DN32: 0 | DO32: 0 | DP32: 1 | DQ32: 1 | DU32: 1013 | DV32: 100 м3 бетона и железобетона в деле | DW32: 100 м3 бетона и железобетона в деле | DX32: 1 | EE32: 57161802 | EF32: 2 | EG32: Общестроительные работы | EH32: 0 | EJ32: 1 | EK32: 6001 | EL32: Монолитные бетонные и железобетонные конструкции в промышленном строительстве | EM32: ФЕР-06 | EO32: Поправка: МДС 81-35.2004, п.4.7 | EQ32: 0 | ER32: 83518.43 | ES32: 77146.63 | ET32: 2534.34 | EU32: 322.5 | EV32: 3837.46 | EW32: 453.6 | EX32: 23.96 | EY32: 0 | FQ32: 0 | FR32: =ROUND(IF(AND(BH32=3,BI32=3),P32,0),2) -> 0 | FS32: 0 | FX32: 105 | FY32: 65 | GD32: 1 | GF32: -1189439932 | GG32: 2 | GH32: 1 | GI32: 2 | GJ32: 0 | GK32: 0 | GL32: =ROUND(IF(AND(BH32=3,BI32=3,FS32<>0),P32,0),2) -> 0 | GM32: =ROUND(O32+X32+Y32,2)+GX32 -> 25413.55 | GN32: =IF(OR(BI32=0,BI32=1),ROUND(O32+X32+Y32,2),0) -> 25413.55 | GO32: =IF(BI32=2,ROUND(O32+X32+Y32,2),0) -> 0 | GP32: =IF(BI32=4,ROUND(O32+X32+Y32,2)+GX32,0) -> 0 | GR32: 0 | GS32: 3 | GT32: 0 | GV32: =ROUND((GT32),6) -> 0 | GW32: 1 | GX32: =ROUND(HC32*I32,2) -> 0 | HA32: 0 | HB32: 0 | HC32: =GV32*GW32 -> 0 | IK32: 0
A33: 18 | B33: 1 | C33: 19 | E33: 1,1 | F33: 204-0100 | G33: Горячекатаная арматурная сталь класса А-I, А-II, А-III | H33: т | I33: =I32*J33 -> -0.0295 | J33: -1 | O33: =ROUND(CP33,2) -> -985.05 | P33: =ROUND(CQ33*I33,2) -> -985.05 | Q33: =ROUND(CR33*I33,2) -> 0 | R33: =ROUND(CS33*I33,2) -> 0 | S33: =ROUND(CT33*I33,2) -> 0 | T33: =ROUND(CU33*I33,2) -> 0 | U33: =CV33*I33 -> 0 | V33: =CW33*I33 -> 0 | W33: =ROUND(CX33*I33,2) -> 0 | X33: =ROUND(CY33,2) -> 0 | Y33: =ROUND(CZ33,2) -> 0 | AA33: 59844155 | AB33: =ROUND((AC33+AD33+AF33),6) -> 5649.99 | AC33: =ROUND((ES33),6) -> 5649.99 | AD33: =ROUND((((ET33)-(EU33))+AE33),6) -> 0 | AE33: =ROUND((EU33),6) -> 0 | AF33: =ROUND((EV33),6) -> 0 | AG33: =ROUND((AP33),6) -> 0 | AH33: =(EW33) -> 0 | AI33: =(EX33) -> 0 | AJ33: =(AS33) -> 0 | AK33: 5649.99 | AL33: 5649.99 | AM33: 0 | AN33: 0 | AO33: 0 | AP33: 0 | AQ33: 0 | AR33: 0 | AS33: 0 | AT33: 105 | AU33: 65 | AV33: 1 | AW33: 1 | AZ33: 1 | BA33: 1 | BB33: 1 | BC33: 5.91 | BH33: 3 | BI33: 1 | BJ33: ТССЦ Московской обл., 204-0100, приказ Минстроя России №675/пр от 28.02.2017 № 255/пр | BM33: 6001 | BN33: 0 | BO33: 204-0100 | BP33: 1 | BQ33: 2 | BR33: 1 | BS33: 1 | BT33: 1 | BU33: 1 | BV33: 1 | BW33: 1 | BX33: 1 | BZ33: 105 | CA33: 65 | CE33: 0 | CF33: 0 | CG33: 0 | CM33: 1 | CO33: 0 | CP33: =(P33+Q33+S33) -> -985.05 | CQ33: =AC33*BC33 -> 33391.441 | CR33: =AD33*BB33 -> 0 | CS33: =AE33*BS33 -> 0 | CT33: =AF33*BA33 -> 0 | CU33: =AG33 -> 0 | CV33: =AH33 -> 0 | CW33: =AI33 -> 0 | CX33: =AJ33 -> 0 | CY33: =(((S33+R33)*AT33)/100) -> 0 | CZ33: =(((S33+R33)*AU33)/100) -> 0 | DN33: 0 | DO33: 0 | DP33: 1 | DQ33: 1 | DU33: 1009 | DV33: т | DW33: т | DX33: 1000 | EE33: 57161802 | EF33: 2 | EG33: Общестроительные работы | EH33: 0 | EJ33: 1 | EK33: 6001 | EL33: Монолитные бетонные и железобетонные конструкции в промышленном строительстве | EM33: ФЕР-06 | EQ33: 0 | ER33: 5649.99 | ES33: 5649.99 | ET33: 0 | EU33: 0 | EV33: 0 | EW33: 0 | EX33: 0 | FQ33: 0 | FR33: =ROUND(IF(AND(BH33=3,BI33=3),P33,0),2) -> 0 | FS33: 0 | FX33: 105 | FY33: 65 | GD33: 1 | GF33: -922545297 | GG33: 2 | GH33: 1 | GI33: 2 | GJ33: 0 | GK33: 0 | GL33: =ROUND(IF(AND(BH33=3,BI33=3,FS33<>0),P33,0),2) -> 0 | GM33: =ROUND(O33+X33+Y33,2)+GX33 -> -985.05 | GN33: =IF(OR(BI33=0,BI33=1),ROUND(O33+X33+Y33,2),0) -> -985.05 | GO33: =IF(BI33=2,ROUND(O33+X33+Y33,2),0) -> 0 | GP33: =IF(BI33=4,ROUND(O33+X33+Y33,2)+GX33,0) -> 0 | GR33: 0 | GS33: 3 | GT33: 0 | GV33: =ROUND((GT33),6) -> 0 | GW33: 1 | GX33: =ROUND(HC33*I33,2) -> 0 | HA33: 0 | HB33: 0 | HC33: =GV33*GW33 -> 0 | IK33: 0
A34: 18 | B34: 1 | C34: 20 | E34: 1,2 | F34: 204-0109 | G34: Горячекатанная арматурная сталь класса А500 С, диаметром 12 мм | H34: т | I34: =I32*J34 -> 0.022 | J34: 0.74576271 | O34: =ROUND(CP34,2) -> 646.19 | P34: =ROUND(CQ34*I34,2) -> 646.19 | Q34: =ROUND(CR34*I34,2) -> 0 | R34: =ROUND(CS34*I34,2) -> 0 | S34: =ROUND(CT34*I34,2) -> 0 | T34: =ROUND(CU34*I34,2) -> 0 | U34: =CV34*I34 -> 0 | V34: =CW34*I34 -> 0 | W34: =ROUND(CX34*I34,2) -> 0.75 | X34: =ROUND(CY34,2) -> 0 | Y34: =ROUND(CZ34,2) -> 0 | AA34: 59844155 | AB34: =ROUND((AC34+AD34+AF34),6) -> 10565.61 | AC34: =ROUND((ES34),6) -> 10565.61 | AD34: =ROUND((((ET34)-(EU34))+AE34),6) -> 0 | AE34: =ROUND((EU34),6) -> 0 | AF34: =ROUND((EV34),6) -> 0 | AG34: =ROUND((AP34),6) -> 0 | AH34: =(EW34) -> 0 | AI34: =(EX34) -> 0 | AJ34: =(AS34) -> 34.17 | AK34: 10565.61 | AL34: 10565.61 | AM34: 0 | AN34: 0 | AO34: 0 | AP34: 0 | AQ34: 0 | AR34: 0 | AS34: 34.17 | AT34: 105 | AU34: 65 | AV34: 1 | AW34: 1 | AZ34: 1 | BA34: 1 | BB34: 1 | BC34: 2.78 | BH34: 3 | BI34: 1 | BJ34: ТССЦ Московской обл., 204-0109, приказ Минстроя России №675/пр от 28.02.2017 № 255/пр | BM34: 6001 | BN34: 0 | BO34: 204-0109 | BP34: 1 | BQ34: 2 | BR34: 0 | BS34: 1 | BT34: 1 | BU34: 1 | BV34: 1 | BW34: 1 | BX34: 1 | BZ34: 105 | CA34: 65 | CE34: 0 | CF34: 0 | CG34: 0 | CM34: 1 | CO34: 0 | CP34: =(P34+Q34+S34) -> 646.19 | CQ34: =AC34*BC34 -> 29372.396 | CR34: =AD34*BB34 -> 0 | CS34: =AE34*BS34 -> 0 | CT34: =AF34*BA34 -> 0 | CU34: =AG34 -> 0 | CV34: =AH34 -> 0 | CW34: =AI34 -> 0 | CX34: =AJ34 -> 34.17 | CY34: =(((S34+R34)*AT34)/100) -> 0 | CZ34: =(((S34+R34)*AU34)/100) -> 0 | DN34: 0 | DO34: 0 | DP34: 1 | DQ34: 1 | DU34: 1009 | DV34: т | DW34: т | DX34: 1000 | EE34: 57161802 | EF34: 2 | EG34: Общестроительные работы | EH34: 0 | EJ34: 1 | EK34: 6001 | EL34: Монолитные бетонные и железобетонные конструкции в промышленном строительстве | EM34: ФЕР-06 | EQ34: 0 | ER34: 10565.61 | ES34: 10565.61 | ET34: 0 | EU34: 0 | EV34: 0 | EW34: 0 | EX34: 0 | FQ34: 0 | FR34: =ROUND(IF(AND(BH34=3,BI34=3),P34,0),2) -> 0 | FS34: 0 | FX34: 105 | FY34: 65 | GD34: 1 | GF34: -114930746 | GG34: 2 | GH34: 1 | GI34: 2 | GJ34: 0 | GK34: 0 | GL34: =ROUND(IF(AND(BH34=3,BI34=3,FS34<>0),P34,0),2) -> 0 | GM34: =ROUND(O34+X34+Y34,2)+GX34 -> 646.19 | GN34: =IF(OR(BI34=0,BI34=1),ROUND(O34+X34+Y34,2),0) -> 646.19 | GO34: =IF(BI34=2,ROUND(O34+X34+Y34,2),0) -> 0 | GP34: =IF(BI34=4,ROUND(O34+X34+Y34,2)+GX34,0) -> 0 | GR34: 0 | GS34: 3 | GT34: 0 | GV34: =ROUND((GT34),6) -> 0 | GW34: 1 | GX34: =ROUND(HC34*I34,2) -> 0 | HA34: 0 | HB34: 0 | HC34: =GV34*GW34 -> 0 | IK34: 0
A35: 18 | B35: 1 | C35: 21 | E35: 1,3 | F35: 401-0066 | G35: Бетон тяжелый, крупность заполнителя 20 мм, класс В15 (М200) | H35: комплекс работ | I35: =I32*J35 -> -2.99425 | J35: -101.5 | O35: =ROUND(CP35,2) -> -11947.06 | P35: =ROUND(CQ35*I35,2) -> -11947.06 | Q35: =ROUND(CR35*I35,2) -> 0 | R35: =ROUND(CS35*I35,2) -> 0 | S35: =ROUND(CT35*I35,2) -> 0 | T35: =ROUND(CU35*I35,2) -> 0 | U35: =CV35*I35 -> 0 | V35: =CW35*I35 -> 0 | W35: =ROUND(CX35*I35,2) -> 0 | X35: =ROUND(CY35,2) -> 0 | Y35: =ROUND(CZ35,2) -> 0 | AA35: 59844155 | AB35: =ROUND((AC35+AD35+AF35),6) -> 665 | AC35: =ROUND((ES35),6) -> 665 | AD35: =ROUND((((ET35)-(EU35))+AE35),6) -> 0 | AE35: =ROUND((EU35),6) -> 0 | AF35: =ROUND((EV35),6) -> 0 | AG35: =ROUND((AP35),6) -> 0 | AH35: =(EW35) -> 0 | AI35: =(EX35) -> 0 | AJ35: =(AS35) -> 0 | AK35: 665 | AL35: 665 | AM35: 0 | AN35: 0 | AO35: 0 | AP35: 0 | AQ35: 0 | AR35: 0 | AS35: 0 | AT35: 105 | AU35: 65 | AV35: 1 | AW35: 1 | AZ35: 1 | BA35: 1 | BB35: 1 | BC35: 6 | BH35: 3 | BI35: 1 | BJ35: ТССЦ Московской обл., 401-0066, приказ Минстроя России №675/пр от 28.02.2017 № 257/пр | BM35: 6001 | BN35: 0 | BO35: 401-0066 | BP35: 1 | BQ35: 2 | BR35: 1 | BS35: 1 | BT35: 1 | BU35: 1 | BV35: 1 | BW35: 1 | BX35: 1 | BZ35: 105 | CA35: 65 | CE35: 0 | CF35: 0 | CG35: 0 | CM35: 1 | CO35: 0 | CP35: =(P35+Q35+S35) -> -11947.06 | CQ35: =AC35*BC35 -> 3990 | CR35: =AD35*BB35 -> 0 | CS35: =AE35*BS35 -> 0 | CT35: =AF35*BA35 -> 0 | CU35: =AG35 -> 0 | CV35: =AH35 -> 0 | CW35: =AI35 -> 0 | CX35: =AJ35 -> 0 | CY35: =(((S35+R35)*AT35)/100) -> 0 | CZ35: =(((S35+R35)*AU35)/100) -> 0 | DN35: 0 | DO35: 0 | DP35: 1 | DQ35: 1 | DU35: 1007 | DV35: комплекс работ | DW35: м3 | DX35: 1 | EE35: 57161802 | EF35: 2 | EG35: Общестроительные работы | EH35: 0 | EJ35: 1 | EK35: 6001 | EL35: Монолитные бетонные и железобетонные конструкции в промышленном строительстве | EM35: ФЕР-06 | EQ35: 0 | ER35: 665 | ES35: 665 | ET35: 0 | EU35: 0 | EV35: 0 | EW35: 0 | EX35: 0 | FQ35: 0 | FR35: =ROUND(IF(AND(BH35=3,BI35=3),P35,0),2) -> 0 | FS35: 0 | FX35: 105 | FY35: 65 | GD35: 1 | GF35: 548345076 | GG35: 2 | GH35: 1 | GI35: 2 | GJ35: 0 | GK35: 0 | GL35: =ROUND(IF(AND(BH35=3,BI35=3,FS35<>0),P35,0),2) -> 0 | GM35: =ROUND(O35+X35+Y35,2)+GX35 -> -11947.06 | GN35: =IF(OR(BI35=0,BI35=1),ROUND(O35+X35+Y35,2),0) -> -11947.06 | GO35: =IF(BI35=2,ROUND(O35+X35+Y35,2),0) -> 0 | GP35: =IF(BI35=4,ROUND(O35+X35+Y35,2)+GX35,0) -> 0 | GR35: 0 | GS35: 3 | GT35: 0 | GV35: =ROUND((GT35),6) -> 0 | GW35: 1 | GX35: =ROUND(HC35*I35,2) -> 0 | HA35: 0 | HB35: 0 | HC35: =GV35*GW35 -> 0 | IK35: 0
A36: 18 | B36: 1 | C36: 24 | E36: 1,4 | F36: Дог Цена | G36: Бетон тяжелый В12,5 F300 с учетом поставки | H36: 1 м3 | I36: =I32*J36 -> 3 | J36: 101.69492 | O36: =ROUND(CP36,2) -> 13323.75 | P36: =ROUND(CQ36*I36,2) -> 13323.75 | Q36: =ROUND(CR36*I36,2) -> 0 | R36: =ROUND(CS36*I36,2) -> 0 | S36: =ROUND(CT36*I36,2) -> 0 | T36: =ROUND(CU36*I36,2) -> 0 | U36: =CV36*I36 -> 0 | V36: =CW36*I36 -> 0 | W36: =ROUND(CX36*I36,2) -> 0 | X36: =ROUND(CY36,2) -> 0 | Y36: =ROUND(CZ36,2) -> 0 | AA36: 59844155 | AB36: =ROUND((AC36+AD36+AF36),6) -> 4441.25 | AC36: =ROUND((ES36),6) -> 4441.25 | AD36: =ROUND((((ET36)-(EU36))+AE36),6) -> 0 | AE36: =ROUND((EU36),6) -> 0 | AF36: =ROUND((EV36),6) -> 0 | AG36: =ROUND((AP36),6) -> 0 | AH36: =(EW36) -> 0 | AI36: =(EX36) -> 0 | AJ36: =(AS36) -> 0 | AK36: 4441.25 | AL36: 4441.25 | AM36: 0 | AN36: 0 | AO36: 0 | AP36: 0 | AQ36: 0 | AR36: 0 | AS36: 0 | AT36: 105 | AU36: 65 | AV36: 1 | AW36: 1 | AZ36: 1 | BA36: 1 | BB36: 1 | BC36: 1 | BH36: 3 | BI36: 1 | BM36: 6001 | BN36: 0 | BP36: 0 | BQ36: 2 | BR36: 0 | BS36: 1 | BT36: 1 | BU36: 1 | BV36: 1 | BW36: 1 | BX36: 1 | BZ36: 105 | CA36: 65 | CE36: 0 | CF36: 0 | CG36: 0 | CM36: 1 | CO36: 0 | CP36: =(P36+Q36+S36) -> 13323.75 | CQ36: =AC36*BC36 -> 4441.25 | CR36: =AD36*BB36 -> 0 | CS36: =AE36*BS36 -> 0 | CT36: =AF36*BA36 -> 0 | CU36: =AG36 -> 0 | CV36: =AH36 -> 0 | CW36: =AI36 -> 0 | CX36: =AJ36 -> 0 | CY36: =(((S36+R36)*AT36)/100) -> 0 | CZ36: =(((S36+R36)*AU36)/100) -> 0 | DN36: 0 | DO36: 0 | DP36: 1 | DQ36: 1 | DU36: 1013 | DV36: 1 м3 | DW36: 1 м3 | DX36: 1 | EE36: 57161802 | EF36: 2 | EG36: Общестроительные работы | EH36: 0 | EJ36: 1 | EK36: 6001 | EL36: Монолитные бетонные и железобетонные конструкции в промышленном строительстве | EM36: ФЕР-06 | EQ36: 0 | ER36: 4441.25 | ES36: 4441.25 | ET36: 0 | EU36: 0 | EV36: 0 | EW36: 0 | EX36: 0 | EZ36: 5 | FC36: 1 | FD36: 18 | FF36: 5225 | FQ36: 0 | FR36: =ROUND(IF(AND(BH36=3,BI36=3),P36,0),2) -> 0 | FS36: 0 | FX36: 105 | FY36: 65 | GA36: [5 225 / 1,2] + 2% Заг.скл | GD36: 1 | GF36: -1565119468 | GG36: 2 | GH36: 3 | GI36: -2 | GJ36: 0 | GK36: 0 | GL36: =ROUND(IF(AND(BH36=3,BI36=3,FS36<>0),P36,0),2) -> 0 | GM36: =ROUND(O36+X36+Y36,2)+GX36 -> 13323.75 | GN36: =IF(OR(BI36=0,BI36=1),ROUND(O36+X36+Y36,2),0) -> 13323.75 | GO36: =IF(BI36=2,ROUND(O36+X36+Y36,2),0) -> 0 | GP36: =IF(BI36=4,ROUND(O36+X36+Y36,2)+GX36,0) -> 0 | GR36: 1 | GS36: 1 | GT36: 0 | GV36: =ROUND((GT36),6) -> 0 | GW36: 1 | GX36: =ROUND(HC36*I36,2) -> 0 | HA36: 0 | HB36: 0 | HC36: =GV36*GW36 -> 0 | IK36: 0
A37: 17 | B37: 1 | C37: =ROW(SmtRes!A37) -> 37 | D37: =ROW(EtalonRes!A35) -> 35 | E37: 2 | F37: м37-01-001-3 | G37: Монтаж оборудования без механизмов на открытой площадке, масса оборудования 0,1 т | H37: 1 ШТ. | I37: 2 | J37: 0 | O37: =ROUND(CP37,2) -> 15150.34 | P37: =ROUND(CQ37*I37,2) -> 2705.37 | Q37: =ROUND(CR37*I37,2) -> 1098.37 | R37: =ROUND(CS37*I37,2) -> 239.52 | S37: =ROUND(CT37*I37,2) -> 11346.6 | T37: =ROUND(CU37*I37,2) -> 0 | U37: =CV37*I37 -> 41.8 | V37: =CW37*I37 -> 0.6 | W37: =ROUND(CX37*I37,2) -> 0 | X37: =ROUND(CY37,2) -> 9268.9 | Y37: =ROUND(CZ37,2) -> 6951.67 | AA37: 59844155 | AB37: =ROUND((AC37+AD37+AF37),6) -> 518.99 | AC37: =ROUND((ES37),6) -> 246.84 | AD37: =ROUND((((ET37)-(EU37))+AE37),6) -> 80.29 | AE37: =ROUND((EU37),6) -> 4.05 | AF37: =ROUND((EV37),6) -> 191.86 | AG37: =ROUND((AP37),6) -> 0 | AH37: =(EW37) -> 20.9 | AI37: =(EX37) -> 0.3 | AJ37: =(AS37) -> 0 | AK37: 518.99 | AL37: 246.84 | AM37: 80.29 | AN37: 4.05 | AO37: 191.86 | AP37: 0 | AQ37: 20.9 | AR37: 0.3 | AS37: 0 | AT37: 80 | AU37: 60 | AV37: 1 | AW37: 1 | AZ37: 1 | BA37: 29.57 | BB37: 6.84 | BC37: 5.48 | BH37: 0 | BI37: 2 | BJ37: ТЕРм Московской обл., м37-01-001-3, приказ Минстроя России №675/пр от 28.02.2017 № 259/пр | BM37: 137001 | BN37: 0 | BO37: м37-01-001-3 | BP37: 1 | BQ37: 3 | BR37: 0 | BS37: 29.57 | BT37: 1 | BU37: 1 | BV37: 1 | BW37: 1 | BX37: 1 | BZ37: 80 | CA37: 60 | CE37: 0 | CF37: 0 | CG37: 0 | CM37: 1 | CO37: 0 | CP37: =(P37+Q37+S37) -> 15150.34 | CQ37: =AC37*BC37 -> 1352.6832 | CR37: =AD37*BB37 -> 549.1836 | CS37: =AE37*BS37 -> 119.7585 | CT37: =AF37*BA37 -> 5673.3002 | CU37: =AG37 -> 0 | CV37: =AH37 -> 20.9 | CW37: =AI37 -> 0.3 | CX37: =AJ37 -> 0 | CY37: =(((S37+R37)*AT37)/100) -> 9268.896 | CZ37: =(((S37+R37)*AU37)/100) -> 6951.672 | DN37: 0 | DO37: 0 | DP37: 1 | DQ37: 1 | DU37: 1013 | DV37: 1 ШТ. | DW37: 1 ШТ. | DX37: 1 | EE37: 57161734 | EF37: 3 | EG37: Монтажные работы | EH37: 0 | EJ37: 2 | EK37: 137001 | EL37: Оборудование общего назначения | EM37: мФЕР-37 | EQ37: 0 | ER37: 518.99 | ES37: 246.84 | ET37: 80.29 | EU37: 4.05 | EV37: 191.86 | EW37: 20.9 | EX37: 0.3 | EY37: 0 | FQ37: 0 | FR37: =ROUND(IF(AND(BH37=3,BI37=3),P37,0),2) -> 0 | FS37: 0 | FX37: 80 | FY37: 60 | GD37: 1 | GF37: 76812429 | GG37: 2 | GH37: 1 | GI37: 2 | GJ37: 0 | GK37: 0 | GL37: =ROUND(IF(AND(BH37=3,BI37=3,FS37<>0),P37,0),2) -> 0 | GM37: =ROUND(O37+X37+Y37,2)+GX37 -> 31370.91 | GN37: =IF(OR(BI37=0,BI37=1),ROUND(O37+X37+Y37,2),0) -> 0 | GO37: =IF(BI37=2,ROUND(O37+X37+Y37,2),0) -> 31370.91 | GP37: =IF(BI37=4,ROUND(O37+X37+Y37,2)+GX37,0) -> 0 | GR37: 0 | GS37: 3 | GT37: 0 | GV37: =ROUND((GT37),6) -> 0 | GW37: 1 | GX37: =ROUND(HC37*I37,2) -> 0 | HA37: 0 | HB37: 0 | HC37: =GV37*GW37 -> 0 | IK37: 0
A38: 17 | B38: 1 | E38: 3 | F38: Поставка | G38: Станок напольный | H38: КОМПЛ | I38: 2 | J38: 0 | O38: =ROUND(CP38,2) -> 3487217.1 | P38: =ROUND(CQ38*I38,2) -> 3487217.1 | Q38: =ROUND(CR38*I38,2) -> 0 | R38: =ROUND(CS38*I38,2) -> 0 | S38: =ROUND(CT38*I38,2) -> 0 | T38: =ROUND(CU38*I38,2) -> 0 | U38: =CV38*I38 -> 0 | V38: =CW38*I38 -> 0 | W38: =ROUND(CX38*I38,2) -> 0 | X38: =ROUND(CY38,2) -> 0 | Y38: =ROUND(CZ38,2) -> 0 | AA38: 59844155 | AB38: =ROUND((AC38+AD38+AF38),6) -> 1743608.5 | AC38: =ROUND((ES38),6) -> 1743608.5 | AD38: =ROUND((((ET38)-(EU38))+AE38),6) -> 0 | AE38: =ROUND((EU38),6) -> 0 | AF38: =ROUND((EV38),6) -> 0 | AG38: =ROUND((AP38),6) -> 0 | AH38: =(EW38) -> 0 | AI38: =(EX38) -> 0 | AJ38: =(AS38) -> 0 | AK38: 1743608.5 | AL38: 1743608.5 | AM38: 0 | AN38: 0 | AO38: 0 | AP38: 0 | AQ38: 0 | AR38: 0 | AS38: 0 | AT38: 0 | AU38: 0 | AV38: 1 | AW38: 1 | AZ38: 1 | BA38: 1 | BB38: 1 | BC38: 1 | BH38: 3 | BI38: 3 | BM38: 100 | BN38: 0 | BP38: 0 | BQ38: 5 | BR38: 0 | BS38: 1 | BT38: 1 | BU38: 1 | BV38: 1 | BW38: 1 | BX38: 1 | BZ38: 0 | CA38: 0 | CE38: 0 | CF38: 0 | CG38: 0 | CM38: 1 | CO38: 0 | CP38: =(P38+Q38+S38) -> 3487217.1 | CQ38: =AC38*BC38 -> 1743608.5 | CR38: =AD38*BB38 -> 0 | CS38: =AE38*BS38 -> 0 | CT38: =AF38*BA38 -> 0 | CU38: =AG38 -> 0 | CV38: =AH38 -> 0 | CW38: =AI38 -> 0 | CX38: =AJ38 -> 0 | CY38: =0 -> 0 | CZ38: =0 -> 0 | DN38: 0 | DO38: 0 | DP38: 1 | DQ38: 1 | DU38: 1013 | DV38: КОМПЛ | DW38: КОМПЛ | DX38: 1 | EE38: 57161983 | EF38: 5 | EG38: оборудование | EH38: 0 | EJ38: 3 | EK38: 100 | EL38: Оборудование | EM38: оборудование (03) | EQ38: 0 | ER38: 1743608.5 | ES38: 1743608.5 | ET38: 0 | EU38: 0 | EV38: 0 | EW38: 0 | EX38: 0 | EY38: 0 | EZ38: 5 | FC38: 1 | FD38: 18 | FF38: 1988000 | FQ38: 0 | FR38: =ROUND(IF(AND(BH38=3,BI38=3),P38,0),2) -> 3487217.1 | FS38: 0 | FX38: 0 | FY38: 0 | GA38: [1 988 000 / 1,2] + 4% Трансп + 1,2% Заг.скл | GD38: 1 | GF38: -1476099311 | GG38: 2 | GH38: 3 | GI38: -2 | GJ38: 0 | GK38: 0 | GL38: =ROUND(IF(AND(BH38=3,BI38=3,FS38<>0),P38,0),2) -> 0 | GM38: =ROUND(O38+X38+Y38,2)+GX38 -> 3487217.1 | GN38: =IF(OR(BI38=0,BI38=1),ROUND(O38+X38+Y38,2),0) -> 0 | GO38: =IF(BI38=2,ROUND(O38+X38+Y38,2),0) -> 0 | GP38: =IF(BI38=4,ROUND(O38+X38+Y38,2)+GX38,0) -> 0 | GR38: 1 | GS38: 1 | GT38: 0 | GV38: =ROUND((GT38),6) -> 0 | GW38: 1 | GX38: =ROUND(HC38*I38,2) -> 0 | HA38: 0 | HB38: 0 | HC38: =GV38*GW38 -> 0 | IK38: 0
A39: 17 | B39: 1 | E39: 4 | F39: Дог Цена | G39: Бетон тяжелый В12,5 F600 | H39: 1 м3 | I39: 1.2 | J39: 0 | O39: =ROUND(CP39,2) -> 5329.5 | P39: =ROUND(CQ39*I39,2) -> 5329.5 | Q39: =ROUND(CR39*I39,2) -> 0 | R39: =ROUND(CS39*I39,2) -> 0 | S39: =ROUND(CT39*I39,2) -> 0 | T39: =ROUND(CU39*I39,2) -> 0 | U39: =CV39*I39 -> 0 | V39: =CW39*I39 -> 0 | W39: =ROUND(CX39*I39,2) -> 0 | X39: =ROUND(CY39,2) -> 0 | Y39: =ROUND(CZ39,2) -> 0 | AA39: 59844155 | AB39: =ROUND((AC39+AD39+AF39),6) -> 4441.25 | AC39: =ROUND((ES39),6) -> 4441.25 | AD39: =ROUND((((ET39)-(EU39))+AE39),6) -> 0 | AE39: =ROUND((EU39),6) -> 0 | AF39: =ROUND((EV39),6) -> 0 | AG39: =ROUND((AP39),6) -> 0 | AH39: =(EW39) -> 0 | AI39: =(EX39) -> 0 | AJ39: =(AS39) -> 0 | AK39: 4441.25 | AL39: 4441.25 | AM39: 0 | AN39: 0 | AO39: 0 | AP39: 0 | AQ39: 0 | AR39: 0 | AS39: 0 | AT39: 105 | AU39: 65 | AV39: 1 | AW39: 1 | AZ39: 1 | BA39: 1 | BB39: 1 | BC39: 1 | BH39: 3 | BI39: 1 | BM39: 6001 | BN39: 0 | BP39: 0 | BQ39: 2 | BR39: 0 | BS39: 1 | BT39: 1 | BU39: 1 | BV39: 1 | BW39: 1 | BX39: 1 | BZ39: 105 | CA39: 65 | CE39: 0 | CF39: 0 | CG39: 0 | CM39: 1 | CO39: 0 | CP39: =(P39+Q39+S39) -> 5329.5 | CQ39: =AC39*BC39 -> 4441.25 | CR39: =AD39*BB39 -> 0 | CS39: =AE39*BS39 -> 0 | CT39: =AF39*BA39 -> 0 | CU39: =AG39 -> 0 | CV39: =AH39 -> 0 | CW39: =AI39 -> 0 | CX39: =AJ39 -> 0 | CY39: =(((S39+R39)*AT39)/100) -> 0 | CZ39: =(((S39+R39)*AU39)/100) -> 0 | DN39: 0 | DO39: 0 | DP39: 1 | DQ39: 1 | DU39: 1013 | DV39: 1 м3 | DW39: 1 м3 | DX39: 1 | EE39: 57161802 | EF39: 2 | EG39: Общестроительные работы | EH39: 0 | EJ39: 1 | EK39: 6001 | EL39: Монолитные бетонные и железобетонные конструкции в промышленном строительстве | EM39: ФЕР-06 | EQ39: 0 | ER39: 4441.25 | ES39: 4441.25 | ET39: 0 | EU39: 0 | EV39: 0 | EW39: 0 | EX39: 0 | EY39: 0 | EZ39: 5 | FC39: 1 | FD39: 18 | FF39: 5225 | FQ39: 0 | FR39: =ROUND(IF(AND(BH39=3,BI39=3),P39,0),2) -> 0 | FS39: 0 | FX39: 105 | FY39: 65 | GA39: [5 225 / 1,2] + 2% Заг.скл | GD39: 1 | GF39: 1914384334 | GG39: 2 | GH39: 3 | GI39: -2 | GJ39: 0 | GK39: 0 | GL39: =ROUND(IF(AND(BH39=3,BI39=3,FS39<>0),P39,0),2) -> 0 | GM39: =ROUND(O39+X39+Y39,2)+GX39 -> 5329.5 | GN39: =IF(OR(BI39=0,BI39=1),ROUND(O39+X39+Y39,2),0) -> 5329.5 | GO39: =IF(BI39=2,ROUND(O39+X39+Y39,2),0) -> 0 | GP39: =IF(BI39=4,ROUND(O39+X39+Y39,2)+GX39,0) -> 0 | GR39: 1 | GS39: 1 | GT39: 0 | GV39: =ROUND((GT39),6) -> 0 | GW39: 1 | GX39: =ROUND(HC39*I39,2) -> 0 | HA39: 0 | HB39: 0 | HC39: =GV39*GW39 -> 0 | IK39: 0
A41: 51 | B41: =B28 -> 1 | C41: =A28 -> 5 | D41: =ROW(A28) -> 28 | F41: =IF(F28<>"",F28,"") -> Новый подраздел | G41: =IF(G28<>"",G28,"") -> Пусковая часть 2 | H41: 0 | O41: =ROUND(AB41,2) -> 3527006.2 | P41: =ROUND(AC41,2) -> 3509853.7 | Q41: =ROUND(AD41,2) -> 1956.28 | R41: =ROUND(AE41,2) -> 591.17 | S41: =ROUND(AF41,2) -> 15196.2 | T41: =ROUND(AG41,2) -> 0 | U41: =AH41 -> 57.18838 | V41: =AI41 -> 1.483525 | W41: =ROUND(AJ41,2) -> 0.75 | X41: =ROUND(AK41,2) -> 13680.21 | Y41: =ROUND(AL41,2) -> 9682.48 | AB41: =ROUND(SUMIF(AA32:AA39,"=59844155",O32:O39),2) -> 3527006.2 | AC41: =ROUND(SUMIF(AA32:AA39,"=59844155",P32:P39),2) -> 3509853.7 | AD41: =ROUND(SUMIF(AA32:AA39,"=59844155",Q32:Q39),2) -> 1956.28 | AE41: =ROUND(SUMIF(AA32:AA39,"=59844155",R32:R39),2) -> 591.17 | AF41: =ROUND(SUMIF(AA32:AA39,"=59844155",S32:S39),2) -> 15196.2 | AG41: =ROUND(SUMIF(AA32:AA39,"=59844155",T32:T39),2) -> 0 | AH41: =SUMIF(AA32:AA39,"=59844155",U32:U39) -> 57.18838 | AI41: =SUMIF(AA32:AA39,"=59844155",V32:V39) -> 1.483525 | AJ41: =ROUND(SUMIF(AA32:AA39,"=59844155",W32:W39),2) -> 0.75 | AK41: =ROUND(SUMIF(AA32:AA39,"=59844155",X32:X39),2) -> 13680.21 | AL41: =ROUND(SUMIF(AA32:AA39,"=59844155",Y32:Y39),2) -> 9682.48 | AO41: =ROUND(BX41,2) -> 0 | AP41: =ROUND(BY41,2) -> 3487217.1 | AQ41: =ROUND(BZ41,2) -> 0 | AR41: =ROUND(CA41,2) -> 3550368.9 | AS41: =ROUND(CB41,2) -> 31780.88 | AT41: =ROUND(CC41,2) -> 31370.91 | AU41: =ROUND(CD41,2) -> 0 | AV41: =ROUND(CE41,2) -> 3509853.7 | ... BD41: =ROUND(CM41,2) -> 0 | BX41: =ROUND(SUMIF(AA32:AA39,"=59844155",FQ32:FQ39),2) -> 0 | BY41: =ROUND(SUMIF(AA32:AA39,"=59844155",FR32:FR39),2) -> 3487217.1 | BZ41: =ROUND(SUMIF(AA32:AA39,"=59844155",GL32:GL39),2) -> 0 | CA41: =ROUND(SUMIF(AA32:AA39,"=59844155",GM32:GM39),2) -> 3550368.9 | CB41: =ROUND(SUMIF(AA32:AA39,"=59844155",GN32:GN39),2) -> 31780.88 | CC41: =ROUND(SUMIF(AA32:AA39,"=59844155",GO32:GO39),2) -> 31370.91 | CD41: =ROUND(SUMIF(AA32:AA39,"=59844155",GP32:GP39),2) -> 0 | CE41: =AC41-BX41 -> 3509853.7 | CF41: =AC41-BY41 -> 22636.62 | CG41: =BX41-BZ41 -> 0 | CH41: =AC41-BX41-BY41+BZ41 -> 22636.62 | CI41: =BY41-BZ41 -> 3487217.1 | CJ41: =ROUND(SUMIF(AA32:AA39,"=59844155",GX32:GX39),2) -> 0 | CK41: =ROUND(SUMIF(AA32:AA39,"=59844155",GY32:GY39),2) -> 0 | CL41: =ROUND(SUMIF(AA32:AA39,"=59844155",GZ32:GZ39),2) -> 0 | CM41: =ROUND(SUMIF(AA32:AA39,"=59844155",HD32:HD39),2) -> 0 | GX41: 0
A43: 50 | B43: 0 | C43: 0 | D43: 1 | E43: 201 | F43: =ROUND(Source!O41,O43) -> 3527006.2 | G43: ПЗ | H43: Прямые затраты | K43: 201 | L43: 1 | M43: 3 | O43: 2
A44: 50 | B44: 0 | C44: 0 | D44: 1 | E44: 202 | F44: =ROUND(Source!P41,O44) -> 3509853.7 | G44: СтМатОб | H44: Стоимость материальных ресурсов (всего) | K44: 202 | L44: 2 | M44: 3 | O44: 2
A45: 50 | B45: 0 | C45: 0 | D45: 1 | E45: 222 | F45: =ROUND(Source!AO41,O45) -> 0 | G45: СтМатОбЗак | H45: Стоимость материалов и оборудования заказчика | K45: 222 | L45: 3 | M45: 3 | O45: 2
A46: 50 | B46: 0 | C46: 0 | D46: 1 | E46: 225 | F46: =ROUND(Source!AV41,O46) -> 3509853.7 | G46: СтМатОбПод | H46: Стоимость материалов и оборудования подрядчика | K46: 225 | L46: 4 | M46: 3 | O46: 2
A47: 50 | B47: 0 | C47: 0 | D47: 1 | E47: 226 | F47: =ROUND(Source!AW41,O47) -> 22636.62 | G47: СтМат | H47: Стоимость материалов (всего) | K47: 226 | L47: 5 | M47: 3 | O47: 2
A48: 50 | B48: 0 | C48: 0 | D48: 1 | E48: 227 | F48: =ROUND(Source!AX41,O48) -> 0 | G48: СтМатЗак | H48: Стоимость материалов заказчика | K48: 227 | L48: 6 | M48: 3 | O48: 2
A49: 50 | B49: 0 | C49: 0 | D49: 1 | E49: 228 | F49: =ROUND(Source!AY41,O49) -> 22636.62 | G49: СтМатПод | H49: Стоимость материалов подрядчика | K49: 228 | L49: 7 | M49: 3 | O49: 2
A50: 50 | B50: 0 | C50: 0 | D50: 1 | E50: 216 | F50: =ROUND(Source!AP41,O50) -> 3487217.1 | G50: Оборуд | H50: Стоимость оборудования (всего) | K50: 216 | L50: 8 | M50: 3 | O50: 2
A51: 50 | B51: 0 | C51: 0 | D51: 1 | E51: 223 | F51: =ROUND(Source!AQ41,O51) -> 0 | G51: ОборудЗак | H51: Стоимость оборудования заказчика | K51: 223 | L51: 9 | M51: 3 | O51: 2
A52: 50 | B52: 0 | C52: 0 | D52: 1 | E52: 229 | F52: =ROUND(Source!AZ41,O52) -> 3487217.1 | G52: ОборудПод | H52: Стоимость оборудования подрядчика | K52: 229 | L52: 10 | M52: 3 | O52: 2
A53: 50 | B53: 0 | C53: 0 | D53: 1 | E53: 203 | F53: =ROUND(Source!Q41,O53) -> 1956.28 | G53: ЭММ | H53: Эксплуатация машин | K53: 203 | L53: 11 | M53: 3 | O53: 2
A54: 50 | B54: 0 | C54: 0 | D54: 1 | E54: 231 | F54: =ROUND(Source!BB41,O54) -> 0 | G54: ЭММсНРиСП | H54: Эксплуатация машин по ТСН-2001.16 | K54: 231 | L54: 12 | M54: 3 | O54: 2
A55: 50 | B55: 0 | C55: 0 | D55: 1 | E55: 204 | F55: =ROUND(Source!R41,O55) -> 591.17 | G55: ЗПМ | H55: ЗП машинистов | K55: 204 | L55: 13 | M55: 3 | O55: 2
A56: 50 | B56: 0 | C56: 0 | D56: 1 | E56: 205 | F56: =ROUND(Source!S41,O56) -> 15196.2 | G56: ОЗП | H56: Основная ЗП рабочих | K56: 205 | L56: 14 | M56: 3 | O56: 2
A57: 50 | B57: 0 | C57: 0 | D57: 1 | E57: 232 | F57: =ROUND(Source!BC41,O57) -> 0 | G57: ОЗПсНРиСП | H57: Основная ЗП рабочих по ТСН-2001.16 | K57: 232 | L57: 15 | M57: 3 | O57: 2
A58: 50 | B58: 0 | C58: 0 | D58: 1 | E58: 214 | F58: =ROUND(Source!AS41,O58) -> 31780.88 | G58: Строит | H58: Строительные работы с НР и СП | K58: 214 | L58: 16 | M58: 3 | O58: 2
A59: 50 | B59: 0 | C59: 0 | D59: 1 | E59: 215 | F59: =ROUND(Source!AT41,O59) -> 31370.91 | G59: Монтаж | H59: Монтажные работы с НР и СП | K59: 215 | L59: 17 | M59: 3 | O59: 2
A60: 50 | B60: 0 | C60: 0 | D60: 1 | E60: 217 | F60: =ROUND(Source!AU41,O60) -> 0 | G60: Прочие | H60: Прочие работы с НР и СП | K60: 217 | L60: 18 | M60: 3 | O60: 2
A61: 50 | B61: 0 | C61: 0 | D61: 1 | E61: 230 | F61: =ROUND(Source!BA41,O61) -> 0 | G61: ПрочиеЗатр | H61: Прочие затраты по ТСН-2001.16 | K61: 230 | L61: 19 | M61: 3 | O61: 2
A62: 50 | B62: 0 | C62: 0 | D62: 1 | E62: 206 | F62: =ROUND(Source!T41,O62) -> 0 | G62: ВозврМат | H62: Возврат материалов | K62: 206 | L62: 20 | M62: 3 | O62: 2
...

Sheet SourceObSm
A1: 0 | B1: Smeta.RU (495) 974-1589 | D1: _OBSM_ | F1: 0 | G1: 0 | H1: 0 | I1: Smeta.RU | K1: 0 | L1: 23404 | M1: 10 | N1: 11 | O1: 0 | P1: 0 | Q1: 6
A12: 1 | B12: 54 | C12: 0 | E12: 0 | F12: Новый объект | G12: Выходной документ. Тест | I12: 0 | K12: 0 | O12: 0 | P12: 0 | Q12: 0 | R12: 0 | V12: 0 | BH12: Сметные нормы списания | BI12: Коды ценников | BJ12: 1 | BK12: 1 | BL12: 0 | BM12: 0 | BN12: 1 | BO12: 0 | BP12: 6 | BQ12: 2 | BR12: 1 | BS12: 1 | BT12: 0 | BU12: 0 | BV12: 0 | BW12: 0 | BX12: 0 | BY12: ТСНБ-2014 | BZ12: ТР для Версии 10: Центральные регионы (с уч. п-ма 2536-ИП/12/ГС от 27.11.12, 01/57049-ЮЛ от 27.04.2018) от 14.03.2019 г | CA12: ТСНБ-2001 Московской области (редакция 2014 г версия 15.0) | CB12: ТСНБ-2001 Московской области (редакция 2014 г версия 15.0) | CC12: ТСНБ-2001 Московской области (редакция 2014 г версия 15.0) | CD12: ТСНБ-2001 Московской области (редакция 2014 г версия 15.0) | CE12: Поправки для НБ 2014 года от 03.03.2016 ЭТАЛОН | CF12: 0 | CG12: 0 | CH12: 0 | CK12: 1 | EC12: 0
A14: 22 | B14: 0 | C14: 0 | D14: 59844155 | E14: 0 | F14: 3
A16: 3 | B16: 1 | C16: Новая локальная смета | D16: Монтаж оборудования | E16: =(Source!F118)/1000 -> 31.78088 | F16: =(Source!F119)/1000 -> 31.37091 | G16: =(Source!F110)/1000 -> 3487.2171 | H16: =(Source!F120)/1000+(Source!F121)/1000 -> 0 | I16: =E16+F16+G16+H16 -> 3550.3689 | J16: =(Source!F116)/1000 -> 15.1962 | AI16: 0 | AJ16: -1 | AN16: 0 | AT16: 3527006.2 | AU16: 3509853.7 | AV16: 0 | AW16: 3487217.1 | AX16: 0 | AY16: 1956.28 | AZ16: 591.17 | BA16: 15196.2 | BB16: 31780.88 | BC16: 31370.91 | BD16: 0 | BE16: 0 | BF16: 57.18838 | BG16: 1.483525 | BH16: 0.75 | BI16: 13680.21 | BJ16: 9682.48 | BK16: 3550368.9
A18: 51 | E18: =SUMIF(A16:A17,3,E16:E17) -> 31.78088 | F18: =SUMIF(A16:A17,3,F16:F17) -> 31.37091 | G18: =SUMIF(A16:A17,3,G16:G17) -> 3487.2171 | H18: =SUMIF(A16:A17,3,H16:H17) -> 0 | I18: =SUMIF(A16:A17,3,I16:I17) -> 3550.3689 | J18: =SUMIF(A16:A17,3,J16:J17) -> 15.1962
A20: 50 | B20: 0 | C20: 0 | D20: 1 | E20: 201 | F20: 3527006.2 | G20: ПЗ | H20: Прямые затраты | K20: 201 | L20: 1 | M20: 3 | O20: 2
A21: 50 | B21: 0 | C21: 0 | D21: 1 | E21: 202 | F21: 3509853.7 | G21: СтМатОб | H21: Стоимость материальных ресурсов (всего) | K21: 202 | L21: 2 | M21: 3 | O21: 2
A22: 50 | B22: 0 | C22: 0 | D22: 1 | E22: 222 | F22: 0 | G22: СтМатОбЗак | H22: Стоимость материалов и оборудования заказчика | K22: 222 | L22: 3 | M22: 3 | O22: 2
A23: 50 | B23: 0 | C23: 0 | D23: 1 | E23: 225 | F23: 3509853.7 | G23: СтМатОбПод | H23: Стоимость материалов и оборудования подрядчика | K23: 225 | L23: 4 | M23: 3 | O23: 2
A24: 50 | B24: 0 | C24: 0 | D24: 1 | E24: 226 | F24: 22636.62 | G24: СтМат | H24: Стоимость материалов (всего) | K24: 226 | L24: 5 | M24: 3 | O24: 2
A25: 50 | B25: 0 | C25: 0 | D25: 1 | E25: 227 | F25: 0 | G25: СтМатЗак | H25: Стоимость материалов заказчика | K25: 227 | L25: 6 | M25: 3 | O25: 2
A26: 50 | B26: 0 | C26: 0 | D26: 1 | E26: 228 | F26: 22636.62 | G26: СтМатПод | H26: Стоимость материалов подрядчика | K26: 228 | L26: 7 | M26: 3 | O26: 2
A27: 50 | B27: 0 | C27: 0 | D27: 1 | E27: 216 | F27: 3487217.1 | G27: Оборуд | H27: Стоимость оборудования (всего) | K27: 216 | L27: 8 | M27: 3 | O27: 2
A28: 50 | B28: 0 | C28: 0 | D28: 1 | E28: 223 | F28: 0 | G28: ОборудЗак | H28: Стоимость оборудования заказчика | K28: 223 | L28: 9 | M28: 3 | O28: 2
A29: 50 | B29: 0 | C29: 0 | D29: 1 | E29: 229 | F29: 3487217.1 | G29: ОборудПод | H29: Стоимость оборудования подрядчика | K29: 229 | L29: 10 | M29: 3 | O29: 2
A30: 50 | B30: 0 | C30: 0 | D30: 1 | E30: 203 | F30: 1956.28 | G30: ЭММ | H30: Эксплуатация машин | K30: 203 | L30: 11 | M30: 3 | O30: 2
A31: 50 | B31: 0 | C31: 0 | D31: 1 | E31: 231 | F31: 0 | G31: ЭММсНРиСП | H31: Эксплуатация машин по ТСН-2001.16 | K31: 231 | L31: 12 | M31: 3 | O31: 2
... A49: 50 | B49: 1 | C49: 0 | D49: 2 | E49: 213 | F49: 4260442.6 | G49: ВС | H49: Всего: | K49: 212 | L49: 30 | M49: 0 | O49: 2
A51: -1
A54: 75 | B54: Уровень цен | C54: 2019 | D54: 0 | E54: 11 | G54: 0 | H54: 1 | I54: 0 | J54: 1 | K54: 0 | L54: 0 | M54: 0 | N54: 59844155 | O54: 1
A55: 1 | B55: Сборник индексов | C55: ТСНБ-2001 Московской области (редакция 2014 г) | D55: 2019 | E55: 11 | F55: 1 | G55: 1 | H55: 0 | I55: 2 | J55: 1 | K55: 1 | L55: 1 | M55: 1 | N55: 1 | O55: 1 | P55: 1 | Q55: 1

Sheet SmtRes
A1: =ROW(Source!A32) -> 32 | B1: 59844155 | C1: 59844431 | D1: 29509036 | E1: 1 | F1: 1 | G1: 1 | H1: 1 | I1: 1-1029-90 | K1: Рабочий строитель среднего разряда 2,9 | L1: 1369 | N1: 1013 | O1: чел.-ч | P1: чел.-ч | Q1: 1 | W1: 0 | X1: -1896518065 | Y1: 521.64 | AA1: 0 | AB1: 0 | AC1: 0 | AD1: 8.46 | AE1: 0 | AF1: 0 | AG1: 0 | AH1: 8.46 | AI1: 1 | AJ1: 1 | AK1: 1 | AL1: 1 | AN1: 0 | AO1: 1 | AP1: 1 | AQ1: 0 | AR1: 0 | AT1: 453.6 | AU1: )*1,15 | AV1: 1 | AW1: 2 | AX1: 59844432 | AY1: 1 | AZ1: 0 | BA1: 1 | BB1: 0 | BC1: 0 | BD1: 0 | BE1: 0 | BF1: 0 | BG1: 0 | BH1: 0 | BI1: 0 | BJ1: 0 | BK1: 0 | BL1: 0 | BM1: 0 | BN1: 0 | BO1: 0 | BP1: 0 | BQ1: 0 | BR1: 0 | BS1: 0 | BT1: 0 | BU1: 0 | BV1: 0 | BW1: 0 | CX1: =Y1*Source!I32 -> 15.38838 | CY1: =AD1 -> 8.46 | CZ1: =AH1 -> 8.46 | DA1: =AL1 -> 1 | DB1: =ROUND((ROUND(AT1*CZ1,2)*1.15),6) -> 4413.079 | DC1: =ROUND((ROUND(AT1*AG1,2)*1.15),6) -> 0
A2: =ROW(Source!A32) -> 32 | B2: 59844155 | C2: 59844431 | D2: 121548 | E2: 1 | F2: 1 | G2: 1 | H2: 1 | I2: 2 | K2: Затраты труда машинистов | L2: 608254 | N2: 1013 | O2: чел.час | P2: чел.час | Q2: 1 | W2: 0 | X2: -185737400 | Y2: 29.95 | AA2: 0 | AB2: 0 | AC2: 0 | AD2: 0 | AE2: 0 | AF2: 0 | AG2: 0 | AH2: 0 | AI2: 1 | AJ2: 1 | AK2: 1 | AL2: 1 | AN2: 0 | AO2: 1 | AP2: 1 | AQ2: 0 | AR2: 0 | AT2: 23.96 | AU2: )*1,25 | AV2: 2 | AW2: 2 | AX2: 59844433 | AY2: 1 | AZ2: 0 | BA2: 2 | BB2: 0 | BC2: 0 | BD2: 0 | BE2: 0 | BF2: 0 | BG2: 0 | BH2: 0 | BI2: 0 | BJ2: 0 | BK2: 0 | BL2: 0 | BM2: 0 | BN2: 0 | BO2: 0 | BP2: 0 | BQ2: 0 | BR2: 0 | BS2: 0 | BT2: 0 | BU2: 0 | BV2: 0 | BW2: 0 | CX2: =Y2*Source!I32 -> 0.883525 | CY2: =AD2 -> 0 | CZ2: =AH2 -> 0 | DA2: =AL2 -> 1 | DB2: =ROUND((ROUND(AT2*CZ2,2)*1.25),6) -> 0 | DC2: =ROUND((ROUND(AT2*AG2,2)*1.25),6) -> 0
A3: =ROW(Source!A32) -> 32 | B3: 59844155 | C3: 59844431 | D3: 42458401 | E3: 1 | F3: 1 | G3: 1 | H3: 2 | I3: 021141 | J3: ТСЭМ Московской обл., 021141, приказ Минстроя России №675/пр от 28.02.2017 № 264/пр | K3: Краны на автомобильном ходу при работе на других видах строительства 10 т | L3: 1368 | N3: 1011 | O3: маш.-ч | P3: маш.-ч | Q3: 1 | W3: 0 | X3: 1106923569 | Y3: 0.9125 | AA3: 0 | AB3: 1014.72 | AC3: 399.2 | AD3: 0 | AE3: 0 | AF3: 112 | AG3: 13.5 | AH3: 0 | AI3: 1 | AJ3: 9.06 | AK3: 29.57 | AL3: 1 | AN3: 0 | AO3: 1 | AP3: 1 | AQ3: 0 | AR3: 0 | AT3: 0.73 | AU3: )*1,25 | AV3: 0 | AW3: 2 | AX3: 59844434 | AY3: 1 | AZ3: 0 | BA3: 3 | BB3: 0 | BC3: 0 | BD3: 0 | BE3: 0 | BF3: 0 | BG3: 0 | BH3: 0 | BI3: 0 | BJ3: 0 | BK3: 0 | BL3: 0 | BM3: 0 | BN3: 0 | BO3: 0 | BP3: 0 | BQ3: 0 | BR3: 0 | BS3: 0 | BT3: 0 | BU3: 0 | BV3: 0 | BW3: 0 | CX3: =Y3*Source!I32 -> 0.02691875 | CY3: =AB3 -> 1014.72 | CZ3: =AF3 -> 112 | DA3: =AJ3 -> 9.06 | DB3: =ROUND((ROUND(AT3*CZ3,2)*1.25),6) -> 102.2 | DC3: =ROUND((ROUND(AT3*AG3,2)*1.25),6) -> 12.325
A4: =ROW(Source!A32) -> 32 | B4: 59844155 | C4: 59844431 | D4: 42458429 | E4: 1 | F4: 1 | G4: 1 | H4: 2 | I4: 021243 | J4: ТСЭМ Московской обл., 021243, приказ Минстроя России №675/пр от 28.02.2017 № 264/пр | K4: Краны на гусеничном ходу при работе на других видах строительства до 16 т | L4: 1368 | N4: 1011 | O4: маш.-ч | P4: маш.-ч | Q4: 1 | W4: 0 | X4: -27831156 | Y4: 28.7 | AA4: 0 | AB4: 886.64 | AC4: 399.2 | AD4: 0 | AE4: 0 | AF4: 96.9 | AG4: 13.5 | AH4: 0 | AI4: 1 | AJ4: 9.15 | AK4: 29.57 | AL4: 1 | AN4: 0 | AO4: 1 | AP4: 1 | AQ4: 0 | AR4: 0 | AT4: 22.96 | AU4: )*1,25 | AV4: 0 | AW4: 2 | AX4: 59844435 | AY4: 1 | AZ4: 0 | BA4: 4 | BB4: 0 | BC4: 0 | BD4: 0 | BE4: 0 | BF4: 0 | BG4: 0 | BH4: 0 | BI4: 0 | BJ4: 0 | BK4: 0 | BL4: 0 | BM4: 0 | BN4: 0 | BO4: 0 | BP4: 0 | BQ4: 0 | BR4: 0 | BS4: 0 | BT4: 0 | BU4: 0 | BV4: 0 | BW4: 0 | CX4: =Y4*Source!I32 -> 0.84665 | CY4: =AB4 -> 886.64 | CZ4: =AF4 -> 96.9 | DA4: =AJ4 -> 9.15 | DB4: =ROUND((ROUND(AT4*CZ4,2)*1.25),6) -> 2781.025 | DC4: =ROUND((ROUND(AT4*AG4,2)*1.25),6) -> 387.45
A5: =ROW(Source!A32) -> 32 | B5: 59844155 | C5: 59844431 | D5: 42458501 | E5: 1 | F5: 1 | G5: 1 | H5: 2 | I5: 030101 | J5: ТСЭМ Московской обл., 030101, приказ Минстроя России №675/пр от 28.02.2017 № 264/пр | K5: Автопогрузчики 5 т | L5: 1368 | N5: 1011 | O5: маш.-ч | P5: маш.-ч | Q5: 1 | W5: 0 | X5: 1549832887 | Y5: 0.3375 | AA5: 0 | AB5: 802.12 | AC5: 297.47 | AD5: 0 | AE5: 0 | AF5: 99.89 | AG5: 10.06 | AH5: 0 | AI5: 1 | AJ5: 8.03 | AK5: 29.57 | AL5: 1 | AN5: 0 | AO5: 1 | AP5: 1 | AQ5: 0 | AR5: 0 | AT5: 0.27 | AU5: )*1,25 | AV5: 0 | AW5: 2 | AX5: 59844436 | AY5: 1 | AZ5: 0 | BA5: 5 | BB5: 0 | BC5: 0 | BD5: 0 | BE5: 0 | BF5: 0 | BG5: 0 | BH5: 0 | BI5: 0 | BJ5: 0 | BK5: 0 | BL5: 0 | BM5: 0 | BN5: 0 | BO5: 0 | BP5: 0 | BQ5: 0 | BR5: 0 | BS5: 0 | BT5: 0 | BU5: 0 | BV5: 0 | BW5: 0 | CX5: =Y5*Source!I32 -> 0.00995625 | CY5: =AB5 -> 802.12 | CZ5: =AF5 -> 99.89 | DA5: =AJ5 -> 8.03 | DB5: =ROUND((ROUND(AT5*CZ5,2)*1.25),6) -> 33.7125 | DC5: =ROUND((ROUND(AT5*AG5,2)*1.25),6) -> 3.4
A6: =ROW(Source!A32) -> 32 | B6: 59844155 | C6: 59844431 | D6: 42458679 | E6: 1 | F6: 1 | G6: 1 | H6: 2 | I6: 040502 | J6: ТСЭМ Московской обл., 040502, приказ Минстроя России №675/пр от 28.02.2017 № 264/пр | K6: Установки для сварки ручной дуговой (постоянного тока) | L6: 1368 | N6: 1011 | O6: маш.-ч | P6: маш.-ч | Q6: 1 | W6: 0 | X6: 1474986261 | Y6: 2.525 | AA6: 0 | AB6: 58.48 | AC6: 0 | AD6: 0 | AE6: 0 | AF6: 8.1 | AG6: 0 | AH6: 0 | AI6: 1 | AJ6: 7.22 | AK6: 29.57 | AL6: 1 | AN6: 0 | AO6: 1 | AP6: 1 | AQ6: 0 | AR6: 0 | AT6: 2.02 | AU6: )*1,25 | AV6: 0 | AW6: 2 | AX6: 59844437 | AY6: 1 | AZ6: 0 | BA6: 6 | BB6: 0 | BC6: 0 | BD6: 0 | BE6: 0 | BF6: 0 | BG6: 0 | BH6: 0 | BI6: 0 | BJ6: 0 | BK6: 0 | BL6: 0 | BM6: 0 | BN6: 0 | BO6: 0 | BP6: 0 | BQ6: 0 | BR6: 0 | BS6: 0 | BT6: 0 | BU6: 0 | BV6: 0 | BW6: 0 | CX6: =Y6*Source!I32 -> 0.0744875 | CY6: =AB6 -> 58.48 | CZ6: =AF6 -> 8.1 | DA6: =AJ6 -> 7.22 | DB6: =ROUND((ROUND(AT6*CZ6,2)*1.25),6) -> 20.45 | DC6: =ROUND((ROUND(AT6*AG6,2)*1.25),6) -> 0
A7: =ROW(Source!A32) -> 32 | B7: 59844155 | C7: 59844431 | D7: 42459173 | E7: 1 | F7: 1 | G7: 1 | H7: 2 | I7: 111100 | J7: ТСЭМ Московской обл., 111100, приказ Минстроя России №675/пр от 28.02.2017 № 264/пр | K7: Вибратор глубинный | L7: 1368 | N7: 1011 | O7: маш.-ч | P7: маш.-ч | Q7: 1 | W7: 0 | X7: 650070217 | Y7: 23.8 | AA7: 0 | AB7: 20.2 | AC7: 0 | AD7: 0 | AE7: 0 | AF7: 1.9 | AG7: 0 | AH7: 0 | AI7: 1 | AJ7: 10.63 | AK7: 29.57 | AL7: 1 | AN7: 0 | AO7: 1 | AP7: 1 | AQ7: 0 | AR7: 0 | AT7: 19.04 | AU7: )*1,25 | AV7: 0 | AW7: 2 | AX7: 59844438 | AY7: 1 | AZ7: 0 | BA7: 7 | BB7: 0 | BC7: 0 | BD7: 0 | BE7: 0 | BF7: 0 | BG7: 0 | BH7: 0 | BI7: 0 | BJ7: 0 | BK7: 0 | BL7: 0 | BM7: 0 | BN7: 0 | BO7: 0 | BP7: 0 | BQ7: 0 | BR7: 0 | BS7: 0 | BT7: 0 | BU7: 0 | BV7: 0 | BW7: 0 | CX7: =Y7*Source!I32 -> 0.7021 | CY7: =AB7 -> 20.2 | CZ7: =AF7 -> 1.9 | DA7: =AJ7 -> 10.63 | DB7: =ROUND((ROUND(AT7*CZ7,2)*1.25),6) -> 45.225 | DC7: =ROUND((ROUND(AT7*AG7,2)*1.25),6) -> 0
A8: =ROW(Source!A32) -> 32 | B8: 59844155 | C8: 59844431 | D8: 42460615 | E8: 1 | F8: 1 | G8: 1 | H8: 2 | I8: 331532 | J8: ТСЭМ Московской обл., 331532, приказ Минстроя России №675/пр от 28.02.2017 № 264/пр | K8: Пила цепная электрическая | L8: 1368 | N8: 1011 | O8: маш.-ч | P8: маш.-ч | Q8: 1 | W8: 0 | X8: -1835804875 | Y8: 1.6875 | AA8: 0 | AB8: 25.77 | AC8: 0 | AD8: 0 | AE8: 0 | AF8: 3.27 | AG8: 0 | AH8: 0 | AI8: 1 | AJ8: 7.88 | AK8: 29.57 | AL8: 1 | AN8: 0 | AO8: 1 | AP8: 1 | AQ8: 0 | AR8: 0 | AT8: 1.35 | AU8: )*1,25 | AV8: 0 | AW8: 2 | AX8: 59844439 | AY8: 1 | AZ8: 0 | BA8: 8 | BB8: 0 | BC8: 0 | BD8: 0 | BE8: 0 | BF8: 0 | BG8: 0 | BH8: 0 | BI8: 0 | BJ8: 0 | BK8: 0 | BL8: 0 | BM8: 0 | BN8: 0 | BO8: 0 | BP8: 0 | BQ8: 0 | BR8: 0 | BS8: 0 | BT8: 0 | BU8: 0 | BV8: 0 | BW8: 0 | CX8: =Y8*Source!I32 -> 0.04978125 | CY8: =AB8 -> 25.77 | CZ8: =AF8 -> 3.27 | DA8: =AJ8 -> 7.88 | DB8: =ROUND((ROUND(AT8*CZ8,2)*1.25),6) -> 5.5125 | DC8: =ROUND((ROUND(AT8*AG8,2)*1.25),6) -> 0
A9: =ROW(Source!A32) -> 32 | B9: 59844155 | C9: 59844431 | D9: 42460936 | E9: 1 | F9: 1 | G9: 1 | H9: 2 | I9: 400001 | J9: ТСЭМ Московской обл., 400001, приказ Минстроя России №675/пр от 28.02.2017 № 264/пр | K9: Автомобили бортовые, грузоподъемность до 5 т | L9: 1368 | N9: 1011 | O9: маш.-ч | P9: маш.-ч | Q9: 1 | W9: 0 | X9: 1230759911 | Y9: 2.0625 | AA9: 0 | AB9: 858.62 | AC9: 343.01 | AD9: 0 | AE9: 0 | AF9: 87.17 | AG9: 11.6 | AH9: 0 | AI9: 1 | AJ9: 9.85 | AK9: 29.57 | AL9: 1 | AN9: 0 | AO9: 1 | AP9: 1 | AQ9: 0 | AR9: 0 | AT9: 1.65 | AU9: )*1,25 | AV9: 0 | AW9: 2 | AX9: 59844440 | AY9: 1 | AZ9: 0 | BA9: 9 | BB9: 0 | BC9: 0 | BD9: 0 | BE9: 0 | BF9: 0 | BG9: 0 | BH9: 0 | BI9: 0 | BJ9: 0 | BK9: 0 | BL9: 0 | BM9: 0 | BN9: 0 | BO9: 0 | BP9: 0 | BQ9: 0 | BR9: 0 | BS9: 0 | BT9: 0 | BU9: 0 | BV9: 0 | BW9: 0 | CX9: =Y9*Source!I32 -> 0.06084375 | CY9: =AB9 -> 858.62 | CZ9: =AF9 -> 87.17 | DA9: =AJ9 -> 9.85 | DB9: =ROUND((ROUND(AT9*CZ9,2)*1.25),6) -> 179.7875 | DC9: =ROUND((ROUND(AT9*AG9,2)*1.25),6) -> 23.925
A10: =ROW(Source!A32) -> 32 | B10: 59844155 | C10: 59844431 | D10: 42399620 | E10: 1 | F10: 1 | G10: 1 | H10: 3 | I10: 101-0797 | J10: ТССЦ Московской обл., 101-0797, приказ Минстроя России №675/пр от 28.02.2017 № 254/пр | K10: Проволока горячекатаная в мотках, диаметром 6,3-6,5 мм | L10: 1348 | N10: 1009 | O10: т | P10: т | Q10: 1000 | W10: 0 | X10: -1012359093 | Y10: 0.04 | AA10: 35597.05 | AB10: 0 | AC10: 0 | AD10: 0 | AE10: 4455.2 | AF10: 0 | AG10: 0 | AH10: 0 | AI10: 7.99 | AJ10: 1 | AK10: 1 | AL10: 1 | AN10: 0 | AO10: 1 | AP10: 0 | AQ10: 0 | AR10: 0 | AT10: 0.04 | AV10: 0 | AW10: 2 | AX10: 59844441 | AY10: 1 | AZ10: 0 | BA10: 10 | BB10: 0 | BC10: 0 | BD10: 0 | BE10: 0 | BF10: 0 | BG10: 0 | BH10: 0 | BI10: 0 | BJ10: 0 | BK10: 0 | BL10: 0 | BM10: 0 | BN10: 0 | BO10: 0 | BP10: 0 | BQ10: 0 | BR10: 0 | BS10: 0 | BT10: 0 | BU10: 0 | BV10: 0 | BW10: 0 | CX10: =Y10*Source!I32 -> 0.00118 | CY10: =AA10 -> 35597.05 | CZ10: =AE10 -> 4455.2 | DA10: =AI10 -> 7.99 | DB10: =ROUND(ROUND(AT10*CZ10,2),6) -> 178.21 | DC10: =ROUND(ROUND(AT10*AG10,2),6) -> 0
A11: =ROW(Source!A32) -> 32 | B11: 59844155 | C11: 59844431 | D11: 42400004 | E11: 1 | F11: 1 | G11: 1 | H11: 3 | I11: 101-1529 | J11: ТССЦ Московской обл., 101-1529, приказ Минстроя России №675/пр от 28.02.2017 № 254/пр | K11: Электроды диаметром 6 мм Э42 | L11: 1348 | N11: 1009 | O11: т | P11: т | Q11: 1000 | W11: 0 | X11: 1908648852 | Y11: 0.004 | AA11: 90658.78 | AB11: 0 | AC11: 0 | AD11: 0 | AE11: 9423.99 | AF11: 0 | AG11: 0 | AH11: 0 | AI11: 9.62 | AJ11: 1 | AK11: 1 | AL11: 1 | AN11: 0 | AO11: 1 | AP11: 0 | AQ11: 0 | AR11: 0 | AT11: 0.004 | AV11: 0 | AW11: 2 | AX11: 59844442 | AY11: 1 | AZ11: 0 | BA11: 11 | BB11: 0 | BC11: 0 | BD11: 0 | BE11: 0 | BF11: 0 | BG11: 0 | BH11: 0 | BI11: 0 | BJ11: 0 | BK11: 0 | BL11: 0 | BM11: 0 | BN11: 0 | BO11: 0 | BP11: 0 | BQ11: 0 | BR11: 0 | BS11: 0 | BT11: 0 | BU11: 0 | BV11: 0 | BW11: 0 | CX11: =Y11*Source!I32 -> 0.000118 | CY11: =AA11 -> 90658.78 | CZ11: =AE11 -> 9423.99 | DA11: =AI11 -> 9.62 | DB11: =ROUND(ROUND(AT11*CZ11,2),6) -> 37.7 | DC11: =ROUND(ROUND(AT11*AG11,2),6) -> 0
