Workbook

Sheet Смета 12 гр. по ФЕР
A1: =Source!B1 -> Smeta.RU (495) 974-1589
B3: (наименование стройки)
F5: Номер заказа | H5: =IF(Source!F12<>"Новый объект", Source!F12, "") -> 0
B7: =CONCATENATE( "ЛОКАЛЬНАЯ СМЕТА № ",IF(Source!F12<>"Новый объект", Source!F12, "")) -> ЛОКАЛЬНАЯ СМЕТА № | AD7: =CONCATENATE( "ЛОКАЛЬНАЯ СМЕТА № ",IF(Source!F12<>"Новый объект", Source!F12, "")) -> ЛОКАЛЬНАЯ СМЕТА №
B12: (наименование работ и затрат, наименование объекта)
A14: =CONCATENATE("Основание: ", Source!J12) -> Основание:
G17: базовая цена | I17: текущая цена
C18: Сметная стоимость | G18: =SUM(O1:O1167)/1000 -> 5685.8159 | I18: =(Source!P929/1000) -> 5686.1095 | K18: тыс. руб.
C19: Строительные работы | G19: =SUM(W1:W1167)/1000 -> 5681.9197 | I19: =(Source!P919)/1000 -> 5682.2133 | K19: тыс. руб.
C20: Монтажные работы | G20: =SUM(X1:X1167)/1000 -> 3.89617 | I20: =(Source!P920)/1000 -> 3.89617 | K20: тыс. руб.
C21: Оборудование | G21: =SUM(Y1:Y1167)/1000 -> 0 | I21: =(Source!P911)/1000 -> 0 | K21: тыс. руб.
C22: Прочие работы | G22: =SUM(Z1:Z1167)/1000 -> 0 | I22: =(Source!P921+Source!P922)/1000 -> 0 | K22: тыс. руб.
C23: Нормативная трудоемкость | G23: =I23 -> 8134.2925 | I23: =(Source!P924+Source!P925) -> 8134.2925 | K23: чел. -ч.
C24: Средства на оплату труда | G24: =SUM(R1:R1167)/1000 -> 72.20345 | I24: =((Source!P917 + Source!P916)/1000) -> 72.20345 | K24: тыс. руб.
A26: Составлена в ценах январь 2000 года
A27: № п/п | B27: Шифр расценки и коды ресурсов | C27: Наименование работ и затрат | D27: Ед. изм. | E27: Кол-во единиц | F27: Цена на ед. изм. | G27: Попра-вочные коэфф. | H27: Стоимость в ценах 2001г. | I27: Пункт коэфф. пересчета | J27: Коэфф. пересчета | K27: Стоимость в текущих ценах | L27: ЗТР всего чел.-час
A28: 1 | B28: 2 | C28: 3 | D28: 4 | E28: 5 | F28: 6 | G28: 7 | H28: 8 | I28: 9 | J28: 10 | K28: 11 | L28: 12
A30: =CONCATENATE("Локальная смета: ",IF(Source!G20<>"Новая локальная смета", Source!G20, "")) -> Локальная смета: Локальная смета №1
A32: =CONCATENATE("Раздел: ",IF(Source!G24<>"Новый раздел", Source!G24, "")) -> Раздел: Демонтаж
B34: =Source!G28 -> Конструкции и элементы
A35: =Source!E30 -> 1 | B35: 09-06-001-02 Поправка: МР 81/пр Табл.2, п.4 | C35: =Source!G30 -> Монтаж лотков, решеток, затворов из полосовой и тонколистовой стали Прим. Деомнтаж ограждений, ворот распашных | D35: =Source!H30 -> т | E35: =Source!I30 -> 1.5 | F35: =Source!AL30+Source!AM30+Source!AO30 -> 641 | I35: =Source!BO30 | S35: =ROUND((Source!FX30/100)*((ROUND(Source!AF30*Source!I30, 2)+ROUND(Source!AE30*Source!I30, 2))), 2) -> 371.72 | T35: =Source!X30 -> 371.72 | U35: =ROUND((Source!FY30/100)*((ROUND(Source!AF30*Source!I30, 2)+ROUND(Source!AE30*Source!I30, 2))), 2) -> 331.56 | V35: =Source!Y30 -> 330.42
C36: Зарплата | F36: =Source!AO30 -> 433.24 | G36: =Source!DG30 -> )*0,7 | H36: =ROUND(Source!AF30*Source!I30, 2) -> 454.9 | J36: =IF(Source!BA30<> 0, Source!BA30, 1) -> 1 | K36: =Source!S30 -> 454.9 | R36: =H36 -> 454.9
C37: Эксплуатация машин | F37: =Source!AM30 -> 125.8 | G37: =Source!DE30 -> )*0,7 | H37: =ROUND(Source!AD30*Source!I30, 2) -> 132.09 | J37: =IF(Source!BB30<> 0, Source!BB30, 1) -> 1 | K37: =Source!Q30 -> 132.09
C38: в т.ч. зарплата машинистов | F38: =Source!AN30 -> 3.82 | G38: =Source!DF30 -> )*0,7 | H38: =ROUND(Source!AE30*Source!I30, 2) -> 4.01 | J38: =IF(Source!BS30<> 0, Source!BS30, 1) -> 1 | K38: =Source!R30 -> 4.01 | R38: =H38 -> 4.01
C39: НР от ФОТ | D39: % | E39: =Source!BZ30 -> 90 | F39: =CONCATENATE(" )", Source!DL30, Source!FT30, "=", Source!FX30) -> )*0,9=81 | H39: =SUM(S35:S42) -> 371.72 | J39: =Source!AT30 -> 81 | K39: =SUM(T35:T42) -> 371.72
C40: СП от ФОТ | D40: % | E40: =Source!CA30 -> 85 | F40: =CONCATENATE(" )", Source!DM30, Source!FU30, "=", Source!FY30) -> )*0,85=72,25 | H40: =SUM(U35:U42) -> 331.56 | J40: =Source!AU30 -> 72 | K40: =SUM(V35:V42) -> 330.42
C41: Затраты труда | D41: чел-ч | E41: =Source!AQ30 -> 50.79 | G41: =Source!DI30 -> )*0,7 | L41: =Source!U30 -> 53.3295
A42: =Source!E32 -> 1,1 | B42: =Source!F32 -> 01.7.07.07 | C42: =Source!G32 -> Строительный мусор | D42: =Source!H32 -> т | E42: =Source!I32 -> 1.5 | F42: =Source!AL32+Source!AM32+Source!AO32 -> 0 | H42: =ROUND(Source!AC32*Source!I32, 2)+ROUND(Source!AD32*Source!I32, 2)+ROUND(Source!AF32*Source!I32, 2) -> 0 | J42: =IF(Source!BC32<> 0, Source!BC32, 1) -> 1 | K42: =Source!O32 -> 0 | S42: =ROUND((Source!FX32/100)*((ROUND(Source!AF32*Source!I32, 2)+ROUND(Source!AE32*Source!I32, 2))), 2) -> 0 | T42: =Source!X32 -> 0 | U42: =ROUND((Source!FY32/100)*((ROUND(Source!AF32*Source!I32, 2)+ROUND(Source!AE32*Source!I32, 2))), 2) -> 0 | V42: =Source!Y32 -> 0 | W42: =IF(Source!BI32<=1,H42, 0) -> 0 | X42: =IF(Source!BI32=2,H42, 0) -> 0 | Y42: =IF(Source!BI32=3,H42, 0) -> 0 | Z42: =IF(Source!BI32=4,H42, 0) -> 0
G43: =H36+H37+H39+H40+SUM(H42:H42) -> 1290.27 | J43: =K36+K37+K39+K40+SUM(K42:K42) -> 1289.13 | L43: =Source!U30 -> 53.3295 | O43: =G43 -> 1290.27 | P43: =J43 -> 1289.13 | Q43: =L43 -> 53.3295 | W43: =IF(Source!BI30<=1,H36+H37+H39+H40, 0) -> 1290.27 | X43: =IF(Source!BI30=2,H36+H37+H39+H40, 0) -> 0 | Y43: =IF(Source!BI30=3,H36+H37+H39+H40, 0) -> 0 | Z43: =IF(Source!BI30=4,H36+H37+H39+H40, 0) -> 0
A44: =Source!E34 -> 2 | B44: 07-05-030-06 Поправка: МР 81/пр Табл.2, п.1 | C44: =Source!G34 -> Установка плит балконов и козырьков площадью до 5 м2 в зданиях кирпичных и блочных Прим. Деомнтаж плит над входом | D44: =Source!H34 -> 100 ШТ | E44: =Source!I34 -> 0.03 | F44: =Source!AL34+Source!AM34+Source!AO34 -> 18567.81 | I44: =Source!BO34 | S44: =ROUND((Source!FX34/100)*((ROUND(Source!AF34*Source!I34, 2)+ROUND(Source!AE34*Source!I34, 2))), 2) -> 236.44 | T44: =Source!X34 -> 237.29 | U44: =ROUND((Source!FY34/100)*((ROUND(Source!AF34*Source!I34, 2)+ROUND(Source!AE34*Source!I34, 2))), 2) -> 144.07 | V44: =Source!Y34 -> 144.07
C45: ="Объем: "&Source!I34&"=3/"&"100" -> Объем: 0,03=3/100
C46: Зарплата | F46: =Source!AO34 -> 5213.16 | G46: =Source!DG34 -> )*0,8 | H46: =ROUND(Source!AF34*Source!I34, 2) -> 125.12 | J46: =IF(Source!BA34<> 0, Source!BA34, 1) -> 1 | K46: =Source!S34 -> 125.12 | R46: =H46 -> 125.12
C47: Эксплуатация машин | F47: =Source!AM34 -> 12022.61 | G47: =Source!DE34 -> )*0,8 | H47: =ROUND(Source!AD34*Source!I34, 2) -> 288.54 | J47: =IF(Source!BB34<> 0, Source!BB34, 1) -> 1 | K47: =Source!Q34 -> 288.54
C48: в т.ч. зарплата машинистов | F48: =Source!AN34 -> 1848.64 | G48: =Source!DF34 -> )*0,8 | H48: =ROUND(Source!AE34*Source!I34, 2) -> 44.37 | J48: =IF(Source!BS34<> 0, Source!BS34, 1) -> 1 | K48: =Source!R34 -> 44.37 | R48: =H48 -> 44.37
C49: НР от ФОТ | D49: % | E49: =Source!BZ34 -> 155 | F49: =CONCATENATE(" )", Source!DL34, Source!FT34, "=", Source!FX34) -> )*0,9=139,5 | H49: =SUM(S44:S52) -> 236.44 | J49: =Source!AT34 -> 140 | K49: =SUM(T44:T52) -> 237.29
C50: СП от ФОТ | D50: % | E50: =Source!CA34 -> 100 | F50: =CONCATENATE(" )", Source!DM34, Source!FU34, "=", Source!FY34) -> )*0,85=85 | H50: =SUM(U44:U52) -> 144.07 | J50: =Source!AU34 -> 85 | K50: =SUM(V44:V52) -> 144.07
C51: Затраты труда | D51: чел-ч | E51: =Source!AQ34 -> 574.77 | G51: =Source!DI34 -> )*0,8 | L51: =Source!U34 -> 13.79448
A52: =Source!E36 -> 2,1 | B52: =Source!F36 -> 01.7.07.07 | C52: =Source!G36 -> Строительный мусор | D52: =Source!H36 -> т | E52: =Source!I36 -> 2.25 | F52: =Source!AL36+Source!AM36+Source!AO36 -> 0 | H52: =ROUND(Source!AC36*Source!I36, 2)+ROUND(Source!AD36*Source!I36, 2)+ROUND(Source!AF36*Source!I36, 2) -> 0 | J52: =IF(Source!BC36<> 0, Source!BC36, 1) -> 1 | K52: =Source!O36 -> 0 | S52: =ROUND((Source!FX36/100)*((ROUND(Source!AF36*Source!I36, 2)+ROUND(Source!AE36*Source!I36, 2))), 2) -> 0 | T52: =Source!X36 -> 0 | U52: =ROUND((Source!FY36/100)*((ROUND(Source!AF36*Source!I36, 2)+ROUND(Source!AE36*Source!I36, 2))), 2) -> 0 | V52: =Source!Y36 -> 0 | W52: =IF(Source!BI36<=1,H52, 0) -> 0 | X52: =IF(Source!BI36=2,H52, 0) -> 0 | Y52: =IF(Source!BI36=3,H52, 0) -> 0 | Z52: =IF(Source!BI36=4,H52, 0) -> 0
G53: =H46+H47+H49+H50+SUM(H52:H52) -> 794.17 | J53: =K46+K47+K49+K50+SUM(K52:K52) -> 795.02 | L53: =Source!U34 -> 13.79448 | O53: =G53 -> 794.17 | P53: =J53 -> 795.02 | Q53: =L53 -> 13.79448 | W53: =IF(Source!BI34<=1,H46+H47+H49+H50, 0) -> 794.17 | X53: =IF(Source!BI34=2,H46+H47+H49+H50, 0) -> 0 | Y53: =IF(Source!BI34=3,H46+H47+H49+H50, 0) -> 0 | Z53: =IF(Source!BI34=4,H46+H47+H49+H50, 0) -> 0
A54: =Source!E38 -> 3 | B54: 69-19-26 Поправка: МР 81/пр Прил.2, Табл.3, п. 3 | C54: =Source!G38 -> Разборка вертикальных поверхностей железобетонных конструкций при помощи отбойных молотков, бетон марки 300 прим. Железобетонная тротуарная лестница | D54: =Source!H38 -> м3 | E54: =Source!I38 -> 5.2 | F54: =Source!AL38+Source!AM38+Source!AO38 -> 1314.86 | I54: =Source!BO38 | S54: =ROUND((Source!FX38/100)*((ROUND(Source!AF38*Source!I38, 2)+ROUND(Source!AE38*Source!I38, 2))), 2) -> 2074.12 | T54: =Source!X38 -> 2074.12 | U54: =ROUND((Source!FY38/100)*((ROUND(Source!AF38*Source!I38, 2)+ROUND(Source!AE38*Source!I38, 2))), 2) -> 1329.57 | V54: =Source!Y38 -> 1329.57
...

Sheet Source
A1: 0 | B1: Smeta.RU (495) 974-1589 | D1: _PS_ | F1: 0 | G1: 0 | H1: 0 | I1: Smeta.RU | K1: 1 | L1: 61305 | M1: 11 | N1: 10 | O1: 1 | P1: 0 | Q1: 10
A12: 1 | B12: 968 | C12: 0 | D12: =ROW(A902) -> 902 | E12: 0 | I12: 0 | K12: 0 | O12: 0 | P12: 0 | Q12: 0 | R12: 0 | S12: 0 | V12: 5 | BH12: Сметные нормы списания | BI12: Коды ценников | BJ12: 1 | BK12: 1 | BL12: 0 | BM12: 0 | BN12: 1 | BO12: 0 | BP12: 6 | BQ12: 2 | BR12: 1 | BS12: 1 | BT12: 0 | BU12: 0 | BV12: 0 | BW12: 0 | BX12: 0 | BY12: ФЕР-2017 Кап.ремонт | BZ12: ТР для Версии 10: Центральные регионы (с уч. п-ма 2536-ИП/12/ГС от 27.11.12, 01/57049-ЮЛ от 27.04.2018) от 30.08.2018 г | CA12: ФЕР-2017 | CB12: ФЕР-2017 | CC12: ФЕР-2017 | CD12: ФЕР-2017 | CE12: Поправки для ГСН 2017 от 10.01.2019 г | CF12: 0 | CG12: 0 | CH12: 524296 | CK12: 4 | EC12: 0
A15: 15 | B15: 1
A18: 52 | B18: =B902 -> 968 | C18: =C902 -> 1 | D18: =D902 -> 12 | E18: =E902 -> 0 | F18: =F902 | G18: =G902 | O18: =O902 -> 5503599.3 | P18: =P902 -> 5306624.2 | Q18: =Q902 -> 137668.15 | R18: =R902 -> 12896.59 | S18: =S902 -> 59306.86 | T18: =T902 -> 0 | U18: =U902 -> 7090.9035 | V18: =V902 -> 1043.389 | ... GX18: =GX902 -> 0
A20: 3 | B20: 1 | D20: =ROW(A870) -> 870 | F20: Новая локальная смета | G20: Локальная смета №1 | I20: 0 | K20: -1 | V20: 5 | BX20: 0 | CF20: 0 | CG20: 0
A22: 52 | B22: =B870 -> 1 | C22: =C870 -> 3 | D22: =D870 -> 20 | E22: =E870 -> 0 | F22: =F870 -> Новая локальная смета | G22: =G870 -> Локальная смета №1 | O22: =O870 -> 5503599.3 | P22: =P870 -> 5306624.2 | Q22: =Q870 -> 137668.15 | R22: =R870 -> 12896.59 | S22: =S870 -> 59306.86 | T22: =T870 -> 0 | U22: =U870 -> 7090.9035 | V22: =V870 -> 1043.389 | ... GX22: =GX870 -> 0
A24: 4 | B24: 1 | D24: =ROW(A85) -> 85 | F24: Новый раздел | G24: Демонтаж | I24: 0 | K24: 0 | V24: 0 | BX24: 0 | CJ24: 0
A26: 52 | B26: =B85 -> 1 | C26: =C85 -> 4 | D26: =D85 -> 24 | E26: =E85 -> 0 | F26: =F85 -> Новый раздел | G26: =G85 -> Демонтаж | O26: =O85 -> 51225.16 | P26: =P85 -> 236.16 | Q26: =Q85 -> 34641.88 | R26: =R85 -> 3083.79 | S26: =S85 -> 16347.12 | T26: =T85 -> 0 | U26: =U85 -> 1952.7902 | V26: =V85 -> 280.3274 | ... GX26: =GX85 -> 0
A28: 19 | B28: 1 | G28: Конструкции и элементы | AA28: 1 | IK28: 0
A29: 17 | B29: 1 | C29: =ROW(SmtRes!A19) -> 19 | D29: =ROW(EtalonRes!A19) -> 19 | E29: 1 | F29: 09-06-001-02 | G29: Монтаж лотков, решеток, затворов из полосовой и тонколистовой стали Прим. Деомнтаж ограждений, ворот распашных | H29: т | I29: 1.5 | J29: 0 | O29: =ROUND(CP29,2) -> 586.99 | P29: =ROUND(CQ29*I29,2) -> 0 | Q29: =ROUND(CR29*I29,2) -> 132.09 | R29: =ROUND(CS29*I29,2) -> 4.01 | S29: =ROUND(CT29*I29,2) -> 454.9 | T29: =ROUND(CU29*I29,2) -> 0 | U29: =CV29*I29 -> 53.3295 | V29: =CW29*I29 -> 0.3255 | W29: =ROUND(CX29*I29,2) -> 0 | X29: =ROUND(CY29,2) -> 371.72 | Y29: =ROUND(CZ29,2) -> 330.42 | AA29: 47636896 | AB29: =ROUND((AC29+AD29+AF29),6) -> 391.328 | AC29: =ROUND(((ES29*0)),6) -> 0 | AD29: =ROUND(((((ET29*0.7))-((EU29*0.7)))+AE29),6) -> 88.06 | AE29: =ROUND(((EU29*0.7)),6) -> 2.674 | AF29: =ROUND(((EV29*0.7)),6) -> 303.268 | AG29: =ROUND((AP29),6) -> 0 | AH29: =((EW29*0.7)) -> 35.553 | AI29: =((EX29*0.7)) -> 0.217 | AJ29: =(AS29) -> 0 | AK29: 641 | AL29: 81.96 | AM29: 125.8 | AN29: 3.82 | AO29: 433.24 | AP29: 0 | AQ29: 50.79 | AR29: 0.31 | AS29: 0 | AT29: 81 | AU29: 72 | AV29: 1 | AW29: 1 | AZ29: 1 | BA29: 1 | BB29: 1 | BC29: 1 | BH29: 0 | BI29: 1 | BJ29: ФЕР-2001, 09-06-001-02, приказ Минстроя России №1039/пр от 30.12.2016г. | BM29: 9001 | BN29: 0 | BP29: 0 | BQ29: 2 | BR29: 0 | BS29: 1 | BT29: 1 | BU29: 1 | BV29: 1 | BW29: 1 | BX29: 1 | BZ29: 90 | CA29: 85 | CE29: 0 | CF29: 0 | CG29: 0 | CM29: 0 | CN29: Поправка: МР 81/пр Табл.2, п.4 Наименование: При демонтаже (разборке) металлических конструкций | CO29: 0 | CP29: =(P29+Q29+S29) -> 586.99 | CQ29: =AC29*BC29 -> 0 | CR29: =AD29*BB29 -> 88.06 | CS29: =AE29*BS29 -> 2.674 | CT29: =AF29*BA29 -> 303.268 | CU29: =AG29 -> 0 | CV29: =AH29 -> 35.553 | CW29: =AI29 -> 0.217 | CX29: =AJ29 -> 0 | CY29: =(((S29+R29)*AT29)/100) -> 371.7171 | CZ29: =(((S29+R29)*AU29)/100) -> 330.4152 | DD29: )*0 | DE29: )*0,7 | DF29: )*0,7 | DG29: )*0,7 | DI29: )*0,7 | DJ29: )*0,7 | DN29: 0 | DO29: 0 | DP29: 1 | DQ29: 1 | DU29: 1009 | DV29: т | DW29: т | DX29: 1000 | EE29: 45919569 | EF29: 2 | EG29: Общестроительные работы | EH29: 0 | EJ29: 1 | EK29: 9001 | EL29: Металлические конструкции | EM29: ФЕР-09 | EO29: Поправка: МР 81/пр Табл.2, п.4 | EQ29: 0 | ER29: 641 | ES29: 81.96 | ET29: 125.8 | EU29: 3.82 | EV29: 433.24 | EW29: 50.79 | EX29: 0.31 | EY29: 0 | FQ29: 0 | FR29: =ROUND(IF(AND(BH29=3,BI29=3),P29,0),2) -> 0 | FS29: 0 | FT29: *0,9 | FU29: *0,85 | FX29: 81 | FY29: 72.25 | GD29: 1 | GF29: -781268344 | GG29: 2 | GH29: 1 | GI29: -2 | GJ29: 0 | GK29: 0 | GL29: =ROUND(IF(AND(BH29=3,BI29=3,FS29<>0),P29,0),2) -> 0 | GM29: =ROUND(O29+X29+Y29,2)+GX29 -> 1289.13 | GN29: =IF(OR(BI29=0,BI29=1),ROUND(O29+X29+Y29,2),0) -> 1289.13 | GO29: =IF(BI29=2,ROUND(O29+X29+Y29,2),0) -> 0 | GP29: =IF(BI29=4,ROUND(O29+X29+Y29,2)+GX29,0) -> 0 | GR29: 0 | GS29: 3 | GT29: 0 | GV29: =ROUND((GT29),6) -> 0 | GW29: 1 | GX29: =ROUND(HC29*I29,2) -> 0 | HA29: 0 | HB29: 0 | HC29: =GV29*GW29 -> 0 | IK29: 0
A30: 17 | B30: 1 | C30: =ROW(SmtRes!A38) -> 38 | D30: =ROW(EtalonRes!A38) -> 38 | E30: 1 | F30: 09-06-001-02 | G30: Монтаж лотков, решеток, затворов из полосовой и тонколистовой стали Прим. Деомнтаж ограждений, ворот распашных | H30: т | I30: 1.5 | J30: 0 | O30: =ROUND(CP30,2) -> 586.99 | P30: =ROUND(CQ30*I30,2) -> 0 | Q30: =ROUND(CR30*I30,2) -> 132.09 | R30: =ROUND(CS30*I30,2) -> 4.01 | S30: =ROUND(CT30*I30,2) -> 454.9 | T30: =ROUND(CU30*I30,2) -> 0 | U30: =CV30*I30 -> 53.3295 | V30: =CW30*I30 -> 0.3255 | W30: =ROUND(CX30*I30,2) -> 0 | X30: =ROUND(CY30,2) -> 371.72 | Y30: =ROUND(CZ30,2) -> 330.42 | AA30: 47641669 | AB30: =ROUND((AC30+AD30+AF30),6) -> 391.328 | AC30: =ROUND(((ES30*0)),6) -> 0 | AD30: =ROUND(((((ET30*0.7))-((EU30*0.7)))+AE30),6) -> 88.06 | AE30: =ROUND(((EU30*0.7)),6) -> 2.674 | AF30: =ROUND(((EV30*0.7)),6) -> 303.268 | AG30: =ROUND((AP30),6) -> 0 | AH30: =((EW30*0.7)) -> 35.553 | AI30: =((EX30*0.7)) -> 0.217 | AJ30: =(AS30) -> 0 | AK30: 641 | AL30: 81.96 | AM30: 125.8 | AN30: 3.82 | AO30: 433.24 | AP30: 0 | AQ30: 50.79 | AR30: 0.31 | AS30: 0 | AT30: 81 | AU30: 72 | AV30: 1 | AW30: 1 | AZ30: 1 | BA30: 1 | BB30: 1 | BC30: 1 | BH30: 0 | BI30: 1 | BJ30: ФЕР-2001, 09-06-001-02, приказ Минстроя России №1039/пр от 30.12.2016г. | BM30: 9001 | BN30: 0 | BP30: 0 | BQ30: 2 | BR30: 0 | BS30: 1 | BT30: 1 | BU30: 1 | BV30: 1 | BW30: 1 | BX30: 1 | BZ30: 90 | CA30: 85 | CE30: 0 | CF30: 0 | CG30: 0 | CM30: 0 | CN30: Поправка: МР 81/пр Табл.2, п.4 Наименование: При демонтаже (разборке) металлических конструкций | CO30: 0 | CP30: =(P30+Q30+S30) -> 586.99 | CQ30: =AC30*BC30 -> 0 | CR30: =AD30*BB30 -> 88.06 | CS30: =AE30*BS30 -> 2.674 | CT30: =AF30*BA30 -> 303.268 | CU30: =AG30 -> 0 | CV30: =AH30 -> 35.553 | CW30: =AI30 -> 0.217 | CX30: =AJ30 -> 0 | CY30: =(((S30+R30)*AT30)/100) -> 371.7171 | CZ30: =(((S30+R30)*AU30)/100) -> 330.4152 | DD30: )*0 | DE30: )*0,7 | DF30: )*0,7 | DG30: )*0,7 | DI30: )*0,7 | DJ30: )*0,7 | DN30: 0 | DO30: 0 | DP30: 1 | DQ30: 1 | DU30: 1009 | DV30: т | DW30: т | DX30: 1000 | EE30: 45919569 | EF30: 2 | EG30: Общестроительные работы | EH30: 0 | EJ30: 1 | EK30: 9001 | EL30: Металлические конструкции | EM30: ФЕР-09 | EO30: Поправка: МР 81/пр Табл.2, п.4 | EQ30: 0 | ER30: 641 | ES30: 81.96 | ET30: 125.8 | EU30: 3.82 | EV30: 433.24 | EW30: 50.79 | EX30: 0.31 | EY30: 0 | FQ30: 0 | FR30: =ROUND(IF(AND(BH30=3,BI30=3),P30,0),2) -> 0 | FS30: 0 | FT30: *0,9 | FU30: *0,85 | FX30: 81 | FY30: 72.25 | GD30: 1 | GF30: -781268344 | GG30: 2 | GH30: 1 | GI30: -2 | GJ30: 0 | GK30: 0 | GL30: =ROUND(IF(AND(BH30=3,BI30=3,FS30<>0),P30,0),2) -> 0 | GM30: =ROUND(O30+X30+Y30,2)+GX30 -> 1289.13 | GN30: =IF(OR(BI30=0,BI30=1),ROUND(O30+X30+Y30,2),0) -> 1289.13 | GO30: =IF(BI30=2,ROUND(O30+X30+Y30,2),0) -> 0 | GP30: =IF(BI30=4,ROUND(O30+X30+Y30,2)+GX30,0) -> 0 | GR30: 0 | GS30: 0 | GT30: 0 | GV30: =ROUND((GT30),6) -> 0 | GW30: 1 | GX30: =ROUND(HC30*I30,2) -> 0 | HA30: 0 | HB30: 0 | HC30: =GV30*GW30 -> 0 | IK30: 0
A31: 18 | B31: 1 | C31: 10 | E31: 1,1 | F31: 01.7.07.07 | G31: Строительный мусор | H31: т | I31: =I29*J31 -> 1.5 | J31: 1 | O31: =ROUND(CP31,2) -> 0 | P31: =ROUND(CQ31*I31,2) -> 0 | Q31: =ROUND(CR31*I31,2) -> 0 | R31: =ROUND(CS31*I31,2) -> 0 | S31: =ROUND(CT31*I31,2) -> 0 | T31: =ROUND(CU31*I31,2) -> 0 | U31: =CV31*I31 -> 0 | V31: =CW31*I31 -> 0 | W31: =ROUND(CX31*I31,2) -> 0 | X31: =ROUND(CY31,2) -> 0 | Y31: =ROUND(CZ31,2) -> 0 | AA31: 47636896 | AB31: =ROUND((AC31+AD31+AF31),6) -> 0 | AC31: =ROUND((ES31),6) -> 0 | AD31: =ROUND((((ET31)-(EU31))+AE31),6) -> 0 | AE31: =ROUND((EU31),6) -> 0 | AF31: =ROUND((EV31),6) -> 0 | AG31: =ROUND((AP31),6) -> 0 | AH31: =(EW31) -> 0 | AI31: =(EX31) -> 0 | AJ31: =(AS31) -> 0 | AK31: 0 | AL31: 0 | AM31: 0 | AN31: 0 | AO31: 0 | AP31: 0 | AQ31: 0 | AR31: 0 | AS31: 0 | AT31: 104 | AU31: 60 | AV31: 1 | AW31: 1 | AZ31: 1 | BA31: 1 | BB31: 1 | BC31: 1 | BH31: 3 | BI31: 1 | BM31: 68001 | BN31: 0 | BP31: 0 | BQ31: 6 | BR31: 0 | BS31: 1 | BT31: 1 | BU31: 1 | BV31: 1 | BW31: 1 | BX31: 1 | BZ31: 104 | CA31: 60 | CE31: 0 | CF31: 0 | CG31: 0 | CM31: 0 | CO31: 0 | CP31: =(P31+Q31+S31) -> 0 | CQ31: =AC31*BC31 -> 0 | CR31: =AD31*BB31 -> 0 | CS31: =AE31*BS31 -> 0 | CT31: =AF31*BA31 -> 0 | CU31: =AG31 -> 0 | CV31: =AH31 -> 0 | CW31: =AI31 -> 0 | CX31: =AJ31 -> 0 | CY31: =(((S31+R31)*AT31)/100) -> 0 | CZ31: =(((S31+R31)*AU31)/100) -> 0 | DN31: 0 | DO31: 0 | DP31: 1 | DQ31: 1 | DU31: 1009 | DV31: т | DW31: т | DX31: 1000 | EE31: 45919696 | EF31: 6 | EG31: Ремонтно-строительные работы | EH31: 0 | EJ31: 1 | EK31: 68001 | EL31: Благоустройство | EM31: рФЕР-68 | EQ31: 0 | ER31: 0 | ES31: 0 | ET31: 0 | EU31: 0 | EV31: 0 | EW31: 0 | EX31: 0 | FQ31: 0 | FR31: =ROUND(IF(AND(BH31=3,BI31=3),P31,0),2) -> 0 | FS31: 0 | FX31: 104 | FY31: 60 | GD31: 1 | GF31: -179832266 | GG31: 2 | GH31: 1 | GI31: -2 | GJ31: 0 | GK31: 0 | GL31: =ROUND(IF(AND(BH31=3,BI31=3,FS31<>0),P31,0),2) -> 0 | GM31: =ROUND(O31+X31+Y31,2)+GX31 -> 0 | GN31: =IF(OR(BI31=0,BI31=1),ROUND(O31+X31+Y31,2),0) -> 0 | GO31: =IF(BI31=2,ROUND(O31+X31+Y31,2),0) -> 0 | GP31: =IF(BI31=4,ROUND(O31+X31+Y31,2)+GX31,0) -> 0 | GR31: 0 | GS31: 3 | GT31: 0 | GV31: =ROUND((GT31),6) -> 0 | GW31: 1 | GX31: =ROUND(HC31*I31,2) -> 0 | HA31: 0 | HB31: 0 | HC31: =GV31*GW31 -> 0 | IK31: 0
A32: 18 | B32: 1 | C32: 29 | E32: 1,1 | F32: 01.7.07.07 | G32: Строительный мусор | H32: т | I32: =I30*J32 -> 1.5 | J32: 1 | O32: =ROUND(CP32,2) -> 0 | P32: =ROUND(CQ32*I32,2) -> 0 | Q32: =ROUND(CR32*I32,2) -> 0 | R32: =ROUND(CS32*I32,2) -> 0 | S32: =ROUND(CT32*I32,2) -> 0 | T32: =ROUND(CU32*I32,2) -> 0 | U32: =CV32*I32 -> 0 | V32: =CW32*I32 -> 0 | W32: =ROUND(CX32*I32,2) -> 0 | X32: =ROUND(CY32,2) -> 0 | Y32: =ROUND(CZ32,2) -> 0 | AA32: 47641669 | AB32: =ROUND((AC32+AD32+AF32),6) -> 0 | AC32: =ROUND((ES32),6) -> 0 | AD32: =ROUND((((ET32)-(EU32))+AE32),6) -> 0 | AE32: =ROUND((EU32),6) -> 0 | AF32: =ROUND((EV32),6) -> 0 | AG32: =ROUND((AP32),6) -> 0 | AH32: =(EW32) -> 0 | AI32: =(EX32) -> 0 | AJ32: =(AS32) -> 0 | AK32: 0 | AL32: 0 | AM32: 0 | AN32: 0 | AO32: 0 | AP32: 0 | AQ32: 0 | AR32: 0 | AS32: 0 | AT32: 90 | AU32: 85 | AV32: 1 | AW32: 1 | AZ32: 1 | BA32: 1 | BB32: 1 | BC32: 1 | BH32: 3 | BI32: 1 | BM32: 68001 | BN32: 0 | BP32: 0 | BQ32: 6 | BR32: 0 | BS32: 1 | BT32: 1 | BU32: 1 | BV32: 1 | BW32: 1 | BX32: 1 | BZ32: 90 | CA32: 85 | CE32: 0 | CF32: 0 | CG32: 0 | CM32: 0 | CO32: 0 | CP32: =(P32+Q32+S32) -> 0 | CQ32: =AC32*BC32 -> 0 | CR32: =AD32*BB32 -> 0 | CS32: =AE32*BS32 -> 0 | CT32: =AF32*BA32 -> 0 | CU32: =AG32 -> 0 | CV32: =AH32 -> 0 | CW32: =AI32 -> 0 | CX32: =AJ32 -> 0 | CY32: =(((S32+R32)*AT32)/100) -> 0 | CZ32: =(((S32+R32)*AU32)/100) -> 0 | DN32: 0 | DO32: 0 | DP32: 1 | DQ32: 1 | DU32: 1009 | DV32: т | DW32: т | DX32: 1000 | EE32: 45919696 | EF32: 6 | EG32: Ремонтно-строительные работы | EH32: 0 | EJ32: 1 | EK32: 68001 | EL32: Благоустройство | EM32: рФЕР-68 | EQ32: 0 | ER32: 0 | ES32: 0 | ET32: 0 | EU32: 0 | EV32: 0 | EW32: 0 | EX32: 0 | FQ32: 0 | FR32: =ROUND(IF(AND(BH32=3,BI32=3),P32,0),2) -> 0 | FS32: 0 | FX32: 90 | FY32: 85 | GD32: 1 | GF32: -179832266 | GG32: 2 | GH32: 1 | GI32: -2 | GJ32: 0 | GK32: 0 | GL32: =ROUND(IF(AND(BH32=3,BI32=3,FS32<>0),P32,0),2) -> 0 | GM32: =ROUND(O32+X32+Y32,2)+GX32 -> 0 | GN32: =IF(OR(BI32=0,BI32=1),ROUND(O32+X32+Y32,2),0) -> 0 | GO32: =IF(BI32=2,ROUND(O32+X32+Y32,2),0) -> 0 | GP32: =IF(BI32=4,ROUND(O32+X32+Y32,2)+GX32,0) -> 0 | GR32: 0 | GS32: 0 | GT32: 0 | GV32: =ROUND((GT32),6) -> 0 | GW32: 1 | GX32: =ROUND(HC32*I32,2) -> 0 | HA32: 0 | HB32: 0 | HC32: =GV32*GW32 -> 0 | IK32: 0
A33: 17 | B33: 1 | C33: =ROW(SmtRes!A46) -> 46 | D33: =ROW(EtalonRes!A46) -> 46 | E33: 2 | F33: 07-05-030-06 | G33: Установка плит балконов и козырьков площадью до 5 м2 в зданиях кирпичных и блочных Прим. Деомнтаж плит над входом | H33: 100 ШТ | I33: =ROUND(3/100,9) -> 0.03 | J33: 0 | O33: =ROUND(CP33,2) -> 413.66 | P33: =ROUND(CQ33*I33,2) -> 0 | Q33: =ROUND(CR33*I33,2) -> 288.54 | R33: =ROUND(CS33*I33,2) -> 44.37 | S33: =ROUND(CT33*I33,2) -> 125.12 | T33: =ROUND(CU33*I33,2) -> 0 | U33: =CV33*I33 -> 13.79448 | V33: =CW33*I33 -> 3.28704 | W33: =ROUND(CX33*I33,2) -> 0 | X33: =ROUND(CY33,2) -> 237.29 | Y33: =ROUND(CZ33,2) -> 144.07 | AA33: 47636896 | AB33: =ROUND((AC33+AD33+AF33),6) -> 13788.616 | AC33: =ROUND(((ES33*0)),6) -> 0 | AD33: =ROUND(((((ET33*0.8))-((EU33*0.8)))+AE33),6) -> 9618.088 | AE33: =ROUND(((EU33*0.8)),6) -> 1478.912 | AF33: =ROUND(((EV33*0.8)),6) -> 4170.528 | AG33: =ROUND((AP33),6) -> 0 | AH33: =((EW33*0.8)) -> 459.816 | AI33: =((EX33*0.8)) -> 109.568 | AJ33: =(AS33) -> 0 | AK33: 18567.81 | AL33: 1332.04 | AM33: 12022.61 | AN33: 1848.64 | AO33: 5213.16 | AP33: 0 | AQ33: 574.77 | AR33: 136.96 | AS33: 0 | AT33: 140 | AU33: 85 | AV33: 1 | AW33: 1 | AZ33: 1 | BA33: 1 | BB33: 1 | BC33: 1 | BH33: 0 | BI33: 1 | BJ33: ФЕР-2001, 07-05-030-06, приказ Минстроя России №1039/пр от 30.12.2016г. | BM33: 7005 | BN33: 0 | BP33: 0 | BQ33: 2 | BR33: 0 | BS33: 1 | BT33: 1 | BU33: 1 | BV33: 1 | BW33: 1 | BX33: 1 | BZ33: 155 | CA33: 100 | CE33: 0 | CF33: 0 | CG33: 0 | CM33: 0 | CN33: Поправка: МР 81/пр Табл.2, п.1 Наименование: При демонтаже (разборке) сборных бетонных и железобетонных конструкций | CO33: 0 | CP33: =(P33+Q33+S33) -> 413.66 | CQ33: =AC33*BC33 -> 0 | CR33: =AD33*BB33 -> 9618.088 | CS33: =AE33*BS33 -> 1478.912 | CT33: =AF33*BA33 -> 4170.528 | CU33: =AG33 -> 0 | CV33: =AH33 -> 459.816 | CW33: =AI33 -> 109.568 | CX33: =AJ33 -> 0 | CY33: =(((S33+R33)*AT33)/100) -> 237.286 | CZ33: =(((S33+R33)*AU33)/100) -> 144.0665 | DD33: )*0 | DE33: )*0,8 | DF33: )*0,8 | DG33: )*0,8 | DI33: )*0,8 | DJ33: )*0,8 | DN33: 0 | DO33: 0 | DP33: 1 | DQ33: 1 | DU33: 1013 | DV33: 100 ШТ | DW33: 100 ШТ | DX33: 1 | EE33: 45919522 | EF33: 2 | EG33: Общестроительные работы | EH33: 0 | EJ33: 1 | EK33: 7005 | EL33: Сборные бетонные констр. в жил. стр/ (крупно-пан. д_стр. (для СП=108% - {КПД}=1; обыч. д_стр. СП=90% - {КПД}=0) | EM33: ФЕР-07 | EO33: Поправка: МР 81/пр Табл.2, п.1 | EQ33: 0 | ER33: 18567.81 | ES33: 1332.04 | ET33: 12022.61 | EU33: 1848.64 | EV33: 5213.16 | EW33: 574.77 | EX33: 136.96 | EY33: 0 | FQ33: 0 | FR33: =ROUND(IF(AND(BH33=3,BI33=3),P33,0),2) -> 0 | FS33: 0 | FT33: *0,9 | FU33: *0,85 | FX33: 139.5 | FY33: 85 | GD33: 1 | GF33: -1456885258 | GG33: 2 | GH33: 1 | GI33: -2 | GJ33: 0 | GK33: 0 | GL33: =ROUND(IF(AND(BH33=3,BI33=3,FS33<>0),P33,0),2) -> 0 | GM33: =ROUND(O33+X33+Y33,2)+GX33 -> 795.02 | GN33: =IF(OR(BI33=0,BI33=1),ROUND(O33+X33+Y33,2),0) -> 795.02 | GO33: =IF(BI33=2,ROUND(O33+X33+Y33,2),0) -> 0 | GP33: =IF(BI33=4,ROUND(O33+X33+Y33,2)+GX33,0) -> 0 | GR33: 0 | GS33: 3 | GT33: 0 | GV33: =ROUND((GT33),6) -> 0 | GW33: 1 | GX33: =ROUND(HC33*I33,2) -> 0 | HA33: 0 | HB33: 0 | HC33: =GV33*GW33 -> 0 | IK33: 0
A34: 17 | B34: 1 | C34: =ROW(SmtRes!A54) -> 54 | D34: =ROW(EtalonRes!A54) -> 54 | E34: 2 | F34: 07-05-030-06 | G34: Установка плит балконов и козырьков площадью до 5 м2 в зданиях кирпичных и блочных Прим. Деомнтаж плит над входом | H34: 100 ШТ | I34: =ROUND(3/100,9) -> 0.03 | J34: 0 | O34: =ROUND(CP34,2) -> 413.66 | P34: =ROUND(CQ34*I34,2) -> 0 | Q34: =ROUND(CR34*I34,2) -> 288.54 | R34: =ROUND(CS34*I34,2) -> 44.37 | S34: =ROUND(CT34*I34,2) -> 125.12 | T34: =ROUND(CU34*I34,2) -> 0 | U34: =CV34*I34 -> 13.79448 | V34: =CW34*I34 -> 3.28704 | W34: =ROUND(CX34*I34,2) -> 0 | X34: =ROUND(CY34,2) -> 237.29 | Y34: =ROUND(CZ34,2) -> 144.07 | AA34: 47641669 | AB34: =ROUND((AC34+AD34+AF34),6) -> 13788.616 | AC34: =ROUND(((ES34*0)),6) -> 0 | AD34: =ROUND(((((ET34*0.8))-((EU34*0.8)))+AE34),6) -> 9618.088 | AE34: =ROUND(((EU34*0.8)),6) -> 1478.912 | AF34: =ROUND(((EV34*0.8)),6) -> 4170.528 | AG34: =ROUND((AP34),6) -> 0 | AH34: =((EW34*0.8)) -> 459.816 | AI34: =((EX34*0.8)) -> 109.568 | AJ34: =(AS34) -> 0 | AK34: 18567.81 | AL34: 1332.04 | AM34: 12022.61 | AN34: 1848.64 | AO34: 5213.16 | AP34: 0 | AQ34: 574.77 | AR34: 136.96 | AS34: 0 | AT34: 140 | AU34: 85 | AV34: 1 | AW34: 1 | AZ34: 1 | BA34: 1 | BB34: 1 | BC34: 1 | BH34: 0 | BI34: 1 | BJ34: ФЕР-2001, 07-05-030-06, приказ Минстроя России №1039/пр от 30.12.2016г. | BM34: 7005 | BN34: 0 | BP34: 0 | BQ34: 2 | BR34: 0 | BS34: 1 | BT34: 1 | BU34: 1 | BV34: 1 | BW34: 1 | BX34: 1 | BZ34: 155 | CA34: 100 | CE34: 0 | CF34: 0 | CG34: 0 | CM34: 0 | CN34: Поправка: МР 81/пр Табл.2, п.1 Наименование: При демонтаже (разборке) сборных бетонных и железобетонных конструкций | CO34: 0 | CP34: =(P34+Q34+S34) -> 413.66 | CQ34: =AC34*BC34 -> 0 | CR34: =AD34*BB34 -> 9618.088 | CS34: =AE34*BS34 -> 1478.912 | CT34: =AF34*BA34 -> 4170.528 | CU34: =AG34 -> 0 | CV34: =AH34 -> 459.816 | CW34: =AI34 -> 109.568 | CX34: =AJ34 -> 0 | CY34: =(((S34+R34)*AT34)/100) -> 237.286 | CZ34: =(((S34+R34)*AU34)/100) -> 144.0665 | DD34: )*0 | DE34: )*0,8 | DF34: )*0,8 | DG34: )*0,8 | DI34: )*0,8 | DJ34: )*0,8 | DN34: 0 | DO34: 0 | DP34: 1 | DQ34: 1 | DU34: 1013 | DV34: 100 ШТ | DW34: 100 ШТ | DX34: 1 | EE34: 45919522 | EF34: 2 | EG34: Общестроительные работы | EH34: 0 | EJ34: 1 | EK34: 7005 | EL34: Сборные бетонные констр. в жил. стр/ (крупно-пан. д_стр. (для СП=108% - {КПД}=1; обыч. д_стр. СП=90% - {КПД}=0) | EM34: ФЕР-07 | EO34: Поправка: МР 81/пр Табл.2, п.1 | EQ34: 0 | ER34: 18567.81 | ES34: 1332.04 | ET34: 12022.61 | EU34: 1848.64 | EV34: 5213.16 | EW34: 574.77 | EX34: 136.96 | EY34: 0 | FQ34: 0 | FR34: =ROUND(IF(AND(BH34=3,BI34=3),P34,0),2) -> 0 | FS34: 0 | FT34: *0,9 | FU34: *0,85 | FX34: 139.5 | FY34: 85 | GD34: 1 | GF34: -1456885258 | GG34: 2 | GH34: 1 | GI34: -2 | GJ34: 0 | GK34: 0 | GL34: =ROUND(IF(AND(BH34=3,BI34=3,FS34<>0),P34,0),2) -> 0 | GM34: =ROUND(O34+X34+Y34,2)+GX34 -> 795.02 | GN34: =IF(OR(BI34=0,BI34=1),ROUND(O34+X34+Y34,2),0) -> 795.02 | GO34: =IF(BI34=2,ROUND(O34+X34+Y34,2),0) -> 0 | GP34: =IF(BI34=4,ROUND(O34+X34+Y34,2)+GX34,0) -> 0 | GR34: 0 | GS34: 0 | GT34: 0 | GV34: =ROUND((GT34),6) -> 0 | GW34: 1 | GX34: =ROUND(HC34*I34,2) -> 0 | HA34: 0 | HB34: 0 | HC34: =GV34*GW34 -> 0 | IK34: 0
A35: 18 | B35: 1 | C35: 44 | E35: 2,1 | F35: 01.7.07.07 | G35: Строительный мусор | H35: т | I35: =I33*J35 -> 2.25 | J35: 75 | O35: =ROUND(CP35,2) -> 0 | P35: =ROUND(CQ35*I35,2) -> 0 | Q35: =ROUND(CR35*I35,2) -> 0 | R35: =ROUND(CS35*I35,2) -> 0 | S35: =ROUND(CT35*I35,2) -> 0 | T35: =ROUND(CU35*I35,2) -> 0 | U35: =CV35*I35 -> 0 | V35: =CW35*I35 -> 0 | W35: =ROUND(CX35*I35,2) -> 0 | X35: =ROUND(CY35,2) -> 0 | Y35: =ROUND(CZ35,2) -> 0 | AA35: 47636896 | AB35: =ROUND((AC35+AD35+AF35),6) -> 0 | AC35: =ROUND((ES35),6) -> 0 | AD35: =ROUND((((ET35)-(EU35))+AE35),6) -> 0 | AE35: =ROUND((EU35),6) -> 0 | AF35: =ROUND((EV35),6) -> 0 | AG35: =ROUND((AP35),6) -> 0 | AH35: =(EW35) -> 0 | AI35: =(EX35) -> 0 | AJ35: =(AS35) -> 0 | AK35: 0 | AL35: 0 | AM35: 0 | AN35: 0 | AO35: 0 | AP35: 0 | AQ35: 0 | AR35: 0 | AS35: 0 | AT35: 104 | AU35: 60 | AV35: 1 | AW35: 1 | AZ35: 1 | BA35: 1 | BB35: 1 | BC35: 1 | BH35: 3 | BI35: 1 | BM35: 68001 | BN35: 0 | BP35: 0 | BQ35: 6 | BR35: 0 | BS35: 1 | BT35: 1 | BU35: 1 | BV35: 1 | BW35: 1 | BX35: 1 | BZ35: 104 | CA35: 60 | CE35: 0 | CF35: 0 | CG35: 0 | CM35: 0 | CO35: 0 | CP35: =(P35+Q35+S35) -> 0 | CQ35: =AC35*BC35 -> 0 | CR35: =AD35*BB35 -> 0 | CS35: =AE35*BS35 -> 0 | CT35: =AF35*BA35 -> 0 | CU35: =AG35 -> 0 | CV35: =AH35 -> 0 | CW35: =AI35 -> 0 | CX35: =AJ35 -> 0 | CY35: =(((S35+R35)*AT35)/100) -> 0 | CZ35: =(((S35+R35)*AU35)/100) -> 0 | DN35: 0 | DO35: 0 | DP35: 1 | DQ35: 1 | DU35: 1009 | DV35: т | DW35: т | DX35: 1000 | EE35: 45919696 | EF35: 6 | EG35: Ремонтно-строительные работы | EH35: 0 | EJ35: 1 | EK35: 68001 | EL35: Благоустройство | EM35: рФЕР-68 | EQ35: 0 | ER35: 0 | ES35: 0 | ET35: 0 | EU35: 0 | EV35: 0 | EW35: 0 | EX35: 0 | FQ35: 0 | FR35: =ROUND(IF(AND(BH35=3,BI35=3),P35,0),2) -> 0 | FS35: 0 | FX35: 104 | FY35: 60 | GD35: 1 | GF35: -179832266 | GG35: 2 | GH35: 1 | GI35: -2 | GJ35: 0 | GK35: 0 | GL35: =ROUND(IF(AND(BH35=3,BI35=3,FS35<>0),P35,0),2) -> 0 | GM35: =ROUND(O35+X35+Y35,2)+GX35 -> 0 | GN35: =IF(OR(BI35=0,BI35=1),ROUND(O35+X35+Y35,2),0) -> 0 | GO35: =IF(BI35=2,ROUND(O35+X35+Y35,2),0) -> 0 | GP35: =IF(BI35=4,ROUND(O35+X35+Y35,2)+GX35,0) -> 0 | GR35: 0 | GS35: 3 | GT35: 0 | GV35: =ROUND((GT35),6) -> 0 | GW35: 1 | GX35: =ROUND(HC35*I35,2) -> 0 | HA35: 0 | HB35: 0 | HC35: =GV35*GW35 -> 0 | IK35: 0
A36: 18 | B36: 1 | C36: 52 | E36: 2,1 | F36: 01.7.07.07 | G36: Строительный мусор | H36: т | I36: =I34*J36 -> 2.25 | J36: 75 | O36: =ROUND(CP36,2) -> 0 | P36: =ROUND(CQ36*I36,2) -> 0 | Q36: =ROUND(CR36*I36,2) -> 0 | R36: =ROUND(CS36*I36,2) -> 0 | S36: =ROUND(CT36*I36,2) -> 0 | T36: =ROUND(CU36*I36,2) -> 0 | U36: =CV36*I36 -> 0 | V36: =CW36*I36 -> 0 | W36: =ROUND(CX36*I36,2) -> 0 | X36: =ROUND(CY36,2) -> 0 | Y36: =ROUND(CZ36,2) -> 0 | AA36: 47641669 | AB36: =ROUND((AC36+AD36+AF36),6) -> 0 | AC36: =ROUND((ES36),6) -> 0 | AD36: =ROUND((((ET36)-(EU36))+AE36),6) -> 0 | AE36: =ROUND((EU36),6) -> 0 | AF36: =ROUND((EV36),6) -> 0 | AG36: =ROUND((AP36),6) -> 0 | AH36: =(EW36) -> 0 | AI36: =(EX36) -> 0 | AJ36: =(AS36) -> 0 | AK36: 0 | AL36: 0 | AM36: 0 | AN36: 0 | AO36: 0 | AP36: 0 | AQ36: 0 | AR36: 0 | AS36: 0 | AT36: 155 | AU36: 100 | AV36: 1 | AW36: 1 | AZ36: 1 | BA36: 1 | BB36: 1 | BC36: 1 | BH36: 3 | BI36: 1 | BM36: 68001 | BN36: 0 | BP36: 0 | BQ36: 6 | BR36: 0 | BS36: 1 | BT36: 1 | BU36: 1 | BV36: 1 | BW36: 1 | BX36: 1 | BZ36: 155 | CA36: 100 | CE36: 0 | CF36: 0 | CG36: 0 | CM36: 0 | CO36: 0 | CP36: =(P36+Q36+S36) -> 0 | CQ36: =AC36*BC36 -> 0 | CR36: =AD36*BB36 -> 0 | CS36: =AE36*BS36 -> 0 | CT36: =AF36*BA36 -> 0 | CU36: =AG36 -> 0 | CV36: =AH36 -> 0 | CW36: =AI36 -> 0 | CX36: =AJ36 -> 0 | CY36: =(((S36+R36)*AT36)/100) -> 0 | CZ36: =(((S36+R36)*AU36)/100) -> 0 | DN36: 0 | DO36: 0 | DP36: 1 | DQ36: 1 | DU36: 1009 | DV36: т | DW36: т | DX36: 1000 | EE36: 45919696 | EF36: 6 | EG36: Ремонтно-строительные работы | EH36: 0 | EJ36: 1 | EK36: 68001 | EL36: Благоустройство | EM36: рФЕР-68 | EQ36: 0 | ER36: 0 | ES36: 0 | ET36: 0 | EU36: 0 | EV36: 0 | EW36: 0 | EX36: 0 | FQ36: 0 | FR36: =ROUND(IF(AND(BH36=3,BI36=3),P36,0),2) -> 0 | FS36: 0 | FX36: 155 | FY36: 100 | GD36: 1 | GF36: -179832266 | GG36: 2 | GH36: 1 | GI36: -2 | GJ36: 0 | GK36: 0 | GL36: =ROUND(IF(AND(BH36=3,BI36=3,FS36<>0),P36,0),2) -> 0 | GM36: =ROUND(O36+X36+Y36,2)+GX36 -> 0 | GN36: =IF(OR(BI36=0,BI36=1),ROUND(O36+X36+Y36,2),0) -> 0 | GO36: =IF(BI36=2,ROUND(O36+X36+Y36,2),0) -> 0 | GP36: =IF(BI36=4,ROUND(O36+X36+Y36,2)+GX36,0) -> 0 | GR36: 0 | GS36: 0 | GT36: 0 | GV36: =ROUND((GT36),6) -> 0 | GW36: 1 | GX36: =ROUND(HC36*I36,2) -> 0 | HA36: 0 | HB36: 0 | HC36: =GV36*GW36 -> 0 | IK36: 0
A37: 17 | B37: 1 | C37: =ROW(SmtRes!A61) -> 61 | D37: =ROW(EtalonRes!A60) -> 60 | E37: 3 | F37: 69-19-26 | G37: Разборка вертикальных поверхностей железобетонных конструкций при помощи отбойных молотков, бетон марки 300 прим. Железобетонная тротуарная лестница | H37: м3 | I37: 5.2 | J37: 0 | O37: =ROUND(CP37,2) -> 7845.36 | P37: =ROUND(CQ37*I37,2) -> 116.74 | Q37: =ROUND(CR37*I37,2) -> 5069.49 | R37: =ROUND(CS37*I37,2) -> 0 | S37: =ROUND(CT37*I37,2) -> 2659.13 | T37: =ROUND(CU37*I37,2) -> 0 | U37: =CV37*I37 -> 311.7374 | V37: =CW37*I37 -> 0 | W37: =ROUND(CX37*I37,2) -> 0 | X37: =ROUND(CY37,2) -> 2074.12 | Y37: =ROUND(CZ37,2) -> 1329.57 | AA37: 47636896 | AB37: =ROUND((AC37+AD37+AF37),6) -> 1508.7215 | AC37: =ROUND((ES37),6) -> 22.45 | AD37: =ROUND(((((ET37*1.15))-((EU37*1.15)))+AE37),6) -> 974.901 | AE37: =ROUND(((EU37*1.15)),6) -> 0 | AF37: =ROUND(((EV37*1.15)),6) -> 511.3705 | AG37: =ROUND((AP37),6) -> 0 | AH37: =((EW37*1.15)) -> 59.9495 | AI37: =((EX37*1.15)) -> 0 | AJ37: =(AS37) -> 0 | AK37: 1314.86 | AL37: 22.45 | AM37: 847.74 | AN37: 0 | AO37: 444.67 | AP37: 0 | AQ37: 52.13 | AR37: 0 | AS37: 0 | AT37: 78 | AU37: 50 | AV37: 1 | AW37: 1 | AZ37: 1 | BA37: 1 | BB37: 1 | BC37: 1 | BH37: 0 | BI37: 1 | BJ37: ФЕРр-2001, 69-19-26, приказ Минстроя России №1039/пр от 30.12.2016г. | BM37: 69001 | BN37: 0 | BP37: 0 | BQ37: 6 | BR37: 0 | BS37: 1 | BT37: 1 | BU37: 1 | BV37: 1 | BW37: 1 | BX37: 1 | BZ37: 78 | CA37: 50 | CE37: 0 | CF37: 0 | CG37: 0 | CM37: 0 | CN37: Поправка: МР 81/пр Прил.2, Табл.3, п. 3 Наименование: Производство ремонтно-строительных работ осуществляется на территории действующего предприятия с наличием в зоне производства работ одного или нескольких из перечисленных ниже факторов: разветвленной сети транспортных и инженерных коммуникаций; стесненных условий для складирования материалов; действующего технологического оборудования | CO37: 0 | CP37: =(P37+Q37+S37) -> 7845.36 | CQ37: =AC37*BC37 -> 22.45 | CR37: =AD37*BB37 -> 974.901 | CS37: =AE37*BS37 -> 0 | CT37: =AF37*BA37 -> 511.3705 | CU37: =AG37 -> 0 | CV37: =AH37 -> 59.9495 | CW37: =AI37 -> 0 | CX37: =AJ37 -> 0 | CY37: =(((S37+R37)*AT37)/100) -> 2074.1214 | CZ37: =(((S37+R37)*AU37)/100) -> 1329.565 | DE37: )*1,15 | DF37: )*1,15 | DG37: )*1,15 | DI37: )*1,15 | DJ37: )*1,15 | DN37: 0 | DO37: 0 | DP37: 1 | DQ37: 1 | DU37: 1007 | DV37: м3 | DW37: м3 | DX37: 1 | EE37: 45919697 | EF37: 6 | EG37: Ремонтно-строительные работы | EH37: 0 | EJ37: 1 | EK37: 69001 | EL37: Прочие ремонтно-строительные работы | EM37: рФЕР-69 | EO37: Поправка: МР 81/пр Прил.2, Табл.3, п. 3 | EQ37: 0 | ER37: 1314.86 | ES37: 22.45 | ET37: 847.74 | EU37: 0 | EV37: 444.67 | EW37: 52.13 | EX37: 0 | EY37: 0 | FQ37: 0 | FR37: =ROUND(IF(AND(BH37=3,BI37=3),P37,0),2) -> 0 | FS37: 0 | FX37: 78 | FY37: 50 | GD37: 1 | GF37: -2039080910 | GG37: 2 | GH37: 1 | GI37: -2 | GJ37: 0 | GK37: 0 | GL37: =ROUND(IF(AND(BH37=3,BI37=3,FS37<>0),P37,0),2) -> 0 | GM37: =ROUND(O37+X37+Y37,2)+GX37 -> 11249.05 | GN37: =IF(OR(BI37=0,BI37=1),ROUND(O37+X37+Y37,2),0) -> 11249.05 | GO37: =IF(BI37=2,ROUND(O37+X37+Y37,2),0) -> 0 | GP37: =IF(BI37=4,ROUND(O37+X37+Y37,2)+GX37,0) -> 0 | GR37: 0 | GS37: 3 | GT37: 0 | GV37: =ROUND((GT37),6) -> 0 | GW37: 1 | GX37: =ROUND(HC37*I37,2) -> 0 | HA37: 0 | HB37: 0 | HC37: =GV37*GW37 -> 0 | IK37: 0
A38: 17 | B38: 1 | C38: =ROW(SmtRes!A68) -> 68 | D38: =ROW(EtalonRes!A66) -> 66 | E38: 3 | F38: 69-19-26 | G38: Разборка вертикальных поверхностей железобетонных конструкций при помощи отбойных молотков, бетон марки 300 прим. Железобетонная тротуарная лестница | H38: м3 | I38: 5.2 | J38: 0 | O38: =ROUND(CP38,2) -> 7845.36 | P38: =ROUND(CQ38*I38,2) -> 116.74 | Q38: =ROUND(CR38*I38,2) -> 5069.49 | R38: =ROUND(CS38*I38,2) -> 0 | S38: =ROUND(CT38*I38,2) -> 2659.13 | T38: =ROUND(CU38*I38,2) -> 0 | U38: =CV38*I38 -> 311.7374 | V38: =CW38*I38 -> 0 | W38: =ROUND(CX38*I38,2) -> 0 | X38: =ROUND(CY38,2) -> 2074.12 | Y38: =ROUND(CZ38,2) -> 1329.57 | AA38: 47641669 | AB38: =ROUND((AC38+AD38+AF38),6) -> 1508.7215 | AC38: =ROUND((ES38),6) -> 22.45 | AD38: =ROUND(((((ET38*1.15))-((EU38*1.15)))+AE38),6) -> 974.901 | AE38: =ROUND(((EU38*1.15)),6) -> 0 | AF38: =ROUND(((EV38*1.15)),6) -> 511.3705 | AG38: =ROUND((AP38),6) -> 0 | AH38: =((EW38*1.15)) -> 59.9495 | AI38: =((EX38*1.15)) -> 0 | AJ38: =(AS38) -> 0 | AK38: 1314.86 | AL38: 22.45 | AM38: 847.74 | AN38: 0 | AO38: 444.67 | AP38: 0 | AQ38: 52.13 | AR38: 0 | AS38: 0 | AT38: 78 | AU38: 50 | AV38: 1 | AW38: 1 | AZ38: 1 | BA38: 1 | BB38: 1 | BC38: 1 | BH38: 0 | BI38: 1 | BJ38: ФЕРр-2001, 69-19-26, приказ Минстроя России №1039/пр от 30.12.2016г. | BM38: 69001 | BN38: 0 | BP38: 0 | BQ38: 6 | BR38: 0 | BS38: 1 | BT38: 1 | BU38: 1 | BV38: 1 | BW38: 1 | BX38: 1 | BZ38: 78 | CA38: 50 | CE38: 0 | CF38: 0 | CG38: 0 | CM38: 0 | CN38: Поправка: МР 81/пр Прил.2, Табл.3, п. 3 Наименование: Производство ремонтно-строительных работ осуществляется на территории действующего предприятия с наличием в зоне производства работ одного или нескольких из перечисленных ниже факторов: разветвленной сети транспортных и инженерных коммуникаций; стесненных условий для складирования материалов; действующего технологического оборудования | CO38: 0 | CP38: =(P38+Q38+S38) -> 7845.36 | CQ38: =AC38*BC38 -> 22.45 | CR38: =AD38*BB38 -> 974.901 | CS38: =AE38*BS38 -> 0 | CT38: =AF38*BA38 -> 511.3705 | CU38: =AG38 -> 0 | CV38: =AH38 -> 59.9495 | CW38: =AI38 -> 0 | CX38: =AJ38 -> 0 | CY38: =(((S38+R38)*AT38)/100) -> 2074.1214 | CZ38: =(((S38+R38)*AU38)/100) -> 1329.565 | DE38: )*1,15 | DF38: )*1,15 | DG38: )*1,15 | DI38: )*1,15 | DJ38: )*1,15 | DN38: 0 | DO38: 0 | DP38: 1 | DQ38: 1 | DU38: 1007 | DV38: м3 | DW38: м3 | DX38: 1 | EE38: 45919697 | EF38: 6 | EG38: Ремонтно-строительные работы | EH38: 0 | EJ38: 1 | EK38: 69001 | EL38: Прочие ремонтно-строительные работы | EM38: рФЕР-69 | EO38: Поправка: МР 81/пр Прил.2, Табл.3, п. 3 | EQ38: 0 | ER38: 1314.86 | ES38: 22.45 | ET38: 847.74 | EU38: 0 | EV38: 444.67 | EW38: 52.13 | EX38: 0 | EY38: 0 | FQ38: 0 | FR38: =ROUND(IF(AND(BH38=3,BI38=3),P38,0),2) -> 0 | FS38: 0 | FX38: 78 | FY38: 50 | GD38: 1 | GF38: -2039080910 | GG38: 2 | GH38: 1 | GI38: -2 | GJ38: 0 | GK38: 0 | GL38: =ROUND(IF(AND(BH38=3,BI38=3,FS38<>0),P38,0),2) -> 0 | GM38: =ROUND(O38+X38+Y38,2)+GX38 -> 11249.05 | GN38: =IF(OR(BI38=0,BI38=1),ROUND(O38+X38+Y38,2),0) -> 11249.05 | GO38: =IF(BI38=2,ROUND(O38+X38+Y38,2),0) -> 0 | GP38: =IF(BI38=4,ROUND(O38+X38+Y38,2)+GX38,0) -> 0 | GR38: 0 | GS38: 0 | GT38: 0 | GV38: =ROUND((GT38),6) -> 0 | GW38: 1 | GX38: =ROUND(HC38*I38,2) -> 0 | HA38: 0 | HB38: 0 | HC38: =GV38*GW38 -> 0 | IK38: 0
A39: 18 | B39: 1 | C39: 61 | E39: 3,1 | F39: 01.7.07.07 | G39: Строительный мусор | H39: т | I39: =I37*J39 -> 5.2 | J39: 1 | O39: =ROUND(CP39,2) -> 0 | P39: =ROUND(CQ39*I39,2) -> 0 | Q39: =ROUND(CR39*I39,2) -> 0 | R39: =ROUND(CS39*I39,2) -> 0 | S39: =ROUND(CT39*I39,2) -> 0 | T39: =ROUND(CU39*I39,2) -> 0 | U39: =CV39*I39 -> 0 | V39: =CW39*I39 -> 0 | W39: =ROUND(CX39*I39,2) -> 0 | X39: =ROUND(CY39,2) -> 0 | Y39: =ROUND(CZ39,2) -> 0 | AA39: 47636896 | AB39: =ROUND((AC39+AD39+AF39),6) -> 0 | AC39: =ROUND((ES39),6) -> 0 | AD39: =ROUND((((ET39)-(EU39))+AE39),6) -> 0 | AE39: =ROUND((EU39),6) -> 0 | AF39: =ROUND((EV39),6) -> 0 | AG39: =ROUND((AP39),6) -> 0 | AH39: =(EW39) -> 0 | AI39: =(EX39) -> 0 | AJ39: =(AS39) -> 0 | AK39: 0 | AL39: 0 | AM39: 0 | AN39: 0 | AO39: 0 | AP39: 0 | AQ39: 0 | AR39: 0 | AS39: 0 | AT39: 104 | AU39: 60 | AV39: 1 | AW39: 1 | AZ39: 1 | BA39: 1 | BB39: 1 | BC39: 1 | BH39: 3 | BI39: 1 | BM39: 68001 | BN39: 0 | BP39: 0 | BQ39: 6 | BR39: 0 | BS39: 1 | BT39: 1 | BU39: 1 | BV39: 1 | BW39: 1 | BX39: 1 | BZ39: 104 | CA39: 60 | CE39: 0 | CF39: 0 | CG39: 0 | CM39: 0 | CO39: 0 | CP39: =(P39+Q39+S39) -> 0 | CQ39: =AC39*BC39 -> 0 | CR39: =AD39*BB39 -> 0 | CS39: =AE39*BS39 -> 0 | CT39: =AF39*BA39 -> 0 | CU39: =AG39 -> 0 | CV39: =AH39 -> 0 | CW39: =AI39 -> 0 | CX39: =AJ39 -> 0 | CY39: =(((S39+R39)*AT39)/100) -> 0 | CZ39: =(((S39+R39)*AU39)/100) -> 0 | DN39: 0 | DO39: 0 | DP39: 1 | DQ39: 1 | DU39: 1009 | DV39: т | DW39: т | DX39: 1000 | EE39: 45919696 | EF39: 6 | EG39: Ремонтно-строительные работы | EH39: 0 | EJ39: 1 | EK39: 68001 | EL39: Благоустройство | EM39: рФЕР-68 | EQ39: 0 | ER39: 0 | ES39: 0 | ET39: 0 | EU39: 0 | EV39: 0 | EW39: 0 | EX39: 0 | FQ39: 0 | FR39: =ROUND(IF(AND(BH39=3,BI39=3),P39,0),2) -> 0 | FS39: 0 | FX39: 104 | FY39: 60 | GD39: 1 | GF39: -179832266 | GG39: 2 | GH39: 1 | GI39: -2 | GJ39: 0 | GK39: 0 | GL39: =ROUND(IF(AND(BH39=3,BI39=3,FS39<>0),P39,0),2) -> 0 | GM39: =ROUND(O39+X39+Y39,2)+GX39 -> 0 | GN39: =IF(OR(BI39=0,BI39=1),ROUND(O39+X39+Y39,2),0) -> 0 | GO39: =IF(BI39=2,ROUND(O39+X39+Y39,2),0) -> 0 | GP39: =IF(BI39=4,ROUND(O39+X39+Y39,2)+GX39,0) -> 0 | GR39: 0 | GS39: 3 | GT39: 0 | GV39: =ROUND((GT39),6) -> 0 | GW39: 1 | GX39: =ROUND(HC39*I39,2) -> 0 | HA39: 0 | HB39: 0 | HC39: =GV39*GW39 -> 0 | IK39: 0
A40: 18 | B40: 1 | C40: 68 | E40: 3,1 | F40: 01.7.07.07 | G40: Строительный мусор | H40: т | I40: =I38*J40 -> 5.2 | J40: 1 | O40: =ROUND(CP40,2) -> 0 | P40: =ROUND(CQ40*I40,2) -> 0 | Q40: =ROUND(CR40*I40,2) -> 0 | R40: =ROUND(CS40*I40,2) -> 0 | S40: =ROUND(CT40*I40,2) -> 0 | T40: =ROUND(CU40*I40,2) -> 0 | U40: =CV40*I40 -> 0 | V40: =CW40*I40 -> 0 | W40: =ROUND(CX40*I40,2) -> 0 | X40: =ROUND(CY40,2) -> 0 | Y40: =ROUND(CZ40,2) -> 0 | AA40: 47641669 | AB40: =ROUND((AC40+AD40+AF40),6) -> 0 | AC40: =ROUND((ES40),6) -> 0 | AD40: =ROUND((((ET40)-(EU40))+AE40),6) -> 0 | AE40: =ROUND((EU40),6) -> 0 | AF40: =ROUND((EV40),6) -> 0 | AG40: =ROUND((AP40),6) -> 0 | AH40: =(EW40) -> 0 | AI40: =(EX40) -> 0 | AJ40: =(AS40) -> 0 | AK40: 0 | AL40: 0 | AM40: 0 | AN40: 0 | AO40: 0 | AP40: 0 | AQ40: 0 | AR40: 0 | AS40: 0 | AT40: 78 | AU40: 50 | AV40: 1 | AW40: 1 | AZ40: 1 | BA40: 1 | BB40: 1 | BC40: 1 | BH40: 3 | BI40: 1 | BM40: 68001 | BN40: 0 | BP40: 0 | BQ40: 6 | BR40: 0 | BS40: 1 | BT40: 1 | BU40: 1 | BV40: 1 | BW40: 1 | BX40: 1 | BZ40: 78 | CA40: 50 | CE40: 0 | CF40: 0 | CG40: 0 | CM40: 0 | CO40: 0 | CP40: =(P40+Q40+S40) -> 0 | CQ40: =AC40*BC40 -> 0 | CR40: =AD40*BB40 -> 0 | CS40: =AE40*BS40 -> 0 | CT40: =AF40*BA40 -> 0 | CU40: =AG40 -> 0 | CV40: =AH40 -> 0 | CW40: =AI40 -> 0 | CX40: =AJ40 -> 0 | CY40: =(((S40+R40)*AT40)/100) -> 0 | CZ40: =(((S40+R40)*AU40)/100) -> 0 | DN40: 0 | DO40: 0 | DP40: 1 | DQ40: 1 | DU40: 1009 | DV40: т | DW40: т | DX40: 1000 | EE40: 45919696 | EF40: 6 | EG40: Ремонтно-строительные работы | EH40: 0 | EJ40: 1 | EK40: 68001 | EL40: Благоустройство | EM40: рФЕР-68 | EQ40: 0 | ER40: 0 | ES40: 0 | ET40: 0 | EU40: 0 | EV40: 0 | EW40: 0 | EX40: 0 | FQ40: 0 | FR40: =ROUND(IF(AND(BH40=3,BI40=3),P40,0),2) -> 0 | FS40: 0 | FX40: 78 | FY40: 50 | GD40: 1 | GF40: -179832266 | GG40: 2 | GH40: 1 | GI40: -2 | GJ40: 0 | GK40: 0 | GL40: =ROUND(IF(AND(BH40=3,BI40=3,FS40<>0),P40,0),2) -> 0 | GM40: =ROUND(O40+X40+Y40,2)+GX40 -> 0 | GN40: =IF(OR(BI40=0,BI40=1),ROUND(O40+X40+Y40,2),0) -> 0 | GO40: =IF(BI40=2,ROUND(O40+X40+Y40,2),0) -> 0 | GP40: =IF(BI40=4,ROUND(O40+X40+Y40,2)+GX40,0) -> 0 | GR40: 0 | GS40: 0 | GT40: 0 | GV40: =ROUND((GT40),6) -> 0 | GW40: 1 | GX40: =ROUND(HC40*I40,2) -> 0 | HA40: 0 | HB40: 0 | HC40: =GV40*GW40 -> 0 | IK40: 0
A41: 17 | B41: 1 | C41: =ROW(SmtRes!A75) -> 75 | D41: =ROW(EtalonRes!A72) -> 72 | E41: 4 | F41: 69-19-19 | G41: Разборка горизонтальных поверхностей железобетонных конструкций при помощи отбойных молотков, бетон марки 300 прим. Железобетонные плиты | H41: м3 | I41: 5.2 | J41: 0 | O41: =ROUND(CP41,2) -> 6800.59 | P41: =ROUND(CQ41*I41,2) -> 116.74 | Q41: =ROUND(CR41*I41,2) -> 4374.13 | R41: =ROUND(CS41*I41,2) -> 0 | S41: =ROUND(CT41*I41,2) -> 2309.72 | T41: =ROUND(CU41*I41,2) -> 0 | U41: =CV41*I41 -> 270.7744 | V41: =CW41*I41 -> 0 | W41: =ROUND(CX41*I41,2) -> 0 | X41: =ROUND(CY41,2) -> 1801.58 | Y41: =ROUND(CZ41,2) -> 1154.86 | AA41: 47636896 | AB41: =ROUND((AC41+AD41+AF41),6) -> 1307.805 | AC41: =ROUND((ES41),6) -> 22.45 | AD41: =ROUND(((((ET41*1.15))-((EU41*1.15)))+AE41),6) -> 841.179 | AE41: =ROUND(((EU41*1.15)),6) -> 0 | AF41: =ROUND(((EV41*1.15)),6) -> 444.176 | AG41: =ROUND((AP41),6) -> 0 | AH41: =((EW41*1.15)) -> 52.072 | AI41: =((EX41*1.15)) -> 0 | AJ41: =(AS41) -> 0 | AK41: 1140.15 | AL41: 22.45 | AM41: 731.46 | AN41: 0 | AO41: 386.24 | AP41: 0 | AQ41: 45.28 | AR41: 0 | AS41: 0 | AT41: 78 | AU41: 50 | AV41: 1 | AW41: 1 | AZ41: 1 | BA41: 1 | BB41: 1 | BC41: 1 | BH41: 0 | BI41: 1 | BJ41: ФЕРр-2001, 69-19-19, приказ Минстроя России №1039/пр от 30.12.2016г. | BM41: 69001 | BN41: 0 | BP41: 0 | BQ41: 6 | BR41: 0 | BS41: 1 | BT41: 1 | BU41: 1 | BV41: 1 | BW41: 1 | BX41: 1 | BZ41: 78 | CA41: 50 | CE41: 0 | CF41: 0 | CG41: 0 | CM41: 0 | CN41: Поправка: МР 81/пр Прил.2, Табл.3, п. 3 Наименование: Производство ремонтно-строительных работ осуществляется на территории действующего предприятия с наличием в зоне производства работ одного или нескольких из перечисленных ниже факторов: разветвленной сети транспортных и инженерных коммуникаций; стесненных условий для складирования материалов; действующего технологического оборудования | CO41: 0 | CP41: =(P41+Q41+S41) -> 6800.59 | CQ41: =AC41*BC41 -> 22.45 | CR41: =AD41*BB41 -> 841.179 | CS41: =AE41*BS41 -> 0 | CT41: =AF41*BA41 -> 444.176 | CU41: =AG41 -> 0 | CV41: =AH41 -> 52.072 | CW41: =AI41 -> 0 | CX41: =AJ41 -> 0 | CY41: =(((S41+R41)*AT41)/100) -> 1801.5816 | CZ41: =(((S41+R41)*AU41)/100) -> 1154.86 | DE41: )*1,15 | DF41: )*1,15 | DG41: )*1,15 | DI41: )*1,15 | DJ41: )*1,15 | DN41: 0 | DO41: 0 | DP41: 1 | DQ41: 1 | DU41: 1007 | DV41: м3 | DW41: м3 | DX41: 1 | EE41: 45919697 | EF41: 6 | EG41: Ремонтно-строительные работы | EH41: 0 | EJ41: 1 | EK41: 69001 | EL41: Прочие ремонтно-строительные работы | EM41: рФЕР-69 | EO41: Поправка: МР 81/пр Прил.2, Табл.3, п. 3 | EQ41: 0 | ER41: 1140.15 | ES41: 22.45 | ET41: 731.46 | EU41: 0 | EV41: 386.24 | EW41: 45.28 | EX41: 0 | EY41: 0 | FQ41: 0 | FR41: =ROUND(IF(AND(BH41=3,BI41=3),P41,0),2) -> 0 | FS41: 0 | FX41: 78 | FY41: 50 | GD41: 1 | GF41: -561403951 | GG41: 2 | GH41: 1 | GI41: -2 | GJ41: 0 | GK41: 0 | GL41: =ROUND(IF(AND(BH41=3,BI41=3,FS41<>0),P41,0),2) -> 0 | GM41: =ROUND(O41+X41+Y41,2)+GX41 -> 9757.03 | GN41: =IF(OR(BI41=0,BI41=1),ROUND(O41+X41+Y41,2),0) -> 9757.03 | GO41: =IF(BI41=2,ROUND(O41+X41+Y41,2),0) -> 0 | GP41: =IF(BI41=4,ROUND(O41+X41+Y41,2)+GX41,0) -> 0 | GR41: 0 | GS41: 3 | GT41: 0 | GV41: =ROUND((GT41),6) -> 0 | GW41: 1 | GX41: =ROUND(HC41*I41,2) -> 0 | HA41: 0 | HB41: 0 | HC41: =GV41*GW41 -> 0 | IK41: 0
A42: 17 | B42: 1 | C42: =ROW(SmtRes!A82) -> 82 | D42: =ROW(EtalonRes!A78) -> 78 | E42: 4 | F42: 69-19-19 | G42: Разборка горизонтальных поверхностей железобетонных конструкций при помощи отбойных молотков, бетон марки 300 прим. Железобетонные плиты | H42: м3 | I42: 5.2 | J42: 0 | O42: =ROUND(CP42,2) -> 6800.59 | P42: =ROUND(CQ42*I42,2) -> 116.74 | Q42: =ROUND(CR42*I42,2) -> 4374.13 | R42: =ROUND(CS42*I42,2) -> 0 | S42: =ROUND(CT42*I42,2) -> 2309.72 | T42: =ROUND(CU42*I42,2) -> 0 | U42: =CV42*I42 -> 270.7744 | V42: =CW42*I42 -> 0 | W42: =ROUND(CX42*I42,2) -> 0 | X42: =ROUND(CY42,2) -> 1801.58 | Y42: =ROUND(CZ42,2) -> 1154.86 | AA42: 47641669 | AB42: =ROUND((AC42+AD42+AF42),6) -> 1307.805 | AC42: =ROUND((ES42),6) -> 22.45 | AD42: =ROUND(((((ET42*1.15))-((EU42*1.15)))+AE42),6) -> 841.179 | AE42: =ROUND(((EU42*1.15)),6) -> 0 | AF42: =ROUND(((EV42*1.15)),6) -> 444.176 | AG42: =ROUND((AP42),6) -> 0 | AH42: =((EW42*1.15)) -> 52.072 | AI42: =((EX42*1.15)) -> 0 | AJ42: =(AS42) -> 0 | AK42: 1140.15 | AL42: 22.45 | AM42: 731.46 | AN42: 0 | AO42: 386.24 | AP42: 0 | AQ42: 45.28 | AR42: 0 | AS42: 0 | AT42: 78 | AU42: 50 | AV42: 1 | AW42: 1 | AZ42: 1 | BA42: 1 | BB42: 1 | BC42: 1 | BH42: 0 | BI42: 1 | BJ42: ФЕРр-2001, 69-19-19, приказ Минстроя России №1039/пр от 30.12.2016г. | BM42: 69001 | BN42: 0 | BP42: 0 | BQ42: 6 | BR42: 0 | BS42: 1 | BT42: 1 | BU42: 1 | BV42: 1 | BW42: 1 | BX42: 1 | BZ42: 78 | CA42: 50 | CE42: 0 | CF42: 0 | CG42: 0 | CM42: 0 | CN42: Поправка: МР 81/пр Прил.2, Табл.3, п. 3 Наименование: Производство ремонтно-строительных работ осуществляется на территории действующего предприятия с наличием в зоне производства работ одного или нескольких из перечисленных ниже факторов: разветвленной сети транспортных и инженерных коммуникаций; стесненных условий для складирования материалов; действующего технологического оборудования | CO42: 0 | CP42: =(P42+Q42+S42) -> 6800.59 | CQ42: =AC42*BC42 -> 22.45 | CR42: =AD42*BB42 -> 841.179 | CS42: =AE42*BS42 -> 0 | CT42: =AF42*BA42 -> 444.176 | CU42: =AG42 -> 0 | CV42: =AH42 -> 52.072 | CW42: =AI42 -> 0 | CX42: =AJ42 -> 0 | CY42: =(((S42+R42)*AT42)/100) -> 1801.5816 | CZ42: =(((S42+R42)*AU42)/100) -> 1154.86 | DE42: )*1,15 | DF42: )*1,15 | DG42: )*1,15 | DI42: )*1,15 | DJ42: )*1,15 | DN42: 0 | DO42: 0 | DP42: 1 | DQ42: 1 | DU42: 1007 | DV42: м3 | DW42: м3 | DX42: 1 | EE42: 45919697 | EF42: 6 | EG42: Ремонтно-строительные работы | EH42: 0 | EJ42: 1 | EK42: 69001 | EL42: Прочие ремонтно-строительные работы | EM42: рФЕР-69 | EO42: Поправка: МР 81/пр Прил.2, Табл.3, п. 3 | EQ42: 0 | ER42: 1140.15 | ES42: 22.45 | ET42: 731.46 | EU42: 0 | EV42: 386.24 | EW42: 45.28 | EX42: 0 | EY42: 0 | FQ42: 0 | FR42: =ROUND(IF(AND(BH42=3,BI42=3),P42,0),2) -> 0 | FS42: 0 | FX42: 78 | FY42: 50 | GD42: 1 | GF42: -561403951 | GG42: 2 | GH42: 1 | GI42: -2 | GJ42: 0 | GK42: 0 | GL42: =ROUND(IF(AND(BH42=3,BI42=3,FS42<>0),P42,0),2) -> 0 | GM42: =ROUND(O42+X42+Y42,2)+GX42 -> 9757.03 | GN42: =IF(OR(BI42=0,BI42=1),ROUND(O42+X42+Y42,2),0) -> 9757.03 | GO42: =IF(BI42=2,ROUND(O42+X42+Y42,2),0) -> 0 | GP42: =IF(BI42=4,ROUND(O42+X42+Y42,2)+GX42,0) -> 0 | GR42: 0 | GS42: 0 | GT42: 0 | GV42: =ROUND((GT42),6) -> 0 | GW42: 1 | GX42: =ROUND(HC42*I42,2) -> 0 | HA42: 0 | HB42: 0 | HC42: =GV42*GW42 -> 0 | IK42: 0
A43: 18 | B43: 1 | C43: 75 | E43: 4,1 | F43: 01.7.07.07 | G43: Строительный мусор | H43: т | I43: =I41*J43 -> 5.2 | J43: 1 | O43: =ROUND(CP43,2) -> 0 | P43: =ROUND(CQ43*I43,2) -> 0 | Q43: =ROUND(CR43*I43,2) -> 0 | R43: =ROUND(CS43*I43,2) -> 0 | S43: =ROUND(CT43*I43,2) -> 0 | T43: =ROUND(CU43*I43,2) -> 0 | U43: =CV43*I43 -> 0 | V43: =CW43*I43 -> 0 | W43: =ROUND(CX43*I43,2) -> 0 | X43: =ROUND(CY43,2) -> 0 | Y43: =ROUND(CZ43,2) -> 0 | AA43: 47636896 | AB43: =ROUND((AC43+AD43+AF43),6) -> 0 | AC43: =ROUND((ES43),6) -> 0 | AD43: =ROUND((((ET43)-(EU43))+AE43),6) -> 0 | AE43: =ROUND((EU43),6) -> 0 | AF43: =ROUND((EV43),6) -> 0 | AG43: =ROUND((AP43),6) -> 0 | AH43: =(EW43) -> 0 | AI43: =(EX43) -> 0 | AJ43: =(AS43) -> 0 | AK43: 0 | AL43: 0 | AM43: 0 | AN43: 0 | AO43: 0 | AP43: 0 | AQ43: 0 | AR43: 0 | AS43: 0 | AT43: 104 | AU43: 60 | AV43: 1 | AW43: 1 | AZ43: 1 | BA43: 1 | BB43: 1 | BC43: 1 | BH43: 3 | BI43: 1 | BM43: 68001 | BN43: 0 | BP43: 0 | BQ43: 6 | BR43: 0 | BS43: 1 | BT43: 1 | BU43: 1 | BV43: 1 | BW43: 1 | BX43: 1 | BZ43: 104 | CA43: 60 | CE43: 0 | CF43: 0 | CG43: 0 | CM43: 0 | CO43: 0 | CP43: =(P43+Q43+S43) -> 0 | CQ43: =AC43*BC43 -> 0 | CR43: =AD43*BB43 -> 0 | CS43: =AE43*BS43 -> 0 | CT43: =AF43*BA43 -> 0 | CU43: =AG43 -> 0 | CV43: =AH43 -> 0 | CW43: =AI43 -> 0 | CX43: =AJ43 -> 0 | CY43: =(((S43+R43)*AT43)/100) -> 0 | CZ43: =(((S43+R43)*AU43)/100) -> 0 | DN43: 0 | DO43: 0 | DP43: 1 | DQ43: 1 | DU43: 1009 | DV43: т | DW43: т | DX43: 1000 | EE43: 45919696 | EF43: 6 | EG43: Ремонтно-строительные работы | EH43: 0 | EJ43: 1 | EK43: 68001 | EL43: Благоустройство | EM43: рФЕР-68 | EQ43: 0 | ER43: 0 | ES43: 0 | ET43: 0 | EU43: 0 | EV43: 0 | EW43: 0 | EX43: 0 | FQ43: 0 | FR43: =ROUND(IF(AND(BH43=3,BI43=3),P43,0),2) -> 0 | FS43: 0 | FX43: 104 | FY43: 60 | GD43: 1 | GF43: -179832266 | GG43: 2 | GH43: 1 | GI43: -2 | GJ43: 0 | GK43: 0 | GL43: =ROUND(IF(AND(BH43=3,BI43=3,FS43<>0),P43,0),2) -> 0 | GM43: =ROUND(O43+X43+Y43,2)+GX43 -> 0 | GN43: =IF(OR(BI43=0,BI43=1),ROUND(O43+X43+Y43,2),0) -> 0 | GO43: =IF(BI43=2,ROUND(O43+X43+Y43,2),0) -> 0 | GP43: =IF(BI43=4,ROUND(O43+X43+Y43,2)+GX43,0) -> 0 | GR43: 0 | GS43: 3 | GT43: 0 | GV43: =ROUND((GT43),6) -> 0 | GW43: 1 | GX43: =ROUND(HC43*I43,2) -> 0 | HA43: 0 | HB43: 0 | HC43: =GV43*GW43 -> 0 | IK43: 0
A44: 18 | B44: 1 | C44: 82 | E44: 4,1 | F44: 01.7.07.07 | G44: Строительный мусор | H44: т | I44: =I42*J44 -> 5.2 | J44: 1 | O44: =ROUND(CP44,2) -> 0 | P44: =ROUND(CQ44*I44,2) -> 0 | Q44: =ROUND(CR44*I44,2) -> 0 | R44: =ROUND(CS44*I44,2) -> 0 | S44: =ROUND(CT44*I44,2) -> 0 | T44: =ROUND(CU44*I44,2) -> 0 | U44: =CV44*I44 -> 0 | V44: =CW44*I44 -> 0 | W44: =ROUND(CX44*I44,2) -> 0 | X44: =ROUND(CY44,2) -> 0 | Y44: =ROUND(CZ44,2) -> 0 | AA44: 47641669 | AB44: =ROUND((AC44+AD44+AF44),6) -> 0 | AC44: =ROUND((ES44),6) -> 0 | AD44: =ROUND((((ET44)-(EU44))+AE44),6) -> 0 | AE44: =ROUND((EU44),6) -> 0 | AF44: =ROUND((EV44),6) -> 0 | AG44: =ROUND((AP44),6) -> 0 | AH44: =(EW44) -> 0 | AI44: =(EX44) -> 0 | AJ44: =(AS44) -> 0 | AK44: 0 | AL44: 0 | AM44: 0 | AN44: 0 | AO44: 0 | AP44: 0 | AQ44: 0 | AR44: 0 | AS44: 0 | AT44: 78 | AU44: 50 | AV44: 1 | AW44: 1 | AZ44: 1 | BA44: 1 | BB44: 1 | BC44: 1 | BH44: 3 | BI44: 1 | BM44: 68001 | BN44: 0 | BP44: 0 | BQ44: 6 | BR44: 0 | BS44: 1 | BT44: 1 | BU44: 1 | BV44: 1 | BW44: 1 | BX44: 1 | BZ44: 78 | CA44: 50 | CE44: 0 | CF44: 0 | CG44: 0 | CM44: 0 | CO44: 0 | CP44: =(P44+Q44+S44) -> 0 | CQ44: =AC44*BC44 -> 0 | CR44: =AD44*BB44 -> 0 | CS44: =AE44*BS44 -> 0 | CT44: =AF44*BA44 -> 0 | CU44: =AG44 -> 0 | CV44: =AH44 -> 0 | CW44: =AI44 -> 0 | CX44: =AJ44 -> 0 | CY44: =(((S44+R44)*AT44)/100) -> 0 | CZ44: =(((S44+R44)*AU44)/100) -> 0 | DN44: 0 | DO44: 0 | DP44: 1 | DQ44: 1 | DU44: 1009 | DV44: т | DW44: т | DX44: 1000 | EE44: 45919696 | EF44: 6 | EG44: Ремонтно-строительные работы | EH44: 0 | EJ44: 1 | EK44: 68001 | EL44: Благоустройство | EM44: рФЕР-68 | EQ44: 0 | ER44: 0 | ES44: 0 | ET44: 0 | EU44: 0 | EV44: 0 | EW44: 0 | EX44: 0 | FQ44: 0 | FR44: =ROUND(IF(AND(BH44=3,BI44=3),P44,0),2) -> 0 | FS44: 0 | FX44: 78 | FY44: 50 | GD44: 1 | GF44: -179832266 | GG44: 2 | GH44: 1 | GI44: -2 | GJ44: 0 | GK44: 0 | GL44: =ROUND(IF(AND(BH44=3,BI44=3,FS44<>0),P44,0),2) -> 0 | GM44: =ROUND(O44+X44+Y44,2)+GX44 -> 0 | GN44: =IF(OR(BI44=0,BI44=1),ROUND(O44+X44+Y44,2),0) -> 0 | GO44: =IF(BI44=2,ROUND(O44+X44+Y44,2),0) -> 0 | GP44: =IF(BI44=4,ROUND(O44+X44+Y44,2)+GX44,0) -> 0 | GR44: 0 | GS44: 0 | GT44: 0 | GV44: =ROUND((GT44),6) -> 0 | GW44: 1 | GX44: =ROUND(HC44*I44,2) -> 0 | HA44: 0 | HB44: 0 | HC44: =GV44*GW44 -> 0 | IK44: 0
A45: 17 | B45: 1 | C45: =ROW(SmtRes!A83) -> 83 | D45: =ROW(EtalonRes!A79) -> 79 | E45: 5 | F45: 01-02-057-03 | G45: Разработка грунта вручную в траншеях глубиной до 2 м без креплений с откосами, группа грунтов 3 | H45: 100 м3 | I45: =ROUND(25.1/100,9) -> 0.251 | J45: 0 | O45: =ROUND(CP45,2) -> 558.36 | P45: =ROUND(CQ45*I45,2) -> 0 | Q45: =ROUND(CR45*I45,2) -> 0 | R45: =ROUND(CS45*I45,2) -> 0 | S45: =ROUND(CT45*I45,2) -> 558.36 | T45: =ROUND(CU45*I45,2) -> 0 | U45: =CV45*I45 -> 71.5852 | V45: =CW45*I45 -> 0 | W45: =ROUND(CX45*I45,2) -> 0 | X45: =ROUND(CY45,2) -> 402.02 | Y45: =ROUND(CZ45,2) -> 212.18 | AA45: 47636896 | AB45: =ROUND((AC45+AD45+AF45),6) -> 2224.56 | AC45: =ROUND((ES45),6) -> 0 | AD45: =ROUND(((((ET45*1.15))-((EU45*1.15)))+AE45),6) -> 0 | AE45: =ROUND(((EU45*1.15)),6) -> 0 | AF45: =ROUND(((EV45*1.15)),6) -> 2224.56 | AG45: =ROUND((AP45),6) -> 0 | AH45: =((EW45*1.15)) -> 285.2 | AI45: =((EX45*1.15)) -> 0 | AJ45: =(AS45) -> 0 | AK45: 1934.4 | AL45: 0 | AM45: 0 | AN45: 0 | AO45: 1934.4 | AP45: 0 | AQ45: 248 | AR45: 0 | AS45: 0 | AT45: 72 | AU45: 38 | AV45: 1 | AW45: 1 | AZ45: 1 | BA45: 1 | BB45: 1 | BC45: 1 | BH45: 0 | BI45: 1 | BJ45: ФЕР-2001, 01-02-057-03, приказ Минстроя России №1039/пр от 30.12.2016г. | BM45: 1003 | BN45: 0 | BP45: 0 | BQ45: 2 | BR45: 0 | BS45: 1 | BT45: 1 | BU45: 1 | BV45: 1 | BW45: 1 | BX45: 1 | BZ45: 80 | CA45: 45 | CE45: 0 | CF45: 0 | CG45: 0 | CM45: 0 | CN45: Поправка: МР 81/пр Прил.2, Табл.3, п. 3 Наименование: Производство ремонтно-строительных работ осуществляется на территории действующего предприятия с наличием в зоне производства работ одного или нескольких из перечисленных ниже факторов: разветвленной сети транспортных и инженерных коммуникаций; стесненных условий для складирования материалов; действующего технологического оборудования | CO45: 0 | CP45: =(P45+Q45+S45) -> 558.36 | CQ45: =AC45*BC45 -> 0 | CR45: =AD45*BB45 -> 0 | CS45: =AE45*BS45 -> 0 | CT45: =AF45*BA45 -> 2224.56 | CU45: =AG45 -> 0 | CV45: =AH45 -> 285.2 | CW45: =AI45 -> 0 | CX45: =AJ45 -> 0 | CY45: =(((S45+R45)*AT45)/100) -> 402.0192 | CZ45: =(((S45+R45)*AU45)/100) -> 212.1768 | DE45: )*1,15 | DF45: )*1,15 | DG45: )*1,15 | DI45: )*1,15 | DJ45: )*1,15 | DN45: 0 | DO45: 0 | DP45: 1 | DQ45: 1 | DU45: 1007 | DV45: 100 м3 | DW45: 100 м3 | DX45: 100 | EE45: 45919546 | EF45: 2 | EG45: Общестроительные работы | EH45: 0 | EJ45: 1 | EK45: 1003 | EL45: Земляные работы, выполняемые ручным способом | EM45: ФЕР-01 | EO45: Поправка: МР 81/пр Прил.2, Табл.3, п. 3 | EQ45: 0 | ER45: 1934.4 | ES45: 0 | ET45: 0 | EU45: 0 | EV45: 1934.4 | EW45: 248 | EX45: 0 | EY45: 0 | FQ45: 0 | FR45: =ROUND(IF(AND(BH45=3,BI45=3),P45,0),2) -> 0 | FS45: 0 | FT45: *0,9 | FU45: *0,85 | FX45: 72 | FY45: 38.25 | GD45: 1 | GF45: -2048452315 | GG45: 2 | GH45: 1 | GI45: -2 | GJ45: 0 | GK45: 0 | GL45: =ROUND(IF(AND(BH45=3,BI45=3,FS45<>0),P45,0),2) -> 0 | GM45: =ROUND(O45+X45+Y45,2)+GX45 -> 1172.56 | GN45: =IF(OR(BI45=0,BI45=1),ROUND(O45+X45+Y45,2),0) -> 1172.56 | GO45: =IF(BI45=2,ROUND(O45+X45+Y45,2),0) -> 0 | GP45: =IF(BI45=4,ROUND(O45+X45+Y45,2)+GX45,0) -> 0 | GR45: 0 | GS45: 3 | GT45: 0 | GV45: =ROUND((GT45),6) -> 0 | GW45: 1 | GX45: =ROUND(HC45*I45,2) -> 0 | HA45: 0 | HB45: 0 | HC45: =GV45*GW45 -> 0 | IK45: 0
