Workbook

Sheet Смета по ТСН-2001
A1: =Source!B1 -> Smeta.RU (495) 974-1589
K2: Форма № 4б
B3: "СОГЛАСОВАНО" | G3: "УТВЕРЖДАЮ"
B6: =CONCATENATE("______________________ ", IF(Source!AL12<>"", Source!AL12, "")) -> ______________________ | G6: =CONCATENATE("______________________ ", IF(Source!AH12<>"", Source!AH12, "")) -> ______________________
B7: "_____"________________ 2019 г. | G7: "_____"________________ 2019 г.
A10: =IF(Source!G12<>"Новый объект", Source!G12, "") -> 12 СКУД
A11: (наименование стройки и/или объекта)
A13: =CONCATENATE( "ЛОКАЛЬНАЯ СМЕТА № ",IF(Source!F20<>"Новая локальная смета", Source!F20, "")) -> ЛОКАЛЬНАЯ СМЕТА № 02-01-12
A15: =IF(Source!G20<>"Новая локальная смета", Source!G20, "") -> Система контроля доступа
A16: (наименование работ и затрат)
A18: =CONCATENATE( "Основание: чертежи № ", Source!J20) -> Основание: чертежи №
I20: В базисном уровне цен | J20: В текущем уровне цен
F21: Сметная стоимость | I21: =(Source!F156/1000) -> 50.11816 | J21: =(Source!P156/1000) -> 389.20072 | K21: тыс. руб.
F22: Строительные работы | I22: =(Source!F146)/1000 -> 0.14006 | J22: =(Source!P146)/1000 -> 5.72034 | K22: тыс. руб.
F23: Работы по монтажу оборудования | I23: =(Source!F147)/1000 -> 18.07869 | J23: =(Source!P147)/1000 -> 199.92699 | K23: тыс. руб.
F24: Оборудование | I24: =(Source!F138)/1000 -> 31.38037 | J24: =(Source!P138)/1000 -> 160.02421 | K24: тыс. руб.
F25: Прочие работы и затраты | I25: =(Source!F148+Source!F149)/1000 -> 0.51904 | J25: =(Source!P148+Source!P149)/1000 -> 23.52918 | K25: тыс. руб.
F26: Средства на оплату труда | I26: =(Source!F144+ Source!F143)/1000 -> 3.08408 | J26: =((Source!P144 + Source!P143)/1000) -> 66.89363 | K26: тыс. руб.
F27: Затраты труда | I27: =Source!F151 -> 184 | K27: чел.-ч.
F28: Кроме того:
F29: Возврат материалов | I29: =SUM(Y35:Y240)/1000 -> 0 | J29: =SUM(Z35:Z240)/1000 -> 0 | K29: тыс. руб.
A31: Составлен(а) по ТСН-2001 с учетом Дополнения №: 52
A32: № и период сборника коэффициентов (индексов) пересчета: ТСН-2001 ремонт №152 май 2019 года и Коэффициенты пересчета к ТСН-2001.13-2 март 2019 года | AE32: № и период сборника коэффициентов (индексов) пересчета: ТСН-2001 ремонт №152 май 2019 года и Коэффициенты пересчета к ТСН-2001.13-2 март 2019 года
A33: № п/п | B33: Шифр расценки и коды ресурсов | C33: Наименование работ и затрат | D33: Ед. изм. | E33: Кол-во единиц | F33: Цена на ед. изм., руб. | G33: Попра-вочные коэффи- циенты | H33: Коэффи-циенты зимних удорожа-ний | I33: Всего в ценах на январь 2000 года, руб. | J33: Коэффици-енты (индексы) пересчета, нормы НР и СП | K33: ВСЕГО затрат в текущем уровне цен, руб.
A34: 1 | B34: 2 | C34: 3 | D34: 4 | E34: 5 | F34: 6 | G34: 7 | H34: 8 | I34: 9 | J34: 10 | K34: 11
A35: =Source!E24 -> 1 | B35: =Source!F24 -> 4.10-176-1 | C35: Блок контроля датчиков (контроллер) | D35: =Source!H24 -> 10 шт. | E35: =Source!I24 -> 0.4 | Q35: =Source!X24 -> 0 | R35: =Source!X25 -> 3146.39 | S35: =Source!Y24 -> 0 | T35: =Source!Y25 -> 1675.35 | U35: =ROUND((175/100)*ROUND(Source!R24, 2), 2) -> 0.14 | V35: =ROUND((157/100)*ROUND(Source!R25, 2), 2) -> 2.73
C36: ="Объем: "&Source!I24&"=4/"&"10" -> Объем: 0,4=4/10
C37: ЗП | F37: =Source!AO24 -> 470.98 | G37: =Source!DG24 | H37: =Source!AV25 -> 1 | I37: =Source!S24 -> 188.39 | J37: =IF(Source!BA25<> 0, Source!BA25, 1) -> 21.69 | K37: =Source!S25 -> 4086.22
C38: ЭМ | F38: =Source!AM24 -> 1.11 | G38: =Source!DE24 | H38: =Source!AV25 -> 1 | I38: =Source!Q24 -> 0.44 | J38: =IF(Source!BB25<> 0, Source!BB25, 1) -> 8.21 | K38: =Source!Q25 -> 3.65
C39: в т.ч. ЗПМ | F39: =Source!AN24 -> 0.2 | G39: =Source!DF24 | H39: =Source!AV25 -> 1 | I39: =Source!R24 -> 0.08 | J39: =IF(Source!BS25<> 0, Source!BS25, 1) -> 21.69 | K39: =Source!R25 -> 1.74
C40: МР | F40: =Source!AL24 -> 1.23 | G40: =Source!DD24 | H40: =Source!AW25 -> 1 | I40: =Source!P24 -> 0.49 | J40: =IF(Source!BC25<> 0, Source!BC25, 1) -> 5.41 | K40: =Source!P25 -> 2.66
C41: НР от ЗП | D41: % | E41: =Source!DN25 -> 114 | I41: =SUM(Q35:Q40) -> 0 | J41: =Source!BZ25 -> 77 | K41: =SUM(R35:R40) -> 3146.39
C42: СП от ЗП | D42: % | E42: =Source!DO25 -> 67 | I42: =SUM(S35:S41) -> 0 | J42: =Source!CA25 -> 41 | K42: =SUM(T35:T41) -> 1675.35
C43: НР и СП от ЗПМ | D43: % | E43: =175 -> 175 | I43: =SUM(U35:U42) -> 0.14 | J43: =157 -> 157 | K43: =SUM(V35:V42) -> 2.73
C44: ЗТР | D44: чел-ч | E44: =Source!AQ24 -> 29.96 | G44: =Source!DI24 | H44: =Source!AV25 -> 1 | I44: =Source!U24 -> 11.984
C45: Всего по позиции: | H45: =I37+I38+I40+I41+I42+I43 -> 189.46 | J45: =K37+K38+K40+K41+K42+K43 -> 8917 | O45: =I37+I38+I40+I41+I42+I43 -> 189.46 | P45: =K37+K38+K40+K41+K42+K43 -> 8917
A47: =Source!E26 -> 2 | B47: =Source!F26 -> 4.10-173-2 | C47: Блок бесперебойного питания (ББП) в диспетчерской | D47: =Source!H26 -> 1 ШТ. | E47: =Source!I26 -> 3 | Q47: =Source!X26 -> 0 | R47: =Source!X27 -> 2010.67 | S47: =Source!Y26 -> 0 | T47: =Source!Y27 -> 1070.62 | U47: =ROUND((175/100)*ROUND(Source!R26, 2), 2) -> 0 | V47: =ROUND((157/100)*ROUND(Source!R27, 2), 2) -> 0
C48: ЗП | F48: =Source!AO26 -> 40.13 | G48: =Source!DG26 | H48: =Source!AV27 -> 1 | I48: =Source!S26 -> 120.39 | J48: =IF(Source!BA27<> 0, Source!BA27, 1) -> 21.69 | K48: =Source!S27 -> 2611.26
C49: МР | F49: =Source!AL26 -> 1.5 | G49: =Source!DD26 | H49: =Source!AW27 -> 1 | I49: =Source!P26 -> 4.5 | J49: =IF(Source!BC27<> 0, Source!BC27, 1) -> 5.41 | K49: =Source!P27 -> 24.35
C50: НР от ЗП | D50: % | E50: =Source!DN27 -> 114 | I50: =SUM(Q47:Q49) -> 0 | J50: =Source!BZ27 -> 77 | K50: =SUM(R47:R49) -> 2010.67
...

Sheet Дефектная ведомость
A1: =Source!B1 -> Smeta.RU (495) 974-1589
D3: "УТВЕРЖДАЮ"
C5: ___________________________
C7: ___________________________
C9: " ___ " ___________ 20 ___ г.
A11: =CONCATENATE("Дефектный акт ", IF(Source!AN15<>"", Source!AN15," ")) -> Дефектный акт
A12: =CONCATENATE("На капитальный ремонт ", Source!F12) -> На капитальный ремонт 12 СКУД
B14: Мы, нижеподписавшиеся, произвели осмотр объекта
B15: и постановили произвести ремонт объекта в
B16: следующем объеме:
A17: № п/п | B17: Наименование работ и затрат | C17: Единица измерения | D17: Количество | E17: Примечание
A18: 1 | B18: 2 | C18: 3 | D18: 4 | E18: 5
A19: =CONCATENATE("Локальная смета: ", Source!G20) -> Локальная смета: Система контроля доступа
A20: =Source!E24 -> 1 | B20: =Source!G24 -> Блок контроля датчиков (контроллер) | C20: =Source!H24 -> 10 шт. | D20: =Source!I24 -> 0.4
A21: =Source!E26 -> 2 | B21: =Source!G26 -> Блок бесперебойного питания (ББП) в диспетчерской | C21: =Source!H26 -> 1 ШТ. | D21: =Source!I26 -> 3
A22: =Source!E28 -> 3 | B22: =Source!G28 -> Блок считывания кода (БСК) и считыватель в диспетчерской | C22: =Source!H28 -> 1 ШТ. | D22: =Source!I28 -> 5
A23: =Source!E30 -> 4 | B23: =Source!G30 -> Установка дверного доводчика к металлическим дверям | C23: =Source!H30 -> 1 ШТ. | D23: =Source!I30 -> 7
A24: =Source!E32 -> 5 | B24: =Source!G32 -> Ключ или кнопка на панели | C24: =Source!H32 -> 1 ШТ. | D24: =Source!I32 -> 7
A25: =Source!E34 -> 5,1 | B25: =Source!G34 -> Кнопка выхода SR-BP42 | C25: =Source!H34 -> шт. | D25: =Source!I34 -> 7
A26: =Source!E36 -> 6 | B26: =Source!G36 -> Конструкции для установки приборов и средств автоматизации массой до 1 кг | C26: =Source!H36 -> 1 ШТ. | D26: =Source!I36 -> 7
A27: =Source!E38 -> 7 | B27: =Source!G38 -> Трубы гофрированные поливинилхлоридные наружным диаметром 25 мм открыто по стенам и потолкам с установкой соединительных коробок | C27: =Source!H38 -> 100 м | D27: =Source!I38 -> 1
A28: =Source!E40 -> 7,1 | B28: =Source!G40 -> Трубы электротехнические гофрированные, поливинилхлоридные, негорючие, с зондом, наружный диаметр 25 мм | C28: =Source!H40 -> м | D28: =Source!I40 -> 102
A29: =Source!E42 -> 7,2 | B29: =Source!G42 -> Коробки ответвительные, тип КРП-1 УХЛ4, размеры 52х109х109 мм | C29: =Source!H42 -> шт. | D29: =Source!I42 -> 5
A30: =Source!E44 -> 7,3 | B30: =Source!G44 -> Держатели пластиковые с защелкой для крепления труб, рукавов и гибких вводов диаметром 25 мм | C30: =Source!H44 -> 100 шт. | D30: =Source!I44 -> 0.91
A31: =Source!E46 -> 8 | B31: =Source!G46 -> Прокладка пластикового кабель-канала по бетонному основанию | C31: =Source!H46 -> 100 м | D31: =Source!I46 -> 0.5
A32: =Source!E48 -> 8,1 | B32: =Source!G48 -> Кабель-каналы, размер 20х12,5 мм, кабель-каналы | C32: =Source!H48 -> м | D32: =Source!I48 -> 50
A33: =Source!E50 -> 8,2 | B33: =Source!G50 -> Кабель-каналы, размер 20х12,5 мм, углы наружные | C33: =Source!H50 -> 1000 шт. | D33: =Source!I50 -> 0.01
A34: =Source!E52 -> 8,3 | B34: =Source!G52 -> Кабель-каналы, размер 20х12,5 мм, заглушки | C34: =Source!H52 -> 1000 шт. | D34: =Source!I52 -> 0.003
A35: =Source!E54 -> 8,4 | B35: =Source!G54 -> Кабель-каналы, размер 20х12,5 мм, углы внутренние | C35: =Source!H54 -> 1000 шт. | D35: =Source!I54 -> 0.007
A36: =Source!E60 -> 11 | B36: =Source!G60 -> Затягивание проводов и кабелей в проложенные трубы и металлические рукава, провод первый одножильный или многожильный в общей оплетке, суммарное сечение до 6 мм2 | C36: =Source!H60 -> 100 м | D36: =Source!I60 -> 1
A37: =Source!E62 -> 12 | B37: =Source!G62 -> Провода и кабели в коробах, провод, сечением до 6 мм2 | C37: =Source!H62 -> 100 м | D37: =Source!I62 -> 0.5
A38: =Source!E64 -> 13 | B38: =Source!G64 -> Провода и кабели по перфорированным профилям, провод сечением до 6 мм2 | C38: =Source!H64 -> 100 м | D38: =Source!I64 -> 10
A39: =Source!E66 -> 14 | B39: =Source!G66 -> Кабель КВПЭфнг(С)-LSLTx-5e 4х2х0,52 | C39: =Source!H66 -> ПМ | D39: =Source!I66 -> 510
A40: =Source!E68 -> 15 | B40: =Source!G68 -> Кабель ВВГЭ нг(А)-LSLTх 3х1,5 | C40: =Source!H68 -> ПМ | D40: =Source!I68 -> 510
A41: =Source!E70 -> 16 | B41: =Source!G70 -> Кабели для адресных систем пожарной сигнализации с однопроволочными медными жилами, с изоляцией и оболочкой из ПВХ пластиката, марка КПСВВ, число пар и сечение 1х2х0,75 мм2 | C41: =Source!H70 -> км | D41: =Source!I70 -> 0.11
A42: =Source!E72 -> 17 | B42: =Source!G72 -> Аккумуляторы кислотные стационарные, аккумулятор С-1, СК-1 | C42: =Source!H72 -> 1 ШТ. | D42: =Source!I72 -> 1
A43: =Source!E74 -> 18 | B43: =Source!G74 -> Устройство связи с согласующим устройством (вызывная панель) | C43: =Source!H74 -> 10 шт. | D43: =Source!I74 -> 0.4
A44: =Source!E76 -> 19 | B44: =Source!G76 -> Аппаратура цветного телевидения, устройство видеоконтрольное | C44: =Source!H76 -> 1 ШТ. | D44: =Source!I76 -> 1
A45: =Source!E78 -> 20 | B45: =Source!G78 -> Комплексная наладка системы контроля и управления доступом (СКУД) | C45: =Source!H78 -> 1 считыватель | D45: =Source!I78 -> 5
A46: =CONCATENATE("Раздел: ", Source!G81) -> Раздел: Оборудование
...

Sheet RV_DATA
A1: BuildingFinished | B1: Trud | C1: Mash | D1: Mat | E1: MatZak | F1: Oborud | G1: OborudZak | H1: ZeroStoim | I1: NegativeKoll | J1: ReUnionKollResurcy
A2: 1 | B2: 1 | C2: 1 | D2: 1 | E2: 1 | F2: 1 | G2: 1 | H2: 1 | I2: 1 | J2: 0
A4: TYPE | B4: LINK | C4: RABMAT_EX | D4: TIP_RAB | E4: TYPE_TRUD | F4: TAB | G4: NAME | H4: EDIZM | I4: KOLL | J4: UCH | K4: PRICE_B | L4: PRICE_ED | M4: STOIM_B | N4: PRICE_C | O4: STOIM_C | P4: ZPM_B | Q4: ZPM_ED | R4: STOIM_ZPM_B | S4: ZPM_C | T4: STOIM_ZPM_C | U4: CRC_GR_RES | V4: CRC_B | W4: CRC_C
A6: =Source!A20 -> 3 | B6: 20 | G6: =Source!G20 -> Система контроля доступа
A7: =Source!A25 -> 17 | C7: 1 | D7: 0 | E7: =SmtRes!AV2 -> 1 | F7: =SmtRes!I2 -> 9999990008 | G7: =SmtRes!K2 -> Трудозатраты рабочих | H7: =SmtRes!O2 -> чел.-ч. | I7: =SmtRes!Y2*Source!I25 -> 11.984 | J7: =SmtRes!AO2 -> 1 | K7: =SmtRes!AH2 -> 0 | L7: =SmtRes!DB2 -> 0 | M7: =ROUND(ROUND(L7*Source!I25, 6)*1, 2) -> 0 | N7: =SmtRes!AD2 -> 0 | O7: =ROUND(ROUND(L7*Source!I25, 6)*SmtRes!DA2, 2) -> 0 | P7: =SmtRes!AG2 -> 0 | Q7: =SmtRes!DC2 -> 0 | R7: =ROUND(ROUND(Q7*Source!I25, 6)*1, 2) -> 0 | S7: =SmtRes!AC2 -> 0 | T7: =ROUND(ROUND(Q7*Source!I25, 6)*SmtRes!AK2, 2) -> 0 | U7: =SmtRes!X2 -> 476480486 | V7: 1286141856 | W7: 1286141856
A8: =Source!A27 -> 17 | C8: 1 | D8: 0 | E8: =SmtRes!AV4 -> 1 | F8: =SmtRes!I4 -> 9999990008 | G8: =SmtRes!K4 -> Трудозатраты рабочих | H8: =SmtRes!O4 -> чел.-ч. | I8: =SmtRes!Y4*Source!I27 -> 9.54 | J8: =SmtRes!AO4 -> 1 | K8: =SmtRes!AH4 -> 0 | L8: =SmtRes!DB4 -> 0 | M8: =ROUND(ROUND(L8*Source!I27, 6)*1, 2) -> 0 | N8: =SmtRes!AD4 -> 0 | O8: =ROUND(ROUND(L8*Source!I27, 6)*SmtRes!DA4, 2) -> 0 | P8: =SmtRes!AG4 -> 0 | Q8: =SmtRes!DC4 -> 0 | R8: =ROUND(ROUND(Q8*Source!I27, 6)*1, 2) -> 0 | S8: =SmtRes!AC4 -> 0 | T8: =ROUND(ROUND(Q8*Source!I27, 6)*SmtRes!AK4, 2) -> 0 | U8: =SmtRes!X4 -> 476480486 | V8: 1286141856 | W8: 1286141856
A9: =Source!A29 -> 17 | C9: 1 | D9: 0 | E9: =SmtRes!AV6 -> 1 | F9: =SmtRes!I6 -> 9999990008 | G9: =SmtRes!K6 -> Трудозатраты рабочих | H9: =SmtRes!O6 -> чел.-ч. | I9: =SmtRes!Y6*Source!I29 -> 23.4 | J9: =SmtRes!AO6 -> 1 | K9: =SmtRes!AH6 -> 0 | L9: =SmtRes!DB6 -> 0 | M9: =ROUND(ROUND(L9*Source!I29, 6)*1, 2) -> 0 | N9: =SmtRes!AD6 -> 0 | O9: =ROUND(ROUND(L9*Source!I29, 6)*SmtRes!DA6, 2) -> 0 | P9: =SmtRes!AG6 -> 0 | Q9: =SmtRes!DC6 -> 0 | R9: =ROUND(ROUND(Q9*Source!I29, 6)*1, 2) -> 0 | S9: =SmtRes!AC6 -> 0 | T9: =ROUND(ROUND(Q9*Source!I29, 6)*SmtRes!AK6, 2) -> 0 | U9: =SmtRes!X6 -> 476480486 | V9: 1286141856 | W9: 1286141856
A10: =Source!A31 -> 17 | C10: 3 | D10: 0 | E10: =SmtRes!AV18 -> 0 | F10: =SmtRes!I18 -> 1.1-1-2627 | G10: =SmtRes!K18 -> Винты самонарезающие 5х40 мм для металла | H10: =SmtRes!O18 -> кг | I10: =SmtRes!Y18*Source!I31 -> 0.14 | J10: =SmtRes!AO18 -> 1 | K10: =SmtRes!AE18 -> 20.63 | L10: =SmtRes!DB18 -> 0.41 | M10: =ROUND(ROUND(L10*Source!I31, 6)*1, 2) -> 2.87 | N10: =SmtRes!AA18 -> 91.8 | O10: =ROUND(ROUND(L10*Source!I31, 6)*SmtRes!DA18, 2) -> 12.77 | P10: =SmtRes!AG18 -> 0 | Q10: =SmtRes!DC18 -> 0 | R10: =ROUND(ROUND(Q10*Source!I31, 6)*1, 2) -> 0 | S10: =SmtRes!AC18 -> 0 | T10: =ROUND(ROUND(Q10*Source!I31, 6)*SmtRes!AK18, 2) -> 0 | U10: =SmtRes!X18 -> -1260154368 | V10: 458667026 | W10: 1761663345
A11: =Source!A31 -> 17 | C11: 2 | D11: 0 | E11: =SmtRes!AV17 -> 0 | F11: =SmtRes!I17 -> 2.1-30-6 | G11: =SmtRes!K17 -> Дрели электрические | H11: =SmtRes!O17 -> маш.-ч. | I11: =SmtRes!Y17*Source!I31 -> 0.9625 | J11: =SmtRes!AO17 -> 1 | K11: =SmtRes!AF17 -> 2.36 | L11: =SmtRes!DB17 -> 0.325 | M11: =ROUND(ROUND(L11*Source!I31, 6)*1, 2) -> 2.28 | N11: =SmtRes!AB17 -> 28.23 | O11: =ROUND(ROUND(L11*Source!I31, 6)*SmtRes!DA17, 2) -> 27.21 | P11: =SmtRes!AG17 -> 0.1 | Q11: =SmtRes!DC17 -> 0.0125 | R11: =ROUND(ROUND(Q11*Source!I31, 6)*1, 2) -> 0.09 | S11: =SmtRes!AC17 -> 2.17 | T11: =ROUND(ROUND(Q11*Source!I31, 6)*SmtRes!AK17, 2) -> 1.9 | U11: =SmtRes!X17 -> 950854334 | V11: 1680068806 | W11: -1277416625
A12: =Source!A31 -> 17 | C12: 2 | D12: 0 | E12: =SmtRes!AV16 -> 0 | F12: =SmtRes!I16 -> 2.1-30-56 | G12: =SmtRes!K16 -> Шуруповерты | H12: =SmtRes!O16 -> маш.-ч. | I12: =SmtRes!Y16*Source!I31 -> 1.3125 | J12: =SmtRes!AO16 -> 1 | K12: =SmtRes!AF16 -> 0.64 | L12: =SmtRes!DB16 -> 0.125 | M12: =ROUND(ROUND(L12*Source!I31, 6)*1, 2) -> 0.88 | N12: =SmtRes!AB16 -> 5.35 | O12: =ROUND(ROUND(L12*Source!I31, 6)*SmtRes!DA16, 2) -> 7.32 | P12: =SmtRes!AG16 -> 0.04 | Q12: =SmtRes!DC16 -> 0.0125 | R12: =ROUND(ROUND(Q12*Source!I31, 6)*1, 2) -> 0.09 | S12: =SmtRes!AC16 -> 0.87 | T12: =ROUND(ROUND(Q12*Source!I31, 6)*SmtRes!AK16, 2) -> 1.9 | U12: =SmtRes!X16 -> 926785503 | V12: 1087820908 | W12: 2105073805
A13: =Source!A31 -> 17 | C13: 2 | D13: 0 | E13: =SmtRes!AV15 -> 0 | F13: =SmtRes!I15 -> 2.1-30-19 | G13: =SmtRes!K15 -> Машины шлифовальные электрические | H13: =SmtRes!O15 -> маш.-ч. | I13: =SmtRes!Y15*Source!I31 -> 0.175 | J13: =SmtRes!AO15 -> 1 | K13: =SmtRes!AF15 -> 0.68 | L13: =SmtRes!DB15 -> 0.0125 | M13: =ROUND(ROUND(L13*Source!I31, 6)*1, 2) -> 0.09 | N13: =SmtRes!AB15 -> 5.22 | O13: =ROUND(ROUND(L13*Source!I31, 6)*SmtRes!DA15, 2) -> 0.67 | P13: =SmtRes!AG15 -> 0.04 | Q13: =SmtRes!DC15 -> 0 | R13: =ROUND(ROUND(Q13*Source!I31, 6)*1, 2) -> 0 | S13: =SmtRes!AC15 -> 0.87 | T13: =ROUND(ROUND(Q13*Source!I31, 6)*SmtRes!AK15, 2) -> 0 | U13: =SmtRes!X15 -> -875577540 | V13: 334347769 | W13: -1601543727
A14: =Source!A31 -> 17 | C14: 2 | D14: 0 | E14: =SmtRes!AV14 -> 0 | F14: =SmtRes!I14 -> 2.1-13-14 | G14: =SmtRes!K14 -> Установки для сварки ручной дуговой (постоянного тока) | H14: =SmtRes!O14 -> маш.-ч. | I14: =SmtRes!Y14*Source!I31 -> 2.275 | J14: =SmtRes!AO14 -> 1 | K14: =SmtRes!AF14 -> 6.22 | L14: =SmtRes!DB14 -> 2.025 | M14: =ROUND(ROUND(L14*Source!I31, 6)*1, 2) -> 14.18 | N14: =SmtRes!AB14 -> 37.63 | O14: =ROUND(ROUND(L14*Source!I31, 6)*SmtRes!DA14, 2) -> 85.76 | P14: =SmtRes!AG14 -> 0.29 | Q14: =SmtRes!DC14 -> 0.1 | R14: =ROUND(ROUND(Q14*Source!I31, 6)*1, 2) -> 0.7 | S14: =SmtRes!AC14 -> 6.29 | T14: =ROUND(ROUND(Q14*Source!I31, 6)*SmtRes!AK14, 2) -> 15.18 | U14: =SmtRes!X14 -> -243982840 | V14: 1628274585 | W14: -649282412
A15: =Source!A31 -> 17 | C15: 1 | D15: 0 | E15: =SmtRes!AV13 -> 1 | F15: =SmtRes!I13 -> 9999990008 | G15: =SmtRes!K13 -> Трудозатраты рабочих | H15: =SmtRes!O13 -> чел.-ч. | I15: =SmtRes!Y13*Source!I31 -> 8.9355 | J15: =SmtRes!AO13 -> 1 | K15: =SmtRes!AH13 -> 0 | L15: =SmtRes!DB13 -> 0 | M15: =ROUND(ROUND(L15*Source!I31, 6)*1, 2) -> 0 | N15: =SmtRes!AD13 -> 0 | O15: =ROUND(ROUND(L15*Source!I31, 6)*SmtRes!DA13, 2) -> 0 | P15: =SmtRes!AG13 -> 0 | Q15: =SmtRes!DC13 -> 0 | R15: =ROUND(ROUND(Q15*Source!I31, 6)*1, 2) -> 0 | S15: =SmtRes!AC13 -> 0 | T15: =ROUND(ROUND(Q15*Source!I31, 6)*SmtRes!AK13, 2) -> 0 | U15: =SmtRes!X13 -> 476480486 | V15: 1286141856 | W15: 1286141856
A16: =Source!A33 -> 17 | C16: 1 | D16: 0 | E16: =SmtRes!AV21 -> 1 | F16: =SmtRes!I21 -> 9999990008 | G16: =SmtRes!K21 -> Трудозатраты рабочих | H16: =SmtRes!O21 -> чел.-ч. | I16: =SmtRes!Y21*Source!I33 -> 7 | J16: =SmtRes!AO21 -> 1 | K16: =SmtRes!AH21 -> 0 | L16: =SmtRes!DB21 -> 0 | M16: =ROUND(ROUND(L16*Source!I33, 6)*1, 2) -> 0 | N16: =SmtRes!AD21 -> 0 | O16: =ROUND(ROUND(L16*Source!I33, 6)*SmtRes!DA21, 2) -> 0 | P16: =SmtRes!AG21 -> 0 | Q16: =SmtRes!DC21 -> 0 | R16: =ROUND(ROUND(Q16*Source!I33, 6)*1, 2) -> 0 | S16: =SmtRes!AC21 -> 0 | T16: =ROUND(ROUND(Q16*Source!I33, 6)*SmtRes!AK21, 2) -> 0 | U16: =SmtRes!X21 -> 476480486 | V16: 1286141856 | W16: 1286141856
A17: =Source!A35 -> 18 | C17: 3 | D17: =Source!BI35 -> 2 | E17: =Source!FS35 -> 0 | F17: =Source!F35 -> ц. пост. | G17: =Source!G35 -> Кнопка выхода SR-BP42 | H17: =Source!H35 -> шт. | I17: =Source!I35 -> 7 | J17: 1 | K17: =Source!AC35 -> 32.24 | M17: =ROUND(K17*I17, 2) -> 225.68 | N17: =Source!AC35*IF(Source!BC35<> 0, Source!BC35, 1) -> 174.4184 | O17: =ROUND(N17*I17, 2) -> 1220.93 | P17: =Source!AE35 -> 0 | R17: =ROUND(P17*I17, 2) -> 0 | S17: =Source!AE35*IF(Source!BS35<> 0, Source!BS35, 1) -> 0 | T17: =ROUND(S17*I17, 2) -> 0 | U17: =Source!GF35 -> -43413833 | V17: -1538863874 | W17: -1960723027
A18: =Source!A37 -> 17 | C18: 1 | D18: 0 | E18: =SmtRes!AV24 -> 1 | F18: =SmtRes!I24 -> 9999990008 | G18: =SmtRes!K24 -> Трудозатраты рабочих | H18: =SmtRes!O24 -> чел.-ч. | I18: =SmtRes!Y24*Source!I37 -> 3.64 | J18: =SmtRes!AO24 -> 1 | K18: =SmtRes!AH24 -> 0 | L18: =SmtRes!DB24 -> 0 | M18: =ROUND(ROUND(L18*Source!I37, 6)*1, 2) -> 0 | N18: =SmtRes!AD24 -> 0 | O18: =ROUND(ROUND(L18*Source!I37, 6)*SmtRes!DA24, 2) -> 0 | P18: =SmtRes!AG24 -> 0 | Q18: =SmtRes!DC24 -> 0 | R18: =ROUND(ROUND(Q18*Source!I37, 6)*1, 2) -> 0 | S18: =SmtRes!AC24 -> 0 | T18: =ROUND(ROUND(Q18*Source!I37, 6)*SmtRes!AK24, 2) -> 0 | U18: =SmtRes!X24 -> 476480486 | V18: 1286141856 | W18: 1286141856
A19: =Source!A39 -> 17 | C19: 1 | D19: 0 | E19: =SmtRes!AV29 -> 1 | F19: =SmtRes!I29 -> 9999990008 | G19: =SmtRes!K29 -> Трудозатраты рабочих | H19: =SmtRes!O29 -> чел.-ч. | I19: =SmtRes!Y29*Source!I39 -> 15.93 | J19: =SmtRes!AO29 -> 1 | K19: =SmtRes!AH29 -> 0 | L19: =SmtRes!DB29 -> 0 | M19: =ROUND(ROUND(L19*Source!I39, 6)*1, 2) -> 0 | N19: =SmtRes!AD29 -> 0 | O19: =ROUND(ROUND(L19*Source!I39, 6)*SmtRes!DA29, 2) -> 0 | P19: =SmtRes!AG29 -> 0 | Q19: =SmtRes!DC29 -> 0 | R19: =ROUND(ROUND(Q19*Source!I39, 6)*1, 2) -> 0 | S19: =SmtRes!AC29 -> 0 | T19: =ROUND(ROUND(Q19*Source!I39, 6)*SmtRes!AK29, 2) -> 0 | U19: =SmtRes!X29 -> 476480486 | V19: 1286141856 | W19: 1286141856
A20: =Source!A41 -> 18 | C20: 3 | D20: =Source!BI41 -> 2 | E20: =Source!FS41 -> 0 | F20: =Source!F41 -> 1.12-5-373 | G20: =Source!G41 -> Трубы электротехнические гофрированные, поливинилхлоридные, негорючие, с зондом, наружный диаметр 25 мм | H20: =Source!H41 -> м | I20: =Source!I41 -> 102 | J20: 1 | K20: =Source!AC41 -> 5.19 | M20: =ROUND(K20*I20, 2) -> 529.38 | N20: =Source!AC41*IF(Source!BC41<> 0, Source!BC41, 1) -> 34.5135 | O20: =ROUND(N20*I20, 2) -> 3520.38 | P20: =Source!AE41 -> 0 | R20: =ROUND(P20*I20, 2) -> 0 | S20: =Source!AE41*IF(Source!BS41<> 0, Source!BS41, 1) -> 0 | T20: =ROUND(S20*I20, 2) -> 0 | U20: =Source!GF41 -> -1867355440 | V20: 55109370 | W20: -290208468
A21: =Source!A43 -> 18 | C21: 3 | D21: =Source!BI43 -> 2 | E21: =Source!FS43 -> 0 | F21: =Source!F43 -> 1.21-5-185 | G21: =Source!G43 -> Коробки ответвительные, тип КРП-1 УХЛ4, размеры 52х109х109 мм | H21: =Source!H43 -> шт. | I21: =Source!I43 -> 5 | J21: 1 | K21: =Source!AC43 -> 26.19 | M21: =ROUND(K21*I21, 2) -> 130.95 | N21: =Source!AC43*IF(Source!BC43<> 0, Source!BC43, 1) -> 25.1424 | O21: =ROUND(N21*I21, 2) -> 125.71 | P21: =Source!AE43 -> 0 | R21: =ROUND(P21*I21, 2) -> 0 | S21: =Source!AE43*IF(Source!BS43<> 0, Source!BS43, 1) -> 0 | T21: =ROUND(S21*I21, 2) -> 0 | U21: =Source!GF43 -> -838499012 | V21: -565866029 | W21: 776779917
A22: =Source!A45 -> 18 | C22: 3 | D22: =Source!BI45 -> 2 | E22: =Source!FS45 -> 0 | F22: =Source!F45 -> 1.21-5-1137 | G22: =Source!G45 -> Держатели пластиковые с защелкой для крепления труб, рукавов и гибких вводов диаметром 25 мм | H22: =Source!H45 -> 100 шт. | I22: =Source!I45 -> 0.91 | J22: 1 | K22: =Source!AC45 -> 154.37 | M22: =ROUND(K22*I22, 2) -> 140.48 | N22: =Source!AC45*IF(Source!BC45<> 0, Source!BC45, 1) -> 214.5743 | O22: =ROUND(N22*I22, 2) -> 195.26 | P22: =Source!AE45 -> 0 | R22: =ROUND(P22*I22, 2) -> 0 | S22: =Source!AE45*IF(Source!BS45<> 0, Source!BS45, 1) -> 0 | T22: =ROUND(S22*I22, 2) -> 0 | U22: =Source!GF45 -> 1689615020 | V22: -2006919963 | W22: -1203804874
A23: =Source!A47 -> 17 | C23: 1 | D23: 0 | E23: =SmtRes!AV38 -> 1 | F23: =SmtRes!I38 -> 9999990008 | G23: =SmtRes!K38 -> Трудозатраты рабочих | H23: =SmtRes!O38 -> чел.-ч. | I23: =SmtRes!Y38*Source!I47 -> 20.335 | J23: =SmtRes!AO38 -> 1 | K23: =SmtRes!AH38 -> 0 | L23: =SmtRes!DB38 -> 0 | M23: =ROUND(ROUND(L23*Source!I47, 6)*1, 2) -> 0 | N23: =SmtRes!AD38 -> 0 | O23: =ROUND(ROUND(L23*Source!I47, 6)*SmtRes!DA38, 2) -> 0 | P23: =SmtRes!AG38 -> 0 | Q23: =SmtRes!DC38 -> 0 | R23: =ROUND(ROUND(Q23*Source!I47, 6)*1, 2) -> 0 | S23: =SmtRes!AC38 -> 0 | T23: =ROUND(ROUND(Q23*Source!I47, 6)*SmtRes!AK38, 2) -> 0 | U23: =SmtRes!X38 -> 476480486 | V23: 1286141856 | W23: 1286141856
A24: =Source!A49 -> 18 | C24: 3 | D24: =Source!BI49 -> 2 | E24: =Source!FS49 -> 0 | F24: =Source!F49 -> 1.1-1-2426 | G24: =Source!G49 -> Кабель-каналы, размер 20х12,5 мм, кабель-каналы | H24: =Source!H49 -> м | I24: =Source!I49 -> 50 | J24: 1 | K24: =Source!AC49 -> 7.28 | M24: =ROUND(K24*I24, 2) -> 364 | N24: =Source!AC49*IF(Source!BC49<> 0, Source!BC49, 1) -> 13.468 | O24: =ROUND(N24*I24, 2) -> 673.4 | P24: =Source!AE49 -> 0 | R24: =ROUND(P24*I24, 2) -> 0 | S24: =Source!AE49*IF(Source!BS49<> 0, Source!BS49, 1) -> 0 | T24: =ROUND(S24*I24, 2) -> 0 | U24: =Source!GF49 -> -1211388013 | V24: -1575198268 | W24: -120463350
A25: =Source!A51 -> 18 | C25: 3 | D25: =Source!BI51 -> 2 | E25: =Source!FS51 -> 0 | F25: =Source!F51 -> 1.1-1-2428 | G25: =Source!G51 -> Кабель-каналы, размер 20х12,5 мм, углы наружные | H25: =Source!H51 -> 1000 шт. | I25: =Source!I51 -> 0.01 | J25: 1 | K25: =Source!AC51 -> 11139.68 | M25: =ROUND(K25*I25, 2) -> 111.4 | N25: =Source!AC51*IF(Source!BC51<> 0, Source!BC51, 1) -> 12699.235 | O25: =ROUND(N25*I25, 2) -> 126.99 | P25: =Source!AE51 -> 0 | R25: =ROUND(P25*I25, 2) -> 0 | S25: =Source!AE51*IF(Source!BS51<> 0, Source!BS51, 1) -> 0 | T25: =ROUND(S25*I25, 2) -> 0 | U25: =Source!GF51 -> 2143346931 | V25: 583768039 | W25: 1080349418
A26: =Source!A53 -> 18 | C26: 3 | D26: =Source!BI53 -> 2 | E26: =Source!FS53 -> 0 | F26: =Source!F53 -> 1.1-1-2430 | G26: =Source!G53 -> Кабель-каналы, размер 20х12,5 мм, заглушки | H26: =Source!H53 -> 1000 шт. | I26: =Source!I53 -> 0.003 | J26: 1 | K26: =Source!AC53 -> 5447.7 | M26: =ROUND(K26*I26, 2) -> 16.34 | N26: =Source!AC53*IF(Source!BC53<> 0, Source!BC53, 1) -> 9805.86 | O26: =ROUND(N26*I26, 2) -> 29.42 | P26: =Source!AE53 -> 0 | R26: =ROUND(P26*I26, 2) -> 0 | S26: =Source!AE53*IF(Source!BS53<> 0, Source!BS53, 1) -> 0 | T26: =ROUND(S26*I26, 2) -> 0 | U26: =Source!GF53 -> 1934155101 | V26: -1937781842 | W26: 1143559099
A27: =Source!A55 -> 18 | C27: 3 | D27: =Source!BI55 -> 2 | E27: =Source!FS55 -> 0 | F27: =Source!F55 -> 1.1-1-2427 | G27: =Source!G55 -> Кабель-каналы, размер 20х12,5 мм, углы внутренние | H27: =Source!H55 -> 1000 шт. | I27: =Source!I55 -> 0.007 | J27: 1 | K27: =Source!AC55 -> 8875.18 | M27: =ROUND(K27*I27, 2) -> 62.13 | N27: =Source!AC55*IF(Source!BC55<> 0, Source!BC55, 1) -> 12780.259 | O27: =ROUND(N27*I27, 2) -> 89.46 | P27: =Source!AE55 -> 0 | R27: =ROUND(P27*I27, 2) -> 0 | S27: =Source!AE55*IF(Source!BS55<> 0, Source!BS55, 1) -> 0 | T27: =ROUND(S27*I27, 2) -> 0 | U27: =Source!GF55 -> 2124294238 | V27: 1320925888 | W27: 1135683912
A28: =Source!A57 -> 17 | C28: 3 | D28: =Source!BI57 -> 2 | E28: =Source!FS57 -> 0 | F28: =Source!F57 -> 1.21-5-555 | G28: =Source!G57 -> Лотки кабельные оцинкованные, перфорированные, простые, без крышек, тип PNK-50 | H28: =Source!H57 -> м | I28: =Source!I57 -> 0 | J28: 1 | K28: =Source!AC57 -> 50.14 | M28: =ROUND(K28*I28, 2) -> 0 | N28: =Source!AC57*IF(Source!BC57<> 0, Source!BC57, 1) -> 86.2408 | O28: =ROUND(N28*I28, 2) -> 0 | P28: =Source!AE57 -> 0 | R28: =ROUND(P28*I28, 2) -> 0 | S28: =Source!AE57*IF(Source!BS57<> 0, Source!BS57, 1) -> 0 | T28: =ROUND(S28*I28, 2) -> 0 | U28: =Source!GF57 -> -253407897 | V28: 1958707482 | W28: 959745139
A29: =Source!A59 -> 17 | C29: 3 | D29: =Source!BI59 -> 2 | E29: =Source!FS59 -> 0 | F29: =Source!F59 -> 1.21-5-559 | G29: =Source!G59 -> Крышки для лотков простых марки PNK-50 | H29: =Source!H59 -> м | I29: =Source!I59 -> 0 | J29: 1 | K29: =Source!AC59 -> 34.73 | M29: =ROUND(K29*I29, 2) -> 0 | N29: =Source!AC59*IF(Source!BC59<> 0, Source!BC59, 1) -> 51.4004 | O29: =ROUND(N29*I29, 2) -> 0 | P29: =Source!AE59 -> 0 | R29: =ROUND(P29*I29, 2) -> 0 | S29: =Source!AE59*IF(Source!BS59<> 0, Source!BS59, 1) -> 0 | T29: =ROUND(S29*I29, 2) -> 0 | U29: =Source!GF59 -> 2038973461 | V29: -1742127275 | W29: -311461502
A30: =Source!A61 -> 17 | C30: 1 | D30: 0 | E30: =SmtRes!AV44 -> 1 | F30: =SmtRes!I44 -> 9999990008 | G30: =SmtRes!K44 -> Трудозатраты рабочих | H30: =SmtRes!O44 -> чел.-ч. | I30: =SmtRes!Y44*Source!I61 -> 6.18 | J30: =SmtRes!AO44 -> 1 | K30: =SmtRes!AH44 -> 0 | L30: =SmtRes!DB44 -> 0 | M30: =ROUND(ROUND(L30*Source!I61, 6)*1, 2) -> 0 | N30: =SmtRes!AD44 -> 0 | O30: =ROUND(ROUND(L30*Source!I61, 6)*SmtRes!DA44, 2) -> 0 | P30: =SmtRes!AG44 -> 0 | Q30: =SmtRes!DC44 -> 0 | R30: =ROUND(ROUND(Q30*Source!I61, 6)*1, 2) -> 0 | S30: =SmtRes!AC44 -> 0 | T30: =ROUND(ROUND(Q30*Source!I61, 6)*SmtRes!AK44, 2) -> 0 | U30: =SmtRes!X44 -> 476480486 | V30: 1286141856 | W30: 1286141856
A31: =Source!A63 -> 17 | C31: 1 | D31: 0 | E31: =SmtRes!AV46 -> 1 | F31: =SmtRes!I46 -> 9999990008 | G31: =SmtRes!K46 -> Трудозатраты рабочих | H31: =SmtRes!O46 -> чел.-ч. | I31: =SmtRes!Y46*Source!I63 -> 1.545 | J31: =SmtRes!AO46 -> 1 | K31: =SmtRes!AH46 -> 0 | L31: =SmtRes!DB46 -> 0 | M31: =ROUND(ROUND(L31*Source!I63, 6)*1, 2) -> 0 | N31: =SmtRes!AD46 -> 0 | O31: =ROUND(ROUND(L31*Source!I63, 6)*SmtRes!DA46, 2) -> 0 | P31: =SmtRes!AG46 -> 0 | Q31: =SmtRes!DC46 -> 0 | R31: =ROUND(ROUND(Q31*Source!I63, 6)*1, 2) -> 0 | S31: =SmtRes!AC46 -> 0 | T31: =ROUND(ROUND(Q31*Source!I63, 6)*SmtRes!AK46, 2) -> 0 | U31: =SmtRes!X46 -> 476480486 | V31: 1286141856 | W31: 1286141856
A32: =Source!A65 -> 17 | C32: 1 | D32: 0 | E32: =SmtRes!AV48 -> 1 | F32: =SmtRes!I48 -> 9999990008 | G32: =SmtRes!K48 -> Трудозатраты рабочих | H32: =SmtRes!O48 -> чел.-ч. | I32: =SmtRes!Y48*Source!I65 -> 41.2 | J32: =SmtRes!AO48 -> 1 | K32: =SmtRes!AH48 -> 0 | L32: =SmtRes!DB48 -> 0 | M32: =ROUND(ROUND(L32*Source!I65, 6)*1, 2) -> 0 | N32: =SmtRes!AD48 -> 0 | O32: =ROUND(ROUND(L32*Source!I65, 6)*SmtRes!DA48, 2) -> 0 | P32: =SmtRes!AG48 -> 0 | Q32: =SmtRes!DC48 -> 0 | R32: =ROUND(ROUND(Q32*Source!I65, 6)*1, 2) -> 0 | S32: =SmtRes!AC48 -> 0 | T32: =ROUND(ROUND(Q32*Source!I65, 6)*SmtRes!AK48, 2) -> 0 | U32: =SmtRes!X48 -> 476480486 | V32: 1286141856 | W32: 1286141856
A33: =Source!A67 -> 17 | C33: 3 | D33: =Source!BI67 -> 2 | E33: =Source!FS67 -> 0 | F33: =Source!F67 -> ц. пост. | G33: =Source!G67 -> Кабель КВПЭфнг(С)-LSLTx-5e 4х2х0,52 | H33: =Source!H67 -> ПМ | I33: =Source!I67 -> 510 | J33: 1 | K33: =Source!AC67 -> 12.36 | M33: =ROUND(K33*I33, 2) -> 6303.6 | N33: =Source!AC67*IF(Source!BC67<> 0, Source!BC67, 1) -> 66.8676 | O33: =ROUND(N33*I33, 2) -> 34102.48 | P33: =Source!AE67 -> 0 | R33: =ROUND(P33*I33, 2) -> 0 | S33: =Source!AE67*IF(Source!BS67<> 0, Source!BS67, 1) -> 0 | T33: =ROUND(S33*I33, 2) -> 0 | U33: =Source!GF67 -> 1696774418 | V33: 1233014327 | W33: -1775216362
A34: =Source!A69 -> 17 | C34: 3 | D34: =Source!BI69 -> 2 | E34: =Source!FS69 -> 0 | F34: =Source!F69 -> ц. пост. | G34: =Source!G69 -> Кабель ВВГЭ нг(А)-LSLTх 3х1,5 | H34: =Source!H69 -> ПМ | I34: =Source!I69 -> 510 | J34: 1 | K34: =Source!AC69 -> 7.73 | M34: =ROUND(K34*I34, 2) -> 3942.3 | N34: =Source!AC69*IF(Source!BC69<> 0, Source!BC69, 1) -> 41.8193 | O34: =ROUND(N34*I34, 2) -> 21327.84 | P34: =Source!AE69 -> 0 | R34: =ROUND(P34*I34, 2) -> 0 | S34: =Source!AE69*IF(Source!BS69<> 0, Source!BS69, 1) -> 0 | T34: =ROUND(S34*I34, 2) -> 0 | U34: =Source!GF69 -> 926290351 | V34: -2137379462 | W34: 1287347680
A35: =Source!A71 -> 17 | C35: 3 | D35: =Source!BI71 -> 2 | E35: =Source!FS71 -> 0 | F35: =Source!F71 -> 1.23-9-38 | G35: =Source!G71 -> Кабели для адресных систем пожарной сигнализации с однопроволочными медными жилами, с изоляцией и оболочкой из ПВХ пластиката, марка КПСВВ, число пар и сечение 1х2х0,75 мм2 | H35: =Source!H71 -> км | I35: =Source!I71 -> 0.11 | J35: 1 | K35: =Source!AC71 -> 4020.51 | M35: =ROUND(K35*I35, 2) -> 442.26 | N35: =Source!AC71*IF(Source!BC71<> 0, Source!BC71, 1) -> 10654.352 | O35: =ROUND(N35*I35, 2) -> 1171.98 | P35: =Source!AE71 -> 0 | R35: =ROUND(P35*I35, 2) -> 0 | S35: =Source!AE71*IF(Source!BS71<> 0, Source!BS71, 1) -> 0 | T35: =ROUND(S35*I35, 2) -> 0 | U35: =Source!GF71 -> 459342775 | V35: 1035200766 | W35: 784183130
A36: =Source!A73 -> 17 | C36: 1 | D36: 0 | E36: =SmtRes!AV50 -> 1 | F36: =SmtRes!I50 -> 9999990008 | G36: =SmtRes!K50 -> Трудозатраты рабочих | H36: =SmtRes!O50 -> чел.-ч. | I36: =SmtRes!Y50*Source!I73 -> 2.06 | J36: =SmtRes!AO50 -> 1 | K36: =SmtRes!AH50 -> 0 | L36: =SmtRes!DB50 -> 0 | M36: =ROUND(ROUND(L36*Source!I73, 6)*1, 2) -> 0 | N36: =SmtRes!AD50 -> 0 | O36: =ROUND(ROUND(L36*Source!I73, 6)*SmtRes!DA50, 2) -> 0 | P36: =SmtRes!AG50 -> 0 | Q36: =SmtRes!DC50 -> 0 | R36: =ROUND(ROUND(Q36*Source!I73, 6)*1, 2) -> 0 | S36: =SmtRes!AC50 -> 0 | T36: =ROUND(ROUND(Q36*Source!I73, 6)*SmtRes!AK50, 2) -> 0 | U36: =SmtRes!X50 -> 476480486 | V36: 1286141856 | W36: 1286141856
A37: =Source!A75 -> 17 | C37: 1 | D37: 0 | E37: =SmtRes!AV52 -> 1 | F37: =SmtRes!I52 -> 9999990008 | G37: =SmtRes!K52 -> Трудозатраты рабочих | H37: =SmtRes!O52 -> чел.-ч. | I37: =SmtRes!Y52*Source!I75 -> 5.856 | J37: =SmtRes!AO52 -> 1 | K37: =SmtRes!AH52 -> 0 | L37: =SmtRes!DB52 -> 0 | M37: =ROUND(ROUND(L37*Source!I75, 6)*1, 2) -> 0 | N37: =SmtRes!AD52 -> 0 | O37: =ROUND(ROUND(L37*Source!I75, 6)*SmtRes!DA52, 2) -> 0 | P37: =SmtRes!AG52 -> 0 | Q37: =SmtRes!DC52 -> 0 | R37: =ROUND(ROUND(Q37*Source!I75, 6)*1, 2) -> 0 | S37: =SmtRes!AC52 -> 0 | T37: =ROUND(ROUND(Q37*Source!I75, 6)*SmtRes!AK52, 2) -> 0 | U37: =SmtRes!X52 -> 476480486 | V37: 1286141856 | W37: 1286141856
A38: =Source!A77 -> 17 | C38: 3 | D38: 0 | E38: =SmtRes!AV56 -> 0 | F38: =SmtRes!I56 -> 9999990002 | G38: =SmtRes!K56 -> Масса оборудования | H38: =SmtRes!O56 -> т | I38: =SmtRes!Y56*Source!I77 -> 0.045 | J38: =SmtRes!AO56 -> 1 | K38: =SmtRes!AE56 -> 0 | L38: =SmtRes!DB56 -> 0 | M38: =ROUND(ROUND(L38*Source!I77, 6)*1, 2) -> 0 | N38: =SmtRes!AA56 -> 0 | O38: =ROUND(ROUND(L38*Source!I77, 6)*SmtRes!DA56, 2) -> 0 | P38: =SmtRes!AG56 -> 0 | Q38: =SmtRes!DC56 -> 0 | R38: =ROUND(ROUND(Q38*Source!I77, 6)*1, 2) -> 0 | S38: =SmtRes!AC56 -> 0 | T38: =ROUND(ROUND(Q38*Source!I77, 6)*SmtRes!AK56, 2) -> 0 | U38: =SmtRes!X56 -> -783086922 | V38: 1479202730 | W38: 1479202730
A39: =Source!A77 -> 17 | C39: 1 | D39: 0 | E39: =SmtRes!AV55 -> 1 | F39: =SmtRes!I55 -> 9999990008 | G39: =SmtRes!K55 -> Трудозатраты рабочих | H39: =SmtRes!O55 -> чел.-ч. | I39: =SmtRes!Y55*Source!I77 -> 2 | J39: =SmtRes!AO55 -> 1 | K39: =SmtRes!AH55 -> 0 | L39: =SmtRes!DB55 -> 0 | M39: =ROUND(ROUND(L39*Source!I77, 6)*1, 2) -> 0 | N39: =SmtRes!AD55 -> 0 | O39: =ROUND(ROUND(L39*Source!I77, 6)*SmtRes!DA55, 2) -> 0 | P39: =SmtRes!AG55 -> 0 | Q39: =SmtRes!DC55 -> 0 | R39: =ROUND(ROUND(Q39*Source!I77, 6)*1, 2) -> 0 | S39: =SmtRes!AC55 -> 0 | T39: =ROUND(ROUND(Q39*Source!I77, 6)*SmtRes!AK55, 2) -> 0 | U39: =SmtRes!X55 -> 476480486 | V39: 1286141856 | W39: 1286141856
A40: =Source!A79 -> 17 | C40: 1 | D40: 0 | E40: =SmtRes!AV58 -> 1 | F40: =SmtRes!I58 -> 9999990008 | G40: =SmtRes!K58 -> Трудозатраты рабочих | H40: =SmtRes!O58 -> чел.-ч. | I40: =SmtRes!Y58*Source!I79 -> 24.24 | J40: =SmtRes!AO58 -> 1 | K40: =SmtRes!AH58 -> 0 | L40: =SmtRes!DB58 -> 0 | M40: =ROUND(ROUND(L40*Source!I79, 6)*1, 2) -> 0 | N40: =SmtRes!AD58 -> 0 | O40: =ROUND(ROUND(L40*Source!I79, 6)*SmtRes!DA58, 2) -> 0 | P40: =SmtRes!AG58 -> 0 | Q40: =SmtRes!DC58 -> 0 | R40: =ROUND(ROUND(Q40*Source!I79, 6)*1, 2) -> 0 | S40: =SmtRes!AC58 -> 0 | T40: =ROUND(ROUND(Q40*Source!I79, 6)*SmtRes!AK58, 2) -> 0 | U40: =SmtRes!X58 -> 476480486 | V40: 1286141856 | W40: 1286141856
A41: =Source!A81 -> 4 | B41: 81 | G41: =Source!G81 -> Оборудование
A42: =Source!A86 -> 17 | C42: 5 | D42: =Source!BI86 -> 3 | E42: =Source!FS86 -> 0 | F42: =Source!F86 -> 13.1-3-185 | G42: =Source!G86 -> Контроллер доступа С2000-2: Разнообразные режимы работы, режим запрета повторного прохода (Antipassback); встроенный звуковой сигнализатор; управление и передача сообщений по интерфейсу RS-485 в ИСО «Орион» | H42: =Source!H86 -> компл. | I42: =Source!I86 -> 4 | J42: 1 | K42: =Source!AC86 -> 1024.44 | M42: =ROUND(K42*I42, 2) -> 4097.76 | N42: =Source!AC86*IF(Source!BC86<> 0, Source!BC86, 1) -> 2735.2548 | O42: =ROUND(N42*I42, 2) -> 10941.02 | P42: =Source!AE86 -> 0 | R42: =ROUND(P42*I42, 2) -> 0 | S42: =Source!AE86*IF(Source!BS86<> 0, Source!BS86, 1) -> 0 | T42: =ROUND(S42*I42, 2) -> 0 | U42: =Source!GF86 -> -218678575 | V42: -2090169374 | W42: -1105606372
...

Sheet Расчет стоимости ресурсов
A2: Ресурсная ведомость на
A3: =CONCATENATE("Объект: ",IF(Source!G158<>"Новый объект", Source!G158, "")) -> Объект: 12 СКУД
A4: Обоснование | B4: Наименование | C4: Единица измерения | D4: Объем | E4: Текущая
E6: цена | F6: стоимость
A7: 1 | B7: 2 | C7: 3 | D7: 4 | E7: 5 | F7: 6
A8: =CONCATENATE("Локальная смета: ",IF(Source!G22<>"Новая локальная смета", Source!G22, "")) -> Локальная смета: Система контроля доступа
A9: Трудовые ресурсы
A10: 9999990008 | B10: Трудозатраты рабочих | C10: чел.-ч. | D10: =ROUND(SUMIF(RV_DATA!W7:'RV_DATA'!W40, 1286141856, RV_DATA!I7:'RV_DATA'!I40), 6) -> 183.8455 | E10: =ROUND(RV_DATA!N7, 6) -> 0 | F10: =ROUND(SUMIF(RV_DATA!W7:'RV_DATA'!W40, 1286141856, RV_DATA!O7:'RV_DATA'!O40), 6) -> 0 | Q10: 1
A11: Итого трудовые ресурсы | E11: =SUMIF(Q10:Q10, 1, F10:F10) -> 0
A12: Машины и механизмы
A13: 2.1-13-14 | B13: Установки для сварки ручной дуговой (постоянного тока) | C13: маш.-ч. | D13: =ROUND(SUMIF(RV_DATA!W7:'RV_DATA'!W40, -649282412, RV_DATA!I7:'RV_DATA'!I40), 6) -> 2.275 | E13: =ROUND(RV_DATA!N14, 6) -> 37.63 | F13: =ROUND(SUMIF(RV_DATA!W7:'RV_DATA'!W40, -649282412, RV_DATA!O7:'RV_DATA'!O40), 6) -> 85.76 | Q13: 2
A14: 2.1-30-19 | B14: Машины шлифовальные электрические | C14: маш.-ч. | D14: =ROUND(SUMIF(RV_DATA!W7:'RV_DATA'!W40, -1601543727, RV_DATA!I7:'RV_DATA'!I40), 6) -> 0.175 | E14: =ROUND(RV_DATA!N13, 6) -> 5.22 | F14: =ROUND(SUMIF(RV_DATA!W7:'RV_DATA'!W40, -1601543727, RV_DATA!O7:'RV_DATA'!O40), 6) -> 0.67 | Q14: 2
A15: 2.1-30-56 | B15: Шуруповерты | C15: маш.-ч. | D15: =ROUND(SUMIF(RV_DATA!W7:'RV_DATA'!W40, 2105073805, RV_DATA!I7:'RV_DATA'!I40), 6) -> 1.3125 | E15: =ROUND(RV_DATA!N12, 6) -> 5.35 | F15: =ROUND(SUMIF(RV_DATA!W7:'RV_DATA'!W40, 2105073805, RV_DATA!O7:'RV_DATA'!O40), 6) -> 7.32 | Q15: 2
A16: 2.1-30-6 | B16: Дрели электрические | C16: маш.-ч. | D16: =ROUND(SUMIF(RV_DATA!W7:'RV_DATA'!W40, -1277416625, RV_DATA!I7:'RV_DATA'!I40), 6) -> 0.9625 | E16: =ROUND(RV_DATA!N11, 6) -> 28.23 | F16: =ROUND(SUMIF(RV_DATA!W7:'RV_DATA'!W40, -1277416625, RV_DATA!O7:'RV_DATA'!O40), 6) -> 27.21 | Q16: 2
A17: Итого машины и механизмы | E17: =SUMIF(Q13:Q16, 2, F13:F16) -> 120.96
A18: Материальные ресурсы
A19: 1.1-1-2426 | B19: Кабель-каналы, размер 20х12,5 мм, кабель-каналы | C19: м | D19: =ROUND(SUMIF(RV_DATA!W7:'RV_DATA'!W40, -120463350, RV_DATA!I7:'RV_DATA'!I40), 6) -> 50 | E19: =ROUND(RV_DATA!N24, 6) -> 13.468 | F19: =ROUND(SUMIF(RV_DATA!W7:'RV_DATA'!W40, -120463350, RV_DATA!O7:'RV_DATA'!O40), 6) -> 673.4 | Q19: 3
A20: 1.1-1-2427 | B20: Кабель-каналы, размер 20х12,5 мм, углы внутренние | C20: 1000 шт. | D20: =ROUND(SUMIF(RV_DATA!W7:'RV_DATA'!W40, 1135683912, RV_DATA!I7:'RV_DATA'!I40), 6) -> 0.007 | E20: =ROUND(RV_DATA!N27, 6) -> 12780.259 | F20: =ROUND(SUMIF(RV_DATA!W7:'RV_DATA'!W40, 1135683912, RV_DATA!O7:'RV_DATA'!O40), 6) -> 89.46 | Q20: 3
A21: 1.1-1-2428 | B21: Кабель-каналы, размер 20х12,5 мм, углы наружные | C21: 1000 шт. | D21: =ROUND(SUMIF(RV_DATA!W7:'RV_DATA'!W40, 1080349418, RV_DATA!I7:'RV_DATA'!I40), 6) -> 0.01 | E21: =ROUND(RV_DATA!N25, 6) -> 12699.235 | F21: =ROUND(SUMIF(RV_DATA!W7:'RV_DATA'!W40, 1080349418, RV_DATA!O7:'RV_DATA'!O40), 6) -> 126.99 | Q21: 3
A22: 1.1-1-2430 | B22: Кабель-каналы, размер 20х12,5 мм, заглушки | C22: 1000 шт. | D22: =ROUND(SUMIF(RV_DATA!W7:'RV_DATA'!W40, 1143559099, RV_DATA!I7:'RV_DATA'!I40), 6) -> 0.003 | E22: =ROUND(RV_DATA!N26, 6) -> 9805.86 | F22: =ROUND(SUMIF(RV_DATA!W7:'RV_DATA'!W40, 1143559099, RV_DATA!O7:'RV_DATA'!O40), 6) -> 29.42 | Q22: 3
A23: 1.1-1-2627 | B23: Винты самонарезающие 5х40 мм для металла | C23: кг | D23: =ROUND(SUMIF(RV_DATA!W7:'RV_DATA'!W40, 1761663345, RV_DATA!I7:'RV_DATA'!I40), 6) -> 0.14 | E23: =ROUND(RV_DATA!N10, 6) -> 91.8 | F23: =ROUND(SUMIF(RV_DATA!W7:'RV_DATA'!W40, 1761663345, RV_DATA!O7:'RV_DATA'!O40), 6) -> 12.77 | Q23: 3
A24: 1.12-5-373 | B24: Трубы электротехнические гофрированные, поливинилхлоридные, негорючие, с зондом, наружный диаметр 25 мм | C24: м | D24: =ROUND(SUMIF(RV_DATA!W7:'RV_DATA'!W40, -290208468, RV_DATA!I7:'RV_DATA'!I40), 6) -> 102 | E24: =ROUND(RV_DATA!N20, 6) -> 34.5135 | F24: =ROUND(SUMIF(RV_DATA!W7:'RV_DATA'!W40, -290208468, RV_DATA!O7:'RV_DATA'!O40), 6) -> 3520.38 | Q24: 3
A25: 1.21-5-1137 | B25: Держатели пластиковые с защелкой для крепления труб, рукавов и гибких вводов диаметром 25 мм | C25: 100 шт. | D25: =ROUND(SUMIF(RV_DATA!W7:'RV_DATA'!W40, -1203804874, RV_DATA!I7:'RV_DATA'!I40), 6) -> 0.91 | E25: =ROUND(RV_DATA!N22, 6) -> 214.5743 | F25: =ROUND(SUMIF(RV_DATA!W7:'RV_DATA'!W40, -1203804874, RV_DATA!O7:'RV_DATA'!O40), 6) -> 195.26 | Q25: 3
A26: 1.21-5-185 | B26: Коробки ответвительные, тип КРП-1 УХЛ4, размеры 52х109х109 мм | C26: шт. | D26: =ROUND(SUMIF(RV_DATA!W7:'RV_DATA'!W40, 776779917, RV_DATA!I7:'RV_DATA'!I40), 6) -> 5 | E26: =ROUND(RV_DATA!N21, 6) -> 25.1424 | F26: =ROUND(SUMIF(RV_DATA!W7:'RV_DATA'!W40, 776779917, RV_DATA!O7:'RV_DATA'!O40), 6) -> 125.71 | Q26: 3
A27: 1.21-5-555 | B27: Лотки кабельные оцинкованные, перфорированные, простые, без крышек, тип PNK-50 | C27: м | D27: =ROUND(SUMIF(RV_DATA!W7:'RV_DATA'!W40, 959745139, RV_DATA!I7:'RV_DATA'!I40), 6) -> 0 | E27: =ROUND(RV_DATA!N28, 6) -> 86.2408 | F27: =ROUND(SUMIF(RV_DATA!W7:'RV_DATA'!W40, 959745139, RV_DATA!O7:'RV_DATA'!O40), 6) -> 0 | Q27: 3
A28: 1.21-5-559 | B28: Крышки для лотков простых марки PNK-50 | C28: м | D28: =ROUND(SUMIF(RV_DATA!W7:'RV_DATA'!W40, -311461502, RV_DATA!I7:'RV_DATA'!I40), 6) -> 0 | E28: =ROUND(RV_DATA!N29, 6) -> 51.4004 | F28: =ROUND(SUMIF(RV_DATA!W7:'RV_DATA'!W40, -311461502, RV_DATA!O7:'RV_DATA'!O40), 6) -> 0 | Q28: 3
A29: 1.23-9-38 | B29: Кабели для адресных систем пожарной сигнализации с однопроволочными медными жилами, с изоляцией и оболочкой из ПВХ пластиката, марка КПСВВ, число пар и сечение 1х2х0,75 мм2 | C29: км | D29: =ROUND(SUMIF(RV_DATA!W7:'RV_DATA'!W40, 784183130, RV_DATA!I7:'RV_DATA'!I40), 6) -> 0.11 | E29: =ROUND(RV_DATA!N35, 6) -> 10654.352 | F29: =ROUND(SUMIF(RV_DATA!W7:'RV_DATA'!W40, 784183130, RV_DATA!O7:'RV_DATA'!O40), 6) -> 1171.98 | Q29: 3
A30: 9999990002 | B30: Масса оборудования | C30: т | D30: =ROUND(SUMIF(RV_DATA!W7:'RV_DATA'!W40, 1479202730, RV_DATA!I7:'RV_DATA'!I40), 6) -> 0.045 | E30: =ROUND(RV_DATA!N38, 6) -> 0 | F30: =ROUND(SUMIF(RV_DATA!W7:'RV_DATA'!W40, 1479202730, RV_DATA!O7:'RV_DATA'!O40), 6) -> 0 | Q30: 3
A31: ц. пост. | B31: Кнопка выхода SR-BP42 | C31: шт. | D31: =ROUND(SUMIF(RV_DATA!W7:'RV_DATA'!W40, -1960723027, RV_DATA!I7:'RV_DATA'!I40), 6) -> 7 | E31: =ROUND(RV_DATA!N17, 6) -> 174.4184 | F31: =ROUND(SUMIF(RV_DATA!W7:'RV_DATA'!W40, -1960723027, RV_DATA!O7:'RV_DATA'!O40), 6) -> 1220.93 | Q31: 3
A32: ц. пост. | B32: Кабель КВПЭфнг(С)-LSLTx-5e 4х2х0,52 | C32: ПМ | D32: =ROUND(SUMIF(RV_DATA!W7:'RV_DATA'!W40, -1775216362, RV_DATA!I7:'RV_DATA'!I40), 6) -> 510 | E32: =ROUND(RV_DATA!N33, 6) -> 66.8676 | F32: =ROUND(SUMIF(RV_DATA!W7:'RV_DATA'!W40, -1775216362, RV_DATA!O7:'RV_DATA'!O40), 6) -> 34102.48 | Q32: 3
A33: ц. пост. | B33: Кабель ВВГЭ нг(А)-LSLTх 3х1,5 | C33: ПМ | D33: =ROUND(SUMIF(RV_DATA!W7:'RV_DATA'!W40, 1287347680, RV_DATA!I7:'RV_DATA'!I40), 6) -> 510 | E33: =ROUND(RV_DATA!N34, 6) -> 41.8193 | F33: =ROUND(SUMIF(RV_DATA!W7:'RV_DATA'!W40, 1287347680, RV_DATA!O7:'RV_DATA'!O40), 6) -> 21327.84 | Q33: 3
A34: Итого материальные ресурсы | E34: =SUMIF(Q19:Q33, 3, F19:F33) -> 62596.62
A35: =CONCATENATE("Раздел: ",IF(Source!G83<>"Новый раздел", Source!G83, "")) -> Раздел: Оборудование
A36: Оборудование
A37: 13.1-1-20 | B37: Батарея аккумуляторная, емкость 7 А•ч: Напряжение 12 В | C37: шт. | D37: =ROUND(SUMIF(RV_DATA!W42:'RV_DATA'!W48, -1045490865, RV_DATA!I42:'RV_DATA'!I48), 6) -> 1 | E37: =ROUND(RV_DATA!N45, 6) -> 439.7988 | F37: =ROUND(SUMIF(RV_DATA!W42:'RV_DATA'!W48, -1045490865, RV_DATA!O42:'RV_DATA'!O48), 6) -> 439.8 | Q37: 5
A38: 13.1-1-54 | B38: Источник питания резервированный РИП-12, напряжение 12 В: Ток 3 А | C38: шт. | D38: =ROUND(SUMIF(RV_DATA!W42:'RV_DATA'!W48, 1928043858, RV_DATA!I42:'RV_DATA'!I48), 6) -> 3 | E38: =ROUND(RV_DATA!N43, 6) -> 2929.1836 | F38: =ROUND(SUMIF(RV_DATA!W42:'RV_DATA'!W48, 1928043858, RV_DATA!O42:'RV_DATA'!O48), 6) -> 8787.55 | Q38: 5
A39: 13.1-3-185 | B39: Контроллер доступа С2000-2: Разнообразные режимы работы, режим запрета повторного прохода (Antipassback); встроенный звуковой сигнализатор; управление и передача сообщений по интерфейсу RS-485 в ИСО «Орион» | C39: компл. | D39: =ROUND(SUMIF(RV_DATA!W42:'RV_DATA'!W48, -1105606372, RV_DATA!I42:'RV_DATA'!I48), 6) -> 4 | E39: =ROUND(RV_DATA!N42, 6) -> 2735.2548 | F39: =ROUND(SUMIF(RV_DATA!W42:'RV_DATA'!W48, -1105606372, RV_DATA!O42:'RV_DATA'!O48), 6) -> 10941.02 | Q39: 5
A40: 13.1-3-70 | B40: Комплект монтажный (электромагнитный замок, доводчик двери, кнопка выхода): Состав: замок электромагнитный, со звуковой сигнализацией открытия и встроенным контроллером, номинальное напряжение питания постоянное 12 В, потребляемая мощность не более 10 Вт, усилие удержания не менее 500 кг для тяжелых дверей и не менее 150 кг для легких дверей, масса замка не более 6 кг для тяжелых дверей и не более 1,5 кг для легких дверей; доводчик двери; габаритные размеры 293х60х47,5 мм; кнопка выхода НО 91х28 мм | C40: компл. | D40: =ROUND(SUMIF(RV_DATA!W42:'RV_DATA'!W48, 1844722699, RV_DATA!I42:'RV_DATA'!I48), 6) -> 7 | E40: =ROUND(RV_DATA!N44, 6) -> 10257.558 | F40: =ROUND(SUMIF(RV_DATA!W42:'RV_DATA'!W48, 1844722699, RV_DATA!O42:'RV_DATA'!O48), 6) -> 71802.9 | Q40: 5
A41: ц. пост. | B41: Считыватель Proxy-5MSG | C41: шт. | D41: =ROUND(SUMIF(RV_DATA!W42:'RV_DATA'!W48, -174929855, RV_DATA!I42:'RV_DATA'!I48), 6) -> 5 | E41: =ROUND(RV_DATA!N46, 6) -> 2126.4282 | F41: =ROUND(SUMIF(RV_DATA!W42:'RV_DATA'!W48, -174929855, RV_DATA!O42:'RV_DATA'!O48), 6) -> 10632.14 | Q41: 5
A42: ц. пост. | B42: Вызывная панель DRC-4CHC PAL | C42: шт. | D42: =ROUND(SUMIF(RV_DATA!W42:'RV_DATA'!W48, -308179863, RV_DATA!I42:'RV_DATA'!I48), 6) -> 4 | E42: =ROUND(RV_DATA!N47, 6) -> 6056.4879 | F42: =ROUND(SUMIF(RV_DATA!W42:'RV_DATA'!W48, -308179863, RV_DATA!O42:'RV_DATA'!O48), 6) -> 24225.95 | Q42: 5
...

Sheet Source
A1: 0 | B1: Smeta.RU (495) 974-1589 | D1: _PS_ | F1: 0 | G1: 0 | H1: 0 | I1: Smeta.RU | K1: 0 | L1: 29412 | M1: 10 | N1: 10 | O1: 1 | P1: 0 | Q1: 11
A12: 1 | B12: 190 | C12: 0 | D12: =ROW(A158) -> 158 | E12: 0 | F12: 12 СКУД | G12: 12 СКУД | I12: 0 | J12: 024/18КН-ИОС.5.1 | K12: 0 | O12: 0 | P12: 0 | Q12: 0 | R12: 180 | S12: 157 | V12: 0 | BH12: Сметные нормы списания | BI12: Коды ОКП для ТСН-2001 МГЭ | BJ12: 1 | BK12: 1 | BL12: 0 | BM12: 0 | BN12: 1 | BO12: 0 | BP12: 6 | BQ12: 2 | BR12: 1 | BS12: 1 | BT12: 0 | BU12: 0 | BV12: 0 | BW12: 0 | BX12: 0 | BY12: ТСН 2001- Ремонт | BZ12: Типовой расчет для ТСН-2001 (Ремонт) | CA12: Территориальные сметные нормативы для Москвы ТСН-2001 (МГЭ) | CB12: Территориальные сметные нормативы для Москвы ТСН-2001 (МГЭ) | CC12: Территориальные сметные нормативы для Москвы ТСН-2001 (МГЭ) | CD12: Территориальные сметные нормативы для Москвы ТСН-2001 (МГЭ) | CE12: Поправки для ТСН-2001 от 06.05.2019 г. | CF12: 0 | CG12: 0 | CH12: 8 | CK12: 52 | EC12: 0
A15: 15 | B15: 1
A18: 52 | B18: =B158 -> 190 | C18: =C158 -> 1 | D18: =D158 -> 12 | E18: =E158 -> 0 | F18: =F158 -> 12 СКУД | G18: =G158 -> 12 СКУД | O18: =O158 -> 50118.16 | P18: =P158 -> 45112.6 | Q18: =Q158 -> 2439.44 | R18: =R158 -> 517.96 | S18: =S158 -> 2566.12 | T18: =T158 -> 0 | U18: =U158 -> 183.8455 | V18: =V158 -> 0 | ... GX18: =GX158 -> 0
A20: 3 | B20: 1 | D20: =ROW(A129) -> 129 | F20: 02-01-12 | G20: Система контроля доступа | I20: 0 | K20: -1 | V20: 0 | BX20: 0 | CF20: 0 | CG20: 0
A22: 52 | B22: =B129 -> 1 | C22: =C129 -> 3 | D22: =D129 -> 20 | E22: =E129 -> 0 | F22: =F129 -> 02-01-12 | G22: =G129 -> Система контроля доступа | O22: =O129 -> 50118.16 | P22: =P129 -> 45112.6 | Q22: =Q129 -> 2439.44 | R22: =R129 -> 517.96 | S22: =S129 -> 2566.12 | T22: =T129 -> 0 | U22: =U129 -> 183.8455 | V22: =V129 -> 0 | ... GX22: =GX129 -> 0
A24: 17 | B24: 1 | C24: =ROW(SmtRes!A1) -> 1 | D24: =ROW(EtalonRes!A1) -> 1 | E24: 1 | F24: 4.10-176-1 | G24: Блок контроля датчиков (контроллер) | H24: 10 шт. | I24: =ROUND(4/10,9) -> 0.4 | J24: 0 | O24: =ROUND(CP24,2) -> 189.32 | P24: =ROUND(CQ24*I24,2) -> 0.49 | Q24: =ROUND(CR24*I24,2) -> 0.44 | R24: =ROUND(CS24*I24,2) -> 0.08 | S24: =ROUND(CT24*I24,2) -> 188.39 | T24: =ROUND(CU24*I24,2) -> 0 | U24: =CV24*I24 -> 11.984 | V24: =CW24*I24 -> 0 | W24: =ROUND(CX24*I24,2) -> 0 | X24: =ROUND(CY24,2) -> 0 | Y24: =ROUND(CZ24,2) -> 0 | AA24: 55106055 | AB24: =ROUND((AC24+AD24+AF24),6) -> 473.32 | AC24: =ROUND((ES24),6) -> 1.23 | AD24: =ROUND((ET24),6) -> 1.11 | AE24: =ROUND((EU24),6) -> 0.2 | AF24: =ROUND((EV24),6) -> 470.98 | AG24: =ROUND((AP24),6) -> 0 | AH24: =(EW24) -> 29.96 | AI24: =(EX24) -> 0 | AJ24: =(AS24) -> 0 | AK24: 473.32 | AL24: 1.23 | AM24: 1.11 | AN24: 0.2 | AO24: 470.98 | AP24: 0 | AQ24: 29.96 | AR24: 0 | AS24: 0 | AT24: 0 | AU24: 0 | AV24: 1 | AW24: 1 | AZ24: 1 | BA24: 1 | BB24: 1 | BC24: 1 | BH24: 0 | BI24: 2 | BJ24: ТСН-2001.4. Доп. 1-42. Сб. 10, т. 176, поз. 1 | BM24: 1738 | BN24: 0 | BP24: 0 | BQ24: 40 | BR24: 0 | BS24: 1 | BT24: 1 | BU24: 1 | BV24: 1 | BW24: 1 | BX24: 1 | BZ24: 0 | CA24: 0 | CE24: 0 | CF24: 0 | CG24: 0 | CM24: 0 | CO24: 0 | CP24: =(P24+Q24+S24) -> 189.32 | CQ24: =(AC24*BC24*AW24) -> 1.23 | CR24: =(AD24*BB24*AV24) -> 1.11 | CS24: =(AE24*BS24*AV24) -> 0.2 | CT24: =(AF24*BA24*AV24) -> 470.98 | CU24: =AG24 -> 0 | CV24: =(AH24*AV24) -> 29.96 | CW24: =AI24 -> 0 | CX24: =AJ24 -> 0 | CY24: =S24*(BZ24/100) -> 0 | CZ24: =S24*(CA24/100) -> 0 | DN24: 114 | DO24: 67 | DP24: 1.047 | DQ24: 1 | DU24: 1010 | DV24: 10 шт. | DW24: 10 шт. | DX24: 10 | EE24: 21989090 | EF24: 40 | EG24: Монтаж оборудования | EH24: 0 | EJ24: 2 | EK24: 1738 | EL24: ТСН-2001.4-10. 10-175…10-177 (доп. 31) | EM24: ТСН-2001.4-10-22 | EQ24: 131072 | ER24: 473.32 | ES24: 1.23 | ET24: 1.11 | EU24: 0.2 | EV24: 470.98 | EW24: 29.96 | EX24: 0 | EY24: 0 | FQ24: 0 | FR24: =ROUND(IF(AND(BH24=3,BI24=3),P24,0),2) -> 0 | FS24: 0 | FX24: 114 | FY24: 67 | GD24: 1 | GF24: -593748981 | GG24: 2 | GH24: 1 | GI24: -2 | GJ24: 0 | GK24: 0 | GL24: =ROUND(IF(AND(BH24=3,BI24=3,FS24<>0),P24,0),2) -> 0 | GM24: =ROUND(O24+X24+Y24,2)+GX24 -> 189.32 | GN24: =IF(OR(BI24=0,BI24=1),ROUND(O24+X24+Y24,2),0) -> 0 | GO24: =IF(BI24=2,ROUND(O24+X24+Y24,2),0) -> 189.32 | GP24: =IF(BI24=4,ROUND(O24+X24+Y24,2)+GX24,0) -> 0 | GR24: 0 | GS24: 0 | GT24: 0 | GV24: =ROUND((GT24),6) -> 0 | GW24: 1 | GX24: =ROUND(HC24*I24,2) -> 0 | HA24: 0 | HB24: 0 | HC24: =GV24*GW24 -> 0 | IK24: 0
A25: 17 | B25: 1 | C25: =ROW(SmtRes!A2) -> 2 | D25: =ROW(EtalonRes!A2) -> 2 | E25: 1 | F25: 4.10-176-1 | G25: Блок контроля датчиков (контроллер) | H25: 10 шт. | I25: =ROUND(4/10,9) -> 0.4 | J25: 0 | O25: =ROUND(CP25,2) -> 4092.53 | P25: =ROUND(CQ25*I25,2) -> 2.66 | Q25: =ROUND(CR25*I25,2) -> 3.65 | R25: =ROUND(CS25*I25,2) -> 1.74 | S25: =ROUND(CT25*I25,2) -> 4086.22 | T25: =ROUND(CU25*I25,2) -> 0 | U25: =CV25*I25 -> 11.984 | V25: =CW25*I25 -> 0 | W25: =ROUND(CX25*I25,2) -> 0 | X25: =ROUND(CY25,2) -> 3146.39 | Y25: =ROUND(CZ25,2) -> 1675.35 | AA25: 55106052 | AB25: =ROUND((AC25+AD25+AF25),6) -> 473.32 | AC25: =ROUND((ES25),6) -> 1.23 | AD25: =ROUND((ET25),6) -> 1.11 | AE25: =ROUND((EU25),6) -> 0.2 | AF25: =ROUND((EV25),6) -> 470.98 | AG25: =ROUND((AP25),6) -> 0 | AH25: =(EW25) -> 29.96 | AI25: =(EX25) -> 0 | AJ25: =(AS25) -> 0 | AK25: 473.32 | AL25: 1.23 | AM25: 1.11 | AN25: 0.2 | AO25: 470.98 | AP25: 0 | AQ25: 29.96 | AR25: 0 | AS25: 0 | AT25: 77 | AU25: 41 | AV25: 1 | AW25: 1 | AZ25: 1 | BA25: 21.69 | BB25: 8.21 | BC25: 5.41 | BH25: 0 | BI25: 2 | BJ25: ТСН-2001.4. Доп. 1-42. Сб. 10, т. 176, поз. 1 | BM25: 1738 | BN25: 0 | BO25: 4.10-176-1 | BP25: 1 | BQ25: 40 | BR25: 0 | BS25: 21.69 | BT25: 1 | BU25: 1 | BV25: 1 | BW25: 1 | BX25: 1 | BZ25: 77 | CA25: 41 | CE25: 0 | CF25: 0 | CG25: 0 | CM25: 0 | CO25: 0 | CP25: =(P25+Q25+S25) -> 4092.53 | CQ25: =(AC25*BC25*AW25) -> 6.6543 | CR25: =(AD25*BB25*AV25) -> 9.1131 | CS25: =(AE25*BS25*AV25) -> 4.338 | CT25: =(AF25*BA25*AV25) -> 10215.556 | CU25: =AG25 -> 0 | CV25: =(AH25*AV25) -> 29.96 | CW25: =AI25 -> 0 | CX25: =AJ25 -> 0 | CY25: =S25*(BZ25/100) -> 3146.3894 | CZ25: =S25*(CA25/100) -> 1675.3502 | DN25: 114 | DO25: 67 | DP25: 1.047 | DQ25: 1 | DU25: 1010 | DV25: 10 шт. | DW25: 10 шт. | DX25: 10 | EE25: 21989090 | EF25: 40 | EG25: Монтаж оборудования | EH25: 0 | EJ25: 2 | EK25: 1738 | EL25: ТСН-2001.4-10. 10-175…10-177 (доп. 31) | EM25: ТСН-2001.4-10-22 | EQ25: 131072 | ER25: 473.32 | ES25: 1.23 | ET25: 1.11 | EU25: 0.2 | EV25: 470.98 | EW25: 29.96 | EX25: 0 | EY25: 0 | FQ25: 0 | FR25: =ROUND(IF(AND(BH25=3,BI25=3),P25,0),2) -> 0 | FS25: 0 | FX25: 114 | FY25: 67 | GD25: 0 | GF25: -593748981 | GG25: 2 | GH25: 1 | GI25: 2 | GJ25: 0 | GK25: =ROUND(R25*(S12)/100,2) -> 2.73 | GL25: =ROUND(IF(AND(BH25=3,BI25=3,FS25<>0),P25,0),2) -> 0 | GM25: =ROUND(O25+X25+Y25+GK25,2)+GX25 -> 8917 | GN25: =IF(OR(BI25=0,BI25=1),ROUND(O25+X25+Y25+GK25,2),0) -> 0 | GO25: =IF(BI25=2,ROUND(O25+X25+Y25+GK25,2),0) -> 8917 | GP25: =IF(BI25=4,ROUND(O25+X25+Y25+GK25,2)+GX25,0) -> 0 | GR25: 0 | GS25: 3 | GT25: 0 | GV25: =ROUND((GT25),6) -> 0 | GW25: 1 | GX25: =ROUND(HC25*I25,2) -> 0 | HA25: 0 | HB25: 0 | HC25: =GV25*GW25 -> 0 | IK25: 0
A26: 17 | B26: 1 | C26: =ROW(SmtRes!A3) -> 3 | D26: =ROW(EtalonRes!A3) -> 3 | E26: 2 | F26: 4.10-173-2 | G26: Блок бесперебойного питания (ББП) в диспетчерской | H26: 1 ШТ. | I26: 3 | J26: 0 | O26: =ROUND(CP26,2) -> 124.89 | P26: =ROUND(CQ26*I26,2) -> 4.5 | Q26: =ROUND(CR26*I26,2) -> 0 | R26: =ROUND(CS26*I26,2) -> 0 | S26: =ROUND(CT26*I26,2) -> 120.39 | T26: =ROUND(CU26*I26,2) -> 0 | U26: =CV26*I26 -> 9.54 | V26: =CW26*I26 -> 0 | W26: =ROUND(CX26*I26,2) -> 0 | X26: =ROUND(CY26,2) -> 0 | Y26: =ROUND(CZ26,2) -> 0 | AA26: 55106055 | AB26: =ROUND((AC26+AD26+AF26),6) -> 41.63 | AC26: =ROUND((ES26),6) -> 1.5 | AD26: =ROUND((ET26),6) -> 0 | AE26: =ROUND((EU26),6) -> 0 | AF26: =ROUND((EV26),6) -> 40.13 | AG26: =ROUND((AP26),6) -> 0 | AH26: =(EW26) -> 3.18 | AI26: =(EX26) -> 0 | AJ26: =(AS26) -> 0 | AK26: 41.63 | AL26: 1.5 | AM26: 0 | AN26: 0 | AO26: 40.13 | AP26: 0 | AQ26: 3.18 | AR26: 0 | AS26: 0 | AT26: 0 | AU26: 0 | AV26: 1 | AW26: 1 | AZ26: 1 | BA26: 1 | BB26: 1 | BC26: 1 | BH26: 0 | BI26: 2 | BJ26: ТСН-2001.4. Доп. 1-42. Сб. 10, т. 173, поз. 2 | BM26: 1352 | BN26: 0 | BP26: 0 | BQ26: 40 | BR26: 0 | BS26: 1 | BT26: 1 | BU26: 1 | BV26: 1 | BW26: 1 | BX26: 1 | BZ26: 0 | CA26: 0 | CE26: 0 | CF26: 0 | CG26: 0 | CM26: 0 | CO26: 0 | CP26: =(P26+Q26+S26) -> 124.89 | CQ26: =(AC26*BC26*AW26) -> 1.5 | CR26: =(AD26*BB26*AV26) -> 0 | CS26: =(AE26*BS26*AV26) -> 0 | CT26: =(AF26*BA26*AV26) -> 40.13 | CU26: =AG26 -> 0 | CV26: =(AH26*AV26) -> 3.18 | CW26: =AI26 -> 0 | CX26: =AJ26 -> 0 | CY26: =S26*(BZ26/100) -> 0 | CZ26: =S26*(CA26/100) -> 0 | DN26: 114 | DO26: 67 | DP26: 1.047 | DQ26: 1 | DU26: 1013 | DV26: 1 ШТ. | DW26: 1 ШТ. | DX26: 1 | EE26: 21988704 | EF26: 40 | EG26: Монтаж оборудования | EH26: 0 | EJ26: 2 | EK26: 1352 | EL26: ТСН-2001.4-10. 10-162…10-173 (доп. 9) | EM26: ТСН-2001.4-10-20 | EQ26: 131072 | ER26: 41.63 | ES26: 1.5 | ET26: 0 | EU26: 0 | EV26: 40.13 | EW26: 3.18 | EX26: 0 | EY26: 0 | FQ26: 0 | FR26: =ROUND(IF(AND(BH26=3,BI26=3),P26,0),2) -> 0 | FS26: 0 | FX26: 114 | FY26: 67 | GD26: 1 | GF26: -1074894288 | GG26: 2 | GH26: 1 | GI26: -2 | GJ26: 0 | GK26: 0 | GL26: =ROUND(IF(AND(BH26=3,BI26=3,FS26<>0),P26,0),2) -> 0 | GM26: =ROUND(O26+X26+Y26,2)+GX26 -> 124.89 | GN26: =IF(OR(BI26=0,BI26=1),ROUND(O26+X26+Y26,2),0) -> 0 | GO26: =IF(BI26=2,ROUND(O26+X26+Y26,2),0) -> 124.89 | GP26: =IF(BI26=4,ROUND(O26+X26+Y26,2)+GX26,0) -> 0 | GR26: 0 | GS26: 0 | GT26: 0 | GV26: =ROUND((GT26),6) -> 0 | GW26: 1 | GX26: =ROUND(HC26*I26,2) -> 0 | HA26: 0 | HB26: 0 | HC26: =GV26*GW26 -> 0 | IK26: 0
A27: 17 | B27: 1 | C27: =ROW(SmtRes!A4) -> 4 | D27: =ROW(EtalonRes!A4) -> 4 | E27: 2 | F27: 4.10-173-2 | G27: Блок бесперебойного питания (ББП) в диспетчерской | H27: 1 ШТ. | I27: 3 | J27: 0 | O27: =ROUND(CP27,2) -> 2635.61 | P27: =ROUND(CQ27*I27,2) -> 24.35 | Q27: =ROUND(CR27*I27,2) -> 0 | R27: =ROUND(CS27*I27,2) -> 0 | S27: =ROUND(CT27*I27,2) -> 2611.26 | T27: =ROUND(CU27*I27,2) -> 0 | U27: =CV27*I27 -> 9.54 | V27: =CW27*I27 -> 0 | W27: =ROUND(CX27*I27,2) -> 0 | X27: =ROUND(CY27,2) -> 2010.67 | Y27: =ROUND(CZ27,2) -> 1070.62 | AA27: 55106052 | AB27: =ROUND((AC27+AD27+AF27),6) -> 41.63 | AC27: =ROUND((ES27),6) -> 1.5 | AD27: =ROUND((ET27),6) -> 0 | AE27: =ROUND((EU27),6) -> 0 | AF27: =ROUND((EV27),6) -> 40.13 | AG27: =ROUND((AP27),6) -> 0 | AH27: =(EW27) -> 3.18 | AI27: =(EX27) -> 0 | AJ27: =(AS27) -> 0 | AK27: 41.63 | AL27: 1.5 | AM27: 0 | AN27: 0 | AO27: 40.13 | AP27: 0 | AQ27: 3.18 | AR27: 0 | AS27: 0 | AT27: 77 | AU27: 41 | AV27: 1 | AW27: 1 | AZ27: 1 | BA27: 21.69 | BB27: 1 | BC27: 5.41 | BH27: 0 | BI27: 2 | BJ27: ТСН-2001.4. Доп. 1-42. Сб. 10, т. 173, поз. 2 | BM27: 1352 | BN27: 0 | BO27: 4.10-173-2 | BP27: 1 | BQ27: 40 | BR27: 0 | BS27: 21.69 | BT27: 1 | BU27: 1 | BV27: 1 | BW27: 1 | BX27: 1 | BZ27: 77 | CA27: 41 | CE27: 0 | CF27: 0 | CG27: 0 | CM27: 0 | CO27: 0 | CP27: =(P27+Q27+S27) -> 2635.61 | CQ27: =(AC27*BC27*AW27) -> 8.115 | CR27: =(AD27*BB27*AV27) -> 0 | CS27: =(AE27*BS27*AV27) -> 0 | CT27: =(AF27*BA27*AV27) -> 870.4197 | CU27: =AG27 -> 0 | CV27: =(AH27*AV27) -> 3.18 | CW27: =AI27 -> 0 | CX27: =AJ27 -> 0 | CY27: =S27*(BZ27/100) -> 2010.6702 | CZ27: =S27*(CA27/100) -> 1070.6166 | DN27: 114 | DO27: 67 | DP27: 1.047 | DQ27: 1 | DU27: 1013 | DV27: 1 ШТ. | DW27: 1 ШТ. | DX27: 1 | EE27: 21988704 | EF27: 40 | EG27: Монтаж оборудования | EH27: 0 | EJ27: 2 | EK27: 1352 | EL27: ТСН-2001.4-10. 10-162…10-173 (доп. 9) | EM27: ТСН-2001.4-10-20 | EQ27: 131072 | ER27: 41.63 | ES27: 1.5 | ET27: 0 | EU27: 0 | EV27: 40.13 | EW27: 3.18 | EX27: 0 | EY27: 0 | FQ27: 0 | FR27: =ROUND(IF(AND(BH27=3,BI27=3),P27,0),2) -> 0 | FS27: 0 | FX27: 114 | FY27: 67 | GD27: 0 | GF27: -1074894288 | GG27: 2 | GH27: 1 | GI27: 2 | GJ27: 0 | GK27: =ROUND(R27*(S12)/100,2) -> 0 | GL27: =ROUND(IF(AND(BH27=3,BI27=3,FS27<>0),P27,0),2) -> 0 | GM27: =ROUND(O27+X27+Y27+GK27,2)+GX27 -> 5716.9 | GN27: =IF(OR(BI27=0,BI27=1),ROUND(O27+X27+Y27+GK27,2),0) -> 0 | GO27: =IF(BI27=2,ROUND(O27+X27+Y27+GK27,2),0) -> 5716.9 | GP27: =IF(BI27=4,ROUND(O27+X27+Y27+GK27,2)+GX27,0) -> 0 | GR27: 0 | GS27: 3 | GT27: 0 | GV27: =ROUND((GT27),6) -> 0 | GW27: 1 | GX27: =ROUND(HC27*I27,2) -> 0 | HA27: 0 | HB27: 0 | HC27: =GV27*GW27 -> 0 | IK27: 0
A28: 17 | B28: 1 | C28: =ROW(SmtRes!A5) -> 5 | D28: =ROW(EtalonRes!A5) -> 5 | E28: 3 | F28: 4.10-168-1 | G28: Блок считывания кода (БСК) и считыватель в диспетчерской | H28: 1 ШТ. | I28: 5 | J28: 0 | O28: =ROUND(CP28,2) -> 372.35 | P28: =ROUND(CQ28*I28,2) -> 59.35 | Q28: =ROUND(CR28*I28,2) -> 17.6 | R28: =ROUND(CS28*I28,2) -> 0.3 | S28: =ROUND(CT28*I28,2) -> 295.4 | T28: =ROUND(CU28*I28,2) -> 0 | U28: =CV28*I28 -> 23.4 | V28: =CW28*I28 -> 0 | W28: =ROUND(CX28*I28,2) -> 0 | X28: =ROUND(CY28,2) -> 0 | Y28: =ROUND(CZ28,2) -> 0 | AA28: 55106055 | AB28: =ROUND((AC28+AD28+AF28),6) -> 74.47 | AC28: =ROUND((ES28),6) -> 11.87 | AD28: =ROUND((ET28),6) -> 3.52 | AE28: =ROUND((EU28),6) -> 0.06 | AF28: =ROUND((EV28),6) -> 59.08 | AG28: =ROUND((AP28),6) -> 0 | AH28: =(EW28) -> 4.68 | AI28: =(EX28) -> 0 | AJ28: =(AS28) -> 0 | AK28: 74.47 | AL28: 11.87 | AM28: 3.52 | AN28: 0.06 | AO28: 59.08 | AP28: 0 | AQ28: 4.68 | AR28: 0 | AS28: 0 | AT28: 0 | AU28: 0 | AV28: 1 | AW28: 1 | AZ28: 1 | BA28: 1 | BB28: 1 | BC28: 1 | BH28: 0 | BI28: 2 | BJ28: ТСН-2001.4. Доп. 1-42. Сб. 10, т. 168, поз. 1 | BM28: 1352 | BN28: 0 | BP28: 0 | BQ28: 40 | BR28: 0 | BS28: 1 | BT28: 1 | BU28: 1 | BV28: 1 | BW28: 1 | BX28: 1 | BZ28: 0 | CA28: 0 | CE28: 0 | CF28: 0 | CG28: 0 | CM28: 0 | CO28: 0 | CP28: =(P28+Q28+S28) -> 372.35 | CQ28: =(AC28*BC28*AW28) -> 11.87 | CR28: =(AD28*BB28*AV28) -> 3.52 | CS28: =(AE28*BS28*AV28) -> 0.06 | CT28: =(AF28*BA28*AV28) -> 59.08 | CU28: =AG28 -> 0 | CV28: =(AH28*AV28) -> 4.68 | CW28: =AI28 -> 0 | CX28: =AJ28 -> 0 | CY28: =S28*(BZ28/100) -> 0 | CZ28: =S28*(CA28/100) -> 0 | DN28: 114 | DO28: 67 | DP28: 1.047 | DQ28: 1 | DU28: 1013 | DV28: 1 ШТ. | DW28: 1 ШТ. | DX28: 1 | EE28: 21988704 | EF28: 40 | EG28: Монтаж оборудования | EH28: 0 | EJ28: 2 | EK28: 1352 | EL28: ТСН-2001.4-10. 10-162…10-173 (доп. 9) | EM28: ТСН-2001.4-10-20 | EQ28: 131072 | ER28: 74.47 | ES28: 11.87 | ET28: 3.52 | EU28: 0.06 | EV28: 59.08 | EW28: 4.68 | EX28: 0 | EY28: 0 | FQ28: 0 | FR28: =ROUND(IF(AND(BH28=3,BI28=3),P28,0),2) -> 0 | FS28: 0 | FX28: 114 | FY28: 67 | GD28: 1 | GF28: -302613050 | GG28: 2 | GH28: 1 | GI28: -2 | GJ28: 0 | GK28: 0 | GL28: =ROUND(IF(AND(BH28=3,BI28=3,FS28<>0),P28,0),2) -> 0 | GM28: =ROUND(O28+X28+Y28,2)+GX28 -> 372.35 | GN28: =IF(OR(BI28=0,BI28=1),ROUND(O28+X28+Y28,2),0) -> 0 | GO28: =IF(BI28=2,ROUND(O28+X28+Y28,2),0) -> 372.35 | GP28: =IF(BI28=4,ROUND(O28+X28+Y28,2)+GX28,0) -> 0 | GR28: 0 | GS28: 0 | GT28: 0 | GV28: =ROUND((GT28),6) -> 0 | GW28: 1 | GX28: =ROUND(HC28*I28,2) -> 0 | HA28: 0 | HB28: 0 | HC28: =GV28*GW28 -> 0 | IK28: 0
