Workbook

Sheet Смета по ТСН-2001
A1: =Source!B1 -> Smeta.RU (495) 974-1589
K2: Форма № 4б
A3: =IF(Source!G12<>"Новый объект", Source!G12, "") -> 02-01-10 Отопление
A4: (наименование стройки и/или объекта)
A6: =CONCATENATE( "ЛОКАЛЬНАЯ СМЕТА № ",IF(Source!F12<>"Новый объект", Source!F12, "")) -> ЛОКАЛЬНАЯ СМЕТА № 01-10
A9: (наименование работ и затрат)
A11: =CONCATENATE( "Основание: чертежи № ", Source!J12) -> Основание: чертежи №
I13: В базисном уровне цен | J13: В текущем уровне цен
F14: Сметная стоимость | I14: =SUM(O1:O688)/1000 -> 2595.5448 | J14: =(Source!P428/1000) -> 15829.171 | K14: тыс.руб
F15: Строительные работы | I15: =SUM(X1:X688)/1000 -> 763.73958 | J15: =(Source!P418)/1000 -> 6249.4599 | K15: тыс.руб
F16: Работы по монтажу оборудования | I16: =SUM(Y1:Y688)/1000 -> 0 | J16: =(Source!P419)/1000 -> 0 | K16: тыс.руб
F17: Оборудование | I17: =SUM(Z1:Z688)/1000 -> 0 | J17: =(Source!P410)/1000 -> 0 | K17: тыс.руб
F18: Прочие работы и затраты | I18: =SUM(AA1:AA688)/1000 -> 1831.8052 | J18: =(Source!P420+Source!P421)/1000 -> 9579.7109 | K18: тыс.руб
F19: Средства на оплату труда | I19: =SUM(W1:W688)/1000 -> 87.84388 | J19: =((Source!P416 + Source!P415)/1000) -> 1792.015 | K19: тыс.руб
F20: Затраты труда | I20: =SUM(AB1:AB688) -> 7116.085 | K20: чел.-ч.
F21: Кроме того:
F22: Возврат материалов | I22: =SUM(AE1:AE688)/1000 -> 0 | J22: =SUM(AF1:AF688)/1000 -> 0 | K22: тыс.руб
A24: Составлен(а) по ТСН-2001 с учетом Дополнения №: 48
A25: № и период сборника коэффициентов (индексов) пересчета: Коэффициенты к ТСН-2001 МГЭ, ремонт №139 апрель 2018 года | AK25: № и период сборника коэффициентов (индексов) пересчета: Коэффициенты к ТСН-2001 МГЭ, ремонт №139 апрель 2018 года
A26: № п/п | B26: Шифр расценки и коды ресурсов | C26: Наименование работ и затрат | D26: Ед. изм. | E26: Кол-во единиц | F26: Цена на ед. изм., руб. | G26: Попра-вочные коэффи- циенты | H26: Коэффи-циенты зимних удорожа-ний | I26: Всего затрат в базисном уровне цен, руб. | J26: Коэффици-енты (индексы) пересчета, нормы НР и СП | K26: ВСЕГО затрат в текущем уровне цен, руб.
A27: 1 | B27: 2 | C27: 3 | D27: 4 | E27: 5 | F27: 6 | G27: 7 | H27: 8 | I27: 9 | J27: 10 | K27: 11
A29: =CONCATENATE("Локальная смета: ",IF(Source!G20<>"Новая локальная смета", Source!G20, "")) -> Локальная смета: 02-01-11
A31: =CONCATENATE("Раздел: ",IF(Source!G24<>"Новый раздел", Source!G24, "")) -> Раздел: Отопление
A32: =Source!E29 -> 1 | B32: =Source!F29 -> 3.16-6-1 | C32: Прокладка трубопроводов отопления из стальных водогазопроводных неоцинкованных труб диаметром 15 мм | D32: =Source!H29 -> 100 м трубопровода | E32: =Source!I29 -> 7.85 | Q32: =ROUND((Source!DN29/100)*ROUND((Source!AF29*Source!AV29)*Source!I29, 2), 2) -> 3817.58 | R32: =Source!X29 -> 60116.78 | S32: =ROUND((Source!DO29/100)*ROUND((Source!AF29*Source!AV29)*Source!I29, 2), 2) -> 2243.66 | T32: =Source!Y29 -> 28008.95 | U32: =ROUND((175/100)*ROUND((Source!AE29*Source!AV29)*Source!I29, 2), 2) -> 147.51 | V32: =ROUND((157/100)*ROUND(Source!CS29*Source!I29, 2), 2) -> 2699.62
C33: ЗП | F33: =Source!AO29 -> 370.95 | G33: =Source!DG29 -> )*1,15 | H33: =Source!AV29 -> 1 | I33: =ROUND((Source!AF29*Source!AV29)*Source!I29, 2) -> 3348.75 | J33: =IF(Source!BA29<> 0, Source!BA29, 1) -> 20.4 | K33: =Source!S29 -> 68314.52 | W33: =I33 -> 3348.75
C34: ЭМ | F34: =Source!AM29 -> 43.16 | G34: =Source!DE29 -> )*1,25 | H34: =Source!AV29 -> 1 | I34: =ROUND((Source!AD29*Source!AV29)*Source!I29, 2) -> 423.51 | J34: =IF(Source!BB29<> 0, Source!BB29, 1) -> 8.39 | K34: =Source!Q29 -> 3553.23
C35: в т.ч. ЗПМ | F35: =Source!AN29 -> 8.59 | G35: =Source!DF29 -> )*1,25 | H35: =Source!AV29 -> 1 | I35: =ROUND((Source!AE29*Source!AV29)*Source!I29, 2) -> 84.29 | J35: =IF(Source!BS29<> 0, Source!BS29, 1) -> 20.4 | K35: =Source!R29 -> 1719.5 | W35: =I35 -> 84.29
C36: МР | F36: =Source!AL29 -> 18.13 | G36: =Source!DD29 | H36: =Source!AW29 -> 1 | I36: =ROUND((Source!AC29*Source!AW29)*Source!I29, 2) -> 142.32 | J36: =IF(Source!BC29<> 0, Source!BC29, 1) -> 5.23 | K36: =Source!P29 -> 744.34
C37: НР от ЗП | D37: % | E37: =Source!DN29 -> 114 | I37: =SUM(Q32:Q36) -> 3817.58 | J37: =Source!BZ29 -> 88 | K37: =SUM(R32:R36) -> 60116.78
C38: СП от ЗП | D38: % | E38: =Source!DO29 -> 67 | I38: =SUM(S32:S37) -> 2243.66 | J38: =Source!CA29 -> 41 | K38: =SUM(T32:T37) -> 28008.95
C39: НР и СП от ЗПМ | D39: % | E39: =175 -> 175 | I39: =SUM(U32:U38) -> 147.51 | J39: =157 -> 157 | K39: =SUM(V32:V38) -> 2699.62
C40: ЗТР | D40: чел-ч | E40: =Source!AQ29 -> 29.7 | G40: =Source!DI29 -> )*1,15 | H40: =Source!AV29 -> 1 | I40: =Source!U29 -> 268.11675 | AB40: =I40 -> 268.11675
C41: Всего по позиции: | H41: =I33+I34+I36+I37+I38+I39 -> 10123.33 | J41: =K33+K34+K36+K37+K38+K39 -> 163437.44 | O41: =I33+I34+I36+I37+I38+I39 -> 10123.33 | P41: =K33+K34+K36+K37+K38+K39 -> 163437.44 | X41: =IF(Source!BI29<=1,I33+I34+I36+I37+I38+I39-0, 0) -> 10123.33 | Y41: =IF(Source!BI29=2,I33+I34+I36+I37+I38+I39-0, 0) -> 0 | Z41: =IF(Source!BI29=3,I33+I34+I36+I37+I38+I39-0, 0) -> 0 | AA41: =IF(Source!BI29=4,I33+I34+I36+I37+I38+I39,0) -> 0
A43: =Source!E31 -> 2 | B43: =Source!F31 -> 1.12-10-24 | C43: Средства для крепления радиаторов на кирпичных и бетонных стенах, крючки для труб, диаметр труб 50 мм | D43: =Source!H31 -> 1000 шт. | E43: =Source!I31 -> 0.393 | F43: =Source!AL31 -> 7732.42 | G43: =Source!DD31 | H43: =Source!AW31 -> 1 | I43: =ROUND((Source!AC31*Source!AW31)*Source!I31, 2) -> 3038.84 | J43: =IF(Source!BC31<> 0, Source!BC31, 1) -> 4.7 | K43: =Source!P31 -> 14282.55 | Q43: =ROUND((Source!DN31/100)*ROUND((Source!AF31*Source!AV31)*Source!I31, 2), 2) -> 0 | R43: =Source!X31 -> 0 | S43: =ROUND((Source!DO31/100)*ROUND((Source!AF31*Source!AV31)*Source!I31, 2), 2) -> 0 | T43: =Source!Y31 -> 0 | U43: =ROUND((175/100)*ROUND((Source!AE31*Source!AV31)*Source!I31, 2), 2) -> 0 | V43: =ROUND((157/100)*ROUND(Source!CS31*Source!I31, 2), 2) -> 0
C44: Всего по позиции: | H44: =I43 -> 3038.84 | J44: =K43 -> 14282.55 | O44: =I43 -> 3038.84 | P44: =K43 -> 14282.55 | X44: =IF(Source!BI31<=1,I43-0, 0) -> 3038.84 | Y44: =IF(Source!BI31=2,I43-0, 0) -> 0 | Z44: =IF(Source!BI31=3,I43-0, 0) -> 0 | AA44: =IF(Source!BI31=4,I43,0) -> 0
A46: =Source!E33 -> 3 | B46: =Source!F33 -> 1.12-1-40 | C46: Узлы трубопроводов из стальных водогазопроводных неоцинкованных труб с гильзами для систем отопления, диаметр условного прохода 15 мм | D46: =Source!H33 -> м | E46: =Source!I33 -> 785 | F46: =Source!AL33 -> 30.15 | G46: =Source!DD33 | H46: =Source!AW33 -> 1 | I46: =ROUND((Source!AC33*Source!AW33)*Source!I33, 2) -> 23667.75 | J46: =IF(Source!BC33<> 0, Source!BC33, 1) -> 4.62 | K46: =Source!P33 -> 109345.01 | Q46: =ROUND((Source!DN33/100)*ROUND((Source!AF33*Source!AV33)*Source!I33, 2), 2) -> 0 | R46: =Source!X33 -> 0 | S46: =ROUND((Source!DO33/100)*ROUND((Source!AF33*Source!AV33)*Source!I33, 2), 2) -> 0 | T46: =Source!Y33 -> 0 | U46: =ROUND((175/100)*ROUND((Source!AE33*Source!AV33)*Source!I33, 2), 2) -> 0 | V46: =ROUND((157/100)*ROUND(Source!CS33*Source!I33, 2), 2) -> 0
C47: Всего по позиции: | H47: =I46 -> 23667.75 | J47: =K46 -> 109345.01 | O47: =I46 -> 23667.75 | P47: =K46 -> 109345.01 | X47: =IF(Source!BI33<=1,I46-0, 0) -> 23667.75 | Y47: =IF(Source!BI33=2,I46-0, 0) -> 0 | Z47: =IF(Source!BI33=3,I46-0, 0) -> 0 | AA47: =IF(Source!BI33=4,I46,0) -> 0
A49: =Source!E35 -> 4 | B49: =Source!F35 -> 1.13-4-71 | C49: Кран шаровой латунный полнопроходной, со спускным элементом и заглушкой, Techno-C (аналог V3000В),Tmax=120°С, Р=2,5 МПа, диаметр 15 мм | D49: =Source!H35 -> шт. | E49: =Source!I35 -> 90 | F49: =Source!AL35 -> 38.95 | G49: =Source!DD35 | H49: =Source!AW35 -> 1 | I49: =ROUND((Source!AC35*Source!AW35)*Source!I35, 2) -> 3505.5 | J49: =IF(Source!BC35<> 0, Source!BC35, 1) -> 16.72 | K49: =Source!P35 -> 58611.96 | Q49: =ROUND((Source!DN35/100)*ROUND((Source!AF35*Source!AV35)*Source!I35, 2), 2) -> 0 | R49: =Source!X35 -> 0 | S49: =ROUND((Source!DO35/100)*ROUND((Source!AF35*Source!AV35)*Source!I35, 2), 2) -> 0 | T49: =Source!Y35 -> 0 | U49: =ROUND((175/100)*ROUND((Source!AE35*Source!AV35)*Source!I35, 2), 2) -> 0 | V49: =ROUND((157/100)*ROUND(Source!CS35*Source!I35, 2), 2) -> 0
C50: Всего по позиции: | H50: =I49 -> 3505.5 | J50: =K49 -> 58611.96 | O50: =I49 -> 3505.5 | P50: =K49 -> 58611.96 | X50: =IF(Source!BI35<=1,I49-0, 0) -> 3505.5 | Y50: =IF(Source!BI35=2,I49-0, 0) -> 0 | Z50: =IF(Source!BI35=3,I49-0, 0) -> 0 | AA50: =IF(Source!BI35=4,I49,0) -> 0
A52: =Source!E37 -> 5 | B52: =Source!F37 -> 3.16-6-2 | C52: Прокладка трубопроводов отопления из стальных водогазопроводных неоцинкованных труб диаметром 20 мм | D52: =Source!H37 -> 100 м трубопровода | E52: =Source!I37 -> 4.4 | Q52: =ROUND((Source!DN37/100)*ROUND((Source!AF37*Source!AV37)*Source!I37, 2), 2) -> 2139.79 | R52: =Source!X37 -> 33696.03 | S52: =ROUND((Source!DO37/100)*ROUND((Source!AF37*Source!AV37)*Source!I37, 2), 2) -> 1257.6 | T52: =Source!Y37 -> 15699.29 | U52: =ROUND((175/100)*ROUND((Source!AE37*Source!AV37)*Source!I37, 2), 2) -> 82.69 | V52: =ROUND((157/100)*ROUND(Source!CS37*Source!I37, 2), 2) -> 1513.17
...

Sheet Source
A1: 0 | B1: Smeta.RU (495) 974-1589 | D1: _PS_ | F1: 0 | G1: 0 | H1: 0 | I1: Smeta.RU | K1: 1 | L1: 62422 | M1: 10
A12: 1 | B12: 433 | C12: 0 | D12: =ROW(A401) -> 401 | E12: 0 | F12: 01-10 | G12: 02-01-10 Отопление | I12: 0 | K12: 0 | O12: 2001 | P12: 1 | Q12: 0 | R12: 175 | S12: 157 | U12: Нормативная база: Типовой расчет для ТСН-2001 (Строительство), доп 39, новая методика Итого по смете 13576932,16 Основная заработная плата 1708411,26 Эксплуатация машин 103992,74 Заработная плата машинистов 45622,68 Материалы 11764528,16 Накладные расходы 1431965,81 Сметная прибыль 729647,17 Итого 15738545,14 | V12: 0 | BH12: Сметные нормы списания | BI12: Коды ОКП для ТСН-2001 МГЭ | BJ12: 1 | BK12: 1 | BL12: 0 | BM12: 0 | BN12: 1 | BO12: 0 | BP12: 6 | BQ12: 2 | BR12: 1 | BS12: 1 | BT12: 0 | BU12: 0 | BV12: 0 | BW12: 0 | BX12: 0 | BY12: ТСН-2001 (МГЭ) - Ремонт | BZ12: Типовой расчет для ТСН-2001 МГЭ (Ремонт), Доп 48 | CA12: Территориальные сметные нормативы для Москвы ТСН-2001 (МГЭ) | CB12: Территориальные сметные нормативы для Москвы ТСН-2001 (МГЭ) | CC12: Территориальные сметные нормативы для Москвы ТСН-2001 (МГЭ) | CD12: Территориальные сметные нормативы для Москвы ТСН-2001 (МГЭ) | CE12: Поправки для ТСН-2001 от 07.05.2018 г. | CF12: 0 | CG12: 0 | CH12: 8200 | CK12: 48 | EC12: 0
A15: 15 | B15: 1
A18: 52 | B18: =B401 -> 433 | C18: =C401 -> 1 | D18: =D401 -> 12 | E18: =E401 -> 0 | F18: =F401 -> 01-10 | G18: =G401 -> 02-01-10 Отопление | O18: =O401 -> 3056712.3 | P18: =P401 -> 2957898.1 | Q18: =Q401 -> 13208.85 | R18: =R401 -> 2238.48 | S18: =S401 -> 85605.4 | T18: =T401 -> 0 | U18: =U401 -> 7116.085 | V18: =V401 -> 0 | ... GX18: =GX401 -> 0
A20: 3 | B20: 1 | D20: =ROW(A370) -> 370 | F20: 02-01-11 | G20: 02-01-11 | I20: 0 | K20: 1 | V20: 0 | BX20: 0 | CF20: 0 | CG20: 0
A22: 52 | B22: =B370 -> 1 | C22: =C370 -> 3 | D22: =D370 -> 20 | E22: =E370 -> 0 | F22: =F370 -> 02-01-11 | G22: =G370 -> 02-01-11 | O22: =O370 -> 3056712.3 | P22: =P370 -> 2957898.1 | Q22: =Q370 -> 13208.85 | R22: =R370 -> 2238.48 | S22: =S370 -> 85605.4 | T22: =T370 -> 0 | U22: =U370 -> 7116.085 | V22: =V370 -> 0 | ... GX22: =GX370 -> 0
A24: 4 | B24: 1 | D24: =ROW(A247) -> 247 | F24: Отопление | G24: Отопление | I24: 0 | K24: 1 | U24: Итого по разделу 14958776,10 | V24: 0 | BX24: 0 | CJ24: 0
A26: 52 | B26: =B247 -> 1 | C26: =C247 -> 4 | D26: =D247 -> 24 | E26: =E247 -> 0 | F26: =F247 -> Отопление | G26: =G247 -> Отопление | O26: =O247 -> 3037555.7 | P26: =P247 -> 2957701.4 | Q26: =Q247 -> 12353.04 | R26: =R247 -> 2185.06 | S26: =S247 -> 67501.33 | T26: =T247 -> 0 | U26: =U247 -> 5457.5761 | V26: =V247 -> 0 | ... GX26: =GX247 -> 0
A28: 17 | B28: 1 | C28: =ROW(SmtRes!A3) -> 3 | D28: =ROW(EtalonRes!A6) -> 6 | E28: 1 | F28: 3.16-6-1 | G28: Прокладка трубопроводов отопления из стальных водогазопроводных неоцинкованных труб диаметром 15 мм | H28: 100 м трубопровода | I28: 7.85 | J28: 0 | O28: =ROUND(CP28,2) -> 3914.58 | P28: =ROUND(CQ28*I28,2) -> 142.32 | Q28: =ROUND(CR28*I28,2) -> 423.51 | R28: =ROUND(CS28*I28,2) -> 84.29 | S28: =ROUND(CT28*I28,2) -> 3348.75 | T28: =ROUND(CU28*I28,2) -> 0 | U28: =CV28*I28 -> 268.11675 | V28: =CW28*I28 -> 0 | W28: =ROUND(CX28*I28,2) -> 0 | X28: =ROUND(CY28,2) -> 3817.58 | Y28: =ROUND(CZ28,2) -> 2243.66 | AA28: 42559021 | AB28: =ROUND((AC28+AD28+AF28),6) -> 498.6725 | AC28: =ROUND((ES28),6) -> 18.13 | AD28: =ROUND(((ET28*1.25)),6) -> 53.95 | AE28: =ROUND(((EU28*1.25)),6) -> 10.7375 | AF28: =ROUND(((EV28*1.15)),6) -> 426.5925 | AG28: =ROUND((AP28),6) -> 0 | AH28: =((EW28*1.15)) -> 34.155 | AI28: =((EX28*1.25)) -> 0 | AJ28: =ROUND((AS28),6) -> 0 | AK28: 432.24 | AL28: 18.13 | AM28: 43.16 | AN28: 8.59 | AO28: 370.95 | AP28: 0 | AQ28: 29.7 | AR28: 0 | AS28: 0 | AT28: 114 | AU28: 67 | AV28: 1 | AW28: 1 | AZ28: 1 | BA28: 1 | BB28: 1 | BC28: 1 | BH28: 0 | BI28: 1 | BJ28: ТСН-2001.3. Доп. 1-42. Сб. 16, т. 6, поз. 1 | BM28: 132 | BN28: 0 | BP28: 0 | BQ28: 30 | BR28: 0 | BS28: 1 | BT28: 1 | BU28: 1 | BV28: 1 | BW28: 1 | BX28: 1 | BZ28: 114 | CA28: 67 | CF28: 0 | CG28: 0 | CM28: 0 | CN28: Поправка: ТСН-2001.О.П. п.3.4. 6 Наименование: Выполняемые при ремонте и реконструкции работы аналогичные технологическим процессам, характерным для нового строительства и отсутствующим в сборниках на ремонтно-строительные работы | CO28: 0 | CP28: =(P28+Q28+S28) -> 3914.58 | CQ28: =(AC28*BC28*AW28) -> 18.13 | CR28: =(AD28*BB28*AV28) -> 53.95 | CS28: =(AE28*BS28*AV28) -> 10.7375 | CT28: =(AF28*BA28*AV28) -> 426.5925 | CU28: =AG28 -> 0 | CV28: =(AH28*AV28) -> 34.155 | CW28: =AI28 -> 0 | CX28: =AJ28 -> 0 | CY28: =((S28*BZ28)/100) -> 3817.575 | CZ28: =((S28*CA28)/100) -> 2243.6625 | DE28: )*1,25 | DF28: )*1,25 | DG28: )*1,15 | DI28: )*1,15 | DJ28: )*1,25 | DN28: 0 | DO28: 0 | DP28: 1.067 | DQ28: 1 | DU28: 1013 | DV28: 100 м трубопровода | DW28: 100 м трубопровода | DX28: 1 | EE28: 42145139 | EF28: 30 | EG28: Строительные работы | EH28: 0 | EJ28: 1 | EK28: 132 | EL28: ТСН-2001.3-16. 16-5...16-14 | EM28: ТСН-2001.3-16-4 | EO28: Поправка: ТСН-2001.О.П. п.3.4. 6 | EQ28: 512 | ER28: 432.24 | ES28: 18.13 | ET28: 43.16 | EU28: 8.59 | EV28: 370.95 | EW28: 29.7 | EX28: 0 | EY28: 0 | FQ28: 0 | FR28: =ROUND(IF(AND(BH28=3,BI28=3),P28,0),2) -> 0 | FS28: 0 | FX28: 114 | FY28: 67 | GD28: 0 | GF28: -718538822 | GG28: 2 | GH28: 1 | GI28: -2 | GJ28: 0 | GK28: =ROUND(R28*(R12)/100,2) -> 147.51 | GL28: =ROUND(IF(AND(BH28=3,BI28=3,FS28<>0),P28,0),2) -> 0 | GM28: =ROUND(O28+X28+Y28+GK28,2)+GX28 -> 10123.33 | GN28: =IF(OR(BI28=0,BI28=1),ROUND(O28+X28+Y28+GK28,2),0) -> 10123.33 | GO28: =IF(BI28=2,ROUND(O28+X28+Y28+GK28,2),0) -> 0 | GP28: =IF(BI28=4,ROUND(O28+X28+Y28+GK28,2)+GX28,0) -> 0 | GR28: 0 | GS28: 3 | GT28: 0 | GV28: =ROUND(GT28,6) -> 0 | GW28: 1 | GX28: =ROUND(GV28*GW28*I28,2) -> 0 | HA28: 0 | HB28: 0 | IK28: 0
A29: 17 | B29: 1 | C29: =ROW(SmtRes!A6) -> 6 | D29: =ROW(EtalonRes!A12) -> 12 | E29: 1 | F29: 3.16-6-1 | G29: Прокладка трубопроводов отопления из стальных водогазопроводных неоцинкованных труб диаметром 15 мм | H29: 100 м трубопровода | I29: 7.85 | J29: 0 | O29: =ROUND(CP29,2) -> 72612.09 | P29: =ROUND(CQ29*I29,2) -> 744.34 | Q29: =ROUND(CR29*I29,2) -> 3553.23 | R29: =ROUND(CS29*I29,2) -> 1719.5 | S29: =ROUND(CT29*I29,2) -> 68314.52 | T29: =ROUND(CU29*I29,2) -> 0 | U29: =CV29*I29 -> 268.11675 | V29: =CW29*I29 -> 0 | W29: =ROUND(CX29*I29,2) -> 0 | X29: =ROUND(CY29,2) -> 60116.78 | Y29: =ROUND(CZ29,2) -> 28008.95 | AA29: 42559019 | AB29: =ROUND((AC29+AD29+AF29),6) -> 498.6725 | AC29: =ROUND((ES29),6) -> 18.13 | AD29: =ROUND(((ET29*1.25)),6) -> 53.95 | AE29: =ROUND(((EU29*1.25)),6) -> 10.7375 | AF29: =ROUND(((EV29*1.15)),6) -> 426.5925 | AG29: =ROUND((AP29),6) -> 0 | AH29: =((EW29*1.15)) -> 34.155 | AI29: =((EX29*1.25)) -> 0 | AJ29: =ROUND((AS29),6) -> 0 | AK29: 432.24 | AL29: 18.13 | AM29: 43.16 | AN29: 8.59 | AO29: 370.95 | AP29: 0 | AQ29: 29.7 | AR29: 0 | AS29: 0 | AT29: 88 | AU29: 41 | AV29: 1 | AW29: 1 | AZ29: 1 | BA29: 20.4 | BB29: 8.39 | BC29: 5.23 | BH29: 0 | BI29: 1 | BJ29: ТСН-2001.3. Доп. 1-42. Сб. 16, т. 6, поз. 1 | BM29: 132 | BN29: 0 | BO29: 3.16-6-1 | BP29: 1 | BQ29: 30 | BR29: 0 | BS29: 20.4 | BT29: 1 | BU29: 1 | BV29: 1 | BW29: 1 | BX29: 1 | BZ29: 88 | CA29: 41 | CF29: 0 | CG29: 0 | CM29: 0 | CN29: Поправка: ТСН-2001.О.П. п.3.4. 6 Наименование: Выполняемые при ремонте и реконструкции работы аналогичные технологическим процессам, характерным для нового строительства и отсутствующим в сборниках на ремонтно-строительные работы | CO29: 0 | CP29: =(P29+Q29+S29) -> 72612.09 | CQ29: =(AC29*BC29*AW29) -> 94.8199 | CR29: =(AD29*BB29*AV29) -> 452.6405 | CS29: =(AE29*BS29*AV29) -> 219.045 | CT29: =(AF29*BA29*AV29) -> 8702.487 | CU29: =AG29 -> 0 | CV29: =(AH29*AV29) -> 34.155 | CW29: =AI29 -> 0 | CX29: =AJ29 -> 0 | CY29: =S29*(BZ29/100) -> 60116.778 | CZ29: =S29*(CA29/100) -> 28008.953 | DE29: )*1,25 | DF29: )*1,25 | DG29: )*1,15 | DI29: )*1,15 | DJ29: )*1,25 | DN29: 114 | DO29: 67 | DP29: 1.067 | DQ29: 1 | DU29: 1013 | DV29: 100 м трубопровода | DW29: 100 м трубопровода | DX29: 1 | EE29: 42145139 | EF29: 30 | EG29: Строительные работы | EH29: 0 | EJ29: 1 | EK29: 132 | EL29: ТСН-2001.3-16. 16-5...16-14 | EM29: ТСН-2001.3-16-4 | EO29: Поправка: ТСН-2001.О.П. п.3.4. 6 | EQ29: 512 | ER29: 432.24 | ES29: 18.13 | ET29: 43.16 | EU29: 8.59 | EV29: 370.95 | EW29: 29.7 | EX29: 0 | EY29: 0 | FQ29: 0 | FR29: =ROUND(IF(AND(BH29=3,BI29=3),P29,0),2) -> 0 | FS29: 0 | FX29: 114 | FY29: 67 | GD29: 0 | GF29: -718538822 | GG29: 2 | GH29: 1 | GI29: 2 | GJ29: 0 | GK29: =ROUND(R29*(S12)/100,2) -> 2699.62 | GL29: =ROUND(IF(AND(BH29=3,BI29=3,FS29<>0),P29,0),2) -> 0 | GM29: =ROUND(O29+X29+Y29+GK29,2)+GX29 -> 163437.44 | GN29: =IF(OR(BI29=0,BI29=1),ROUND(O29+X29+Y29+GK29,2),0) -> 163437.44 | GO29: =IF(BI29=2,ROUND(O29+X29+Y29+GK29,2),0) -> 0 | GP29: =IF(BI29=4,ROUND(O29+X29+Y29+GK29,2)+GX29,0) -> 0 | GR29: 0 | GS29: 3 | GT29: 0 | GV29: =ROUND(GT29,6) -> 0 | GW29: 1 | GX29: =ROUND(GV29*GW29*I29,2) -> 0 | HA29: 0 | HB29: 0 | IK29: 0
A30: 17 | B30: 1 | E30: 2 | F30: 1.12-10-24 | G30: Средства для крепления радиаторов на кирпичных и бетонных стенах, крючки для труб, диаметр труб 50 мм | H30: 1000 шт. | I30: 0.393 | J30: 0 | O30: =ROUND(CP30,2) -> 3038.84 | P30: =ROUND(CQ30*I30,2) -> 3038.84 | Q30: =ROUND(CR30*I30,2) -> 0 | R30: =ROUND(CS30*I30,2) -> 0 | S30: =ROUND(CT30*I30,2) -> 0 | T30: =ROUND(CU30*I30,2) -> 0 | U30: =CV30*I30 -> 0 | V30: =CW30*I30 -> 0 | W30: =ROUND(CX30*I30,2) -> 0 | X30: =ROUND(CY30,2) -> 0 | Y30: =ROUND(CZ30,2) -> 0 | AA30: 42559021 | AB30: =ROUND((AC30+AD30+AF30),6) -> 7732.42 | AC30: =ROUND((ES30),6) -> 7732.42 | AD30: =ROUND((ET30),6) -> 0 | AE30: =ROUND((EU30),6) -> 0 | AF30: =ROUND((EV30),6) -> 0 | AG30: =ROUND((AP30),6) -> 0 | AH30: =(EW30) -> 0 | AI30: =(EX30) -> 0 | AJ30: =ROUND((AS30),6) -> 0 | AK30: 7732.42 | AL30: 7732.42 | AM30: 0 | AN30: 0 | AO30: 0 | AP30: 0 | AQ30: 0 | AR30: 0 | AS30: 0 | AT30: 0 | AU30: 0 | AV30: 1 | AW30: 1 | AZ30: 1 | BA30: 1 | BB30: 1 | BC30: 1 | BH30: 3 | BI30: 1 | BJ30: ТСН-2001.1. Доп. 1-42. Р. 12, о. 10, поз. 24 | BM30: 1617 | BN30: 0 | BP30: 0 | BQ30: 200 | BR30: 0 | BS30: 1 | BT30: 1 | BU30: 1 | BV30: 1 | BW30: 1 | BX30: 1 | BZ30: 0 | CA30: 0 | CF30: 0 | CG30: 0 | CM30: 0 | CO30: 0 | CP30: =(P30+Q30+S30) -> 3038.84 | CQ30: =(AC30*BC30*AW30) -> 7732.42 | CR30: =(AD30*BB30*AV30) -> 0 | CS30: =(AE30*BS30*AV30) -> 0 | CT30: =(AF30*BA30*AV30) -> 0 | CU30: =AG30 -> 0 | CV30: =(AH30*AV30) -> 0 | CW30: =AI30 -> 0 | CX30: =AJ30 -> 0 | CY30: =((S30*BZ30)/100) -> 0 | CZ30: =((S30*CA30)/100) -> 0 | DN30: 0 | DO30: 0 | DP30: 1 | DQ30: 1 | DU30: 1010 | DV30: 1000 шт. | DW30: 1000 шт. | DX30: 1000 | EE30: 42146624 | EF30: 200 | EG30: Материалы строительные | EH30: 0 | EJ30: 1 | EK30: 1617 | EL30: ТСН-2001.1 Материалы строительные | EM30: ТСН-2001.1-1 | EQ30: 512 | ER30: 7732.42 | ES30: 7732.42 | ET30: 0 | EU30: 0 | EV30: 0 | EW30: 0 | EX30: 0 | EY30: 0 | FQ30: 0 | FR30: =ROUND(IF(AND(BH30=3,BI30=3),P30,0),2) -> 0 | FS30: 0 | FX30: 0 | FY30: 0 | GD30: 0 | GF30: 76125446 | GG30: 2 | GH30: 1 | GI30: -2 | GJ30: 0 | GK30: =ROUND(R30*(R12)/100,2) -> 0 | GL30: =ROUND(IF(AND(BH30=3,BI30=3,FS30<>0),P30,0),2) -> 0 | GM30: =ROUND(O30+X30+Y30+GK30,2)+GX30 -> 3038.84 | GN30: =IF(OR(BI30=0,BI30=1),ROUND(O30+X30+Y30+GK30,2),0) -> 3038.84 | GO30: =IF(BI30=2,ROUND(O30+X30+Y30+GK30,2),0) -> 0 | GP30: =IF(BI30=4,ROUND(O30+X30+Y30+GK30,2)+GX30,0) -> 0 | GR30: 0 | GS30: 3 | GT30: 0 | GV30: =ROUND(GT30,6) -> 0 | GW30: 1 | GX30: =ROUND(GV30*GW30*I30,2) -> 0 | HA30: 0 | HB30: 0 | IK30: 0
A31: 17 | B31: 1 | E31: 2 | F31: 1.12-10-24 | G31: Средства для крепления радиаторов на кирпичных и бетонных стенах, крючки для труб, диаметр труб 50 мм | H31: 1000 шт. | I31: 0.393 | J31: 0 | O31: =ROUND(CP31,2) -> 14282.55 | P31: =ROUND(CQ31*I31,2) -> 14282.55 | Q31: =ROUND(CR31*I31,2) -> 0 | R31: =ROUND(CS31*I31,2) -> 0 | S31: =ROUND(CT31*I31,2) -> 0 | T31: =ROUND(CU31*I31,2) -> 0 | U31: =CV31*I31 -> 0 | V31: =CW31*I31 -> 0 | W31: =ROUND(CX31*I31,2) -> 0 | X31: =ROUND(CY31,2) -> 0 | Y31: =ROUND(CZ31,2) -> 0 | AA31: 42559019 | AB31: =ROUND((AC31+AD31+AF31),6) -> 7732.42 | AC31: =ROUND((ES31),6) -> 7732.42 | AD31: =ROUND((ET31),6) -> 0 | AE31: =ROUND((EU31),6) -> 0 | AF31: =ROUND((EV31),6) -> 0 | AG31: =ROUND((AP31),6) -> 0 | AH31: =(EW31) -> 0 | AI31: =(EX31) -> 0 | AJ31: =ROUND((AS31),6) -> 0 | AK31: 7732.42 | AL31: 7732.42 | AM31: 0 | AN31: 0 | AO31: 0 | AP31: 0 | AQ31: 0 | AR31: 0 | AS31: 0 | AT31: 0 | AU31: 0 | AV31: 1 | AW31: 1 | AZ31: 1 | BA31: 1 | BB31: 1 | BC31: 4.7 | BH31: 3 | BI31: 1 | BJ31: ТСН-2001.1. Доп. 1-42. Р. 12, о. 10, поз. 24 | BM31: 1617 | BN31: 0 | BO31: 1.12-10-24 | BP31: 1 | BQ31: 200 | BR31: 0 | BS31: 1 | BT31: 1 | BU31: 1 | BV31: 1 | BW31: 1 | BX31: 1 | BZ31: 0 | CA31: 0 | CF31: 0 | CG31: 0 | CM31: 0 | CO31: 0 | CP31: =(P31+Q31+S31) -> 14282.55 | CQ31: =(AC31*BC31*AW31) -> 36342.374 | CR31: =(AD31*BB31*AV31) -> 0 | CS31: =(AE31*BS31*AV31) -> 0 | CT31: =(AF31*BA31*AV31) -> 0 | CU31: =AG31 -> 0 | CV31: =(AH31*AV31) -> 0 | CW31: =AI31 -> 0 | CX31: =AJ31 -> 0 | CY31: =S31*(BZ31/100) -> 0 | CZ31: =S31*(CA31/100) -> 0 | DN31: 0 | DO31: 0 | DP31: 1 | DQ31: 1 | DU31: 1010 | DV31: 1000 шт. | DW31: 1000 шт. | DX31: 1000 | EE31: 42146624 | EF31: 200 | EG31: Материалы строительные | EH31: 0 | EJ31: 1 | EK31: 1617 | EL31: ТСН-2001.1 Материалы строительные | EM31: ТСН-2001.1-1 | EQ31: 512 | ER31: 7732.42 | ES31: 7732.42 | ET31: 0 | EU31: 0 | EV31: 0 | EW31: 0 | EX31: 0 | EY31: 0 | FQ31: 0 | FR31: =ROUND(IF(AND(BH31=3,BI31=3),P31,0),2) -> 0 | FS31: 0 | FX31: 0 | FY31: 0 | GD31: 0 | GF31: 76125446 | GG31: 2 | GH31: 1 | GI31: 2 | GJ31: 0 | GK31: =ROUND(R31*(S12)/100,2) -> 0 | GL31: =ROUND(IF(AND(BH31=3,BI31=3,FS31<>0),P31,0),2) -> 0 | GM31: =ROUND(O31+X31+Y31+GK31,2)+GX31 -> 14282.55 | GN31: =IF(OR(BI31=0,BI31=1),ROUND(O31+X31+Y31+GK31,2),0) -> 14282.55 | GO31: =IF(BI31=2,ROUND(O31+X31+Y31+GK31,2),0) -> 0 | GP31: =IF(BI31=4,ROUND(O31+X31+Y31+GK31,2)+GX31,0) -> 0 | GR31: 0 | GS31: 3 | GT31: 0 | GV31: =ROUND(GT31,6) -> 0 | GW31: 1 | GX31: =ROUND(GV31*GW31*I31,2) -> 0 | HA31: 0 | HB31: 0 | IK31: 0
A32: 17 | B32: 1 | E32: 3 | F32: 1.12-1-40 | G32: Узлы трубопроводов из стальных водогазопроводных неоцинкованных труб с гильзами для систем отопления, диаметр условного прохода 15 мм | H32: м | I32: 785 | J32: 0 | O32: =ROUND(CP32,2) -> 23667.75 | P32: =ROUND(CQ32*I32,2) -> 23667.75 | Q32: =ROUND(CR32*I32,2) -> 0 | R32: =ROUND(CS32*I32,2) -> 0 | S32: =ROUND(CT32*I32,2) -> 0 | T32: =ROUND(CU32*I32,2) -> 0 | U32: =CV32*I32 -> 0 | V32: =CW32*I32 -> 0 | W32: =ROUND(CX32*I32,2) -> 0 | X32: =ROUND(CY32,2) -> 0 | Y32: =ROUND(CZ32,2) -> 0 | AA32: 42559021 | AB32: =ROUND((AC32+AD32+AF32),6) -> 30.15 | AC32: =ROUND((ES32),6) -> 30.15 | AD32: =ROUND((ET32),6) -> 0 | AE32: =ROUND((EU32),6) -> 0 | AF32: =ROUND((EV32),6) -> 0 | AG32: =ROUND((AP32),6) -> 0 | AH32: =(EW32) -> 0 | AI32: =(EX32) -> 0 | AJ32: =ROUND((AS32),6) -> 0 | AK32: 30.15 | AL32: 30.15 | AM32: 0 | AN32: 0 | AO32: 0 | AP32: 0 | AQ32: 0 | AR32: 0 | AS32: 0 | AT32: 0 | AU32: 0 | AV32: 1 | AW32: 1 | AZ32: 1 | BA32: 1 | BB32: 1 | BC32: 1 | BH32: 3 | BI32: 1 | BJ32: ТСН-2001.1. Доп. 1-42. Р. 12, о. 1, поз. 40 | BM32: 1617 | BN32: 0 | BP32: 0 | BQ32: 200 | BR32: 0 | BS32: 1 | BT32: 1 | BU32: 1 | BV32: 1 | BW32: 1 | BX32: 1 | BZ32: 0 | CA32: 0 | CF32: 0 | CG32: 0 | CM32: 0 | CO32: 0 | CP32: =(P32+Q32+S32) -> 23667.75 | CQ32: =(AC32*BC32*AW32) -> 30.15 | CR32: =(AD32*BB32*AV32) -> 0 | CS32: =(AE32*BS32*AV32) -> 0 | CT32: =(AF32*BA32*AV32) -> 0 | CU32: =AG32 -> 0 | CV32: =(AH32*AV32) -> 0 | CW32: =AI32 -> 0 | CX32: =AJ32 -> 0 | CY32: =((S32*BZ32)/100) -> 0 | CZ32: =((S32*CA32)/100) -> 0 | DN32: 0 | DO32: 0 | DP32: 1 | DQ32: 1 | DU32: 1003 | DV32: м | DW32: м | DX32: 1 | EE32: 42146624 | EF32: 200 | EG32: Материалы строительные | EH32: 0 | EJ32: 1 | EK32: 1617 | EL32: ТСН-2001.1 Материалы строительные | EM32: ТСН-2001.1-1 | EQ32: 512 | ER32: 30.15 | ES32: 30.15 | ET32: 0 | EU32: 0 | EV32: 0 | EW32: 0 | EX32: 0 | EY32: 0 | FQ32: 0 | FR32: =ROUND(IF(AND(BH32=3,BI32=3),P32,0),2) -> 0 | FS32: 0 | FX32: 0 | FY32: 0 | GD32: 0 | GF32: -73610765 | GG32: 2 | GH32: 1 | GI32: -2 | GJ32: 0 | GK32: =ROUND(R32*(R12)/100,2) -> 0 | GL32: =ROUND(IF(AND(BH32=3,BI32=3,FS32<>0),P32,0),2) -> 0 | GM32: =ROUND(O32+X32+Y32+GK32,2)+GX32 -> 23667.75 | GN32: =IF(OR(BI32=0,BI32=1),ROUND(O32+X32+Y32+GK32,2),0) -> 23667.75 | GO32: =IF(BI32=2,ROUND(O32+X32+Y32+GK32,2),0) -> 0 | GP32: =IF(BI32=4,ROUND(O32+X32+Y32+GK32,2)+GX32,0) -> 0 | GR32: 0 | GS32: 3 | GT32: 0 | GV32: =ROUND(GT32,6) -> 0 | GW32: 1 | GX32: =ROUND(GV32*GW32*I32,2) -> 0 | HA32: 0 | HB32: 0 | IK32: 0
A33: 17 | B33: 1 | E33: 3 | F33: 1.12-1-40 | G33: Узлы трубопроводов из стальных водогазопроводных неоцинкованных труб с гильзами для систем отопления, диаметр условного прохода 15 мм | H33: м | I33: 785 | J33: 0 | O33: =ROUND(CP33,2) -> 109345.01 | P33: =ROUND(CQ33*I33,2) -> 109345.01 | Q33: =ROUND(CR33*I33,2) -> 0 | R33: =ROUND(CS33*I33,2) -> 0 | S33: =ROUND(CT33*I33,2) -> 0 | T33: =ROUND(CU33*I33,2) -> 0 | U33: =CV33*I33 -> 0 | V33: =CW33*I33 -> 0 | W33: =ROUND(CX33*I33,2) -> 0 | X33: =ROUND(CY33,2) -> 0 | Y33: =ROUND(CZ33,2) -> 0 | AA33: 42559019 | AB33: =ROUND((AC33+AD33+AF33),6) -> 30.15 | AC33: =ROUND((ES33),6) -> 30.15 | AD33: =ROUND((ET33),6) -> 0 | AE33: =ROUND((EU33),6) -> 0 | AF33: =ROUND((EV33),6) -> 0 | AG33: =ROUND((AP33),6) -> 0 | AH33: =(EW33) -> 0 | AI33: =(EX33) -> 0 | AJ33: =ROUND((AS33),6) -> 0 | AK33: 30.15 | AL33: 30.15 | AM33: 0 | AN33: 0 | AO33: 0 | AP33: 0 | AQ33: 0 | AR33: 0 | AS33: 0 | AT33: 0 | AU33: 0 | AV33: 1 | AW33: 1 | AZ33: 1 | BA33: 1 | BB33: 1 | BC33: 4.62 | BH33: 3 | BI33: 1 | BJ33: ТСН-2001.1. Доп. 1-42. Р. 12, о. 1, поз. 40 | BM33: 1617 | BN33: 0 | BO33: 1.12-1-40 | BP33: 1 | BQ33: 200 | BR33: 0 | BS33: 1 | BT33: 1 | BU33: 1 | BV33: 1 | BW33: 1 | BX33: 1 | BZ33: 0 | CA33: 0 | CF33: 0 | CG33: 0 | CM33: 0 | CO33: 0 | CP33: =(P33+Q33+S33) -> 109345.01 | CQ33: =(AC33*BC33*AW33) -> 139.293 | CR33: =(AD33*BB33*AV33) -> 0 | CS33: =(AE33*BS33*AV33) -> 0 | CT33: =(AF33*BA33*AV33) -> 0 | CU33: =AG33 -> 0 | CV33: =(AH33*AV33) -> 0 | CW33: =AI33 -> 0 | CX33: =AJ33 -> 0 | CY33: =S33*(BZ33/100) -> 0 | CZ33: =S33*(CA33/100) -> 0 | DN33: 0 | DO33: 0 | DP33: 1 | DQ33: 1 | DU33: 1003 | DV33: м | DW33: м | DX33: 1 | EE33: 42146624 | EF33: 200 | EG33: Материалы строительные | EH33: 0 | EJ33: 1 | EK33: 1617 | EL33: ТСН-2001.1 Материалы строительные | EM33: ТСН-2001.1-1 | EQ33: 512 | ER33: 30.15 | ES33: 30.15 | ET33: 0 | EU33: 0 | EV33: 0 | EW33: 0 | EX33: 0 | EY33: 0 | FQ33: 0 | FR33: =ROUND(IF(AND(BH33=3,BI33=3),P33,0),2) -> 0 | FS33: 0 | FX33: 0 | FY33: 0 | GD33: 0 | GF33: -73610765 | GG33: 2 | GH33: 1 | GI33: 2 | GJ33: 0 | GK33: =ROUND(R33*(S12)/100,2) -> 0 | GL33: =ROUND(IF(AND(BH33=3,BI33=3,FS33<>0),P33,0),2) -> 0 | GM33: =ROUND(O33+X33+Y33+GK33,2)+GX33 -> 109345.01 | GN33: =IF(OR(BI33=0,BI33=1),ROUND(O33+X33+Y33+GK33,2),0) -> 109345.01 | GO33: =IF(BI33=2,ROUND(O33+X33+Y33+GK33,2),0) -> 0 | GP33: =IF(BI33=4,ROUND(O33+X33+Y33+GK33,2)+GX33,0) -> 0 | GR33: 0 | GS33: 3 | GT33: 0 | GV33: =ROUND(GT33,6) -> 0 | GW33: 1 | GX33: =ROUND(GV33*GW33*I33,2) -> 0 | HA33: 0 | HB33: 0 | IK33: 0
A34: 17 | B34: 1 | E34: 4 | F34: 1.13-4-71 | G34: Кран шаровой латунный полнопроходной, со спускным элементом и заглушкой, Techno-C (аналог V3000В),Tmax=120°С, Р=2,5 МПа, диаметр 15 мм | H34: шт. | I34: 90 | J34: 0 | O34: =ROUND(CP34,2) -> 3505.5 | P34: =ROUND(CQ34*I34,2) -> 3505.5 | Q34: =ROUND(CR34*I34,2) -> 0 | R34: =ROUND(CS34*I34,2) -> 0 | S34: =ROUND(CT34*I34,2) -> 0 | T34: =ROUND(CU34*I34,2) -> 0 | U34: =CV34*I34 -> 0 | V34: =CW34*I34 -> 0 | W34: =ROUND(CX34*I34,2) -> 0 | X34: =ROUND(CY34,2) -> 0 | Y34: =ROUND(CZ34,2) -> 0 | AA34: 42559021 | AB34: =ROUND((AC34+AD34+AF34),6) -> 38.95 | AC34: =ROUND((ES34),6) -> 38.95 | AD34: =ROUND((ET34),6) -> 0 | AE34: =ROUND((EU34),6) -> 0 | AF34: =ROUND((EV34),6) -> 0 | AG34: =ROUND((AP34),6) -> 0 | AH34: =(EW34) -> 0 | AI34: =(EX34) -> 0 | AJ34: =ROUND((AS34),6) -> 0 | AK34: 38.95 | AL34: 38.95 | AM34: 0 | AN34: 0 | AO34: 0 | AP34: 0 | AQ34: 0 | AR34: 0 | AS34: 0 | AT34: 0 | AU34: 0 | AV34: 1 | AW34: 1 | AZ34: 1 | BA34: 1 | BB34: 1 | BC34: 1 | BH34: 3 | BI34: 1 | BJ34: ТСН-2001.1. Доп. 1-42. Р. 13, о. 4, поз. 71 | BM34: 1617 | BN34: 0 | BP34: 0 | BQ34: 200 | BR34: 0 | BS34: 1 | BT34: 1 | BU34: 1 | BV34: 1 | BW34: 1 | BX34: 1 | BZ34: 0 | CA34: 0 | CF34: 0 | CG34: 0 | CM34: 0 | CO34: 0 | CP34: =(P34+Q34+S34) -> 3505.5 | CQ34: =(AC34*BC34*AW34) -> 38.95 | CR34: =(AD34*BB34*AV34) -> 0 | CS34: =(AE34*BS34*AV34) -> 0 | CT34: =(AF34*BA34*AV34) -> 0 | CU34: =AG34 -> 0 | CV34: =(AH34*AV34) -> 0 | CW34: =AI34 -> 0 | CX34: =AJ34 -> 0 | CY34: =((S34*BZ34)/100) -> 0 | CZ34: =((S34*CA34)/100) -> 0 | DN34: 0 | DO34: 0 | DP34: 1 | DQ34: 1 | DU34: 1010 | DV34: шт. | DW34: шт. | DX34: 1 | EE34: 42146624 | EF34: 200 | EG34: Материалы строительные | EH34: 0 | EJ34: 1 | EK34: 1617 | EL34: ТСН-2001.1 Материалы строительные | EM34: ТСН-2001.1-1 | EQ34: 512 | ER34: 38.95 | ES34: 38.95 | ET34: 0 | EU34: 0 | EV34: 0 | EW34: 0 | EX34: 0 | EY34: 0 | FQ34: 0 | FR34: =ROUND(IF(AND(BH34=3,BI34=3),P34,0),2) -> 0 | FS34: 0 | FX34: 0 | FY34: 0 | GD34: 0 | GF34: -1670992072 | GG34: 2 | GH34: 1 | GI34: -2 | GJ34: 0 | GK34: =ROUND(R34*(R12)/100,2) -> 0 | GL34: =ROUND(IF(AND(BH34=3,BI34=3,FS34<>0),P34,0),2) -> 0 | GM34: =ROUND(O34+X34+Y34+GK34,2)+GX34 -> 3505.5 | GN34: =IF(OR(BI34=0,BI34=1),ROUND(O34+X34+Y34+GK34,2),0) -> 3505.5 | GO34: =IF(BI34=2,ROUND(O34+X34+Y34+GK34,2),0) -> 0 | GP34: =IF(BI34=4,ROUND(O34+X34+Y34+GK34,2)+GX34,0) -> 0 | GR34: 0 | GS34: 3 | GT34: 0 | GV34: =ROUND(GT34,6) -> 0 | GW34: 1 | GX34: =ROUND(GV34*GW34*I34,2) -> 0 | HA34: 0 | HB34: 0 | IK34: 0
A35: 17 | B35: 1 | E35: 4 | F35: 1.13-4-71 | G35: Кран шаровой латунный полнопроходной, со спускным элементом и заглушкой, Techno-C (аналог V3000В),Tmax=120°С, Р=2,5 МПа, диаметр 15 мм | H35: шт. | I35: 90 | J35: 0 | O35: =ROUND(CP35,2) -> 58611.96 | P35: =ROUND(CQ35*I35,2) -> 58611.96 | Q35: =ROUND(CR35*I35,2) -> 0 | R35: =ROUND(CS35*I35,2) -> 0 | S35: =ROUND(CT35*I35,2) -> 0 | T35: =ROUND(CU35*I35,2) -> 0 | U35: =CV35*I35 -> 0 | V35: =CW35*I35 -> 0 | W35: =ROUND(CX35*I35,2) -> 0 | X35: =ROUND(CY35,2) -> 0 | Y35: =ROUND(CZ35,2) -> 0 | AA35: 42559019 | AB35: =ROUND((AC35+AD35+AF35),6) -> 38.95 | AC35: =ROUND((ES35),6) -> 38.95 | AD35: =ROUND((ET35),6) -> 0 | AE35: =ROUND((EU35),6) -> 0 | AF35: =ROUND((EV35),6) -> 0 | AG35: =ROUND((AP35),6) -> 0 | AH35: =(EW35) -> 0 | AI35: =(EX35) -> 0 | AJ35: =ROUND((AS35),6) -> 0 | AK35: 38.95 | AL35: 38.95 | AM35: 0 | AN35: 0 | AO35: 0 | AP35: 0 | AQ35: 0 | AR35: 0 | AS35: 0 | AT35: 0 | AU35: 0 | AV35: 1 | AW35: 1 | AZ35: 1 | BA35: 1 | BB35: 1 | BC35: 16.72 | BH35: 3 | BI35: 1 | BJ35: ТСН-2001.1. Доп. 1-42. Р. 13, о. 4, поз. 71 | BM35: 1617 | BN35: 0 | BO35: 1.13-4-71 | BP35: 1 | BQ35: 200 | BR35: 0 | BS35: 1 | BT35: 1 | BU35: 1 | BV35: 1 | BW35: 1 | BX35: 1 | BZ35: 0 | CA35: 0 | CF35: 0 | CG35: 0 | CM35: 0 | CO35: 0 | CP35: =(P35+Q35+S35) -> 58611.96 | CQ35: =(AC35*BC35*AW35) -> 651.244 | CR35: =(AD35*BB35*AV35) -> 0 | CS35: =(AE35*BS35*AV35) -> 0 | CT35: =(AF35*BA35*AV35) -> 0 | CU35: =AG35 -> 0 | CV35: =(AH35*AV35) -> 0 | CW35: =AI35 -> 0 | CX35: =AJ35 -> 0 | CY35: =S35*(BZ35/100) -> 0 | CZ35: =S35*(CA35/100) -> 0 | DN35: 0 | DO35: 0 | DP35: 1 | DQ35: 1 | DU35: 1010 | DV35: шт. | DW35: шт. | DX35: 1 | EE35: 42146624 | EF35: 200 | EG35: Материалы строительные | EH35: 0 | EJ35: 1 | EK35: 1617 | EL35: ТСН-2001.1 Материалы строительные | EM35: ТСН-2001.1-1 | EQ35: 512 | ER35: 38.95 | ES35: 38.95 | ET35: 0 | EU35: 0 | EV35: 0 | EW35: 0 | EX35: 0 | EY35: 0 | FQ35: 0 | FR35: =ROUND(IF(AND(BH35=3,BI35=3),P35,0),2) -> 0 | FS35: 0 | FX35: 0 | FY35: 0 | GD35: 0 | GF35: -1670992072 | GG35: 2 | GH35: 1 | GI35: 2 | GJ35: 0 | GK35: =ROUND(R35*(S12)/100,2) -> 0 | GL35: =ROUND(IF(AND(BH35=3,BI35=3,FS35<>0),P35,0),2) -> 0 | GM35: =ROUND(O35+X35+Y35+GK35,2)+GX35 -> 58611.96 | GN35: =IF(OR(BI35=0,BI35=1),ROUND(O35+X35+Y35+GK35,2),0) -> 58611.96 | GO35: =IF(BI35=2,ROUND(O35+X35+Y35+GK35,2),0) -> 0 | GP35: =IF(BI35=4,ROUND(O35+X35+Y35+GK35,2)+GX35,0) -> 0 | GR35: 0 | GS35: 3 | GT35: 0 | GV35: =ROUND(GT35,6) -> 0 | GW35: 1 | GX35: =ROUND(GV35*GW35*I35,2) -> 0 | HA35: 0 | HB35: 0 | IK35: 0
A36: 17 | B36: 1 | C36: =ROW(SmtRes!A9) -> 9 | D36: =ROW(EtalonRes!A18) -> 18 | E36: 5 | F36: 3.16-6-2 | G36: Прокладка трубопроводов отопления из стальных водогазопроводных неоцинкованных труб диаметром 20 мм | H36: 100 м трубопровода | I36: 4.4 | J36: 0 | O36: =ROUND(CP36,2) -> 2194.16 | P36: =ROUND(CQ36*I36,2) -> 79.77 | Q36: =ROUND(CR36*I36,2) -> 237.38 | R36: =ROUND(CS36*I36,2) -> 47.25 | S36: =ROUND(CT36*I36,2) -> 1877.01 | T36: =ROUND(CU36*I36,2) -> 0 | U36: =CV36*I36 -> 150.282 | V36: =CW36*I36 -> 0 | W36: =ROUND(CX36*I36,2) -> 0 | X36: =ROUND(CY36,2) -> 2139.79 | Y36: =ROUND(CZ36,2) -> 1257.6 | AA36: 42559021 | AB36: =ROUND((AC36+AD36+AF36),6) -> 498.6725 | AC36: =ROUND((ES36),6) -> 18.13 | AD36: =ROUND(((ET36*1.25)),6) -> 53.95 | AE36: =ROUND(((EU36*1.25)),6) -> 10.7375 | AF36: =ROUND(((EV36*1.15)),6) -> 426.5925 | AG36: =ROUND((AP36),6) -> 0 | AH36: =((EW36*1.15)) -> 34.155 | AI36: =((EX36*1.25)) -> 0 | AJ36: =ROUND((AS36),6) -> 0 | AK36: 432.24 | AL36: 18.13 | AM36: 43.16 | AN36: 8.59 | AO36: 370.95 | AP36: 0 | AQ36: 29.7 | AR36: 0 | AS36: 0 | AT36: 114 | AU36: 67 | AV36: 1 | AW36: 1 | AZ36: 1 | BA36: 1 | BB36: 1 | BC36: 1 | BH36: 0 | BI36: 1 | BJ36: ТСН-2001.3. Доп. 1-42. Сб. 16, т. 6, поз. 2 | BM36: 132 | BN36: 0 | BP36: 0 | BQ36: 30 | BR36: 0 | BS36: 1 | BT36: 1 | BU36: 1 | BV36: 1 | BW36: 1 | BX36: 1 | BZ36: 114 | CA36: 67 | CF36: 0 | CG36: 0 | CM36: 0 | CN36: Поправка: ТСН-2001.О.П. п.3.4. 6 Наименование: Выполняемые при ремонте и реконструкции работы аналогичные технологическим процессам, характерным для нового строительства и отсутствующим в сборниках на ремонтно-строительные работы | CO36: 0 | CP36: =(P36+Q36+S36) -> 2194.16 | CQ36: =(AC36*BC36*AW36) -> 18.13 | CR36: =(AD36*BB36*AV36) -> 53.95 | CS36: =(AE36*BS36*AV36) -> 10.7375 | CT36: =(AF36*BA36*AV36) -> 426.5925 | CU36: =AG36 -> 0 | CV36: =(AH36*AV36) -> 34.155 | CW36: =AI36 -> 0 | CX36: =AJ36 -> 0 | CY36: =((S36*BZ36)/100) -> 2139.7914 | CZ36: =((S36*CA36)/100) -> 1257.5967 | DE36: )*1,25 | DF36: )*1,25 | DG36: )*1,15 | DI36: )*1,15 | DJ36: )*1,25 | DN36: 0 | DO36: 0 | DP36: 1.067 | DQ36: 1 | DU36: 1013 | DV36: 100 м трубопровода | DW36: 100 м трубопровода | DX36: 1 | EE36: 42145139 | EF36: 30 | EG36: Строительные работы | EH36: 0 | EJ36: 1 | EK36: 132 | EL36: ТСН-2001.3-16. 16-5...16-14 | EM36: ТСН-2001.3-16-4 | EO36: Поправка: ТСН-2001.О.П. п.3.4. 6 | EQ36: 512 | ER36: 432.24 | ES36: 18.13 | ET36: 43.16 | EU36: 8.59 | EV36: 370.95 | EW36: 29.7 | EX36: 0 | EY36: 0 | FQ36: 0 | FR36: =ROUND(IF(AND(BH36=3,BI36=3),P36,0),2) -> 0 | FS36: 0 | FX36: 114 | FY36: 67 | GD36: 0 | GF36: 118129553 | GG36: 2 | GH36: 1 | GI36: -2 | GJ36: 0 | GK36: =ROUND(R36*(R12)/100,2) -> 82.69 | GL36: =ROUND(IF(AND(BH36=3,BI36=3,FS36<>0),P36,0),2) -> 0 | GM36: =ROUND(O36+X36+Y36+GK36,2)+GX36 -> 5674.24 | GN36: =IF(OR(BI36=0,BI36=1),ROUND(O36+X36+Y36+GK36,2),0) -> 5674.24 | GO36: =IF(BI36=2,ROUND(O36+X36+Y36+GK36,2),0) -> 0 | GP36: =IF(BI36=4,ROUND(O36+X36+Y36+GK36,2)+GX36,0) -> 0 | GR36: 0 | GS36: 3 | GT36: 0 | GV36: =ROUND(GT36,6) -> 0 | GW36: 1 | GX36: =ROUND(GV36*GW36*I36,2) -> 0 | HA36: 0 | HB36: 0 | IK36: 0
A37: 17 | B37: 1 | C37: =ROW(SmtRes!A12) -> 12 | D37: =ROW(EtalonRes!A24) -> 24 | E37: 5 | F37: 3.16-6-2 | G37: Прокладка трубопроводов отопления из стальных водогазопроводных неоцинкованных труб диаметром 20 мм | H37: 100 м трубопровода | I37: 4.4 | J37: 0 | O37: =ROUND(CP37,2) -> 40699.77 | P37: =ROUND(CQ37*I37,2) -> 417.21 | Q37: =ROUND(CR37*I37,2) -> 1991.62 | R37: =ROUND(CS37*I37,2) -> 963.8 | S37: =ROUND(CT37*I37,2) -> 38290.94 | T37: =ROUND(CU37*I37,2) -> 0 | U37: =CV37*I37 -> 150.282 | V37: =CW37*I37 -> 0 | W37: =ROUND(CX37*I37,2) -> 0 | X37: =ROUND(CY37,2) -> 33696.03 | Y37: =ROUND(CZ37,2) -> 15699.29 | AA37: 42559019 | AB37: =ROUND((AC37+AD37+AF37),6) -> 498.6725 | AC37: =ROUND((ES37),6) -> 18.13 | AD37: =ROUND(((ET37*1.25)),6) -> 53.95 | AE37: =ROUND(((EU37*1.25)),6) -> 10.7375 | AF37: =ROUND(((EV37*1.15)),6) -> 426.5925 | AG37: =ROUND((AP37),6) -> 0 | AH37: =((EW37*1.15)) -> 34.155 | AI37: =((EX37*1.25)) -> 0 | AJ37: =ROUND((AS37),6) -> 0 | AK37: 432.24 | AL37: 18.13 | AM37: 43.16 | AN37: 8.59 | AO37: 370.95 | AP37: 0 | AQ37: 29.7 | AR37: 0 | AS37: 0 | AT37: 88 | AU37: 41 | AV37: 1 | AW37: 1 | AZ37: 1 | BA37: 20.4 | BB37: 8.39 | BC37: 5.23 | BH37: 0 | BI37: 1 | BJ37: ТСН-2001.3. Доп. 1-42. Сб. 16, т. 6, поз. 2 | BM37: 132 | BN37: 0 | BO37: 3.16-6-2 | BP37: 1 | BQ37: 30 | BR37: 0 | BS37: 20.4 | BT37: 1 | BU37: 1 | BV37: 1 | BW37: 1 | BX37: 1 | BZ37: 88 | CA37: 41 | CF37: 0 | CG37: 0 | CM37: 0 | CN37: Поправка: ТСН-2001.О.П. п.3.4. 6 Наименование: Выполняемые при ремонте и реконструкции работы аналогичные технологическим процессам, характерным для нового строительства и отсутствующим в сборниках на ремонтно-строительные работы | CO37: 0 | CP37: =(P37+Q37+S37) -> 40699.77 | CQ37: =(AC37*BC37*AW37) -> 94.8199 | CR37: =(AD37*BB37*AV37) -> 452.6405 | CS37: =(AE37*BS37*AV37) -> 219.045 | CT37: =(AF37*BA37*AV37) -> 8702.487 | CU37: =AG37 -> 0 | CV37: =(AH37*AV37) -> 34.155 | CW37: =AI37 -> 0 | CX37: =AJ37 -> 0 | CY37: =S37*(BZ37/100) -> 33696.027 | CZ37: =S37*(CA37/100) -> 15699.285 | DE37: )*1,25 | DF37: )*1,25 | DG37: )*1,15 | DI37: )*1,15 | DJ37: )*1,25 | DN37: 114 | DO37: 67 | DP37: 1.067 | DQ37: 1 | DU37: 1013 | DV37: 100 м трубопровода | DW37: 100 м трубопровода | DX37: 1 | EE37: 42145139 | EF37: 30 | EG37: Строительные работы | EH37: 0 | EJ37: 1 | EK37: 132 | EL37: ТСН-2001.3-16. 16-5...16-14 | EM37: ТСН-2001.3-16-4 | EO37: Поправка: ТСН-2001.О.П. п.3.4. 6 | EQ37: 512 | ER37: 432.24 | ES37: 18.13 | ET37: 43.16 | EU37: 8.59 | EV37: 370.95 | EW37: 29.7 | EX37: 0 | EY37: 0 | FQ37: 0 | FR37: =ROUND(IF(AND(BH37=3,BI37=3),P37,0),2) -> 0 | FS37: 0 | FX37: 114 | FY37: 67 | GD37: 0 | GF37: 118129553 | GG37: 2 | GH37: 1 | GI37: 2 | GJ37: 0 | GK37: =ROUND(R37*(S12)/100,2) -> 1513.17 | GL37: =ROUND(IF(AND(BH37=3,BI37=3,FS37<>0),P37,0),2) -> 0 | GM37: =ROUND(O37+X37+Y37+GK37,2)+GX37 -> 91608.26 | GN37: =IF(OR(BI37=0,BI37=1),ROUND(O37+X37+Y37+GK37,2),0) -> 91608.26 | GO37: =IF(BI37=2,ROUND(O37+X37+Y37+GK37,2),0) -> 0 | GP37: =IF(BI37=4,ROUND(O37+X37+Y37+GK37,2)+GX37,0) -> 0 | GR37: 0 | GS37: 3 | GT37: 0 | GV37: =ROUND(GT37,6) -> 0 | GW37: 1 | GX37: =ROUND(GV37*GW37*I37,2) -> 0 | HA37: 0 | HB37: 0 | IK37: 0
A38: 17 | B38: 1 | E38: 6 | F38: 1.12-10-24 | G38: Средства для крепления радиаторов на кирпичных и бетонных стенах, крючки для труб, диаметр труб 50 мм | H38: 1000 шт. | I38: 0.22 | J38: 0 | O38: =ROUND(CP38,2) -> 1701.13 | P38: =ROUND(CQ38*I38,2) -> 1701.13 | Q38: =ROUND(CR38*I38,2) -> 0 | R38: =ROUND(CS38*I38,2) -> 0 | S38: =ROUND(CT38*I38,2) -> 0 | T38: =ROUND(CU38*I38,2) -> 0 | U38: =CV38*I38 -> 0 | V38: =CW38*I38 -> 0 | W38: =ROUND(CX38*I38,2) -> 0 | X38: =ROUND(CY38,2) -> 0 | Y38: =ROUND(CZ38,2) -> 0 | AA38: 42559021 | AB38: =ROUND((AC38+AD38+AF38),6) -> 7732.42 | AC38: =ROUND((ES38),6) -> 7732.42 | AD38: =ROUND((ET38),6) -> 0 | AE38: =ROUND((EU38),6) -> 0 | AF38: =ROUND((EV38),6) -> 0 | AG38: =ROUND((AP38),6) -> 0 | AH38: =(EW38) -> 0 | AI38: =(EX38) -> 0 | AJ38: =ROUND((AS38),6) -> 0 | AK38: 7732.42 | AL38: 7732.42 | AM38: 0 | AN38: 0 | AO38: 0 | AP38: 0 | AQ38: 0 | AR38: 0 | AS38: 0 | AT38: 0 | AU38: 0 | AV38: 1 | AW38: 1 | AZ38: 1 | BA38: 1 | BB38: 1 | BC38: 1 | BH38: 3 | BI38: 1 | BJ38: ТСН-2001.1. Доп. 1-42. Р. 12, о. 10, поз. 24 | BM38: 1617 | BN38: 0 | BP38: 0 | BQ38: 200 | BR38: 0 | BS38: 1 | BT38: 1 | BU38: 1 | BV38: 1 | BW38: 1 | BX38: 1 | BZ38: 0 | CA38: 0 | CF38: 0 | CG38: 0 | CM38: 0 | CO38: 0 | CP38: =(P38+Q38+S38) -> 1701.13 | CQ38: =(AC38*BC38*AW38) -> 7732.42 | CR38: =(AD38*BB38*AV38) -> 0 | CS38: =(AE38*BS38*AV38) -> 0 | CT38: =(AF38*BA38*AV38) -> 0 | CU38: =AG38 -> 0 | CV38: =(AH38*AV38) -> 0 | CW38: =AI38 -> 0 | CX38: =AJ38 -> 0 | CY38: =((S38*BZ38)/100) -> 0 | CZ38: =((S38*CA38)/100) -> 0 | DN38: 0 | DO38: 0 | DP38: 1 | DQ38: 1 | DU38: 1010 | DV38: 1000 шт. | DW38: 1000 шт. | DX38: 1000 | EE38: 42146624 | EF38: 200 | EG38: Материалы строительные | EH38: 0 | EJ38: 1 | EK38: 1617 | EL38: ТСН-2001.1 Материалы строительные | EM38: ТСН-2001.1-1 | EQ38: 512 | ER38: 7732.42 | ES38: 7732.42 | ET38: 0 | EU38: 0 | EV38: 0 | EW38: 0 | EX38: 0 | EY38: 0 | FQ38: 0 | FR38: =ROUND(IF(AND(BH38=3,BI38=3),P38,0),2) -> 0 | FS38: 0 | FX38: 0 | FY38: 0 | GD38: 0 | GF38: 76125446 | GG38: 2 | GH38: 1 | GI38: -2 | GJ38: 0 | GK38: =ROUND(R38*(R12)/100,2) -> 0 | GL38: =ROUND(IF(AND(BH38=3,BI38=3,FS38<>0),P38,0),2) -> 0 | GM38: =ROUND(O38+X38+Y38+GK38,2)+GX38 -> 1701.13 | GN38: =IF(OR(BI38=0,BI38=1),ROUND(O38+X38+Y38+GK38,2),0) -> 1701.13 | GO38: =IF(BI38=2,ROUND(O38+X38+Y38+GK38,2),0) -> 0 | GP38: =IF(BI38=4,ROUND(O38+X38+Y38+GK38,2)+GX38,0) -> 0 | GR38: 0 | GS38: 3 | GT38: 0 | GV38: =ROUND(GT38,6) -> 0 | GW38: 1 | GX38: =ROUND(GV38*GW38*I38,2) -> 0 | HA38: 0 | HB38: 0 | IK38: 0
A39: 17 | B39: 1 | E39: 6 | F39: 1.12-10-24 | G39: Средства для крепления радиаторов на кирпичных и бетонных стенах, крючки для труб, диаметр труб 50 мм | H39: 1000 шт. | I39: 0.22 | J39: 0 | O39: =ROUND(CP39,2) -> 7995.32 | P39: =ROUND(CQ39*I39,2) -> 7995.32 | Q39: =ROUND(CR39*I39,2) -> 0 | R39: =ROUND(CS39*I39,2) -> 0 | S39: =ROUND(CT39*I39,2) -> 0 | T39: =ROUND(CU39*I39,2) -> 0 | U39: =CV39*I39 -> 0 | V39: =CW39*I39 -> 0 | W39: =ROUND(CX39*I39,2) -> 0 | X39: =ROUND(CY39,2) -> 0 | Y39: =ROUND(CZ39,2) -> 0 | AA39: 42559019 | AB39: =ROUND((AC39+AD39+AF39),6) -> 7732.42 | AC39: =ROUND((ES39),6) -> 7732.42 | AD39: =ROUND((ET39),6) -> 0 | AE39: =ROUND((EU39),6) -> 0 | AF39: =ROUND((EV39),6) -> 0 | AG39: =ROUND((AP39),6) -> 0 | AH39: =(EW39) -> 0 | AI39: =(EX39) -> 0 | AJ39: =ROUND((AS39),6) -> 0 | AK39: 7732.42 | AL39: 7732.42 | AM39: 0 | AN39: 0 | AO39: 0 | AP39: 0 | AQ39: 0 | AR39: 0 | AS39: 0 | AT39: 0 | AU39: 0 | AV39: 1 | AW39: 1 | AZ39: 1 | BA39: 1 | BB39: 1 | BC39: 4.7 | BH39: 3 | BI39: 1 | BJ39: ТСН-2001.1. Доп. 1-42. Р. 12, о. 10, поз. 24 | BM39: 1617 | BN39: 0 | BO39: 1.12-10-24 | BP39: 1 | BQ39: 200 | BR39: 0 | BS39: 1 | BT39: 1 | BU39: 1 | BV39: 1 | BW39: 1 | BX39: 1 | BZ39: 0 | CA39: 0 | CF39: 0 | CG39: 0 | CM39: 0 | CO39: 0 | CP39: =(P39+Q39+S39) -> 7995.32 | CQ39: =(AC39*BC39*AW39) -> 36342.374 | CR39: =(AD39*BB39*AV39) -> 0 | CS39: =(AE39*BS39*AV39) -> 0 | CT39: =(AF39*BA39*AV39) -> 0 | CU39: =AG39 -> 0 | CV39: =(AH39*AV39) -> 0 | CW39: =AI39 -> 0 | CX39: =AJ39 -> 0 | CY39: =S39*(BZ39/100) -> 0 | CZ39: =S39*(CA39/100) -> 0 | DN39: 0 | DO39: 0 | DP39: 1 | DQ39: 1 | DU39: 1010 | DV39: 1000 шт. | DW39: 1000 шт. | DX39: 1000 | EE39: 42146624 | EF39: 200 | EG39: Материалы строительные | EH39: 0 | EJ39: 1 | EK39: 1617 | EL39: ТСН-2001.1 Материалы строительные | EM39: ТСН-2001.1-1 | EQ39: 512 | ER39: 7732.42 | ES39: 7732.42 | ET39: 0 | EU39: 0 | EV39: 0 | EW39: 0 | EX39: 0 | EY39: 0 | FQ39: 0 | FR39: =ROUND(IF(AND(BH39=3,BI39=3),P39,0),2) -> 0 | FS39: 0 | FX39: 0 | FY39: 0 | GD39: 0 | GF39: 76125446 | GG39: 2 | GH39: 1 | GI39: 2 | GJ39: 0 | GK39: =ROUND(R39*(S12)/100,2) -> 0 | GL39: =ROUND(IF(AND(BH39=3,BI39=3,FS39<>0),P39,0),2) -> 0 | GM39: =ROUND(O39+X39+Y39+GK39,2)+GX39 -> 7995.32 | GN39: =IF(OR(BI39=0,BI39=1),ROUND(O39+X39+Y39+GK39,2),0) -> 7995.32 | GO39: =IF(BI39=2,ROUND(O39+X39+Y39+GK39,2),0) -> 0 | GP39: =IF(BI39=4,ROUND(O39+X39+Y39+GK39,2)+GX39,0) -> 0 | GR39: 0 | GS39: 3 | GT39: 0 | GV39: =ROUND(GT39,6) -> 0 | GW39: 1 | GX39: =ROUND(GV39*GW39*I39,2) -> 0 | HA39: 0 | HB39: 0 | IK39: 0
A40: 17 | B40: 1 | E40: 7 | F40: 1.12-1-41 | G40: Узлы трубопроводов из стальных водогазопроводных неоцинкованных труб с гильзами для систем отопления, диаметр условного прохода 20 мм | H40: м | I40: 440 | J40: 0 | O40: =ROUND(CP40,2) -> 13780.8 | P40: =ROUND(CQ40*I40,2) -> 13780.8 | Q40: =ROUND(CR40*I40,2) -> 0 | R40: =ROUND(CS40*I40,2) -> 0 | S40: =ROUND(CT40*I40,2) -> 0 | T40: =ROUND(CU40*I40,2) -> 0 | U40: =CV40*I40 -> 0 | V40: =CW40*I40 -> 0 | W40: =ROUND(CX40*I40,2) -> 0 | X40: =ROUND(CY40,2) -> 0 | Y40: =ROUND(CZ40,2) -> 0 | AA40: 42559021 | AB40: =ROUND((AC40+AD40+AF40),6) -> 31.32 | AC40: =ROUND((ES40),6) -> 31.32 | AD40: =ROUND((ET40),6) -> 0 | AE40: =ROUND((EU40),6) -> 0 | AF40: =ROUND((EV40),6) -> 0 | AG40: =ROUND((AP40),6) -> 0 | AH40: =(EW40) -> 0 | AI40: =(EX40) -> 0 | AJ40: =ROUND((AS40),6) -> 0 | AK40: 31.32 | AL40: 31.32 | AM40: 0 | AN40: 0 | AO40: 0 | AP40: 0 | AQ40: 0 | AR40: 0 | AS40: 0 | AT40: 0 | AU40: 0 | AV40: 1 | AW40: 1 | AZ40: 1 | BA40: 1 | BB40: 1 | BC40: 1 | BH40: 3 | BI40: 1 | BJ40: ТСН-2001.1. Доп. 1-42. Р. 12, о. 1, поз. 41 | BM40: 1617 | BN40: 0 | BP40: 0 | BQ40: 200 | BR40: 0 | BS40: 1 | BT40: 1 | BU40: 1 | BV40: 1 | BW40: 1 | BX40: 1 | BZ40: 0 | CA40: 0 | CF40: 0 | CG40: 0 | CM40: 0 | CO40: 0 | CP40: =(P40+Q40+S40) -> 13780.8 | CQ40: =(AC40*BC40*AW40) -> 31.32 | CR40: =(AD40*BB40*AV40) -> 0 | CS40: =(AE40*BS40*AV40) -> 0 | CT40: =(AF40*BA40*AV40) -> 0 | CU40: =AG40 -> 0 | CV40: =(AH40*AV40) -> 0 | CW40: =AI40 -> 0 | CX40: =AJ40 -> 0 | CY40: =((S40*BZ40)/100) -> 0 | CZ40: =((S40*CA40)/100) -> 0 | DN40: 0 | DO40: 0 | DP40: 1 | DQ40: 1 | DU40: 1003 | DV40: м | DW40: м | DX40: 1 | EE40: 42146624 | EF40: 200 | EG40: Материалы строительные | EH40: 0 | EJ40: 1 | EK40: 1617 | EL40: ТСН-2001.1 Материалы строительные | EM40: ТСН-2001.1-1 | EQ40: 512 | ER40: 31.32 | ES40: 31.32 | ET40: 0 | EU40: 0 | EV40: 0 | EW40: 0 | EX40: 0 | EY40: 0 | FQ40: 0 | FR40: =ROUND(IF(AND(BH40=3,BI40=3),P40,0),2) -> 0 | FS40: 0 | FX40: 0 | FY40: 0 | GD40: 0 | GF40: 487311605 | GG40: 2 | GH40: 1 | GI40: -2 | GJ40: 0 | GK40: =ROUND(R40*(R12)/100,2) -> 0 | GL40: =ROUND(IF(AND(BH40=3,BI40=3,FS40<>0),P40,0),2) -> 0 | GM40: =ROUND(O40+X40+Y40+GK40,2)+GX40 -> 13780.8 | GN40: =IF(OR(BI40=0,BI40=1),ROUND(O40+X40+Y40+GK40,2),0) -> 13780.8 | GO40: =IF(BI40=2,ROUND(O40+X40+Y40+GK40,2),0) -> 0 | GP40: =IF(BI40=4,ROUND(O40+X40+Y40+GK40,2)+GX40,0) -> 0 | GR40: 0 | GS40: 3 | GT40: 0 | GV40: =ROUND(GT40,6) -> 0 | GW40: 1 | GX40: =ROUND(GV40*GW40*I40,2) -> 0 | HA40: 0 | HB40: 0 | IK40: 0
A41: 17 | B41: 1 | E41: 7 | F41: 1.12-1-41 | G41: Узлы трубопроводов из стальных водогазопроводных неоцинкованных труб с гильзами для систем отопления, диаметр условного прохода 20 мм | H41: м | I41: 440 | J41: 0 | O41: =ROUND(CP41,2) -> 77448.1 | P41: =ROUND(CQ41*I41,2) -> 77448.1 | Q41: =ROUND(CR41*I41,2) -> 0 | R41: =ROUND(CS41*I41,2) -> 0 | S41: =ROUND(CT41*I41,2) -> 0 | T41: =ROUND(CU41*I41,2) -> 0 | U41: =CV41*I41 -> 0 | V41: =CW41*I41 -> 0 | W41: =ROUND(CX41*I41,2) -> 0 | X41: =ROUND(CY41,2) -> 0 | Y41: =ROUND(CZ41,2) -> 0 | AA41: 42559019 | AB41: =ROUND((AC41+AD41+AF41),6) -> 31.32 | AC41: =ROUND((ES41),6) -> 31.32 | AD41: =ROUND((ET41),6) -> 0 | AE41: =ROUND((EU41),6) -> 0 | AF41: =ROUND((EV41),6) -> 0 | AG41: =ROUND((AP41),6) -> 0 | AH41: =(EW41) -> 0 | AI41: =(EX41) -> 0 | AJ41: =ROUND((AS41),6) -> 0 | AK41: 31.32 | AL41: 31.32 | AM41: 0 | AN41: 0 | AO41: 0 | AP41: 0 | AQ41: 0 | AR41: 0 | AS41: 0 | AT41: 0 | AU41: 0 | AV41: 1 | AW41: 1 | AZ41: 1 | BA41: 1 | BB41: 1 | BC41: 5.62 | BH41: 3 | BI41: 1 | BJ41: ТСН-2001.1. Доп. 1-42. Р. 12, о. 1, поз. 41 | BM41: 1617 | BN41: 0 | BO41: 1.12-1-41 | BP41: 1 | BQ41: 200 | BR41: 0 | BS41: 1 | BT41: 1 | BU41: 1 | BV41: 1 | BW41: 1 | BX41: 1 | BZ41: 0 | CA41: 0 | CF41: 0 | CG41: 0 | CM41: 0 | CO41: 0 | CP41: =(P41+Q41+S41) -> 77448.1 | CQ41: =(AC41*BC41*AW41) -> 176.0184 | CR41: =(AD41*BB41*AV41) -> 0 | CS41: =(AE41*BS41*AV41) -> 0 | CT41: =(AF41*BA41*AV41) -> 0 | CU41: =AG41 -> 0 | CV41: =(AH41*AV41) -> 0 | CW41: =AI41 -> 0 | CX41: =AJ41 -> 0 | CY41: =S41*(BZ41/100) -> 0 | CZ41: =S41*(CA41/100) -> 0 | DN41: 0 | DO41: 0 | DP41: 1 | DQ41: 1 | DU41: 1003 | DV41: м | DW41: м | DX41: 1 | EE41: 42146624 | EF41: 200 | EG41: Материалы строительные | EH41: 0 | EJ41: 1 | EK41: 1617 | EL41: ТСН-2001.1 Материалы строительные | EM41: ТСН-2001.1-1 | EQ41: 512 | ER41: 31.32 | ES41: 31.32 | ET41: 0 | EU41: 0 | EV41: 0 | EW41: 0 | EX41: 0 | EY41: 0 | FQ41: 0 | FR41: =ROUND(IF(AND(BH41=3,BI41=3),P41,0),2) -> 0 | FS41: 0 | FX41: 0 | FY41: 0 | GD41: 0 | GF41: 487311605 | GG41: 2 | GH41: 1 | GI41: 2 | GJ41: 0 | GK41: =ROUND(R41*(S12)/100,2) -> 0 | GL41: =ROUND(IF(AND(BH41=3,BI41=3,FS41<>0),P41,0),2) -> 0 | GM41: =ROUND(O41+X41+Y41+GK41,2)+GX41 -> 77448.1 | GN41: =IF(OR(BI41=0,BI41=1),ROUND(O41+X41+Y41+GK41,2),0) -> 77448.1 | GO41: =IF(BI41=2,ROUND(O41+X41+Y41+GK41,2),0) -> 0 | GP41: =IF(BI41=4,ROUND(O41+X41+Y41+GK41,2)+GX41,0) -> 0 | GR41: 0 | GS41: 3 | GT41: 0 | GV41: =ROUND(GT41,6) -> 0 | GW41: 1 | GX41: =ROUND(GV41*GW41*I41,2) -> 0 | HA41: 0 | HB41: 0 | IK41: 0
A42: 17 | B42: 1 | E42: 8 | F42: 1.13-4-72 | G42: Кран шаровой латунный полнопроходной, со спускным элементом и заглушкой, Techno-C (аналог V3000В),Tmax=120°С, Р=2,5 МПа, диаметр 20 мм | H42: шт. | I42: 10 | J42: 0 | O42: =ROUND(CP42,2) -> 566.7 | P42: =ROUND(CQ42*I42,2) -> 566.7 | Q42: =ROUND(CR42*I42,2) -> 0 | R42: =ROUND(CS42*I42,2) -> 0 | S42: =ROUND(CT42*I42,2) -> 0 | T42: =ROUND(CU42*I42,2) -> 0 | U42: =CV42*I42 -> 0 | V42: =CW42*I42 -> 0 | W42: =ROUND(CX42*I42,2) -> 0 | X42: =ROUND(CY42,2) -> 0 | Y42: =ROUND(CZ42,2) -> 0 | AA42: 42559021 | AB42: =ROUND((AC42+AD42+AF42),6) -> 56.67 | AC42: =ROUND((ES42),6) -> 56.67 | AD42: =ROUND((ET42),6) -> 0 | AE42: =ROUND((EU42),6) -> 0 | AF42: =ROUND((EV42),6) -> 0 | AG42: =ROUND((AP42),6) -> 0 | AH42: =(EW42) -> 0 | AI42: =(EX42) -> 0 | AJ42: =ROUND((AS42),6) -> 0 | AK42: 56.67 | AL42: 56.67 | AM42: 0 | AN42: 0 | AO42: 0 | AP42: 0 | AQ42: 0 | AR42: 0 | AS42: 0 | AT42: 0 | AU42: 0 | AV42: 1 | AW42: 1 | AZ42: 1 | BA42: 1 | BB42: 1 | BC42: 1 | BH42: 3 | BI42: 1 | BJ42: ТСН-2001.1. Доп. 1-42. Р. 13, о. 4, поз. 72 | BM42: 1617 | BN42: 0 | BP42: 0 | BQ42: 200 | BR42: 0 | BS42: 1 | BT42: 1 | BU42: 1 | BV42: 1 | BW42: 1 | BX42: 1 | BZ42: 0 | CA42: 0 | CF42: 0 | CG42: 0 | CM42: 0 | CO42: 0 | CP42: =(P42+Q42+S42) -> 566.7 | CQ42: =(AC42*BC42*AW42) -> 56.67 | CR42: =(AD42*BB42*AV42) -> 0 | CS42: =(AE42*BS42*AV42) -> 0 | CT42: =(AF42*BA42*AV42) -> 0 | CU42: =AG42 -> 0 | CV42: =(AH42*AV42) -> 0 | CW42: =AI42 -> 0 | CX42: =AJ42 -> 0 | CY42: =((S42*BZ42)/100) -> 0 | CZ42: =((S42*CA42)/100) -> 0 | DN42: 0 | DO42: 0 | DP42: 1 | DQ42: 1 | DU42: 1010 | DV42: шт. | DW42: шт. | DX42: 1 | EE42: 42146624 | EF42: 200 | EG42: Материалы строительные | EH42: 0 | EJ42: 1 | EK42: 1617 | EL42: ТСН-2001.1 Материалы строительные | EM42: ТСН-2001.1-1 | EQ42: 512 | ER42: 56.67 | ES42: 56.67 | ET42: 0 | EU42: 0 | EV42: 0 | EW42: 0 | EX42: 0 | EY42: 0 | FQ42: 0 | FR42: =ROUND(IF(AND(BH42=3,BI42=3),P42,0),2) -> 0 | FS42: 0 | FX42: 0 | FY42: 0 | GD42: 0 | GF42: -177170217 | GG42: 2 | GH42: 1 | GI42: -2 | GJ42: 0 | GK42: =ROUND(R42*(R12)/100,2) -> 0 | GL42: =ROUND(IF(AND(BH42=3,BI42=3,FS42<>0),P42,0),2) -> 0 | GM42: =ROUND(O42+X42+Y42+GK42,2)+GX42 -> 566.7 | GN42: =IF(OR(BI42=0,BI42=1),ROUND(O42+X42+Y42+GK42,2),0) -> 566.7 | GO42: =IF(BI42=2,ROUND(O42+X42+Y42+GK42,2),0) -> 0 | GP42: =IF(BI42=4,ROUND(O42+X42+Y42+GK42,2)+GX42,0) -> 0 | GR42: 0 | GS42: 3 | GT42: 0 | GV42: =ROUND(GT42,6) -> 0 | GW42: 1 | GX42: =ROUND(GV42*GW42*I42,2) -> 0 | HA42: 0 | HB42: 0 | IK42: 0
A43: 17 | B43: 1 | E43: 8 | F43: 1.13-4-72 | G43: Кран шаровой латунный полнопроходной, со спускным элементом и заглушкой, Techno-C (аналог V3000В),Tmax=120°С, Р=2,5 МПа, диаметр 20 мм | H43: шт. | I43: 10 | J43: 0 | O43: =ROUND(CP43,2) -> 7990.47 | P43: =ROUND(CQ43*I43,2) -> 7990.47 | Q43: =ROUND(CR43*I43,2) -> 0 | R43: =ROUND(CS43*I43,2) -> 0 | S43: =ROUND(CT43*I43,2) -> 0 | T43: =ROUND(CU43*I43,2) -> 0 | U43: =CV43*I43 -> 0 | V43: =CW43*I43 -> 0 | W43: =ROUND(CX43*I43,2) -> 0 | X43: =ROUND(CY43,2) -> 0 | Y43: =ROUND(CZ43,2) -> 0 | AA43: 42559019 | AB43: =ROUND((AC43+AD43+AF43),6) -> 56.67 | AC43: =ROUND((ES43),6) -> 56.67 | AD43: =ROUND((ET43),6) -> 0 | AE43: =ROUND((EU43),6) -> 0 | AF43: =ROUND((EV43),6) -> 0 | AG43: =ROUND((AP43),6) -> 0 | AH43: =(EW43) -> 0 | AI43: =(EX43) -> 0 | AJ43: =ROUND((AS43),6) -> 0 | AK43: 56.67 | AL43: 56.67 | AM43: 0 | AN43: 0 | AO43: 0 | AP43: 0 | AQ43: 0 | AR43: 0 | AS43: 0 | AT43: 0 | AU43: 0 | AV43: 1 | AW43: 1 | AZ43: 1 | BA43: 1 | BB43: 1 | BC43: 14.1 | BH43: 3 | BI43: 1 | BJ43: ТСН-2001.1. Доп. 1-42. Р. 13, о. 4, поз. 72 | BM43: 1617 | BN43: 0 | BO43: 1.13-4-72 | BP43: 1 | BQ43: 200 | BR43: 0 | BS43: 1 | BT43: 1 | BU43: 1 | BV43: 1 | BW43: 1 | BX43: 1 | BZ43: 0 | CA43: 0 | CF43: 0 | CG43: 0 | CM43: 0 | CO43: 0 | CP43: =(P43+Q43+S43) -> 7990.47 | CQ43: =(AC43*BC43*AW43) -> 799.047 | CR43: =(AD43*BB43*AV43) -> 0 | CS43: =(AE43*BS43*AV43) -> 0 | CT43: =(AF43*BA43*AV43) -> 0 | CU43: =AG43 -> 0 | CV43: =(AH43*AV43) -> 0 | CW43: =AI43 -> 0 | CX43: =AJ43 -> 0 | CY43: =S43*(BZ43/100) -> 0 | CZ43: =S43*(CA43/100) -> 0 | DN43: 0 | DO43: 0 | DP43: 1 | DQ43: 1 | DU43: 1010 | DV43: шт. | DW43: шт. | DX43: 1 | EE43: 42146624 | EF43: 200 | EG43: Материалы строительные | EH43: 0 | EJ43: 1 | EK43: 1617 | EL43: ТСН-2001.1 Материалы строительные | EM43: ТСН-2001.1-1 | EQ43: 512 | ER43: 56.67 | ES43: 56.67 | ET43: 0 | EU43: 0 | EV43: 0 | EW43: 0 | EX43: 0 | EY43: 0 | FQ43: 0 | FR43: =ROUND(IF(AND(BH43=3,BI43=3),P43,0),2) -> 0 | FS43: 0 | FX43: 0 | FY43: 0 | GD43: 0 | GF43: -177170217 | GG43: 2 | GH43: 1 | GI43: 2 | GJ43: 0 | GK43: =ROUND(R43*(S12)/100,2) -> 0 | GL43: =ROUND(IF(AND(BH43=3,BI43=3,FS43<>0),P43,0),2) -> 0 | GM43: =ROUND(O43+X43+Y43+GK43,2)+GX43 -> 7990.47 | GN43: =IF(OR(BI43=0,BI43=1),ROUND(O43+X43+Y43+GK43,2),0) -> 7990.47 | GO43: =IF(BI43=2,ROUND(O43+X43+Y43+GK43,2),0) -> 0 | GP43: =IF(BI43=4,ROUND(O43+X43+Y43+GK43,2)+GX43,0) -> 0 | GR43: 0 | GS43: 3 | GT43: 0 | GV43: =ROUND(GT43,6) -> 0 | GW43: 1 | GX43: =ROUND(GV43*GW43*I43,2) -> 0 | HA43: 0 | HB43: 0 | IK43: 0
A44: 17 | B44: 1 | C44: =ROW(SmtRes!A15) -> 15 | D44: =ROW(EtalonRes!A30) -> 30 | E44: 9 | F44: 3.16-6-3 | G44: Прокладка трубопроводов отопления из стальных водогазопроводных неоцинкованных труб диаметром 25 мм | H44: 100 м трубопровода | I44: 3.9 | J44: 0 | O44: =ROUND(CP44,2) -> 1944.83 | P44: =ROUND(CQ44*I44,2) -> 70.71 | Q44: =ROUND(CR44*I44,2) -> 210.41 | R44: =ROUND(CS44*I44,2) -> 41.88 | S44: =ROUND(CT44*I44,2) -> 1663.71 | T44: =ROUND(CU44*I44,2) -> 0 | U44: =CV44*I44 -> 133.2045 | V44: =CW44*I44 -> 0 | W44: =ROUND(CX44*I44,2) -> 0 | X44: =ROUND(CY44,2) -> 1896.63 | Y44: =ROUND(CZ44,2) -> 1114.69 | AA44: 42559021 | AB44: =ROUND((AC44+AD44+AF44),6) -> 498.6725 | AC44: =ROUND((ES44),6) -> 18.13 | AD44: =ROUND(((ET44*1.25)),6) -> 53.95 | AE44: =ROUND(((EU44*1.25)),6) -> 10.7375 | AF44: =ROUND(((EV44*1.15)),6) -> 426.5925 | AG44: =ROUND((AP44),6) -> 0 | AH44: =((EW44*1.15)) -> 34.155 | AI44: =((EX44*1.25)) -> 0 | AJ44: =ROUND((AS44),6) -> 0 | AK44: 432.24 | AL44: 18.13 | AM44: 43.16 | AN44: 8.59 | AO44: 370.95 | AP44: 0 | AQ44: 29.7 | AR44: 0 | AS44: 0 | AT44: 114 | AU44: 67 | AV44: 1 | AW44: 1 | AZ44: 1 | BA44: 1 | BB44: 1 | BC44: 1 | BH44: 0 | BI44: 1 | BJ44: ТСН-2001.3. Доп. 1-42. Сб. 16, т. 6, поз. 3 | BM44: 132 | BN44: 0 | BP44: 0 | BQ44: 30 | BR44: 0 | BS44: 1 | BT44: 1 | BU44: 1 | BV44: 1 | BW44: 1 | BX44: 1 | BZ44: 114 | CA44: 67 | CF44: 0 | CG44: 0 | CM44: 0 | CN44: Поправка: ТСН-2001.О.П. п.3.4. 6 Наименование: Выполняемые при ремонте и реконструкции работы аналогичные технологическим процессам, характерным для нового строительства и отсутствующим в сборниках на ремонтно-строительные работы | CO44: 0 | CP44: =(P44+Q44+S44) -> 1944.83 | CQ44: =(AC44*BC44*AW44) -> 18.13 | CR44: =(AD44*BB44*AV44) -> 53.95 | CS44: =(AE44*BS44*AV44) -> 10.7375 | CT44: =(AF44*BA44*AV44) -> 426.5925 | CU44: =AG44 -> 0 | CV44: =(AH44*AV44) -> 34.155 | CW44: =AI44 -> 0 | CX44: =AJ44 -> 0 | CY44: =((S44*BZ44)/100) -> 1896.6294 | CZ44: =((S44*CA44)/100) -> 1114.6857 | DE44: )*1,25 | DF44: )*1,25 | DG44: )*1,15 | DI44: )*1,15 | DJ44: )*1,25 | DN44: 0 | DO44: 0 | DP44: 1.067 | DQ44: 1 | DU44: 1013 | DV44: 100 м трубопровода | DW44: 100 м трубопровода | DX44: 1 | EE44: 42145139 | EF44: 30 | EG44: Строительные работы | EH44: 0 | EJ44: 1 | EK44: 132 | EL44: ТСН-2001.3-16. 16-5...16-14 | EM44: ТСН-2001.3-16-4 | EO44: Поправка: ТСН-2001.О.П. п.3.4. 6 | EQ44: 512 | ER44: 432.24 | ES44: 18.13 | ET44: 43.16 | EU44: 8.59 | EV44: 370.95 | EW44: 29.7 | EX44: 0 | EY44: 0 | FQ44: 0 | FR44: =ROUND(IF(AND(BH44=3,BI44=3),P44,0),2) -> 0 | FS44: 0 | FX44: 114 | FY44: 67 | GD44: 0 | GF44: -886383823 | GG44: 2 | GH44: 1 | GI44: -2 | GJ44: 0 | GK44: =ROUND(R44*(R12)/100,2) -> 73.29 | GL44: =ROUND(IF(AND(BH44=3,BI44=3,FS44<>0),P44,0),2) -> 0 | GM44: =ROUND(O44+X44+Y44+GK44,2)+GX44 -> 5029.44 | GN44: =IF(OR(BI44=0,BI44=1),ROUND(O44+X44+Y44+GK44,2),0) -> 5029.44 | GO44: =IF(BI44=2,ROUND(O44+X44+Y44+GK44,2),0) -> 0 | GP44: =IF(BI44=4,ROUND(O44+X44+Y44+GK44,2)+GX44,0) -> 0 | GR44: 0 | GS44: 3 | GT44: 0 | GV44: =ROUND(GT44,6) -> 0 | GW44: 1 | GX44: =ROUND(GV44*GW44*I44,2) -> 0 | HA44: 0 | HB44: 0 | IK44: 0
