Workbook

Sheet Смета по ТСН-2001
A1: =Source!B1 -> Smeta.RU (495) 974-1589
K2: Форма № 1б
B3: "СОГЛАСОВАНО" | G3: "УТВЕРЖДАЮ"
B6: =CONCATENATE("______________________ ", IF(Source!AL12<>"", Source!AL12, "")) -> ______________________ | G6: =CONCATENATE("______________________ ", IF(Source!AH12<>"", Source!AH12, "")) -> ______________________
B7: "_____"________________ 2018 г. | G7: "_____"________________ 2018 г.
A11: (наименование стройки)
A13: =CONCATENATE( "ЛОКАЛЬНАЯ СМЕТА № ",IF(Source!F20<>"Новая локальная смета", Source!F20, "")) -> ЛОКАЛЬНАЯ СМЕТА № Локальная смета №1
A14: (локальный сметный расчет)
A16: =IF(Source!G20<>"Новая локальная смета", Source!G20, "") -> Смета на общестроительные работы
A18: =IF(Source!G12<>"Новый объект", Source!G12, "") -> Общестроительные работы ДГП №150 ф2
A19: (наименование работ и затрат, наименование объекта)
A21: =CONCATENATE( "Основание: чертежи № ", Source!J20) -> Основание: чертежи №
I22: базовая цена | J22: текущая цена
F23: Сметная стоимость | I23: =SUM(O32:O597)/1000 -> 154.72742 | J23: =(Source!P651/1000) -> 608.22555 | K23: тыс.руб
F24: Строительные работы | I24: =SUM(X32:X597)/1000 -> 83.99537 | J24: =(Source!P641)/1000 -> 303.91164 | K24: тыс.руб
F25: Монтажные работы | I25: =SUM(Y32:Y597)/1000 -> 11.12131 | J25: =(Source!P642)/1000 -> 54.7592 | K25: тыс.руб
F26: Оборудование | I26: =SUM(Z32:Z597)/1000 -> 59.40061 | J26: =(Source!P633)/1000 -> 247.70055 | K26: тыс.руб
F27: Прочие работы | I27: =SUM(AA32:AA597)/1000 -> 0.21013 | J27: =(Source!P643+Source!P644)/1000 -> 1.85416 | K27: тыс.руб
F28: Средства на оплату труда | I28: =SUM(W32:W597)/1000 -> 2.00811 | J28: =((Source!P639 + Source!P638)/1000) -> 40.96531 | K28: тыс.руб
A29: Составлен(а) в уровне текущих (прогнозных) цен ТСН-2001 ремонт №139 апрель 2018 года
A30: №№ п/п | B30: Шифр расценки и коды ресурсов | C30: Наименование работ и затрат | D30: Единица измерения | E30: Кол-во единиц | F30: Цена на ед. изм. руб. | G30: Попра-вочные коэфф. | H30: Коэфф. зимних удоро-жаний | I30: ВСЕГО в базисном уровне цен, руб. | J30: Коэфф. пересчета и нормы НР и СП | K30: Всего в текущем уровне цен, руб.
A31: 1 | B31: 2 | C31: 3 | D31: 4 | E31: 5 | F31: 6 | G31: 7 | H31: 8 | I31: 9 | J31: 10 | K31: 11
A33: =CONCATENATE("Раздел: ",IF(Source!G24<>"Новый раздел", Source!G24, "")) -> Раздел: Наружные работы
A34: =Source!E29 -> 1 | B34: =Source!F29 -> 6.68-51-4 | C34: =Source!G29 -> Разборка покрытий и оснований асфальтобетонных | D34: =Source!H29 -> 100 м3 конструкций | E34: =Source!I29 -> 0.00971 | Q34: =ROUND((Source!DN29/100)*ROUND((Source!AF29*Source!AV29)*Source!I29, 2), 2) -> 13.11 | R34: =Source!X29 -> 227.36 | S34: =ROUND((Source!DO29/100)*ROUND((Source!AF29*Source!AV29)*Source!I29, 2), 2) -> 9.01 | T34: =Source!Y29 -> 137.09 | U34: =ROUND((175/100)*ROUND((Source!AE29*Source!AV29)*Source!I29, 2), 2) -> 12.5 | V34: =ROUND((168/100)*ROUND(Source!CS29*Source!I29, 2), 2) -> 244.68
C35: ="Объем: "&Source!I29&"=0,971/"&"100" -> Объем: 0,00971=0,971/100
C36: ЗП | F36: =Source!AO29 -> 1687.95 | G36: =Source!DG29 | H36: =Source!AV29 -> 1 | I36: =ROUND((Source!AF29*Source!AV29)*Source!I29, 2) -> 16.39 | J36: =IF(Source!BA29<> 0, Source!BA29, 1) -> 20.4 | K36: =Source!S29 -> 334.36 | W36: =I36 -> 16.39
C37: ЭМ | F37: =Source!AM29 -> 2713.55 | G37: =Source!DE29 | H37: =Source!AV29 -> 1 | I37: =ROUND((Source!AD29*Source!AV29)*Source!I29, 2) -> 26.35 | J37: =IF(Source!BB29<> 0, Source!BB29, 1) -> 9.45 | K37: =Source!Q29 -> 248.99
C38: в т.ч. ЗПМ | F38: =Source!AN29 -> 735.23 | G38: =Source!DF29 | H38: =Source!AV29 -> 1 | I38: =ROUND((Source!AE29*Source!AV29)*Source!I29, 2) -> 7.14 | J38: =IF(Source!BS29<> 0, Source!BS29, 1) -> 20.4 | K38: =Source!R29 -> 145.64 | W38: =I38 -> 7.14
A39: =Source!E31 -> 1,1 | B39: =Source!F31 -> 9999990001 | C39: =Source!G31 -> Масса мусора 2,4кг/1м3 | D39: =Source!H31 -> т | E39: =Source!I31 -> 0.003 | F39: =Source!AK31 -> 0 | H39: =Source!AW31 -> 1 | I39: =ROUND((Source!AC31*Source!AW31)*Source!I31, 2)+ROUND((Source!AD31*Source!AV31)*Source!I31, 2)+ROUND((Source!AF31*Source!AV31)*Source!I31, 2) -> 0 | J39: =IF(Source!BC31<> 0, Source!BC31, 1) -> 1 | K39: =Source!O31 -> 0 | Q39: =ROUND((Source!DN31/100)*ROUND((Source!AF31*Source!AV31)*Source!I31, 2), 2) -> 0 | R39: =Source!X31 -> 0 | S39: =ROUND((Source!DO31/100)*ROUND((Source!AF31*Source!AV31)*Source!I31, 2), 2) -> 0 | T39: =Source!Y31 -> 0 | U39: =ROUND((175/100)*ROUND((Source!AE31*Source!AV31)*Source!I31, 2), 2) -> 0 | V39: =ROUND((168/100)*ROUND(Source!CS31*Source!I31, 2), 2) -> 0 | X39: =IF(Source!BI31<=1,I39, 0) -> 0 | Y39: =IF(Source!BI31=2,I39, 0) -> 0 | Z39: =IF(Source!BI31=3,I39, 0) -> 0 | AA39: =IF(Source!BI31=4,I39, 0) -> 0
C40: НР от ЗП | D40: % | E40: =Source!DN29 -> 80 | I40: =SUM(Q34:Q39) -> 13.11 | J40: =Source!BZ29 -> 68 | K40: =SUM(R34:R39) -> 227.36
C41: СП от ЗП | D41: % | E41: =Source!DO29 -> 55 | I41: =SUM(S34:S40) -> 9.01 | J41: =Source!CA29 -> 41 | K41: =SUM(T34:T40) -> 137.09
C42: НР и СП от ЗПМ | D42: % | E42: =175 -> 175 | I42: =SUM(U34:U41) -> 12.5 | J42: =168 -> 168 | K42: =SUM(V34:V41) -> 244.68
C43: ЗТР | D43: чел-ч | E43: =Source!AQ29 -> 155 | G43: =Source!DI29 | H43: =Source!AV29 -> 1 | I43: =Source!U29 -> 1.50505
H44: =I36+I37+I40+I41+I42+SUM(I39:I39) -> 77.36 | J44: =K36+K37+K40+K41+K42+SUM(K39:K39) -> 1192.48 | O44: =I36+I37+I40+I41+I42+SUM(I39:I39) -> 77.36 | P44: =K36+K37+K40+K41+K42+SUM(K39:K39) -> 1192.48 | X44: =IF(Source!BI29<=1,I36+I37+I40+I41+I42-0, 0) -> 77.36 | Y44: =IF(Source!BI29=2,I36+I37+I40+I41+I42-0, 0) -> 0 | Z44: =IF(Source!BI29=3,I36+I37+I40+I41+I42-0, 0) -> 0 | AA44: =IF(Source!BI29=4,I36+I37+I40+I41+I42,0) -> 0
A45: =Source!E33 -> 2 | B45: =Source!F33 -> 3.1-52-1 | C45: =Source!G33 -> Копание ям вручную без креплений для стоек и столбов без откосов глубиной до 0,7 м группа грунтов 1-3(газон.,плодородный слой 13,16м2*0,25) | D45: =Source!H33 -> 100 м3 грунта | E45: =Source!I33 -> 0.0329 | Q45: =ROUND((Source!DN33/100)*ROUND((Source!AF33*Source!AV33)*Source!I33, 2), 2) -> 121.22 | R45: =Source!X33 -> 1983.78 | S45: =ROUND((Source!DO33/100)*ROUND((Source!AF33*Source!AV33)*Source!I33, 2), 2) -> 89.25 | T45: =Source!Y33 -> 1114.18 | U45: =ROUND((175/100)*ROUND((Source!AE33*Source!AV33)*Source!I33, 2), 2) -> 0 | V45: =ROUND((168/100)*ROUND(Source!CS33*Source!I33, 2), 2) -> 0
C46: ="Объем: "&Source!I33&"=3,29/"&"100" -> Объем: 0,0329=3,29/100
C47: ЗП | F47: =Source!AO33 -> 3520.83 | G47: =Source!DG33 -> )*1,15 | H47: =Source!AV33 -> 1 | I47: =ROUND((Source!AF33*Source!AV33)*Source!I33, 2) -> 133.21 | J47: =IF(Source!BA33<> 0, Source!BA33, 1) -> 20.4 | K47: =Source!S33 -> 2717.5 | W47: =I47 -> 133.21
C48: НР от ЗП | D48: % | E48: =Source!DN33 -> 91 | I48: =SUM(Q45:Q47) -> 121.22 | J48: =Source!BZ33 -> 73 | K48: =SUM(R45:R47) -> 1983.78
C49: СП от ЗП | D49: % | E49: =Source!DO33 -> 67 | I49: =SUM(S45:S48) -> 89.25 | J49: =Source!CA33 -> 41 | K49: =SUM(T45:T48) -> 1114.18
C50: ЗТР | D50: чел-ч | E50: =Source!AQ33 -> 329.05 | G50: =Source!DI33 -> )*1,15 | H50: =Source!AV33 -> 1 | I50: =Source!U33 -> 12.449607
...

Sheet Дефектная ведомость
A1: =Source!B1 -> Smeta.RU (495) 974-1589
D3: "УТВЕРЖДАЮ"
C5: ___________________________
C7: ___________________________
C9: " ___ " ___________ 20 ___ г.
A11: =CONCATENATE("Дефектный акт ", IF(Source!AN15<>"", Source!AN15," ")) -> Дефектный акт
A12: =CONCATENATE("На капитальный ремонт ", Source!F12) -> На капитальный ремонт Общестроительные работы ДГП №150 ф2 (ТСН-2001 (Мосгосэкспертиза)) | AD12: =CONCATENATE("На капитальный ремонт ", Source!F12) -> На капитальный ремонт Общестроительные работы ДГП №150 ф2 (ТСН-2001 (Мосгосэкспертиза))
B14: Мы, нижеподписавшиеся, произвели осмотр объекта
B15: и постановили произвести ремонт объекта в
B16: следующем объеме:
A17: № п/п | B17: Наименование работ и затрат | C17: Единица измерения | D17: Количество | E17: Примечание
A18: 1 | B18: 2 | C18: 3 | D18: 4 | E18: 5
A19: =CONCATENATE("Локальная смета: ", Source!G20) -> Локальная смета: Смета на общестроительные работы
A20: =CONCATENATE("Раздел: ", Source!G24) -> Раздел: Наружные работы
A21: =Source!E28 -> 1 | B21: =Source!G28 -> Разборка покрытий и оснований асфальтобетонных | C21: =Source!H28 -> 100 м3 конструкций | D21: =Source!I28 -> 0.00971
A22: =Source!E30 -> 1,1 | B22: =Source!G30 -> Масса мусора 2,4кг/1м3 | C22: =Source!H30 -> т | D22: =Source!I30 -> 0.003
A23: =Source!E32 -> 2 | B23: =Source!G32 -> Копание ям вручную без креплений для стоек и столбов без откосов глубиной до 0,7 м группа грунтов 1-3(газон.,плодородный слой 13,16м2*0,25) | C23: =Source!H32 -> 100 м3 грунта | D23: =Source!I32 -> 0.0329
A24: =Source!E34 -> 3 | B24: =Source!G34 -> Разборка металлических лестничных решеток, массой 1 м решетки до 60 кг (ограждение газона) | C24: =Source!H34 -> 100 м решетки | D24: =Source!I34 -> 0.0869
A25: =Source!E36 -> 3,1 | B25: =Source!G36 -> Масса мусора | C25: =Source!H36 -> т | D25: =Source!I36 -> -0.21725
A26: =Source!E38 -> 4 | B26: =Source!G38 -> Устройство покрытий из горячих асфальтобетонных смесей толщиной 4 см комплектом машин | C26: =Source!H38 -> 100 м2 покрытия | D26: =Source!I38 -> 0.1941
A27: =Source!E40 -> 4,1 | B27: =Source!G40 -> Смеси асфальтобетонные дорожные горячие крупнозернистые, тип II | C27: =Source!H40 -> т | D27: =Source!I40 -> 1.859478
A28: =Source!E42 -> 5 | B28: =Source!G42 -> Добавляется на каждый 1 см изменения толщины слоя сверх 4 см к позиции 3.27-42-1 9см | C28: =Source!H42 -> 100 м2 покрытия | D28: =Source!I42 -> 0.1941
A29: =Source!E44 -> 5,1 | B29: =Source!G44 -> Смеси асфальтобетонные дорожные горячие крупнозернистые, тип II | C29: =Source!H44 -> т | D29: =Source!I44 -> 1.859478
A30: =Source!E46 -> 6 | B30: =Source!G46 -> Подготовка почвы для устройства партерного и обыкновенного газонов с внесением растительной земли слоем 15 см вручную | C30: =Source!H46 -> 100 м2 | D30: =Source!I46 -> 0.1316
A31: =Source!E48 -> 6,1 | B31: =Source!G48 -> Земля растительная | C31: =Source!H48 -> м3 | D31: =Source!I48 -> 1.974
A32: =Source!E50 -> 7 | B32: =Source!G50 -> Посев газонов партерных, мавританских, и обыкновенных вручную | C32: =Source!H50 -> 100 м2 | D32: =Source!I50 -> 0.1316
A33: =Source!E52 -> 7,1 | B33: =Source!G52 -> Семена (смесь универсальная) газонных трав | C33: =Source!H52 -> кг | D33: =Source!I52 -> 0.5264
A34: =Source!E54 -> 8 | B34: =Source!G54 -> Установка секций металлического ограждения газонов из профилированной трубы, масса секции до 10 кг | C34: =Source!H54 -> 1 м2 | D34: =Source!I54 -> 5.21
A35: =Source!E56 -> 8,1 | B35: =Source!G56 -> Ограждение газонное из металлической профильной трубы 20х20х1,5 мм | C35: =Source!H56 -> м2 | D35: =Source!I56 -> 5.21
A36: =Source!E58 -> 9 | B36: =Source!G58 -> Погрузка грунта вручную в автомобили-самосвалы с выгрузкой | C36: =Source!H58 -> 100 м3 грунта | D36: =Source!I58 -> 0.0329
A37: =Source!E60 -> 10 | B37: =Source!G60 -> Перевозка грунта с I по V группы на расстояние 29 км автосамосвалами грузоподъемностью до 10 т (ЮВАО) | C37: =Source!H60 -> 1 м3 | D37: =Source!I60 -> 3.29
A38: =CONCATENATE("Раздел: ", Source!G92) -> Раздел: Демонтажные работы
A39: =CONCATENATE("Подраздел: ", Source!G96) -> Подраздел: Входная группа
A40: =Source!E100 -> 11 | B40: =Source!G100 -> Монтаж конструкций дверей и люков (Демонтаж) | C40: =Source!H100 -> 1 т конструкций | D40: =Source!I100 -> 0.1
A41: =Source!E102 -> 11,1 | B41: =Source!G102 -> Масса мусора | C41: =Source!H102 -> т | D41: =Source!I102 -> 0.1
A42: =Source!E104 -> 12 | B42: =Source!G104 -> Разборка деревянных заполнений проемов дверных, воротных 1,02*2,2*1шт=2,24м2 | C42: =Source!H104 -> 100 м2 | D42: =Source!I104 -> 0.0224
A43: =Source!E106 -> 12,1 | B43: =Source!G106 -> Масса мусора | C43: =Source!H106 -> т | D43: =Source!I106 -> 0.03
A44: =Source!E108 -> 13 | B44: =Source!G108 -> Разборка фундаментов железобетонных (ограждение крыльца) | C44: =Source!H108 -> 1 м3 | D44: =Source!I108 -> 0.09
A45: =Source!E110 -> 13,1 | B45: =Source!G110 -> Масса мусора | C45: =Source!H110 -> т | D45: =Source!I110 -> -0.225
A46: =Source!E112 -> 14 | B46: =Source!G112 -> Установка металлических решеток приямков (грязезащитная) | C46: =Source!H112 -> 1 т металлических изделий | D46: =Source!I112 -> 0.03
...

Sheet RV_DATA
A1: BuildingFinished | B1: Trud | C1: Mash | D1: Mat | E1: MatZak | F1: Oborud | G1: OborudZak | H1: ZeroStoim | I1: NegativeKoll | J1: ReUnionKollResurcy
A2: 1 | B2: 0 | C2: 0 | D2: 1 | E2: 1 | F2: 1 | G2: 1 | H2: 1 | I2: 0 | J2: 0
A4: TYPE | B4: LINK | C4: RABMAT_EX | D4: TIP_RAB | E4: TYPE_TRUD | F4: TAB | G4: NAME | H4: EDIZM | I4: KOLL | J4: UCH | K4: PRICE_B | L4: STOIM_B | M4: PRICE_C | N4: STOIM_C | O4: CRC_GR_RES | P4: CRC_B | Q4: CRC_C
A6: =Source!A20 -> 3 | B6: 20 | G6: =Source!G20 -> Смета на общестроительные работы
A7: =Source!A24 -> 4 | B7: 24 | G7: =Source!G24 -> Наружные работы
A8: =Source!A31 -> 18 | C8: 3 | D8: =Source!BI31 -> 1 | E8: =Source!FS31 -> 0 | F8: =Source!F31 -> 9999990001 | G8: =Source!G31 -> Масса мусора 2,4кг/1м3 | H8: =Source!H31 -> т | I8: =Source!I31 -> 0.003 | J8: 1 | K8: =ROUND(Source!AC31, 6) -> 0 | L8: =ROUND(K8*I8, 2) -> 0 | M8: =ROUND(Source!AC31*IF(Source!BC31<> 0, Source!BC31, 1), 6) -> 0 | N8: =ROUND(M8*I8, 2) -> 0 | O8: =Source!GF31 -> -269224915 | P8: -1963567268 | Q8: -1963567268
A9: =Source!A39 -> 17 | C9: 3 | D9: 0 | E9: =SmtRes!AV41 -> 0 | F9: =SmtRes!I41 -> 1.3-3-19 | G9: =SmtRes!K41 -> Эмульсии дорожные, битумные | H9: =SmtRes!O41 -> т | I9: =SmtRes!Y41*Source!I39 -> 0.007764 | J9: =SmtRes!AO41 -> 1 | K9: =ROUND(SmtRes!AE41, 6) -> 1445.87 | L9: =ROUND(I9*K9, 2) -> 11.23 | M9: =ROUND(SmtRes!AA41, 6) -> 12955 | N9: =ROUND(I9*M9, 2) -> 100.58 | O9: =SmtRes!X41 -> 253159774 | P9: -1685791731 | Q9: -412094702
A10: =Source!A41 -> 18 | C10: 3 | D10: =Source!BI41 -> 1 | E10: =Source!FS41 -> 0 | F10: =Source!F41 -> 1.3-3-4 | G10: =Source!G41 -> Смеси асфальтобетонные дорожные горячие крупнозернистые, тип II | H10: =Source!H41 -> т | I10: =Source!I41 -> 1.859478 | J10: 1 | K10: =ROUND(Source!AC41, 6) -> 305.75 | L10: =ROUND(K10*I10, 2) -> 568.54 | M10: =ROUND(Source!AC41*IF(Source!BC41<> 0, Source!BC41, 1), 6) -> 2580.53 | N10: =ROUND(M10*I10, 2) -> 4798.44 | O10: =Source!GF41 -> -2137020924 | P10: 641113410 | Q10: -240098630
A11: =Source!A45 -> 18 | C11: 3 | D11: =Source!BI45 -> 1 | E11: =Source!FS45 -> 0 | F11: =Source!F45 -> 1.3-3-4 | G11: =Source!G45 -> Смеси асфальтобетонные дорожные горячие крупнозернистые, тип II | H11: =Source!H45 -> т | I11: =Source!I45 -> 1.859478 | J11: 1 | K11: =ROUND(Source!AC45, 6) -> 305.75 | L11: =ROUND(K11*I11, 2) -> 568.54 | M11: =ROUND(Source!AC45*IF(Source!BC45<> 0, Source!BC45, 1), 6) -> 2580.53 | N11: =ROUND(M11*I11, 2) -> 4798.44 | O11: =Source!GF45 -> -2137020924 | P11: 641113410 | Q11: -240098630
A12: =Source!A49 -> 18 | C12: 3 | D12: =Source!BI49 -> 1 | E12: =Source!FS49 -> 0 | F12: =Source!F49 -> 1.4-6-1 | G12: =Source!G49 -> Земля растительная | H12: =Source!H49 -> м3 | I12: =Source!I49 -> 1.974 | J12: 1 | K12: =ROUND(Source!AC49, 6) -> 146.84 | L12: =ROUND(K12*I12, 2) -> 289.86 | M12: =ROUND(Source!AC49*IF(Source!BC49<> 0, Source!BC49, 1), 6) -> 682.806 | N12: =ROUND(M12*I12, 2) -> 1347.86 | O12: =Source!GF49 -> 92320855 | P12: -326285843 | Q12: -530123611
A13: =Source!A51 -> 17 | C13: 3 | D13: 0 | E13: =SmtRes!AV59 -> 0 | F13: =SmtRes!I59 -> 1.1-1-118 | G13: =SmtRes!K59 -> Вода | H13: =SmtRes!O59 -> м3 | I13: =SmtRes!Y59*Source!I51 -> 1.316 | J13: =SmtRes!AO59 -> 1 | K13: =ROUND(SmtRes!AE59, 6) -> 7.07 | L13: =ROUND(I13*K13, 2) -> 9.3 | M13: =ROUND(SmtRes!AA59, 6) -> 29.98 | N13: =ROUND(I13*M13, 2) -> 39.45 | O13: =SmtRes!X59 -> -862991314 | P13: 209219300 | Q13: 2045990491
A14: =Source!A53 -> 18 | C14: 3 | D14: =Source!BI53 -> 1 | E14: =Source!FS53 -> 0 | F14: =Source!F53 -> 1.4-6-6 | G14: =Source!G53 -> Семена (смесь универсальная) газонных трав | H14: =Source!H53 -> кг | I14: =Source!I53 -> 0.5264 | J14: 1 | K14: =ROUND(Source!AC53, 6) -> 57.93 | L14: =ROUND(K14*I14, 2) -> 30.49 | M14: =ROUND(Source!AC53*IF(Source!BC53<> 0, Source!BC53, 1), 6) -> 139.032 | N14: =ROUND(M14*I14, 2) -> 73.19 | O14: =Source!GF53 -> 735025367 | P14: 797975201 | Q14: -1119444336
A15: =Source!A55 -> 17 | C15: 3 | D15: 0 | E15: =SmtRes!AV71 -> 0 | F15: =SmtRes!I71 -> 1.1-1-1566 | G15: =SmtRes!K71 -> Электроды, тип Э-42, 46, 50, диаметр 4 - 6 мм | H15: =SmtRes!O71 -> т | I15: =SmtRes!Y71*Source!I55 -> 0.0001563 | J15: =SmtRes!AO71 -> 1 | K15: =ROUND(SmtRes!AE71, 6) -> 7191.81 | L15: =ROUND(I15*K15, 2) -> 1.12 | M15: =ROUND(SmtRes!AA71, 6) -> 86373.64 | N15: =ROUND(I15*M15, 2) -> 13.5 | O15: =SmtRes!X71 -> 1310716689 | P15: -143943088 | Q15: -161349360
A16: =Source!A57 -> 18 | C16: 3 | D16: =Source!BI57 -> 1 | E16: =Source!FS57 -> 0 | F16: =Source!F57 -> 1.7-9-8 | G16: =Source!G57 -> Ограждение газонное из металлической профильной трубы 20х20х1,5 мм | H16: =Source!H57 -> м2 | I16: =Source!I57 -> 5.21 | J16: 1 | K16: =ROUND(Source!AC57, 6) -> 358.54 | L16: =ROUND(K16*I16, 2) -> 1867.99 | M16: =ROUND(Source!AC57*IF(Source!BC57<> 0, Source!BC57, 1), 6) -> 634.6158 | N16: =ROUND(M16*I16, 2) -> 3306.35 | O16: =Source!GF57 -> 1093334536 | P16: -636685694 | Q16: -648000254
A17: =Source!A92 -> 4 | B17: 92 | G17: =Source!G92 -> Демонтажные работы
A18: =Source!A96 -> 5 | B18: 96 | G18: =Source!G96 -> Входная группа
A19: =Source!A101 -> 17 | C19: 3 | D19: 0 | E19: =SmtRes!AV90 -> 0 | F19: =SmtRes!I90 -> 9999990006 | G19: =SmtRes!K90 -> Стоимость прочих материалов (ЭСН) | H19: =SmtRes!O90 -> руб. | I19: =SmtRes!Y90*Source!I101 -> 2.3688 | J19: =SmtRes!AO90 -> 1 | K19: =ROUND(SmtRes!AE90, 6) -> 1 | L19: =ROUND(I19*K19, 2) -> 2.37 | M19: =ROUND(SmtRes!AA90, 6) -> 1 | N19: =ROUND(I19*M19, 2) -> 2.37 | O19: =SmtRes!X90 -> -94250534 | P19: -1341645062 | Q19: -1341645062
A20: =Source!A101 -> 17 | C20: 3 | D20: 0 | E20: =SmtRes!AV88 -> 0 | F20: =SmtRes!I88 -> 1.1-1-1566 | G20: =SmtRes!K88 -> Электроды, тип Э-42, 46, 50, диаметр 4 - 6 мм | H20: =SmtRes!O88 -> т | I20: =SmtRes!Y88*Source!I101 -> 4.2e-05 | J20: =SmtRes!AO88 -> 1 | K20: =ROUND(SmtRes!AE88, 6) -> 7191.81 | L20: =ROUND(I20*K20, 2) -> 0.3 | M20: =ROUND(SmtRes!AA88, 6) -> 86373.64 | N20: =ROUND(I20*M20, 2) -> 3.63 | O20: =SmtRes!X88 -> 1310716689 | P20: -143943088 | Q20: -161349360
A21: =Source!A103 -> 18 | C21: 3 | D21: =Source!BI103 -> 1 | E21: =Source!FS103 -> 0 | F21: =Source!F103 -> 9999990001 | G21: =Source!G103 -> Масса мусора | H21: =Source!H103 -> т | I21: =Source!I103 -> 0.1 | J21: 1 | K21: =ROUND(Source!AC103, 6) -> 0 | L21: =ROUND(K21*I21, 2) -> 0 | M21: =ROUND(Source!AC103*IF(Source!BC103<> 0, Source!BC103, 1), 6) -> 0 | N21: =ROUND(M21*I21, 2) -> 0 | O21: =Source!GF103 -> 1489638031 | P21: 557837154 | Q21: 557837154
A22: =Source!A107 -> 18 | C22: 3 | D22: =Source!BI107 -> 1 | E22: =Source!FS107 -> 0 | F22: =Source!F107 -> 9999990001 | G22: =Source!G107 -> Масса мусора | H22: =Source!H107 -> т | I22: =Source!I107 -> 0.03 | J22: 1 | K22: =ROUND(Source!AC107, 6) -> 0 | L22: =ROUND(K22*I22, 2) -> 0 | M22: =ROUND(Source!AC107*IF(Source!BC107<> 0, Source!BC107, 1), 6) -> 0 | N22: =ROUND(M22*I22, 2) -> 0 | O22: =Source!GF107 -> 1489638031 | P22: 557837154 | Q22: 557837154
A23: =Source!A113 -> 17 | C23: 3 | D23: 0 | E23: =SmtRes!AV109 -> 0 | F23: =SmtRes!I109 -> 1.1-1-923 | G23: =SmtRes!K109 -> Поковки строительные (скобы, закрепы, хомуты) простые, масса 1,8 кг | H23: =SmtRes!O109 -> т | I23: =SmtRes!Y109*Source!I113 -> 0.00108 | J23: =SmtRes!AO109 -> 1 | K23: =ROUND(SmtRes!AE109, 6) -> 6870.66 | L23: =ROUND(I23*K23, 2) -> 7.42 | M23: =ROUND(SmtRes!AA109, 6) -> 40055.95 | N23: =ROUND(I23*M23, 2) -> 43.26 | O23: =SmtRes!X109 -> -1557622869 | P23: -1450217722 | Q23: 1919735130
A24: =Source!A113 -> 17 | C24: 3 | D24: 0 | E24: =SmtRes!AV108 -> 0 | F24: =SmtRes!I108 -> 1.1-1-491 | G24: =SmtRes!K108 -> Лак битумный, марка БТ-123 | H24: =SmtRes!O108 -> т | I24: =SmtRes!Y108*Source!I113 -> 9e-05 | J24: =SmtRes!AO108 -> 1 | K24: =ROUND(SmtRes!AE108, 6) -> 11242.42 | L24: =ROUND(I24*K24, 2) -> 1.01 | M24: =ROUND(SmtRes!AA108, 6) -> 46993.32 | N24: =ROUND(I24*M24, 2) -> 4.23 | O24: =SmtRes!X108 -> 1192568630 | P24: -736655064 | Q24: 1023048722
A25: =Source!A115 -> 18 | C25: 3 | D25: =Source!BI115 -> 1 | E25: =Source!FS115 -> 0 | F25: =Source!F115 -> 9999990001 | G25: =Source!G115 -> Масса мусора | H25: =Source!H115 -> т | I25: =Source!I115 -> 0.03 | J25: 1 | K25: =ROUND(Source!AC115, 6) -> 0 | L25: =ROUND(K25*I25, 2) -> 0 | M25: =ROUND(Source!AC115*IF(Source!BC115<> 0, Source!BC115, 1), 6) -> 0 | N25: =ROUND(M25*I25, 2) -> 0 | O25: =Source!GF115 -> 1489638031 | P25: 557837154 | Q25: 557837154
A26: =Source!A175 -> 4 | B26: 175 | G26: =Source!G175 -> Монтажные работы
A27: =Source!A179 -> 5 | B27: 179 | G27: =Source!G179 -> Входная группа
A28: =Source!A184 -> 17 | C28: 3 | D28: 0 | E28: =SmtRes!AV117 -> 0 | F28: =SmtRes!I117 -> 1.1-1-118 | G28: =SmtRes!K117 -> Вода | H28: =SmtRes!O117 -> м3 | I28: =SmtRes!Y117*Source!I184 -> 0.1785 | J28: =SmtRes!AO117 -> 1 | K28: =ROUND(SmtRes!AE117, 6) -> 7.07 | L28: =ROUND(I28*K28, 2) -> 1.26 | M28: =ROUND(SmtRes!AA117, 6) -> 29.98 | N28: =ROUND(I28*M28, 2) -> 5.35 | O28: =SmtRes!X117 -> -862991314 | P28: 209219300 | Q28: 2045990491
A29: =Source!A186 -> 18 | C29: 3 | D29: =Source!BI186 -> 1 | E29: =Source!FS186 -> 0 | F29: =Source!F186 -> 1.3-2-6 | G29: =Source!G186 -> Растворы цементные, марка 150 | H29: =Source!H186 -> м3 | I29: =Source!I186 -> 0.10404 | J29: 1 | K29: =ROUND(Source!AC186, 6) -> 478.96 | L29: =ROUND(K29*I29, 2) -> 49.83 | M29: =ROUND(Source!AC186*IF(Source!BC186<> 0, Source!BC186, 1), 6) -> 2912.0768 | N29: =ROUND(M29*I29, 2) -> 302.97 | O29: =Source!GF186 -> -1161195218 | P29: 78190390 | Q29: -1297412162
A30: =Source!A188 -> 17 | C30: 3 | D30: 0 | E30: =SmtRes!AV128 -> 0 | F30: =SmtRes!I128 -> 9999990006 | G30: =SmtRes!K128 -> Стоимость прочих материалов (ЭСН) | H30: =SmtRes!O128 -> руб. | I30: =SmtRes!Y128*Source!I188 -> 0.28917 | J30: =SmtRes!AO128 -> 1 | K30: =ROUND(SmtRes!AE128, 6) -> 1 | L30: =ROUND(I30*K30, 2) -> 0.29 | M30: =ROUND(SmtRes!AA128, 6) -> 1 | N30: =ROUND(I30*M30, 2) -> 0.29 | O30: =SmtRes!X128 -> -94250534 | P30: -1341645062 | Q30: -1341645062
A31: =Source!A188 -> 17 | C31: 3 | D31: 0 | E31: =SmtRes!AV126 -> 0 | F31: =SmtRes!I126 -> 1.3-2-6 | G31: =SmtRes!K126 -> Растворы цементные, марка 150 | H31: =SmtRes!O126 -> м3 | I31: =SmtRes!Y126*Source!I188 -> 0.10761 | J31: =SmtRes!AO126 -> 1 | K31: =ROUND(SmtRes!AE126, 6) -> 478.96 | L31: =ROUND(I31*K31, 2) -> 51.54 | M31: =ROUND(SmtRes!AA126, 6) -> 2912.08 | N31: =ROUND(I31*M31, 2) -> 313.37 | O31: =SmtRes!X126 -> -1161195218 | P31: 78190390 | Q31: -1660568809
A32: =Source!A190 -> 18 | C32: 3 | D32: =Source!BI190 -> 1 | E32: =Source!FS190 -> 0 | F32: =Source!F190 -> 1.5-1-192 | G32: =Source!G190 -> Плиты бетонные тротуарные, толщина 70 мм, цвет серый | H32: =Source!H190 -> м2 | I32: =Source!I190 -> 5.202 | J32: 1 | K32: =ROUND(Source!AC190, 6) -> 117.94 | L32: =ROUND(K32*I32, 2) -> 613.52 | M32: =ROUND(Source!AC190*IF(Source!BC190<> 0, Source!BC190, 1), 6) -> 459.966 | N32: =ROUND(M32*I32, 2) -> 2392.74 | O32: =Source!GF190 -> 1313026270 | P32: -1961533055 | Q32: -1021088367
A33: =Source!A192 -> 17 | C33: 3 | D33: 0 | E33: =SmtRes!AV144 -> 0 | F33: =SmtRes!I144 -> 1.1-1-2480 | G33: =SmtRes!K144 -> Грунтовка акриловая на латексной основе, марка "Грундирмиттель" | H33: =SmtRes!O144 -> т | I33: =SmtRes!Y144*Source!I192 -> 0.00018 | J33: =SmtRes!AO144 -> 1 | K33: =ROUND(SmtRes!AE144, 6) -> 69883.65 | L33: =ROUND(I33*K33, 2) -> 12.58 | M33: =ROUND(SmtRes!AA144, 6) -> 106223.15 | N33: =ROUND(I33*M33, 2) -> 19.12 | O33: =SmtRes!X144 -> 353027985 | P33: -1497170026 | Q33: 1463188514
A34: =Source!A192 -> 17 | C34: 3 | D34: 0 | E34: =SmtRes!AV142 -> 0 | F34: =SmtRes!I142 -> 1.1-1-118 | G34: =SmtRes!K142 -> Вода | H34: =SmtRes!O142 -> м3 | I34: =SmtRes!Y142*Source!I192 -> 0.002394 | J34: =SmtRes!AO142 -> 1 | K34: =ROUND(SmtRes!AE142, 6) -> 7.07 | L34: =ROUND(I34*K34, 2) -> 0.02 | M34: =ROUND(SmtRes!AA142, 6) -> 29.98 | N34: =ROUND(I34*M34, 2) -> 0.07 | O34: =SmtRes!X142 -> -862991314 | P34: 209219300 | Q34: 2045990491
A35: =Source!A194 -> 18 | C35: 3 | D35: =Source!BI194 -> 1 | E35: =Source!FS194 -> 0 | F35: =Source!F194 -> 1.3-2-138 | G35: =Source!G194 -> Смеси сухие для заполнения швов между плитками, цветные | H35: =Source!H194 -> т | I35: =Source!I194 -> 0.002 | J35: 1 | K35: =ROUND(Source!AC194, 6) -> 27362.67 | L35: =ROUND(K35*I35, 2) -> 54.73 | M35: =ROUND(Source!AC194*IF(Source!BC194<> 0, Source!BC194, 1), 6) -> 25994.536 | N35: =ROUND(M35*I35, 2) -> 51.99 | O35: =Source!GF194 -> 1389983172 | P35: -1353142151 | Q35: 561068362
A36: =Source!A196 -> 18 | C36: 3 | D36: =Source!BI196 -> 1 | E36: =Source!FS196 -> 0 | F36: =Source!F196 -> 1.3-2-168 | G36: =Source!G196 -> Смеси сухие клеевые, высокоадгезионные, высокоэластичные, для внутренних и наружных работ, для укладки напольной, настенной и потолочной плитки из керамики, мозаики, натурального камня и керамогранита | H36: =Source!H196 -> т | I36: =Source!I196 -> 0.00846 | J36: 1 | K36: =ROUND(Source!AC196, 6) -> 6529.05 | L36: =ROUND(K36*I36, 2) -> 55.24 | M36: =ROUND(Source!AC196*IF(Source!BC196<> 0, Source!BC196, 1), 6) -> 7638.9885 | N36: =ROUND(M36*I36, 2) -> 64.63 | O36: =Source!GF196 -> -137175376 | P36: 1529335346 | Q36: 274111918
A37: =Source!A198 -> 18 | C37: 3 | D37: =Source!BI198 -> 1 | E37: =Source!FS198 -> 0 | F37: =Source!F198 -> 1.1-1-2398 | G37: =Source!G198 -> Плитки керамические, типа керамогранит, неполированные, размер 30х30 см, толщина 8 мм, цвет: светло-серый, серый, светло-зеленый, бежевый | H37: =Source!H198 -> м2 | I37: =Source!I198 -> 1.836 | J37: 1 | K37: =ROUND(Source!AC198, 6) -> 92.02 | L37: =ROUND(K37*I37, 2) -> 168.95 | M37: =ROUND(Source!AC198*IF(Source!BC198<> 0, Source!BC198, 1), 6) -> 403.0476 | N37: =ROUND(M37*I37, 2) -> 740 | O37: =Source!GF198 -> 1213652254 | P37: 1282892280 | Q37: 2077047568
A38: =Source!A202 -> 18 | C38: 3 | D38: =Source!BI202 -> 1 | E38: =Source!FS202 -> 0 | F38: =Source!F202 -> 1.1-1-1328 | G38: =Source!G202 -> Цемент общестроительный, портландцемент общего назначения, марка 300 | H38: =Source!H202 -> т | I38: =Source!I202 -> 0.0225 | J38: 1 | K38: =ROUND(Source!AC202, 6) -> 315.2 | L38: =ROUND(K38*I38, 2) -> 7.09 | M38: =ROUND(Source!AC202*IF(Source!BC202<> 0, Source!BC202, 1), 6) -> 3356.88 | N38: =ROUND(M38*I38, 2) -> 75.53 | O38: =Source!GF202 -> 2075225388 | P38: 765918850 | Q38: 1226868324
A39: =Source!A204 -> 18 | C39: 3 | D39: =Source!BI204 -> 1 | E39: =Source!FS204 -> 0 | F39: =Source!F204 -> цена поставщика | G39: =Source!G204 -> Ограждение пандуса из нержавеющей | H39: =Source!H204 -> ПМ | I39: =Source!I204 -> 11.1 | J39: 1 | K39: =ROUND(Source!AC204, 6) -> 710.7 | L39: =ROUND(K39*I39, 2) -> 7888.77 | M39: =ROUND(Source!AC204*IF(Source!BC204<> 0, Source!BC204, 1), 6) -> 3716.961 | N39: =ROUND(M39*I39, 2) -> 41258.27 | O39: =Source!GF204 -> 1550056831 | P39: 327562513 | Q39: 918097005
A40: =Source!A206 -> 18 | C40: 3 | D40: =Source!BI206 -> 1 | E40: =Source!FS206 -> 0 | F40: =Source!F206 -> цена поставщика | G40: =Source!G206 -> Ограждения из нержавеющей стали лестниц | H40: =Source!H206 -> ПМ | I40: =Source!I206 -> 3.9 | J40: 1 | K40: =ROUND(Source!AC206, 6) -> 694.17 | L40: =ROUND(K40*I40, 2) -> 2707.26 | M40: =ROUND(Source!AC206*IF(Source!BC206<> 0, Source!BC206, 1), 6) -> 3630.5091 | N40: =ROUND(M40*I40, 2) -> 14158.99 | O40: =Source!GF206 -> 1342183003 | P40: 1645927506 | Q40: 735709410
A41: =Source!A208 -> 17 | C41: 3 | D41: 0 | E41: =SmtRes!AV168 -> 0 | F41: =SmtRes!I168 -> 9999990006 | G41: =SmtRes!K168 -> Стоимость прочих материалов (ЭСН) | H41: =SmtRes!O168 -> руб. | I41: =SmtRes!Y168*Source!I208 -> 0.04331 | J41: =SmtRes!AO168 -> 1 | K41: =ROUND(SmtRes!AE168, 6) -> 1 | L41: =ROUND(I41*K41, 2) -> 0.04 | M41: =ROUND(SmtRes!AA168, 6) -> 1 | N41: =ROUND(I41*M41, 2) -> 0.04 | O41: =SmtRes!X168 -> -94250534 | P41: -1341645062 | Q41: -1341645062
A42: =Source!A210 -> 18 | C42: 3 | D42: =Source!BI210 -> 1 | E42: =Source!FS210 -> 0 | F42: =Source!F210 -> 1.1-1-118 | G42: =Source!G210 -> Вода | H42: =Source!H210 -> м3 | I42: =Source!I210 -> 0.01503 | J42: 1 | K42: =ROUND(Source!AC210, 6) -> 7.07 | L42: =ROUND(K42*I42, 2) -> 0.11 | M42: =ROUND(Source!AC210*IF(Source!BC210<> 0, Source!BC210, 1), 6) -> 29.9768 | N42: =ROUND(M42*I42, 2) -> 0.45 | O42: =Source!GF210 -> -862991314 | P42: 209219300 | Q42: 819754372
...

Sheet Расчет стоимости ресурсов
A2: Ресурсная ведомость на
A3: =CONCATENATE("Объект: ",IF(Source!G653<>"Новый объект", Source!G653, "")) -> Объект: Общестроительные работы ДГП №150 ф2 | O3: Объект: Общестроительные работы ДГП №150 ф2 (ТСН-2001 (Мосгосэкспертиза))
A4: Обоснование | B4: Наименование | C4: Единица измерения | D4: Объем | E4: Текущая
E6: цена | F6: стоимость
A7: 1 | B7: 2 | C7: 3 | D7: 4 | E7: 5 | F7: 6
A8: =CONCATENATE("Локальная смета: ",IF(Source!G22<>"Новая локальная смета", Source!G22, "")) -> Локальная смета: Смета на общестроительные работы
A9: =CONCATENATE("Раздел: ",IF(Source!G26<>"Новый раздел", Source!G26, "")) -> Раздел: Наружные работы
A10: Материальные ресурсы
A11: 1.1-1-118 | B11: Вода | C11: м3 | D11: =ROUND(SUMIF(RV_DATA!Q8:'RV_DATA'!Q16, 2045990491, RV_DATA!I8:'RV_DATA'!I16), 6) -> 1.316 | E11: =ROUND(SmtRes!AA59, 6) -> 29.98 | F11: =ROUND(SUMIF(RV_DATA!Q8:'RV_DATA'!Q16, 2045990491, RV_DATA!N8:'RV_DATA'!N16), 6) -> 39.45 | Q11: 3
A12: 1.1-1-1566 | B12: Электроды, тип Э-42, 46, 50, диаметр 4 - 6 мм | C12: т | D12: =ROUND(SUMIF(RV_DATA!Q8:'RV_DATA'!Q16, -161349360, RV_DATA!I8:'RV_DATA'!I16), 6) -> 0.000156 | E12: =ROUND(SmtRes!AA71, 6) -> 86373.64 | F12: =ROUND(SUMIF(RV_DATA!Q8:'RV_DATA'!Q16, -161349360, RV_DATA!N8:'RV_DATA'!N16), 6) -> 13.5 | Q12: 3
A13: 1.3-3-19 | B13: Эмульсии дорожные, битумные | C13: т | D13: =ROUND(SUMIF(RV_DATA!Q8:'RV_DATA'!Q16, -412094702, RV_DATA!I8:'RV_DATA'!I16), 6) -> 0.007764 | E13: =ROUND(SmtRes!AA41, 6) -> 12955 | F13: =ROUND(SUMIF(RV_DATA!Q8:'RV_DATA'!Q16, -412094702, RV_DATA!N8:'RV_DATA'!N16), 6) -> 100.58 | Q13: 3
A14: 1.3-3-4 | B14: Смеси асфальтобетонные дорожные горячие крупнозернистые, тип II | C14: т | D14: =ROUND(SUMIF(RV_DATA!Q8:'RV_DATA'!Q16, -240098630, RV_DATA!I8:'RV_DATA'!I16), 6) -> 3.718956 | E14: =ROUND(Source!AC41*IF(Source!BC41<> 0, Source!BC41, 1), 6) -> 2580.53 | F14: =ROUND(SUMIF(RV_DATA!Q8:'RV_DATA'!Q16, -240098630, RV_DATA!N8:'RV_DATA'!N16), 6) -> 9596.88 | Q14: 3
A15: 1.4-6-1 | B15: Земля растительная | C15: м3 | D15: =ROUND(SUMIF(RV_DATA!Q8:'RV_DATA'!Q16, -530123611, RV_DATA!I8:'RV_DATA'!I16), 6) -> 1.974 | E15: =ROUND(Source!AC49*IF(Source!BC49<> 0, Source!BC49, 1), 6) -> 682.806 | F15: =ROUND(SUMIF(RV_DATA!Q8:'RV_DATA'!Q16, -530123611, RV_DATA!N8:'RV_DATA'!N16), 6) -> 1347.86 | Q15: 3
A16: 1.4-6-6 | B16: Семена (смесь универсальная) газонных трав | C16: кг | D16: =ROUND(SUMIF(RV_DATA!Q8:'RV_DATA'!Q16, -1119444336, RV_DATA!I8:'RV_DATA'!I16), 6) -> 0.5264 | E16: =ROUND(Source!AC53*IF(Source!BC53<> 0, Source!BC53, 1), 6) -> 139.032 | F16: =ROUND(SUMIF(RV_DATA!Q8:'RV_DATA'!Q16, -1119444336, RV_DATA!N8:'RV_DATA'!N16), 6) -> 73.19 | Q16: 3
A17: 1.7-9-8 | B17: Ограждение газонное из металлической профильной трубы 20х20х1,5 мм | C17: м2 | D17: =ROUND(SUMIF(RV_DATA!Q8:'RV_DATA'!Q16, -648000254, RV_DATA!I8:'RV_DATA'!I16), 6) -> 5.21 | E17: =ROUND(Source!AC57*IF(Source!BC57<> 0, Source!BC57, 1), 6) -> 634.6158 | F17: =ROUND(SUMIF(RV_DATA!Q8:'RV_DATA'!Q16, -648000254, RV_DATA!N8:'RV_DATA'!N16), 6) -> 3306.35 | Q17: 3
A18: 9999990001 | B18: Масса мусора 2,4кг/1м3 | C18: т | D18: =ROUND(SUMIF(RV_DATA!Q8:'RV_DATA'!Q16, -1963567268, RV_DATA!I8:'RV_DATA'!I16), 6) -> 0.003 | E18: =ROUND(Source!AC31*IF(Source!BC31<> 0, Source!BC31, 1), 6) -> 0 | F18: =ROUND(SUMIF(RV_DATA!Q8:'RV_DATA'!Q16, -1963567268, RV_DATA!N8:'RV_DATA'!N16), 6) -> 0 | Q18: 3
A19: Итого материальные ресурсы | E19: =SUMIF(Q11:Q18, 3, F11:F18) -> 14477.81
A20: =CONCATENATE("Раздел: ",IF(Source!G94<>"Новый раздел", Source!G94, "")) -> Раздел: Демонтажные работы
A21: =CONCATENATE("Подраздел: ",IF(Source!G98<>"Новый подраздел", Source!G98, "")) -> Подраздел: Входная группа
A22: Материальные ресурсы
A23: 1.1-1-1566 | B23: Электроды, тип Э-42, 46, 50, диаметр 4 - 6 мм | C23: т | D23: =ROUND(SUMIF(RV_DATA!Q19:'RV_DATA'!Q25, -161349360, RV_DATA!I19:'RV_DATA'!I25), 6) -> 4.2e-05 | E23: =ROUND(SmtRes!AA88, 6) -> 86373.64 | F23: =ROUND(SUMIF(RV_DATA!Q19:'RV_DATA'!Q25, -161349360, RV_DATA!N19:'RV_DATA'!N25), 6) -> 3.63 | Q23: 3
A24: 1.1-1-491 | B24: Лак битумный, марка БТ-123 | C24: т | D24: =ROUND(SUMIF(RV_DATA!Q19:'RV_DATA'!Q25, 1023048722, RV_DATA!I19:'RV_DATA'!I25), 6) -> 9e-05 | E24: =ROUND(SmtRes!AA108, 6) -> 46993.32 | F24: =ROUND(SUMIF(RV_DATA!Q19:'RV_DATA'!Q25, 1023048722, RV_DATA!N19:'RV_DATA'!N25), 6) -> 4.23 | Q24: 3
A25: 1.1-1-923 | B25: Поковки строительные (скобы, закрепы, хомуты) простые, масса 1,8 кг | C25: т | D25: =ROUND(SUMIF(RV_DATA!Q19:'RV_DATA'!Q25, 1919735130, RV_DATA!I19:'RV_DATA'!I25), 6) -> 0.00108 | E25: =ROUND(SmtRes!AA109, 6) -> 40055.95 | F25: =ROUND(SUMIF(RV_DATA!Q19:'RV_DATA'!Q25, 1919735130, RV_DATA!N19:'RV_DATA'!N25), 6) -> 43.26 | Q25: 3
A26: 9999990001 | B26: Масса мусора | C26: т | D26: =ROUND(SUMIF(RV_DATA!Q19:'RV_DATA'!Q25, 557837154, RV_DATA!I19:'RV_DATA'!I25), 6) -> 0.16 | E26: =ROUND(Source!AC103*IF(Source!BC103<> 0, Source!BC103, 1), 6) -> 0 | F26: =ROUND(SUMIF(RV_DATA!Q19:'RV_DATA'!Q25, 557837154, RV_DATA!N19:'RV_DATA'!N25), 6) -> 0 | Q26: 3
A27: 9999990006 | B27: Стоимость прочих материалов (ЭСН) | C27: руб. | D27: =ROUND(SUMIF(RV_DATA!Q19:'RV_DATA'!Q25, -1341645062, RV_DATA!I19:'RV_DATA'!I25), 6) -> 2.3688 | E27: =ROUND(SmtRes!AA90, 6) -> 1 | F27: =ROUND(SUMIF(RV_DATA!Q19:'RV_DATA'!Q25, -1341645062, RV_DATA!N19:'RV_DATA'!N25), 6) -> 2.37 | Q27: 3
A28: Итого материальные ресурсы | E28: =SUMIF(Q23:Q27, 3, F23:F27) -> 53.49
A30: =CONCATENATE("Итого по разделу: ",IF(Source!G146<>"Новый раздел", Source!G146, "")) -> Итого по разделу: Демонтажные работы
A31: Итого материальные ресурсы | E31: =SUMIF(Q20:Q30, 3, F20:F30) -> 53.49
A32: Итого материалы заказчика | E32: =SUMIF(Q20:Q31, 4, F20:F31) -> 0
A33: Итого оборудование | E33: =SUMIF(Q20:Q32, 5, F20:F32) -> 0
A34: Итого оборудование заказчика | E34: =SUMIF(Q20:Q33, 6, F20:F33) -> 0
A36: =CONCATENATE("Раздел: ",IF(Source!G177<>"Новый раздел", Source!G177, "")) -> Раздел: Монтажные работы
A37: =CONCATENATE("Подраздел: ",IF(Source!G181<>"Новый подраздел", Source!G181, "")) -> Подраздел: Входная группа
A38: Материальные ресурсы
A39: 1.1-1-118 | B39: Вода | C39: м3 | D39: =ROUND(SUMIF(RV_DATA!Q28:'RV_DATA'!Q61, 2045990491, RV_DATA!I28:'RV_DATA'!I61), 6) -> 0.180894 | E39: =ROUND(SmtRes!AA117, 6) -> 29.98 | F39: =ROUND(SUMIF(RV_DATA!Q28:'RV_DATA'!Q61, 2045990491, RV_DATA!N28:'RV_DATA'!N61), 6) -> 5.42 | Q39: 3
A40: 1.1-1-118 | B40: Вода | C40: м3 | D40: =ROUND(SUMIF(RV_DATA!Q28:'RV_DATA'!Q61, 819754372, RV_DATA!I28:'RV_DATA'!I61), 6) -> 0.01503 | E40: =ROUND(Source!AC210*IF(Source!BC210<> 0, Source!BC210, 1), 6) -> 29.9768 | F40: =ROUND(SUMIF(RV_DATA!Q28:'RV_DATA'!Q61, 819754372, RV_DATA!N28:'RV_DATA'!N61), 6) -> 0.45 | Q40: 3
A41: 1.1-1-1328 | B41: Цемент общестроительный, портландцемент общего назначения, марка 300 | C41: т | D41: =ROUND(SUMIF(RV_DATA!Q28:'RV_DATA'!Q61, 1226868324, RV_DATA!I28:'RV_DATA'!I61), 6) -> 0.0225 | E41: =ROUND(Source!AC202*IF(Source!BC202<> 0, Source!BC202, 1), 6) -> 3356.88 | F41: =ROUND(SUMIF(RV_DATA!Q28:'RV_DATA'!Q61, 1226868324, RV_DATA!N28:'RV_DATA'!N61), 6) -> 75.53 | Q41: 3
A42: 1.1-1-1487 | B42: Шпатлевка масляно-клеевая универсальная | C42: т | D42: =ROUND(SUMIF(RV_DATA!Q28:'RV_DATA'!Q61, -2104003906, RV_DATA!I28:'RV_DATA'!I61), 6) -> 0.003111 | E42: =ROUND(Source!AC218*IF(Source!BC218<> 0, Source!BC218, 1), 6) -> 14311.115 | F42: =ROUND(SUMIF(RV_DATA!Q28:'RV_DATA'!Q61, -2104003906, RV_DATA!N28:'RV_DATA'!N61), 6) -> 44.52 | Q42: 3
A43: 1.1-1-1566 | B43: Электроды, тип Э-42, 46, 50, диаметр 4 - 6 мм | C43: т | D43: =ROUND(SUMIF(RV_DATA!Q28:'RV_DATA'!Q61, -161349360, RV_DATA!I28:'RV_DATA'!I61), 6) -> 7e-05 | E43: =ROUND(SmtRes!AA191, 6) -> 86373.64 | F43: =ROUND(SUMIF(RV_DATA!Q28:'RV_DATA'!Q61, -161349360, RV_DATA!N28:'RV_DATA'!N61), 6) -> 6.05 | Q43: 3
A44: 1.1-1-2398 | B44: Плитки керамические, типа керамогранит, неполированные, размер 30х30 см, толщина 8 мм, цвет: светло-серый, серый, светло-зеленый, бежевый | C44: м2 | D44: =ROUND(SUMIF(RV_DATA!Q28:'RV_DATA'!Q61, 2077047568, RV_DATA!I28:'RV_DATA'!I61), 6) -> 1.836 | E44: =ROUND(Source!AC198*IF(Source!BC198<> 0, Source!BC198, 1), 6) -> 403.0476 | F44: =ROUND(SUMIF(RV_DATA!Q28:'RV_DATA'!Q61, 2077047568, RV_DATA!N28:'RV_DATA'!N61), 6) -> 740 | Q44: 3
...

Sheet Source
A1: 0 | B1: Smeta.RU (495) 974-1589 | D1: _PS_ | F1: 0 | G1: 0 | H1: 0 | I1: Smeta.RU | K1: 0 | L1: 29412 | M1: 10
A12: 1 | B12: 686 | C12: 0 | D12: =ROW(A653) -> 653 | E12: 0 | F12: Общестроительные работы ДГП №150 ф2 (ТСН-2001 (Мосгосэкспертиза)) | G12: Общестроительные работы ДГП №150 ф2 | I12: 0 | K12: 0 | O12: 0 | P12: 0 | Q12: 0 | R12: 180 | S12: 168 | V12: 0 | AB12: Трубецкая Т.И. | AC12: инженер-сметчик | AD12: Сатаров А.Д. | AE12: Начальник управления | BH12: Сметные нормы списания | BI12: Коды ОКП для ТСН-2001 МГЭ | BJ12: 1 | BK12: 1 | BL12: 0 | BM12: 0 | BN12: 1 | BO12: 0 | BP12: 6 | BQ12: 2 | BR12: 1 | BS12: 1 | BT12: 0 | BU12: 0 | BV12: 0 | BW12: 0 | BX12: 0 | BY12: ТСН 2001- Ремонт | BZ12: Типовой расчет для ТСН-2001 МГЭ (Ремонт), Доп 48 | CA12: Территориальные сметные нормативы для Москвы ТСН-2001 (МГЭ) | CB12: Территориальные сметные нормативы для Москвы ТСН-2001 (МГЭ) | CC12: Территориальные сметные нормативы для Москвы ТСН-2001 (МГЭ) | CD12: Территориальные сметные нормативы для Москвы ТСН-2001 (МГЭ) | CF12: 0 | CG12: 0 | CH12: 8 | CK12: 48 | EC12: 0
A15: 15 | B15: 1
A18: 52 | B18: =B653 -> 686 | C18: =C653 -> 1 | D18: =D653 -> 12 | E18: =E653 -> 0 | F18: =F653 -> Общестроительные работы ДГП №150 ф2 (ТСН-2001 (Мосгосэкспертиза)) | G18: =G653 -> Общестроительные работы ДГП №150 ф2 | O18: =O653 -> 151320.94 | P18: =P653 -> 148666.95 | Q18: =Q653 -> 769.43 | R18: =R653 -> 123.55 | S18: =S653 -> 1884.56 | T18: =T653 -> 0 | U18: =U653 -> 158.05589 | V18: =V653 -> 0 | ... GX18: =GX653 -> 0
A20: 3 | B20: 1 | D20: =ROW(A624) -> 624 | F20: Локальная смета №1 | G20: Смета на общестроительные работы | I20: 0 | K20: -1 | V20: 0 | BX20: 0 | CF20: 0 | CG20: 0
A22: 52 | B22: =B624 -> 1 | C22: =C624 -> 3 | D22: =D624 -> 20 | E22: =E624 -> 0 | F22: =F624 -> Локальная смета №1 | G22: =G624 -> Смета на общестроительные работы | O22: =O624 -> 151320.94 | P22: =P624 -> 148666.95 | Q22: =Q624 -> 769.43 | R22: =R624 -> 123.55 | S22: =S624 -> 1884.56 | T22: =T624 -> 0 | U22: =U624 -> 158.05589 | V22: =V624 -> 0 | ... GX22: =GX624 -> 0
A24: 4 | B24: 1 | D24: =ROW(A63) -> 63 | F24: Новый раздел | G24: Наружные работы | I24: 0 | K24: 0 | V24: 0 | BX24: 0 | CJ24: 0
A26: 52 | B26: =B63 -> 1 | C26: =C63 -> 4 | D26: =D63 -> 24 | E26: =E63 -> 0 | F26: =F63 -> Новый раздел | G26: =G63 -> Наружные работы | O26: =O63 -> 4038.94 | P26: =P63 -> 3347.09 | Q26: =Q63 -> 368.07 | R26: =R63 -> 35.51 | S26: =S63 -> 323.78 | T26: =T63 -> 0 | U26: =U63 -> 30.29139 | V26: =V63 -> 0 | ... GX26: =GX63 -> 0
A28: 17 | B28: 1 | C28: =ROW(SmtRes!A6) -> 6 | D28: =ROW(EtalonRes!A5) -> 5 | E28: 1 | F28: 6.68-51-4 | G28: Разборка покрытий и оснований асфальтобетонных | H28: 100 м3 конструкций | I28: =ROUND(0.971/100,9) -> 0.00971 | J28: 0 | O28: =ROUND(CP28,2) -> 42.74 | P28: =ROUND(CQ28*I28,2) -> 0 | Q28: =ROUND(CR28*I28,2) -> 26.35 | R28: =ROUND(CS28*I28,2) -> 7.14 | S28: =ROUND(CT28*I28,2) -> 16.39 | T28: =ROUND(CU28*I28,2) -> 0 | U28: =CV28*I28 -> 1.50505 | V28: =CW28*I28 -> 0 | W28: =ROUND(CX28*I28,2) -> 0 | X28: =ROUND(CY28,2) -> 0 | Y28: =ROUND(CZ28,2) -> 0 | AA28: 45037306 | AB28: =ROUND((AC28+AD28+AF28),6) -> 4401.5 | AC28: =ROUND((ES28),6) -> 0 | AD28: =ROUND((ET28),6) -> 2713.55 | AE28: =ROUND((EU28),6) -> 735.23 | AF28: =ROUND((EV28),6) -> 1687.95 | AG28: =ROUND((AP28),6) -> 0 | AH28: =(EW28) -> 155 | AI28: =(EX28) -> 0 | AJ28: =ROUND((AS28),6) -> 0 | AK28: 4401.5 | AL28: 0 | AM28: 2713.55 | AN28: 735.23 | AO28: 1687.95 | AP28: 0 | AQ28: 155 | AR28: 0 | AS28: 0 | AT28: 0 | AU28: 0 | AV28: 1 | AW28: 1 | AZ28: 1 | BA28: 1 | BB28: 1 | BC28: 1 | BH28: 0 | BI28: 1 | BJ28: ТСН-2001.6. Доп. 1-42. Сб. 68, т. 51, поз. 4 | BM28: 674 | BN28: 7156650 | BP28: 0 | BQ28: 60 | BR28: 0 | BS28: 1 | BT28: 1 | BU28: 1 | BV28: 1 | BW28: 1 | BX28: 1 | BZ28: 0 | CA28: 0 | CF28: 0 | CG28: 0 | CM28: 0 | CO28: 0 | CP28: =(P28+Q28+S28) -> 42.74 | CQ28: =(AC28*BC28*AW28) -> 0 | CR28: =(AD28*BB28*AV28) -> 2713.55 | CS28: =(AE28*BS28*AV28) -> 735.23 | CT28: =(AF28*BA28*AV28) -> 1687.95 | CU28: =AG28 -> 0 | CV28: =(AH28*AV28) -> 155 | CW28: =AI28 -> 0 | CX28: =AJ28 -> 0 | CY28: =S28*(BZ28/100) -> 0 | CZ28: =S28*(CA28/100) -> 0 | DN28: 80 | DO28: 55 | DP28: 1.047 | DQ28: 1 | DU28: 1007 | DV28: 100 м3 конструкций | DW28: 100 м3 конструкций | DX28: 100 | EE28: 44847181 | EF28: 60 | EG28: Ремонтно-строительные работы | EH28: 0 | EJ28: 1 | EK28: 674 | EL28: ТСН-2001.6-68. 68-51...68-53 | EM28: ТСН-2001.6-68-21 | EQ28: 131072 | ER28: 4401.5 | ES28: 0 | ET28: 2713.55 | EU28: 735.23 | EV28: 1687.95 | EW28: 155 | EX28: 0 | EY28: 0 | FQ28: 0 | FR28: =ROUND(IF(AND(BH28=3,BI28=3),P28,0),2) -> 0 | FS28: 0 | FX28: 80 | FY28: 55 | GD28: 0 | GF28: 462798223 | GG28: 2 | GH28: 2 | GI28: 3 | GJ28: 0 | GK28: =ROUND(R28*(R12)/100,2) -> 12.85 | GL28: =ROUND(IF(AND(BH28=3,BI28=3,FS28<>0),P28,0),2) -> 0 | GM28: =ROUND(O28+X28+Y28+GK28,2)+GX28 -> 55.59 | GN28: =IF(OR(BI28=0,BI28=1),ROUND(O28+X28+Y28+GK28,2),0) -> 55.59 | GO28: =IF(BI28=2,ROUND(O28+X28+Y28+GK28,2),0) -> 0 | GP28: =IF(BI28=4,ROUND(O28+X28+Y28+GK28,2)+GX28,0) -> 0 | GR28: 0 | GS28: 3 | GT28: 0 | GV28: =ROUND(GT28,6) -> 0 | GW28: 1 | GX28: =ROUND(GV28*GW28*I28,2) -> 0 | HA28: 0 | HB28: 0 | IK28: 0
A29: 17 | B29: 1 | C29: =ROW(SmtRes!A12) -> 12 | D29: =ROW(EtalonRes!A10) -> 10 | E29: 1 | F29: 6.68-51-4 | G29: Разборка покрытий и оснований асфальтобетонных | H29: 100 м3 конструкций | I29: =ROUND(0.971/100,9) -> 0.00971 | J29: 0 | O29: =ROUND(CP29,2) -> 583.35 | P29: =ROUND(CQ29*I29,2) -> 0 | Q29: =ROUND(CR29*I29,2) -> 248.99 | R29: =ROUND(CS29*I29,2) -> 145.64 | S29: =ROUND(CT29*I29,2) -> 334.36 | T29: =ROUND(CU29*I29,2) -> 0 | U29: =CV29*I29 -> 1.50505 | V29: =CW29*I29 -> 0 | W29: =ROUND(CX29*I29,2) -> 0 | X29: =ROUND(CY29,2) -> 227.36 | Y29: =ROUND(CZ29,2) -> 137.09 | AA29: 45037307 | AB29: =ROUND((AC29+AD29+AF29),6) -> 4401.5 | AC29: =ROUND((ES29),6) -> 0 | AD29: =ROUND((ET29),6) -> 2713.55 | AE29: =ROUND((EU29),6) -> 735.23 | AF29: =ROUND((EV29),6) -> 1687.95 | AG29: =ROUND((AP29),6) -> 0 | AH29: =(EW29) -> 155 | AI29: =(EX29) -> 0 | AJ29: =ROUND((AS29),6) -> 0 | AK29: 4401.5 | AL29: 0 | AM29: 2713.55 | AN29: 735.23 | AO29: 1687.95 | AP29: 0 | AQ29: 155 | AR29: 0 | AS29: 0 | AT29: 68 | AU29: 41 | AV29: 1 | AW29: 1 | AZ29: 1 | BA29: 20.4 | BB29: 9.45 | BC29: 1 | BH29: 0 | BI29: 1 | BJ29: ТСН-2001.6. Доп. 1-42. Сб. 68, т. 51, поз. 4 | BM29: 674 | BN29: 7156650 | BO29: 6.68-51-4 | BP29: 1 | BQ29: 60 | BR29: 0 | BS29: 20.4 | BT29: 1 | BU29: 1 | BV29: 1 | BW29: 1 | BX29: 1 | BZ29: 68 | CA29: 41 | CF29: 0 | CG29: 0 | CM29: 0 | CO29: 0 | CP29: =(P29+Q29+S29) -> 583.35 | CQ29: =(AC29*BC29*AW29) -> 0 | CR29: =(AD29*BB29*AV29) -> 25643.048 | CS29: =(AE29*BS29*AV29) -> 14998.692 | CT29: =(AF29*BA29*AV29) -> 34434.18 | CU29: =AG29 -> 0 | CV29: =(AH29*AV29) -> 155 | CW29: =AI29 -> 0 | CX29: =AJ29 -> 0 | CY29: =S29*(BZ29/100) -> 227.3648 | CZ29: =S29*(CA29/100) -> 137.0876 | DN29: 80 | DO29: 55 | DP29: 1.047 | DQ29: 1 | DU29: 1007 | DV29: 100 м3 конструкций | DW29: 100 м3 конструкций | DX29: 100 | EE29: 44847181 | EF29: 60 | EG29: Ремонтно-строительные работы | EH29: 0 | EJ29: 1 | EK29: 674 | EL29: ТСН-2001.6-68. 68-51...68-53 | EM29: ТСН-2001.6-68-21 | EQ29: 131072 | ER29: 4401.5 | ES29: 0 | ET29: 2713.55 | EU29: 735.23 | EV29: 1687.95 | EW29: 155 | EX29: 0 | EY29: 0 | FQ29: 0 | FR29: =ROUND(IF(AND(BH29=3,BI29=3),P29,0),2) -> 0 | FS29: 0 | FX29: 80 | FY29: 55 | GD29: 0 | GF29: 462798223 | GG29: 2 | GH29: 1 | GI29: 3 | GJ29: 0 | GK29: =ROUND(R29*(S12)/100,2) -> 244.68 | GL29: =ROUND(IF(AND(BH29=3,BI29=3,FS29<>0),P29,0),2) -> 0 | GM29: =ROUND(O29+X29+Y29+GK29,2)+GX29 -> 1192.48 | GN29: =IF(OR(BI29=0,BI29=1),ROUND(O29+X29+Y29+GK29,2),0) -> 1192.48 | GO29: =IF(BI29=2,ROUND(O29+X29+Y29+GK29,2),0) -> 0 | GP29: =IF(BI29=4,ROUND(O29+X29+Y29+GK29,2)+GX29,0) -> 0 | GR29: 0 | GS29: 3 | GT29: 0 | GV29: =ROUND(GT29,6) -> 0 | GW29: 1 | GX29: =ROUND(GV29*GW29*I29,2) -> 0 | HA29: 0 | HB29: 0 | IK29: 0
A30: 18 | B30: 1 | C30: 6 | E30: 1,1 | F30: 9999990001 | G30: Масса мусора 2,4кг/1м3 | H30: т | I30: =I28*J30 -> 0.003 | J30: 0.30895984 | O30: =ROUND(CP30,2) -> 0 | P30: =ROUND(CQ30*I30,2) -> 0 | Q30: =ROUND(CR30*I30,2) -> 0 | R30: =ROUND(CS30*I30,2) -> 0 | S30: =ROUND(CT30*I30,2) -> 0 | T30: =ROUND(CU30*I30,2) -> 0 | U30: =CV30*I30 -> 0 | V30: =CW30*I30 -> 0 | W30: =ROUND(CX30*I30,2) -> 0 | X30: =ROUND(CY30,2) -> 0 | Y30: =ROUND(CZ30,2) -> 0 | AA30: 45037306 | AB30: =ROUND((AC30+AD30+AF30),6) -> 0 | AC30: =ROUND((ES30),6) -> 0 | AD30: =ROUND((ET30),6) -> 0 | AE30: =ROUND((EU30),6) -> 0 | AF30: =ROUND((EV30),6) -> 0 | AG30: =ROUND((AP30),6) -> 0 | AH30: =(EW30) -> 0 | AI30: =(EX30) -> 0 | AJ30: =ROUND((AS30),6) -> 0 | AK30: 0 | AL30: 0 | AM30: 0 | AN30: 0 | AO30: 0 | AP30: 0 | AQ30: 0 | AR30: 0 | AS30: 0 | AT30: 0 | AU30: 0 | AV30: 1 | AW30: 1 | AZ30: 1 | BA30: 1 | BB30: 1 | BC30: 1 | BH30: 3 | BI30: 1 | BM30: 674 | BN30: 7156650 | BP30: 0 | BQ30: 60 | BR30: 0 | BS30: 1 | BT30: 1 | BU30: 1 | BV30: 1 | BW30: 1 | BX30: 1 | BZ30: 0 | CA30: 0 | CF30: 0 | CG30: 0 | CM30: 0 | CO30: 0 | CP30: =(P30+Q30+S30) -> 0 | CQ30: =(AC30*BC30*AW30) -> 0 | CR30: =(AD30*BB30*AV30) -> 0 | CS30: =(AE30*BS30*AV30) -> 0 | CT30: =(AF30*BA30*AV30) -> 0 | CU30: =AG30 -> 0 | CV30: =(AH30*AV30) -> 0 | CW30: =AI30 -> 0 | CX30: =AJ30 -> 0 | CY30: =S30*(BZ30/100) -> 0 | CZ30: =S30*(CA30/100) -> 0 | DN30: 80 | DO30: 55 | DP30: 1.047 | DQ30: 1 | DU30: 1009 | DV30: т | DW30: т | DX30: 1000 | EE30: 44847181 | EF30: 60 | EG30: Ремонтно-строительные работы | EH30: 0 | EJ30: 1 | EK30: 674 | EL30: ТСН-2001.6-68. 68-51...68-53 | EM30: ТСН-2001.6-68-21 | EQ30: 0 | ER30: 0 | ES30: 0 | ET30: 0 | EU30: 0 | EV30: 0 | EW30: 0 | EX30: 0 | FQ30: 0 | FR30: =ROUND(IF(AND(BH30=3,BI30=3),P30,0),2) -> 0 | FS30: 0 | FX30: 80 | FY30: 55 | GD30: 0 | GF30: -269224915 | GG30: 2 | GH30: 1 | GI30: 3 | GJ30: 0 | GK30: =ROUND(R30*(R12)/100,2) -> 0 | GL30: =ROUND(IF(AND(BH30=3,BI30=3,FS30<>0),P30,0),2) -> 0 | GM30: =ROUND(O30+X30+Y30+GK30,2)+GX30 -> 0 | GN30: =IF(OR(BI30=0,BI30=1),ROUND(O30+X30+Y30+GK30,2),0) -> 0 | GO30: =IF(BI30=2,ROUND(O30+X30+Y30+GK30,2),0) -> 0 | GP30: =IF(BI30=4,ROUND(O30+X30+Y30+GK30,2)+GX30,0) -> 0 | GR30: 0 | GS30: 3 | GT30: 0 | GV30: =ROUND(GT30,6) -> 0 | GW30: 1 | GX30: =ROUND(GV30*GW30*I30,2) -> 0 | HA30: 0 | HB30: 0 | IK30: 0
A31: 18 | B31: 1 | C31: 12 | E31: 1,1 | F31: 9999990001 | G31: Масса мусора 2,4кг/1м3 | H31: т | I31: =I29*J31 -> 0.003 | J31: 0.30895984 | O31: =ROUND(CP31,2) -> 0 | P31: =ROUND(CQ31*I31,2) -> 0 | Q31: =ROUND(CR31*I31,2) -> 0 | R31: =ROUND(CS31*I31,2) -> 0 | S31: =ROUND(CT31*I31,2) -> 0 | T31: =ROUND(CU31*I31,2) -> 0 | U31: =CV31*I31 -> 0 | V31: =CW31*I31 -> 0 | W31: =ROUND(CX31*I31,2) -> 0 | X31: =ROUND(CY31,2) -> 0 | Y31: =ROUND(CZ31,2) -> 0 | AA31: 45037307 | AB31: =ROUND((AC31+AD31+AF31),6) -> 0 | AC31: =ROUND((ES31),6) -> 0 | AD31: =ROUND((ET31),6) -> 0 | AE31: =ROUND((EU31),6) -> 0 | AF31: =ROUND((EV31),6) -> 0 | AG31: =ROUND((AP31),6) -> 0 | AH31: =(EW31) -> 0 | AI31: =(EX31) -> 0 | AJ31: =ROUND((AS31),6) -> 0 | AK31: 0 | AL31: 0 | AM31: 0 | AN31: 0 | AO31: 0 | AP31: 0 | AQ31: 0 | AR31: 0 | AS31: 0 | AT31: 0 | AU31: 0 | AV31: 1 | AW31: 1 | AZ31: 1 | BA31: 1 | BB31: 1 | BC31: 1 | BH31: 3 | BI31: 1 | BM31: 674 | BN31: 7156650 | BP31: 0 | BQ31: 60 | BR31: 0 | BS31: 1 | BT31: 1 | BU31: 1 | BV31: 1 | BW31: 1 | BX31: 1 | BZ31: 0 | CA31: 0 | CF31: 0 | CG31: 0 | CM31: 0 | CO31: 0 | CP31: =(P31+Q31+S31) -> 0 | CQ31: =(AC31*BC31*AW31) -> 0 | CR31: =(AD31*BB31*AV31) -> 0 | CS31: =(AE31*BS31*AV31) -> 0 | CT31: =(AF31*BA31*AV31) -> 0 | CU31: =AG31 -> 0 | CV31: =(AH31*AV31) -> 0 | CW31: =AI31 -> 0 | CX31: =AJ31 -> 0 | CY31: =S31*(BZ31/100) -> 0 | CZ31: =S31*(CA31/100) -> 0 | DN31: 80 | DO31: 55 | DP31: 1.047 | DQ31: 1 | DU31: 1009 | DV31: т | DW31: т | DX31: 1000 | EE31: 44847181 | EF31: 60 | EG31: Ремонтно-строительные работы | EH31: 0 | EJ31: 1 | EK31: 674 | EL31: ТСН-2001.6-68. 68-51...68-53 | EM31: ТСН-2001.6-68-21 | EQ31: 0 | ER31: 0 | ES31: 0 | ET31: 0 | EU31: 0 | EV31: 0 | EW31: 0 | EX31: 0 | FQ31: 0 | FR31: =ROUND(IF(AND(BH31=3,BI31=3),P31,0),2) -> 0 | FS31: 0 | FX31: 80 | FY31: 55 | GD31: 0 | GF31: -269224915 | GG31: 2 | GH31: 1 | GI31: 3 | GJ31: 0 | GK31: =ROUND(R31*(S12)/100,2) -> 0 | GL31: =ROUND(IF(AND(BH31=3,BI31=3,FS31<>0),P31,0),2) -> 0 | GM31: =ROUND(O31+X31+Y31+GK31,2)+GX31 -> 0 | GN31: =IF(OR(BI31=0,BI31=1),ROUND(O31+X31+Y31+GK31,2),0) -> 0 | GO31: =IF(BI31=2,ROUND(O31+X31+Y31+GK31,2),0) -> 0 | GP31: =IF(BI31=4,ROUND(O31+X31+Y31+GK31,2)+GX31,0) -> 0 | GR31: 0 | GS31: 3 | GT31: 0 | GV31: =ROUND(GT31,6) -> 0 | GW31: 1 | GX31: =ROUND(GV31*GW31*I31,2) -> 0 | HA31: 0 | HB31: 0 | IK31: 0
A32: 17 | B32: 1 | C32: =ROW(SmtRes!A13) -> 13 | D32: =ROW(EtalonRes!A11) -> 11 | E32: 2 | F32: 3.1-52-1 | G32: Копание ям вручную без креплений для стоек и столбов без откосов глубиной до 0,7 м группа грунтов 1-3(газон.,плодородный слой 13,16м2*0,25) | H32: 100 м3 грунта | I32: =ROUND(3.29/100,9) -> 0.0329 | J32: 0 | O32: =ROUND(CP32,2) -> 133.21 | P32: =ROUND(CQ32*I32,2) -> 0 | Q32: =ROUND(CR32*I32,2) -> 0 | R32: =ROUND(CS32*I32,2) -> 0 | S32: =ROUND(CT32*I32,2) -> 133.21 | T32: =ROUND(CU32*I32,2) -> 0 | U32: =CV32*I32 -> 12.449607 | V32: =CW32*I32 -> 0 | W32: =ROUND(CX32*I32,2) -> 0 | X32: =ROUND(CY32,2) -> 0 | Y32: =ROUND(CZ32,2) -> 0 | AA32: 45037306 | AB32: =ROUND((AC32+AD32+AF32),6) -> 4048.9545 | AC32: =ROUND((ES32),6) -> 0 | AD32: =ROUND(((ET32*1.25)),6) -> 0 | AE32: =ROUND(((EU32*1.25)),6) -> 0 | AF32: =ROUND(((EV32*1.15)),6) -> 4048.9545 | AG32: =ROUND((AP32),6) -> 0 | AH32: =((EW32*1.15)) -> 378.4075 | AI32: =((EX32*1.25)) -> 0 | AJ32: =ROUND((AS32),6) -> 0 | AK32: 3520.83 | AL32: 0 | AM32: 0 | AN32: 0 | AO32: 3520.83 | AP32: 0 | AQ32: 329.05 | AR32: 0 | AS32: 0 | AT32: 0 | AU32: 0 | AV32: 1 | AW32: 1 | AZ32: 1 | BA32: 1 | BB32: 1 | BC32: 1 | BH32: 0 | BI32: 1 | BJ32: ТСН-2001.3. Доп. 1-42. Сб. 1, т. 52, поз. 1 | BM32: 16 | BN32: 7156650 | BP32: 0 | BQ32: 30 | BR32: 0 | BS32: 1 | BT32: 1 | BU32: 1 | BV32: 1 | BW32: 1 | BX32: 1 | BZ32: 0 | CA32: 0 | CF32: 0 | CG32: 0 | CM32: 0 | CN32: Поправка: ТСН-2001.О.П. п.3.4. 6 Наименование: Выполняемые при ремонте и реконструкции работы аналогичные технологическим процессам, характерным для нового строительства и отсутствующим в сборниках на ремонтно-строительные работы | CO32: 0 | CP32: =(P32+Q32+S32) -> 133.21 | CQ32: =(AC32*BC32*AW32) -> 0 | CR32: =(AD32*BB32*AV32) -> 0 | CS32: =(AE32*BS32*AV32) -> 0 | CT32: =(AF32*BA32*AV32) -> 4048.9545 | CU32: =AG32 -> 0 | CV32: =(AH32*AV32) -> 378.4075 | CW32: =AI32 -> 0 | CX32: =AJ32 -> 0 | CY32: =S32*(BZ32/100) -> 0 | CZ32: =S32*(CA32/100) -> 0 | DE32: )*1,25 | DF32: )*1,25 | DG32: )*1,15 | DI32: )*1,15 | DJ32: )*1,25 | DN32: 91 | DO32: 67 | DP32: 1.248 | DQ32: 1 | DU32: 1013 | DV32: 100 м3 грунта | DW32: 100 м3 грунта | DX32: 1 | EE32: 44846523 | EF32: 30 | EG32: Строительные работы | EH32: 0 | EJ32: 1 | EK32: 16 | EL32: ТСН-2001.3-1. 1-49...1-55 | EM32: ТСН-2001.3-1-15 | EO32: Поправка: ТСН-2001.О.П. п.3.4. 6 | EQ32: 131072 | ER32: 3520.83 | ES32: 0 | ET32: 0 | EU32: 0 | EV32: 3520.83 | EW32: 329.05 | EX32: 0 | EY32: 0 | FQ32: 0 | FR32: =ROUND(IF(AND(BH32=3,BI32=3),P32,0),2) -> 0 | FS32: 0 | FX32: 91 | FY32: 67 | GD32: 0 | GF32: -450981772 | GG32: 2 | GH32: 1 | GI32: 3 | GJ32: 0 | GK32: =ROUND(R32*(R12)/100,2) -> 0 | GL32: =ROUND(IF(AND(BH32=3,BI32=3,FS32<>0),P32,0),2) -> 0 | GM32: =ROUND(O32+X32+Y32+GK32,2)+GX32 -> 133.21 | GN32: =IF(OR(BI32=0,BI32=1),ROUND(O32+X32+Y32+GK32,2),0) -> 133.21 | GO32: =IF(BI32=2,ROUND(O32+X32+Y32+GK32,2),0) -> 0 | GP32: =IF(BI32=4,ROUND(O32+X32+Y32+GK32,2)+GX32,0) -> 0 | GR32: 0 | GS32: 3 | GT32: 0 | GV32: =ROUND(GT32,6) -> 0 | GW32: 1 | GX32: =ROUND(GV32*GW32*I32,2) -> 0 | HA32: 0 | HB32: 0 | IK32: 0
A33: 17 | B33: 1 | C33: =ROW(SmtRes!A14) -> 14 | D33: =ROW(EtalonRes!A12) -> 12 | E33: 2 | F33: 3.1-52-1 | G33: Копание ям вручную без креплений для стоек и столбов без откосов глубиной до 0,7 м группа грунтов 1-3(газон.,плодородный слой 13,16м2*0,25) | H33: 100 м3 грунта | I33: =ROUND(3.29/100,9) -> 0.0329 | J33: 0 | O33: =ROUND(CP33,2) -> 2717.5 | P33: =ROUND(CQ33*I33,2) -> 0 | Q33: =ROUND(CR33*I33,2) -> 0 | R33: =ROUND(CS33*I33,2) -> 0 | S33: =ROUND(CT33*I33,2) -> 2717.5 | T33: =ROUND(CU33*I33,2) -> 0 | U33: =CV33*I33 -> 12.449607 | V33: =CW33*I33 -> 0 | W33: =ROUND(CX33*I33,2) -> 0 | X33: =ROUND(CY33,2) -> 1983.78 | Y33: =ROUND(CZ33,2) -> 1114.18 | AA33: 45037307 | AB33: =ROUND((AC33+AD33+AF33),6) -> 4048.9545 | AC33: =ROUND((ES33),6) -> 0 | AD33: =ROUND(((ET33*1.25)),6) -> 0 | AE33: =ROUND(((EU33*1.25)),6) -> 0 | AF33: =ROUND(((EV33*1.15)),6) -> 4048.9545 | AG33: =ROUND((AP33),6) -> 0 | AH33: =((EW33*1.15)) -> 378.4075 | AI33: =((EX33*1.25)) -> 0 | AJ33: =ROUND((AS33),6) -> 0 | AK33: 3520.83 | AL33: 0 | AM33: 0 | AN33: 0 | AO33: 3520.83 | AP33: 0 | AQ33: 329.05 | AR33: 0 | AS33: 0 | AT33: 73 | AU33: 41 | AV33: 1 | AW33: 1 | AZ33: 1 | BA33: 20.4 | BB33: 1 | BC33: 1 | BH33: 0 | BI33: 1 | BJ33: ТСН-2001.3. Доп. 1-42. Сб. 1, т. 52, поз. 1 | BM33: 16 | BN33: 7156650 | BO33: 3.1-52-1 | BP33: 1 | BQ33: 30 | BR33: 0 | BS33: 20.4 | BT33: 1 | BU33: 1 | BV33: 1 | BW33: 1 | BX33: 1 | BZ33: 73 | CA33: 41 | CF33: 0 | CG33: 0 | CM33: 0 | CN33: Поправка: ТСН-2001.О.П. п.3.4. 6 Наименование: Выполняемые при ремонте и реконструкции работы аналогичные технологическим процессам, характерным для нового строительства и отсутствующим в сборниках на ремонтно-строительные работы | CO33: 0 | CP33: =(P33+Q33+S33) -> 2717.5 | CQ33: =(AC33*BC33*AW33) -> 0 | CR33: =(AD33*BB33*AV33) -> 0 | CS33: =(AE33*BS33*AV33) -> 0 | CT33: =(AF33*BA33*AV33) -> 82598.672 | CU33: =AG33 -> 0 | CV33: =(AH33*AV33) -> 378.4075 | CW33: =AI33 -> 0 | CX33: =AJ33 -> 0 | CY33: =S33*(BZ33/100) -> 1983.775 | CZ33: =S33*(CA33/100) -> 1114.175 | DE33: )*1,25 | DF33: )*1,25 | DG33: )*1,15 | DI33: )*1,15 | DJ33: )*1,25 | DN33: 91 | DO33: 67 | DP33: 1.248 | DQ33: 1 | DU33: 1013 | DV33: 100 м3 грунта | DW33: 100 м3 грунта | DX33: 1 | EE33: 44846523 | EF33: 30 | EG33: Строительные работы | EH33: 0 | EJ33: 1 | EK33: 16 | EL33: ТСН-2001.3-1. 1-49...1-55 | EM33: ТСН-2001.3-1-15 | EO33: Поправка: ТСН-2001.О.П. п.3.4. 6 | EQ33: 131072 | ER33: 3520.83 | ES33: 0 | ET33: 0 | EU33: 0 | EV33: 3520.83 | EW33: 329.05 | EX33: 0 | EY33: 0 | FQ33: 0 | FR33: =ROUND(IF(AND(BH33=3,BI33=3),P33,0),2) -> 0 | FS33: 0 | FX33: 91 | FY33: 67 | GD33: 0 | GF33: -450981772 | GG33: 2 | GH33: 1 | GI33: 3 | GJ33: 0 | GK33: =ROUND(R33*(S12)/100,2) -> 0 | GL33: =ROUND(IF(AND(BH33=3,BI33=3,FS33<>0),P33,0),2) -> 0 | GM33: =ROUND(O33+X33+Y33+GK33,2)+GX33 -> 5815.46 | GN33: =IF(OR(BI33=0,BI33=1),ROUND(O33+X33+Y33+GK33,2),0) -> 5815.46 | GO33: =IF(BI33=2,ROUND(O33+X33+Y33+GK33,2),0) -> 0 | GP33: =IF(BI33=4,ROUND(O33+X33+Y33+GK33,2)+GX33,0) -> 0 | GR33: 0 | GS33: 3 | GT33: 0 | GV33: =ROUND(GT33,6) -> 0 | GW33: 1 | GX33: =ROUND(GV33*GW33*I33,2) -> 0 | HA33: 0 | HB33: 0 | IK33: 0
A34: 17 | B34: 1 | C34: =ROW(SmtRes!A17) -> 17 | D34: =ROW(EtalonRes!A15) -> 15 | E34: 3 | F34: 6.59-4-1 | G34: Разборка металлических лестничных решеток, массой 1 м решетки до 60 кг (ограждение газона) | H34: 100 м решетки | I34: =ROUND(8.69/100,9) -> 0.0869 | J34: 0 | O34: =ROUND(CP34,2) -> 60.52 | P34: =ROUND(CQ34*I34,2) -> 0 | Q34: =ROUND(CR34*I34,2) -> 17.73 | R34: =ROUND(CS34*I34,2) -> 1.09 | S34: =ROUND(CT34*I34,2) -> 42.79 | T34: =ROUND(CU34*I34,2) -> 0 | U34: =CV34*I34 -> 4.11037 | V34: =CW34*I34 -> 0 | W34: =ROUND(CX34*I34,2) -> 0 | X34: =ROUND(CY34,2) -> 0 | Y34: =ROUND(CZ34,2) -> 0 | AA34: 45037306 | AB34: =ROUND((AC34+AD34+AF34),6) -> 696.37 | AC34: =ROUND((ES34),6) -> 0 | AD34: =ROUND((ET34),6) -> 203.98 | AE34: =ROUND((EU34),6) -> 12.6 | AF34: =ROUND((EV34),6) -> 492.39 | AG34: =ROUND((AP34),6) -> 0 | AH34: =(EW34) -> 47.3 | AI34: =(EX34) -> 0 | AJ34: =ROUND((AS34),6) -> 0 | AK34: 696.37 | AL34: 0 | AM34: 203.98 | AN34: 12.6 | AO34: 492.39 | AP34: 0 | AQ34: 47.3 | AR34: 0 | AS34: 0 | AT34: 0 | AU34: 0 | AV34: 1 | AW34: 1 | AZ34: 1 | BA34: 1 | BB34: 1 | BC34: 1 | BH34: 0 | BI34: 1 | BJ34: ТСН-2001.6. Доп. 1-42. Сб. 59, т. 4, поз. 1 | BM34: 445 | BN34: 7156650 | BP34: 0 | BQ34: 60 | BR34: 0 | BS34: 1 | BT34: 1 | BU34: 1 | BV34: 1 | BW34: 1 | BX34: 1 | BZ34: 0 | CA34: 0 | CF34: 0 | CG34: 0 | CM34: 0 | CO34: 0 | CP34: =(P34+Q34+S34) -> 60.52 | CQ34: =(AC34*BC34*AW34) -> 0 | CR34: =(AD34*BB34*AV34) -> 203.98 | CS34: =(AE34*BS34*AV34) -> 12.6 | CT34: =(AF34*BA34*AV34) -> 492.39 | CU34: =AG34 -> 0 | CV34: =(AH34*AV34) -> 47.3 | CW34: =AI34 -> 0 | CX34: =AJ34 -> 0 | CY34: =S34*(BZ34/100) -> 0 | CZ34: =S34*(CA34/100) -> 0 | DN34: 80 | DO34: 55 | DP34: 1.047 | DQ34: 1 | DU34: 1013 | DV34: 100 м решетки | DW34: 100 м решетки | DX34: 1 | EE34: 44846952 | EF34: 60 | EG34: Ремонтно-строительные работы | EH34: 0 | EJ34: 1 | EK34: 445 | EL34: ТСН-2001.6-59. 59-1...59-6, 59-7-1 | EM34: ТСН-2001.6-59-1 | EQ34: 131072 | ER34: 696.37 | ES34: 0 | ET34: 203.98 | EU34: 12.6 | EV34: 492.39 | EW34: 47.3 | EX34: 0 | EY34: 0 | FQ34: 0 | FR34: =ROUND(IF(AND(BH34=3,BI34=3),P34,0),2) -> 0 | FS34: 0 | FX34: 80 | FY34: 55 | GD34: 0 | GF34: 758570315 | GG34: 2 | GH34: 2 | GI34: 3 | GJ34: 0 | GK34: =ROUND(R34*(R12)/100,2) -> 1.96 | GL34: =ROUND(IF(AND(BH34=3,BI34=3,FS34<>0),P34,0),2) -> 0 | GM34: =ROUND(O34+X34+Y34+GK34,2)+GX34 -> 62.48 | GN34: =IF(OR(BI34=0,BI34=1),ROUND(O34+X34+Y34+GK34,2),0) -> 62.48 | GO34: =IF(BI34=2,ROUND(O34+X34+Y34+GK34,2),0) -> 0 | GP34: =IF(BI34=4,ROUND(O34+X34+Y34+GK34,2)+GX34,0) -> 0 | GR34: 0 | GS34: 3 | GT34: 0 | GV34: =ROUND(GT34,6) -> 0 | GW34: 1 | GX34: =ROUND(GV34*GW34*I34,2) -> 0 | HA34: 0 | HB34: 0 | IK34: 0
