Workbook

Sheet Смета по ТСН-2001
A1: =Source!B1 -> Smeta.RU (495) 974-1589
K2: Форма № 1б
B3: "СОГЛАСОВАНО" | G3: "УТВЕРЖДАЮ"
B6: =CONCATENATE("______________________ ", IF(Source!AL12<>"", Source!AL12, "")) -> ______________________ | G6: =CONCATENATE("______________________ ", IF(Source!AH12<>"", Source!AH12, "")) -> ______________________
B7: "_____"________________ 2018 г. | G7: "_____"________________ 2018 г.
A11: (наименование стройки)
A13: =CONCATENATE( "ЛОКАЛЬНАЯ СМЕТА № ",IF(Source!F20<>"Новая локальная смета", Source!F20, "")) -> ЛОКАЛЬНАЯ СМЕТА №
A14: (локальный сметный расчет)
A16: =IF(Source!G20<>"Новая локальная смета", Source!G20, "")
A18: =IF(Source!G12<>"Новый объект", Source!G12, "") -> Сперанского АР (ТСН-2001 (Мосгосэкспертиза))
A19: (наименование работ и затрат, наименование объекта)
A21: =CONCATENATE( "Основание: чертежи № ", Source!J20) -> Основание: чертежи №
I22: базовая цена | J22: текущая цена
F23: Сметная стоимость | I23: =SUM(O32:O1491)/1000 -> 3508.9051 | J23: =(Source!F696/1000) -> 24555.435 | K23: тыс.руб
F24: Строительные работы | I24: =SUM(X32:X1491)/1000 -> 3481.8262 | J24: =(Source!F686)/1000 -> 24477.578 | K24: тыс.руб
F25: Монтажные работы | I25: =SUM(Y32:Y1491)/1000 -> 0 | J25: =(Source!F687)/1000 -> 0 | K25: тыс.руб
F26: Оборудование | I26: =SUM(Z32:Z1491)/1000 -> 0 | J26: =(Source!F678)/1000 -> 0 | K26: тыс.руб
F27: Прочие работы | I27: =SUM(AA32:AA1491)/1000 -> 27.07886 | J27: =(Source!F688+Source!F689)/1000 -> 77.8565 | K27: тыс.руб
F28: Средства на оплату труда | I28: =SUM(W32:W1491)/1000 -> 315.2239 | J28: =(Source!F684+ Source!F683)/1000 -> 5701.088 | K28: тыс.руб
A29: Составлен(а) в уровне текущих (прогнозных) цен ТСН-2001 ремонт №136 январь 2018 года
A30: №№ п/п | B30: Шифр расценки и коды ресурсов | C30: Наименование работ и затрат | D30: Единица измерения | E30: Кол-во единиц | F30: Цена на ед. изм. руб. | G30: Попра-вочные коэфф. | H30: Коэфф. зимних удоро-жаний | I30: ВСЕГО в базисном уровне цен, руб. | J30: Коэфф. пересчета и нормы НР и СП | K30: Всего в текущем уровне цен, руб.
A31: 1 | B31: 2 | C31: 3 | D31: 4 | E31: 5 | F31: 6 | G31: 7 | H31: 8 | I31: 9 | J31: 10 | K31: 11
A33: =CONCATENATE("Раздел: ",IF(Source!G24<>"Новый раздел", Source!G24, "")) -> Раздел: АР
A35: =CONCATENATE("Подраздел: ",IF(Source!G28<>"Новый подраздел", Source!G28, "")) -> Подраздел: Потолки 1 этаж
A36: =Source!E32 -> 1 | B36: =Source!F32 -> 3.9-51-1 | C36: =Source!G32 -> Монтаж подвесных потолков из алюминиевых перфорированных или сплошных реек | D36: =Source!H32 -> 100 м2 | E36: =Source!I32 -> 1.9168 | Q36: =ROUND((Source!DN32/100)*ROUND((Source!AF32*Source!AV32)*Source!I32, 2), 2) -> 9645.66 | R36: =Source!X32 -> 151561.74 | S36: =ROUND((Source!DO32/100)*ROUND((Source!AF32*Source!AV32)*Source!I32, 2), 2) -> 7943.49 | T36: =Source!Y32 -> 92621.06 | U36: =ROUND((175/100)*ROUND((Source!AE32*Source!AV32)*Source!I32, 2), 2) -> 283.24 | V36: =ROUND((167/100)*ROUND(Source!CS32*Source!I32, 2), 2) -> 270.29
C37: ЗП | F37: =Source!AO32 -> 5148 | G37: =Source!DG32 -> *1,15 | H37: =Source!AV32 -> 1 | I37: =ROUND((Source!AF32*Source!AV32)*Source!I32, 2) -> 11347.84 | J37: =IF(Source!BA32<> 0, Source!BA32, 1) -> 18.55 | K37: =Source!S32 -> 210502.42 | W37: =I37 -> 11347.84
C38: ЭМ | F38: =Source!AM32 -> 339.47 | G38: =Source!DE32 -> *1,25 | H38: =Source!AV32 -> 1 | I38: =ROUND((Source!AD32*Source!AV32)*Source!I32, 2) -> 813.37 | J38: =IF(Source!BB32<> 0, Source!BB32, 1) -> 6.3 | K38: =Source!Q32 -> 5124.23
C39: в т.ч. ЗПМ | F39: =Source!AN32 -> 67.55 | G39: =Source!DF32 -> *1,25 | H39: =Source!AV32 -> 1 | I39: =ROUND((Source!AE32*Source!AV32)*Source!I32, 2) -> 161.85 | J39: =IF(Source!BS32<> 0, Source!BS32, 1) -> 1 | K39: =Source!R32 -> 161.85 | W39: =I39 -> 161.85
C40: МР | F40: =Source!AL32 -> 378.89 | G40: =Source!DD32 | H40: =Source!AW32 -> 1 | I40: =ROUND((Source!AC32*Source!AW32)*Source!I32, 2) -> 726.26 | J40: =IF(Source!BC32<> 0, Source!BC32, 1) -> 6.2 | K40: =Source!P32 -> 4502.79
A41: =Source!E33 -> 1,1 | B41: =Source!F33 -> 1.6-2-106 | C41: =Source!G33 -> Потолки реечные подвесные из алюминиевых профилей с защитно-декоративным покрытием, ширина рейки 150 мм, без перфорации, окрашенные порошковой эмалью, цвет белый | D41: =Source!H33 -> м2 | E41: =Source!I33 -> 201.26 | F41: =Source!AK33 -> 169.87 | H41: =Source!AW33 -> 1 | I41: =ROUND((Source!AC33*Source!AW33)*Source!I33, 2)+ROUND((Source!AD33*Source!AV33)*Source!I33, 2)+ROUND((Source!AF33*Source!AV33)*Source!I33, 2) -> 34188.04 | J41: =IF(Source!BC33<> 0, Source!BC33, 1) -> 3.2 | K41: =Source!O33 -> 109401.72 | Q41: =ROUND((Source!DN33/100)*ROUND((Source!AF33*Source!AV33)*Source!I33, 2), 2) -> 0 | R41: =Source!X33 -> 0 | S41: =ROUND((Source!DO33/100)*ROUND((Source!AF33*Source!AV33)*Source!I33, 2), 2) -> 0 | T41: =Source!Y33 -> 0 | U41: =ROUND((175/100)*ROUND((Source!AE33*Source!AV33)*Source!I33, 2), 2) -> 0 | V41: =ROUND((167/100)*ROUND(Source!CS33*Source!I33, 2), 2) -> 0 | X41: =IF(Source!BI33<=1,I41, 0) -> 34188.04 | Y41: =IF(Source!BI33=2,I41, 0) -> 0 | Z41: =IF(Source!BI33=3,I41, 0) -> 0 | AA41: =IF(Source!BI33=4,I41, 0) -> 0
C42: НР от ЗП | D42: % | E42: =Source!DN32 -> 85 | I42: =SUM(Q36:Q41) -> 9645.66 | J42: =Source!BZ32 -> 72 | K42: =SUM(R36:R41) -> 151561.74
C43: СП от ЗП | D43: % | E43: =Source!DO32 -> 70 | I43: =SUM(S36:S42) -> 7943.49 | J43: =Source!CA32 -> 44 | K43: =SUM(T36:T42) -> 92621.06
C44: НР и СП от ЗПМ | D44: % | E44: =175 -> 175 | I44: =SUM(U36:U43) -> 283.24 | J44: =167 -> 167 | K44: =SUM(V36:V43) -> 270.29
C45: ЗТР | D45: чел-ч | E45: =Source!AQ32 -> 390 | G45: =Source!DI32 -> *1,15 | H45: =Source!AV32 -> 1 | I45: =Source!U32 -> 859.6848
H46: =I37+I38+I40+I42+I43+I44+SUM(I41:I41) -> 64947.9 | J46: =K37+K38+K40+K42+K43+K44+SUM(K41:K41) -> 573984.25 | O46: =I37+I38+I40+I42+I43+I44+SUM(I41:I41) -> 64947.9 | P46: =K37+K38+K40+K42+K43+K44+SUM(K41:K41) -> 573984.25 | X46: =IF(Source!BI32<=1,I37+I38+I40+I42+I43+I44-0, 0) -> 30759.86 | Y46: =IF(Source!BI32=2,I37+I38+I40+I42+I43+I44-0, 0) -> 0 | Z46: =IF(Source!BI32=3,I37+I38+I40+I42+I43+I44-0, 0) -> 0 | AA46: =IF(Source!BI32=4,I37+I38+I40+I42+I43+I44,0) -> 0
A47: =Source!E34 -> 2 | B47: =Source!F34 -> 3.15-29-1 | C47: =Source!G34 -> Устройство подвесных потолков из декоративно-акустических плит по готовому каркасу с установкой направляющих из алюминиевого профиля и деталей крепления | D47: =Source!H34 -> 100 м2 | E47: =Source!I34 -> 1.1757 | Q47: =ROUND((Source!DN34/100)*ROUND((Source!AF34*Source!AV34)*Source!I34, 2), 2) -> 2831.74 | R47: =Source!X34 -> 45174.81 | S47: =ROUND((Source!DO34/100)*ROUND((Source!AF34*Source!AV34)*Source!I34, 2), 2) -> 1812.31 | T47: =Source!Y34 -> 23112.69 | U47: =ROUND((175/100)*ROUND((Source!AE34*Source!AV34)*Source!I34, 2), 2) -> 10.12 | V47: =ROUND((167/100)*ROUND(Source!CS34*Source!I34, 2), 2) -> 9.65
C48: ЗП | F48: =Source!AO34 -> 2094.4 | G48: =Source!DG34 -> *1,15 | H48: =Source!AV34 -> 1 | I48: =ROUND((Source!AF34*Source!AV34)*Source!I34, 2) -> 2831.74 | J48: =IF(Source!BA34<> 0, Source!BA34, 1) -> 18.55 | K48: =Source!S34 -> 52528.85 | W48: =I48 -> 2831.74
C49: ЭМ | F49: =Source!AM34 -> 19.66 | G49: =Source!DE34 -> *1,25 | H49: =Source!AV34 -> 1 | I49: =ROUND((Source!AD34*Source!AV34)*Source!I34, 2) -> 28.89 | J49: =IF(Source!BB34<> 0, Source!BB34, 1) -> 8.04 | K49: =Source!Q34 -> 232.3
C50: в т.ч. ЗПМ | F50: =Source!AN34 -> 3.93 | G50: =Source!DF34 -> *1,25 | H50: =Source!AV34 -> 1 | I50: =ROUND((Source!AE34*Source!AV34)*Source!I34, 2) -> 5.78 | J50: =IF(Source!BS34<> 0, Source!BS34, 1) -> 1 | K50: =Source!R34 -> 5.78 | W50: =I50 -> 5.78
C51: МР | F51: =Source!AL34 -> 51.82 | G51: =Source!DD34 | H51: =Source!AW34 -> 1 | I51: =ROUND((Source!AC34*Source!AW34)*Source!I34, 2) -> 60.92 | J51: =IF(Source!BC34<> 0, Source!BC34, 1) -> 4.38 | K51: =Source!P34 -> 266.85
...

Sheet Source
A1: 0 | B1: Smeta.RU (495) 974-1589 | D1: _PS_ | F1: 0 | G1: 0 | H1: 0 | I1: Smeta.RU | K1: 0 | L1: 29412 | M1: 10
A12: 1 | B12: 730 | C12: 0 | D12: =ROW(A698) -> 698 | E12: 0 | F12: Сперанского АР (ТСН-2001 (Мосгосэкспертиза)) | G12: Сперанского АР (ТСН-2001 (Мосгосэкспертиза)) | I12: 0 | K12: 0 | O12: 0 | P12: 0 | Q12: 0 | R12: 167 | V12: 0 | BH12: Сметные нормы списания | BI12: Коды ОКП для ТСН-2001 | BJ12: 1 | BK12: 1 | BL12: 0 | BM12: 0 | BN12: 1 | BO12: 0 | BP12: 6 | BQ12: 2 | BR12: 1 | BS12: 1 | BT12: 0 | BU12: 0 | BV12: 0 | BW12: 0 | BX12: 0 | BY12: ТСН 2001- Ремонт | BZ12: Типовой расчет для ТСН-2001 (Ремонт) | CA12: ТСН-2001 | CB12: ТСН-2001 | CC12: ТСН-2001 | CD12: ТСН-2001 | CF12: 0 | CG12: 0 | CH12: 8 | CK12: 40 | EC12: 0
A15: 15 | B15: 1
A18: 52 | B18: =B698 -> 730 | C18: =C698 -> 1 | D18: =D698 -> 12 | E18: =E698 -> 0 | F18: =F698 -> Сперанского АР (ТСН-2001 (Мосгосэкспертиза)) | G18: =G698 -> Сперанского АР (ТСН-2001 (Мосгосэкспертиза)) | O18: =O698 -> 17229053 | P18: =P698 -> 11131627 | Q18: =Q698 -> 404675.32 | R18: =R698 -> 8337.02 | S18: =S698 -> 5692751 | T18: =T698 -> 0 | U18: =U698 -> 25382.578 | V18: =V698 -> 0 | ... GX18: =GX698 -> 0
A20: 3 | B20: 1 | D20: =ROW(A669) -> 669 | F20: Новая локальная смета | G20: Новая локальная смета | I20: 0 | K20: 0 | V20: 0 | BD20: *1,25 | BE20: *1,25 | BF20: *1,15 | BH20: *1,15 | BI20: *1,25 | BN20: *1,25 | BX20: 0 | CF20: 0 | CG20: 0
A22: 52 | B22: =B669 -> 1 | C22: =C669 -> 3 | D22: =D669 -> 20 | E22: =E669 -> 0 | F22: =F669 -> Новая локальная смета | G22: =G669 -> Новая локальная смета | O22: =O669 -> 17229053 | P22: =P669 -> 11131627 | Q22: =Q669 -> 404675.32 | R22: =R669 -> 8337.02 | S22: =S669 -> 5692751 | T22: =T669 -> 0 | U22: =U669 -> 25382.578 | V22: =V669 -> 0 | ... GX22: =GX669 -> 0
A24: 4 | B24: 1 | D24: =ROW(A274) -> 274 | F24: Новый раздел | G24: АР | I24: 0 | K24: 0 | V24: 0 | BD24: *1,25 | BE24: *1,25 | BF24: *1,15 | BH24: *1,15 | BI24: *1,25 | BN24: *1,25 | BX24: 0 | CJ24: 0
A26: 52 | B26: =B274 -> 1 | C26: =C274 -> 4 | D26: =D274 -> 24 | E26: =E274 -> 0 | F26: =F274 -> Новый раздел | G26: =G274 -> АР | O26: =O274 -> 10237727 | P26: =P274 -> 6208622.6 | Q26: =Q274 -> 186764.44 | R26: =R274 -> 4592.52 | S26: =S274 -> 3842340.4 | T26: =T274 -> 0 | U26: =U274 -> 16875.898 | V26: =V274 -> 0 | ... GX26: =GX274 -> 0
A28: 5 | B28: 1 | D28: =ROW(A41) -> 41 | F28: Новый подраздел | G28: Потолки 1 этаж | I28: 0 | K28: 0 | V28: 0 | BD28: *1,25 | BE28: *1,25 | BF28: *1,15 | BH28: *1,15 | BI28: *1,25 | BN28: *1,25 | BX28: 0 | CJ28: 0
A30: 52 | B30: =B41 -> 1 | C30: =C41 -> 5 | D30: =D41 -> 28 | E30: =E41 -> 0 | F30: =F41 -> Новый подраздел | G30: =G41 -> Потолки 1 этаж | O30: =O41 -> 1260290.2 | P30: =P41 -> 770334.34 | Q30: =Q41 -> 6332.06 | R30: =R41 -> 191.88 | S30: =S41 -> 483623.85 | T30: =T41 -> 0 | U30: =U41 -> 2096.956 | V30: =V41 -> 0 | ... GX30: =GX41 -> 0
A32: 17 | B32: 1 | E32: 1 | F32: 3.9-51-1 | G32: Монтаж подвесных потолков из алюминиевых перфорированных или сплошных реек | H32: 100 м2 | I32: 1.9168 | J32: 0 | O32: =ROUND(CP32,2) -> 220129.44 | P32: =ROUND(CQ32*I32,2) -> 4502.79 | Q32: =ROUND(CR32*I32,2) -> 5124.23 | R32: =ROUND(CS32*I32,2) -> 161.85 | S32: =ROUND(CT32*I32,2) -> 210502.42 | T32: =ROUND(CU32*I32,2) -> 0 | U32: =CV32*I32 -> 859.6848 | V32: =CW32*I32 -> 0 | W32: =ROUND(CX32*I32,2) -> 0 | X32: =ROUND(CY32,2) -> 151561.74 | Y32: =ROUND(CZ32,2) -> 92621.06 | AA32: 42145827 | AB32: =ROUND((AC32+AD32+AF32),6) -> 6723.4275 | AC32: =ROUND((ES32),6) -> 378.89 | AD32: =ROUND(((ET32*1.25)),6) -> 424.3375 | AE32: =ROUND(((EU32*1.25)),6) -> 84.4375 | AF32: =ROUND(((EV32*1.15)),6) -> 5920.2 | AG32: =ROUND((AP32),6) -> 0 | AH32: =((EW32*1.15)) -> 448.5 | AI32: =((EX32*1.25)) -> 0 | AJ32: =ROUND((AS32),6) -> 0 | AK32: 5866.36 | AL32: 378.89 | AM32: 339.47 | AN32: 67.55 | AO32: 5148 | AP32: 0 | AQ32: 390 | AR32: 0 | AS32: 0 | AT32: 72 | AU32: 44 | AV32: 1 | AW32: 1 | AZ32: 1 | BA32: 18.55 | BB32: 6.3 | BC32: 6.2 | BH32: 0 | BI32: 1 | BJ32: ТСН-2001.3. Доп. 1-42. Сб. 9, т. 51, поз. 1 | BM32: 80 | BN32: 7156650 | BO32: 3.9-51-1 | BP32: 1 | BQ32: 30 | BR32: 0 | BS32: 1 | BT32: 1 | BU32: 1 | BV32: 1 | BW32: 1 | BX32: 1 | BZ32: 72 | CA32: 44 | CF32: 0 | CG32: 0 | CM32: 0 | CO32: 0 | CP32: =(P32+Q32+S32) -> 220129.44 | CQ32: =(AC32*BC32*AW32) -> 2349.118 | CR32: =(AD32*BB32*AV32) -> 2673.3262 | CS32: =(AE32*BS32*AV32) -> 84.4375 | CT32: =(AF32*BA32*AV32) -> 109819.71 | CU32: =AG32 -> 0 | CV32: =(AH32*AV32) -> 448.5 | CW32: =AI32 -> 0 | CX32: =AJ32 -> 0 | CY32: =S32*(BZ32/100) -> 151561.74 | CZ32: =S32*(CA32/100) -> 92621.065 | DE32: *1,25 | DF32: *1,25 | DG32: *1,15 | DI32: *1,15 | DJ32: *1,25 | DN32: 85 | DO32: 70 | DP32: 1.087 | DQ32: 1 | DU32: 1005 | DV32: 100 м2 | DW32: 100 м2 | DX32: 100 | EE32: 21987432 | EF32: 30 | EG32: Строительные работы | EH32: 0 | EJ32: 1 | EK32: 80 | EL32: ТСН-2001.3-9. 9-1...9-72 | EM32: ТСН-2001.3-9-1 | EQ32: 131072 | ER32: 5866.36 | ES32: 378.89 | ET32: 339.47 | EU32: 67.55 | EV32: 5148 | EW32: 390 | EX32: 0 | EY32: 0 | FQ32: 0 | FR32: =ROUND(IF(AND(BH32=3,BI32=3),P32,0),2) -> 0 | FS32: 0 | FX32: 85 | FY32: 70 | GD32: 0 | GF32: -1679795181 | GG32: 2 | GH32: 1 | GI32: 2 | GJ32: 0 | GK32: =ROUND(R32*(R12)/100,2) -> 270.29 | GL32: =ROUND(IF(AND(BH32=3,BI32=3,FS32<>0),P32,0),2) -> 0 | GM32: =ROUND(O32+X32+Y32+GK32,2)+GX32 -> 464582.53 | GN32: =IF(OR(BI32=0,BI32=1),ROUND(O32+X32+Y32+GK32,2),0) -> 464582.53 | GO32: =IF(BI32=2,ROUND(O32+X32+Y32+GK32,2),0) -> 0 | GP32: =IF(BI32=4,ROUND(O32+X32+Y32+GK32,2)+GX32,0) -> 0 | GR32: 0 | GS32: 0 | GT32: 0 | GV32: =ROUND(GT32,6) -> 0 | GW32: 1 | GX32: =ROUND(GV32*GW32*I32,2) -> 0 | HA32: 0 | HB32: 0 | IK32: 0
A33: 18 | B33: 1 | E33: 1,1 | F33: 1.6-2-106 | G33: Потолки реечные подвесные из алюминиевых профилей с защитно-декоративным покрытием, ширина рейки 150 мм, без перфорации, окрашенные порошковой эмалью, цвет белый | H33: м2 | I33: =I32*J33 -> 201.26 | J33: 104.99791 | O33: =ROUND(CP33,2) -> 109401.72 | P33: =ROUND(CQ33*I33,2) -> 109401.72 | Q33: =ROUND(CR33*I33,2) -> 0 | R33: =ROUND(CS33*I33,2) -> 0 | S33: =ROUND(CT33*I33,2) -> 0 | T33: =ROUND(CU33*I33,2) -> 0 | U33: =CV33*I33 -> 0 | V33: =CW33*I33 -> 0 | W33: =ROUND(CX33*I33,2) -> 0 | X33: =ROUND(CY33,2) -> 0 | Y33: =ROUND(CZ33,2) -> 0 | AA33: 42145827 | AB33: =ROUND((AC33+AD33+AF33),6) -> 169.87 | AC33: =ROUND((ES33),6) -> 169.87 | AD33: =ROUND((ET33),6) -> 0 | AE33: =ROUND((EU33),6) -> 0 | AF33: =ROUND((EV33),6) -> 0 | AG33: =ROUND((AP33),6) -> 0 | AH33: =(EW33) -> 0 | AI33: =(EX33) -> 0 | AJ33: =ROUND((AS33),6) -> 0 | AK33: 169.87 | AL33: 169.87 | AM33: 0 | AN33: 0 | AO33: 0 | AP33: 0 | AQ33: 0 | AR33: 0 | AS33: 0 | AT33: 0 | AU33: 0 | AV33: 1 | AW33: 1 | AZ33: 1 | BA33: 1 | BB33: 1 | BC33: 3.2 | BH33: 3 | BI33: 1 | BJ33: ТСН-2001.1. Доп. 1-42. Р. 6, о. 2, поз. 106 | BM33: 80 | BN33: 7156650 | BO33: 1.6-2-106 | BP33: 1 | BQ33: 30 | BR33: 0 | BS33: 1 | BT33: 1 | BU33: 1 | BV33: 1 | BW33: 1 | BX33: 1 | BZ33: 0 | CA33: 0 | CF33: 0 | CG33: 0 | CM33: 0 | CO33: 0 | CP33: =(P33+Q33+S33) -> 109401.72 | CQ33: =(AC33*BC33*AW33) -> 543.584 | CR33: =(AD33*BB33*AV33) -> 0 | CS33: =(AE33*BS33*AV33) -> 0 | CT33: =(AF33*BA33*AV33) -> 0 | CU33: =AG33 -> 0 | CV33: =(AH33*AV33) -> 0 | CW33: =AI33 -> 0 | CX33: =AJ33 -> 0 | CY33: =S33*(BZ33/100) -> 0 | CZ33: =S33*(CA33/100) -> 0 | DN33: 85 | DO33: 70 | DP33: 1.087 | DQ33: 1 | DU33: 1005 | DV33: м2 | DW33: м2 | DX33: 1 | EE33: 21987432 | EF33: 30 | EG33: Строительные работы | EH33: 0 | EJ33: 1 | EK33: 80 | EL33: ТСН-2001.3-9. 9-1...9-72 | EM33: ТСН-2001.3-9-1 | EQ33: 0 | ER33: 169.87 | ES33: 169.87 | ET33: 0 | EU33: 0 | EV33: 0 | EW33: 0 | EX33: 0 | FQ33: 0 | FR33: =ROUND(IF(AND(BH33=3,BI33=3),P33,0),2) -> 0 | FS33: 0 | FX33: 85 | FY33: 70 | GD33: 0 | GF33: -2078191382 | GG33: 2 | GH33: 1 | GI33: 2 | GJ33: 0 | GK33: =ROUND(R33*(R12)/100,2) -> 0 | GL33: =ROUND(IF(AND(BH33=3,BI33=3,FS33<>0),P33,0),2) -> 0 | GM33: =ROUND(O33+X33+Y33+GK33,2)+GX33 -> 109401.72 | GN33: =IF(OR(BI33=0,BI33=1),ROUND(O33+X33+Y33+GK33,2),0) -> 109401.72 | GO33: =IF(BI33=2,ROUND(O33+X33+Y33+GK33,2),0) -> 0 | GP33: =IF(BI33=4,ROUND(O33+X33+Y33+GK33,2)+GX33,0) -> 0 | GR33: 0 | GS33: 0 | GT33: 0 | GV33: =ROUND(GT33,6) -> 0 | GW33: 1 | GX33: =ROUND(GV33*GW33*I33,2) -> 0 | HA33: 0 | HB33: 0 | IK33: 0
A34: 17 | B34: 1 | E34: 2 | F34: 3.15-29-1 | G34: Устройство подвесных потолков из декоративно-акустических плит по готовому каркасу с установкой направляющих из алюминиевого профиля и деталей крепления | H34: 100 м2 | I34: 1.1757 | J34: 0 | O34: =ROUND(CP34,2) -> 53028 | P34: =ROUND(CQ34*I34,2) -> 266.85 | Q34: =ROUND(CR34*I34,2) -> 232.3 | R34: =ROUND(CS34*I34,2) -> 5.78 | S34: =ROUND(CT34*I34,2) -> 52528.85 | T34: =ROUND(CU34*I34,2) -> 0 | U34: =CV34*I34 -> 237.96168 | V34: =CW34*I34 -> 0 | W34: =ROUND(CX34*I34,2) -> 0 | X34: =ROUND(CY34,2) -> 45174.81 | Y34: =ROUND(CZ34,2) -> 23112.69 | AA34: 42145827 | AB34: =ROUND((AC34+AD34+AF34),6) -> 2484.955 | AC34: =ROUND((ES34),6) -> 51.82 | AD34: =ROUND(((ET34*1.25)),6) -> 24.575 | AE34: =ROUND(((EU34*1.25)),6) -> 4.9125 | AF34: =ROUND(((EV34*1.15)),6) -> 2408.56 | AG34: =ROUND((AP34),6) -> 0 | AH34: =((EW34*1.15)) -> 202.4 | AI34: =((EX34*1.25)) -> 0 | AJ34: =ROUND((AS34),6) -> 0 | AK34: 2165.88 | AL34: 51.82 | AM34: 19.66 | AN34: 3.93 | AO34: 2094.4 | AP34: 0 | AQ34: 176 | AR34: 0 | AS34: 0 | AT34: 86 | AU34: 44 | AV34: 1 | AW34: 1 | AZ34: 1 | BA34: 18.55 | BB34: 8.04 | BC34: 4.38 | BH34: 0 | BI34: 1 | BJ34: ТСН-2001.3. Доп. 1-42. Сб. 15, т. 29, поз. 1 | BM34: 113 | BN34: 7156650 | BO34: 3.15-29-1 | BP34: 1 | BQ34: 30 | BR34: 0 | BS34: 1 | BT34: 1 | BU34: 1 | BV34: 1 | BW34: 1 | BX34: 1 | BZ34: 86 | CA34: 44 | CF34: 0 | CG34: 0 | CM34: 0 | CO34: 0 | CP34: =(P34+Q34+S34) -> 53028 | CQ34: =(AC34*BC34*AW34) -> 226.9716 | CR34: =(AD34*BB34*AV34) -> 197.583 | CS34: =(AE34*BS34*AV34) -> 4.9125 | CT34: =(AF34*BA34*AV34) -> 44678.788 | CU34: =AG34 -> 0 | CV34: =(AH34*AV34) -> 202.4 | CW34: =AI34 -> 0 | CX34: =AJ34 -> 0 | CY34: =S34*(BZ34/100) -> 45174.811 | CZ34: =S34*(CA34/100) -> 23112.694 | DE34: *1,25 | DF34: *1,25 | DG34: *1,15 | DI34: *1,15 | DJ34: *1,25 | DN34: 100 | DO34: 64 | DP34: 1.025 | DQ34: 1 | DU34: 1005 | DV34: 100 м2 | DW34: 100 м2 | DX34: 100 | EE34: 21987465 | EF34: 30 | EG34: Строительные работы | EH34: 0 | EJ34: 1 | EK34: 113 | EL34: ТСН-2001.3-15. 15-25...15-29 | EM34: ТСН-2001.3-15-5 | EQ34: 131072 | ER34: 2165.88 | ES34: 51.82 | ET34: 19.66 | EU34: 3.93 | EV34: 2094.4 | EW34: 176 | EX34: 0 | EY34: 0 | FQ34: 0 | FR34: =ROUND(IF(AND(BH34=3,BI34=3),P34,0),2) -> 0 | FS34: 0 | FX34: 100 | FY34: 64 | GD34: 0 | GF34: 756687370 | GG34: 2 | GH34: 1 | GI34: 2 | GJ34: 0 | GK34: =ROUND(R34*(R12)/100,2) -> 9.65 | GL34: =ROUND(IF(AND(BH34=3,BI34=3,FS34<>0),P34,0),2) -> 0 | GM34: =ROUND(O34+X34+Y34+GK34,2)+GX34 -> 121325.15 | GN34: =IF(OR(BI34=0,BI34=1),ROUND(O34+X34+Y34+GK34,2),0) -> 121325.15 | GO34: =IF(BI34=2,ROUND(O34+X34+Y34+GK34,2),0) -> 0 | GP34: =IF(BI34=4,ROUND(O34+X34+Y34+GK34,2)+GX34,0) -> 0 | GR34: 0 | GS34: 0 | GT34: 0 | GV34: =ROUND(GT34,6) -> 0 | GW34: 1 | GX34: =ROUND(GV34*GW34*I34,2) -> 0 | HA34: 0 | HB34: 0 | IK34: 0
A35: 18 | B35: 1 | E35: 2,1 | F35: 1.6-1-291 | G35: Каркасы подвесных потолков с подвесками и деталями крепления | H35: т | I35: =I34*J35 -> 0.4115 | J35: 0.35000425 | O35: =ROUND(CP35,2) -> 26219.84 | P35: =ROUND(CQ35*I35,2) -> 26219.84 | Q35: =ROUND(CR35*I35,2) -> 0 | R35: =ROUND(CS35*I35,2) -> 0 | S35: =ROUND(CT35*I35,2) -> 0 | T35: =ROUND(CU35*I35,2) -> 0 | U35: =CV35*I35 -> 0 | V35: =CW35*I35 -> 0 | W35: =ROUND(CX35*I35,2) -> 0 | X35: =ROUND(CY35,2) -> 0 | Y35: =ROUND(CZ35,2) -> 0 | AA35: 42145827 | AB35: =ROUND((AC35+AD35+AF35),6) -> 19485.54 | AC35: =ROUND((ES35),6) -> 19485.54 | AD35: =ROUND((ET35),6) -> 0 | AE35: =ROUND((EU35),6) -> 0 | AF35: =ROUND((EV35),6) -> 0 | AG35: =ROUND((AP35),6) -> 0 | AH35: =(EW35) -> 0 | AI35: =(EX35) -> 0 | AJ35: =ROUND((AS35),6) -> 0 | AK35: 19485.54 | AL35: 19485.54 | AM35: 0 | AN35: 0 | AO35: 0 | AP35: 0 | AQ35: 0 | AR35: 0 | AS35: 0 | AT35: 0 | AU35: 0 | AV35: 1 | AW35: 1 | AZ35: 1 | BA35: 1 | BB35: 1 | BC35: 3.27 | BH35: 3 | BI35: 1 | BJ35: ТСН-2001.1. Доп. 1-42. Р. 6, о. 1, поз. 291 | BM35: 113 | BN35: 7156650 | BO35: 1.6-1-291 | BP35: 1 | BQ35: 30 | BR35: 0 | BS35: 1 | BT35: 1 | BU35: 1 | BV35: 1 | BW35: 1 | BX35: 1 | BZ35: 0 | CA35: 0 | CF35: 0 | CG35: 0 | CM35: 0 | CO35: 0 | CP35: =(P35+Q35+S35) -> 26219.84 | CQ35: =(AC35*BC35*AW35) -> 63717.716 | CR35: =(AD35*BB35*AV35) -> 0 | CS35: =(AE35*BS35*AV35) -> 0 | CT35: =(AF35*BA35*AV35) -> 0 | CU35: =AG35 -> 0 | CV35: =(AH35*AV35) -> 0 | CW35: =AI35 -> 0 | CX35: =AJ35 -> 0 | CY35: =S35*(BZ35/100) -> 0 | CZ35: =S35*(CA35/100) -> 0 | DN35: 100 | DO35: 64 | DP35: 1.025 | DQ35: 1 | DU35: 1009 | DV35: т | DW35: т | DX35: 1000 | EE35: 21987465 | EF35: 30 | EG35: Строительные работы | EH35: 0 | EJ35: 1 | EK35: 113 | EL35: ТСН-2001.3-15. 15-25...15-29 | EM35: ТСН-2001.3-15-5 | EQ35: 0 | ER35: 19485.54 | ES35: 19485.54 | ET35: 0 | EU35: 0 | EV35: 0 | EW35: 0 | EX35: 0 | FQ35: 0 | FR35: =ROUND(IF(AND(BH35=3,BI35=3),P35,0),2) -> 0 | FS35: 0 | FX35: 100 | FY35: 64 | GD35: 0 | GF35: 1679822580 | GG35: 2 | GH35: 1 | GI35: 2 | GJ35: 0 | GK35: =ROUND(R35*(R12)/100,2) -> 0 | GL35: =ROUND(IF(AND(BH35=3,BI35=3,FS35<>0),P35,0),2) -> 0 | GM35: =ROUND(O35+X35+Y35+GK35,2)+GX35 -> 26219.84 | GN35: =IF(OR(BI35=0,BI35=1),ROUND(O35+X35+Y35+GK35,2),0) -> 26219.84 | GO35: =IF(BI35=2,ROUND(O35+X35+Y35+GK35,2),0) -> 0 | GP35: =IF(BI35=4,ROUND(O35+X35+Y35+GK35,2)+GX35,0) -> 0 | GR35: 0 | GS35: 0 | GT35: 0 | GV35: =ROUND(GT35,6) -> 0 | GW35: 1 | GX35: =ROUND(GV35*GW35*I35,2) -> 0 | HA35: 0 | HB35: 0 | IK35: 0
A36: 18 | B36: 1 | E36: 2,2 | F36: Прайс стр. 14 | G36: Подвесной потолок ARMSTRONG NEWTONE | H36: м2 | I36: =I34*J36 -> 123.45 | J36: 105.00128 | O36: =ROUND(CP36,2) -> 163058.56 | P36: =ROUND(CQ36*I36,2) -> 163058.56 | Q36: =ROUND(CR36*I36,2) -> 0 | R36: =ROUND(CS36*I36,2) -> 0 | S36: =ROUND(CT36*I36,2) -> 0 | T36: =ROUND(CU36*I36,2) -> 0 | U36: =CV36*I36 -> 0 | V36: =CW36*I36 -> 0 | W36: =ROUND(CX36*I36,2) -> 0 | X36: =ROUND(CY36,2) -> 0 | Y36: =ROUND(CZ36,2) -> 0 | AA36: 42145827 | AB36: =ROUND((AC36+AD36+AF36),6) -> 252.552 | AC36: =ROUND(((ES36*1.02)),6) -> 252.552 | AD36: =ROUND((ET36),6) -> 0 | AE36: =ROUND((EU36),6) -> 0 | AF36: =ROUND((EV36),6) -> 0 | AG36: =ROUND((AP36),6) -> 0 | AH36: =(EW36) -> 0 | AI36: =(EX36) -> 0 | AJ36: =ROUND((AS36),6) -> 0 | AK36: 247.6 | AL36: 247.6 | AM36: 0 | AN36: 0 | AO36: 0 | AP36: 0 | AQ36: 0 | AR36: 0 | AS36: 0 | AT36: 0 | AU36: 0 | AV36: 1 | AW36: 1 | AZ36: 1 | BA36: 1 | BB36: 1 | BC36: 5.23 | BH36: 3 | BI36: 1 | BM36: 113 | BN36: 0 | BP36: 0 | BQ36: 30 | BR36: 0 | BS36: 1 | BT36: 1 | BU36: 1 | BV36: 1 | BW36: 1 | BX36: 1 | BZ36: 0 | CA36: 0 | CF36: 0 | CG36: 0 | CM36: 0 | CO36: 0 | CP36: =(P36+Q36+S36) -> 163058.56 | CQ36: =(AC36*BC36*AW36) -> 1320.847 | CR36: =(AD36*BB36*AV36) -> 0 | CS36: =(AE36*BS36*AV36) -> 0 | CT36: =(AF36*BA36*AV36) -> 0 | CU36: =AG36 -> 0 | CV36: =(AH36*AV36) -> 0 | CW36: =AI36 -> 0 | CX36: =AJ36 -> 0 | CY36: =S36*(BZ36/100) -> 0 | CZ36: =S36*(CA36/100) -> 0 | DD36: *1,02 | DN36: 100 | DO36: 64 | DP36: 1.025 | DQ36: 1 | DU36: 1005 | DV36: м2 | DW36: м2 | DX36: 1 | EE36: 21987465 | EF36: 30 | EG36: Строительные работы | EH36: 0 | EJ36: 1 | EK36: 113 | EL36: ТСН-2001.3-15. 15-25...15-29 | EM36: ТСН-2001.3-15-5 | EQ36: 0 | ER36: 247.6 | ES36: 247.6 | ET36: 0 | EU36: 0 | EV36: 0 | EW36: 0 | EX36: 0 | FQ36: 0 | FR36: =ROUND(IF(AND(BH36=3,BI36=3),P36,0),2) -> 0 | FS36: 0 | FX36: 100 | FY36: 64 | GD36: 0 | GF36: 1636948736 | GG36: 2 | GH36: 0 | GI36: 3 | GJ36: 0 | GK36: =ROUND(R36*(R12)/100,2) -> 0 | GL36: =ROUND(IF(AND(BH36=3,BI36=3,FS36<>0),P36,0),2) -> 0 | GM36: =ROUND(O36+X36+Y36+GK36,2)+GX36 -> 163058.56 | GN36: =IF(OR(BI36=0,BI36=1),ROUND(O36+X36+Y36+GK36,2),0) -> 163058.56 | GO36: =IF(BI36=2,ROUND(O36+X36+Y36+GK36,2),0) -> 0 | GP36: =IF(BI36=4,ROUND(O36+X36+Y36+GK36,2)+GX36,0) -> 0 | GR36: 0 | GS36: 0 | GT36: 0 | GV36: =ROUND(GT36,6) -> 0 | GW36: 1 | GX36: =ROUND(GV36*GW36*I36,2) -> 0 | HA36: 0 | HB36: 0 | IK36: 0
A37: 17 | B37: 1 | E37: 3 | F37: 3.15-29-1 | G37: Устройство подвесных потолков из декоративно-акустических плит по готовому каркасу с установкой направляющих из алюминиевого профиля и деталей крепления | H37: 100 м2 | I37: 4.9373 | J37: 0 | O37: =ROUND(CP37,2) -> 222688.74 | P37: =ROUND(CQ37*I37,2) -> 1120.63 | Q37: =ROUND(CR37*I37,2) -> 975.53 | R37: =ROUND(CS37*I37,2) -> 24.25 | S37: =ROUND(CT37*I37,2) -> 220592.58 | T37: =ROUND(CU37*I37,2) -> 0 | U37: =CV37*I37 -> 999.30952 | V37: =CW37*I37 -> 0 | W37: =ROUND(CX37*I37,2) -> 0 | X37: =ROUND(CY37,2) -> 189709.62 | Y37: =ROUND(CZ37,2) -> 97060.74 | AA37: 42145827 | AB37: =ROUND((AC37+AD37+AF37),6) -> 2484.955 | AC37: =ROUND((ES37),6) -> 51.82 | AD37: =ROUND(((ET37*1.25)),6) -> 24.575 | AE37: =ROUND(((EU37*1.25)),6) -> 4.9125 | AF37: =ROUND(((EV37*1.15)),6) -> 2408.56 | AG37: =ROUND((AP37),6) -> 0 | AH37: =((EW37*1.15)) -> 202.4 | AI37: =((EX37*1.25)) -> 0 | AJ37: =ROUND((AS37),6) -> 0 | AK37: 2165.88 | AL37: 51.82 | AM37: 19.66 | AN37: 3.93 | AO37: 2094.4 | AP37: 0 | AQ37: 176 | AR37: 0 | AS37: 0 | AT37: 86 | AU37: 44 | AV37: 1 | AW37: 1 | AZ37: 1 | BA37: 18.55 | BB37: 8.04 | BC37: 4.38 | BH37: 0 | BI37: 1 | BJ37: ТСН-2001.3. Доп. 1-42. Сб. 15, т. 29, поз. 1 | BM37: 113 | BN37: 7156650 | BO37: 3.15-29-1 | BP37: 1 | BQ37: 30 | BR37: 0 | BS37: 1 | BT37: 1 | BU37: 1 | BV37: 1 | BW37: 1 | BX37: 1 | BZ37: 86 | CA37: 44 | CF37: 0 | CG37: 0 | CM37: 0 | CO37: 0 | CP37: =(P37+Q37+S37) -> 222688.74 | CQ37: =(AC37*BC37*AW37) -> 226.9716 | CR37: =(AD37*BB37*AV37) -> 197.583 | CS37: =(AE37*BS37*AV37) -> 4.9125 | CT37: =(AF37*BA37*AV37) -> 44678.788 | CU37: =AG37 -> 0 | CV37: =(AH37*AV37) -> 202.4 | CW37: =AI37 -> 0 | CX37: =AJ37 -> 0 | CY37: =S37*(BZ37/100) -> 189709.62 | CZ37: =S37*(CA37/100) -> 97060.735 | DE37: *1,25 | DF37: *1,25 | DG37: *1,15 | DI37: *1,15 | DJ37: *1,25 | DN37: 100 | DO37: 64 | DP37: 1.025 | DQ37: 1 | DU37: 1005 | DV37: 100 м2 | DW37: 100 м2 | DX37: 100 | EE37: 21987465 | EF37: 30 | EG37: Строительные работы | EH37: 0 | EJ37: 1 | EK37: 113 | EL37: ТСН-2001.3-15. 15-25...15-29 | EM37: ТСН-2001.3-15-5 | EQ37: 131072 | ER37: 2165.88 | ES37: 51.82 | ET37: 19.66 | EU37: 3.93 | EV37: 2094.4 | EW37: 176 | EX37: 0 | EY37: 0 | FQ37: 0 | FR37: =ROUND(IF(AND(BH37=3,BI37=3),P37,0),2) -> 0 | FS37: 0 | FX37: 100 | FY37: 64 | GD37: 0 | GF37: 756687370 | GG37: 2 | GH37: 1 | GI37: 2 | GJ37: 0 | GK37: =ROUND(R37*(R12)/100,2) -> 40.5 | GL37: =ROUND(IF(AND(BH37=3,BI37=3,FS37<>0),P37,0),2) -> 0 | GM37: =ROUND(O37+X37+Y37+GK37,2)+GX37 -> 509499.6 | GN37: =IF(OR(BI37=0,BI37=1),ROUND(O37+X37+Y37+GK37,2),0) -> 509499.6 | GO37: =IF(BI37=2,ROUND(O37+X37+Y37+GK37,2),0) -> 0 | GP37: =IF(BI37=4,ROUND(O37+X37+Y37+GK37,2)+GX37,0) -> 0 | GR37: 0 | GS37: 0 | GT37: 0 | GV37: =ROUND(GT37,6) -> 0 | GW37: 1 | GX37: =ROUND(GV37*GW37*I37,2) -> 0 | HA37: 0 | HB37: 0 | IK37: 0
A38: 18 | B38: 1 | E38: 3,1 | F38: 1.6-1-291 | G38: Каркасы подвесных потолков с подвесками и деталями крепления | H38: т | I38: =I37*J38 -> 1.7281 | J38: 0.35000911 | O38: =ROUND(CP38,2) -> 110110.58 | P38: =ROUND(CQ38*I38,2) -> 110110.58 | Q38: =ROUND(CR38*I38,2) -> 0 | R38: =ROUND(CS38*I38,2) -> 0 | S38: =ROUND(CT38*I38,2) -> 0 | T38: =ROUND(CU38*I38,2) -> 0 | U38: =CV38*I38 -> 0 | V38: =CW38*I38 -> 0 | W38: =ROUND(CX38*I38,2) -> 0 | X38: =ROUND(CY38,2) -> 0 | Y38: =ROUND(CZ38,2) -> 0 | AA38: 42145827 | AB38: =ROUND((AC38+AD38+AF38),6) -> 19485.54 | AC38: =ROUND((ES38),6) -> 19485.54 | AD38: =ROUND((ET38),6) -> 0 | AE38: =ROUND((EU38),6) -> 0 | AF38: =ROUND((EV38),6) -> 0 | AG38: =ROUND((AP38),6) -> 0 | AH38: =(EW38) -> 0 | AI38: =(EX38) -> 0 | AJ38: =ROUND((AS38),6) -> 0 | AK38: 19485.54 | AL38: 19485.54 | AM38: 0 | AN38: 0 | AO38: 0 | AP38: 0 | AQ38: 0 | AR38: 0 | AS38: 0 | AT38: 0 | AU38: 0 | AV38: 1 | AW38: 1 | AZ38: 1 | BA38: 1 | BB38: 1 | BC38: 3.27 | BH38: 3 | BI38: 1 | BJ38: ТСН-2001.1. Доп. 1-42. Р. 6, о. 1, поз. 291 | BM38: 113 | BN38: 7156650 | BO38: 1.6-1-291 | BP38: 1 | BQ38: 30 | BR38: 0 | BS38: 1 | BT38: 1 | BU38: 1 | BV38: 1 | BW38: 1 | BX38: 1 | BZ38: 0 | CA38: 0 | CF38: 0 | CG38: 0 | CM38: 0 | CO38: 0 | CP38: =(P38+Q38+S38) -> 110110.58 | CQ38: =(AC38*BC38*AW38) -> 63717.716 | CR38: =(AD38*BB38*AV38) -> 0 | CS38: =(AE38*BS38*AV38) -> 0 | CT38: =(AF38*BA38*AV38) -> 0 | CU38: =AG38 -> 0 | CV38: =(AH38*AV38) -> 0 | CW38: =AI38 -> 0 | CX38: =AJ38 -> 0 | CY38: =S38*(BZ38/100) -> 0 | CZ38: =S38*(CA38/100) -> 0 | DN38: 100 | DO38: 64 | DP38: 1.025 | DQ38: 1 | DU38: 1009 | DV38: т | DW38: т | DX38: 1000 | EE38: 21987465 | EF38: 30 | EG38: Строительные работы | EH38: 0 | EJ38: 1 | EK38: 113 | EL38: ТСН-2001.3-15. 15-25...15-29 | EM38: ТСН-2001.3-15-5 | EQ38: 0 | ER38: 19485.54 | ES38: 19485.54 | ET38: 0 | EU38: 0 | EV38: 0 | EW38: 0 | EX38: 0 | FQ38: 0 | FR38: =ROUND(IF(AND(BH38=3,BI38=3),P38,0),2) -> 0 | FS38: 0 | FX38: 100 | FY38: 64 | GD38: 0 | GF38: 1679822580 | GG38: 2 | GH38: 1 | GI38: 2 | GJ38: 0 | GK38: =ROUND(R38*(R12)/100,2) -> 0 | GL38: =ROUND(IF(AND(BH38=3,BI38=3,FS38<>0),P38,0),2) -> 0 | GM38: =ROUND(O38+X38+Y38+GK38,2)+GX38 -> 110110.58 | GN38: =IF(OR(BI38=0,BI38=1),ROUND(O38+X38+Y38+GK38,2),0) -> 110110.58 | GO38: =IF(BI38=2,ROUND(O38+X38+Y38+GK38,2),0) -> 0 | GP38: =IF(BI38=4,ROUND(O38+X38+Y38+GK38,2)+GX38,0) -> 0 | GR38: 0 | GS38: 0 | GT38: 0 | GV38: =ROUND(GT38,6) -> 0 | GW38: 1 | GX38: =ROUND(GV38*GW38*I38,2) -> 0 | HA38: 0 | HB38: 0 | IK38: 0
A39: 18 | B39: 1 | E39: 3,2 | F39: Прайс стр. 14 | G39: Подвесной потолок ARMSTRONG STANDART | H39: м2 | I39: =I37*J39 -> 518.4228 | J39: 105.00128 | O39: =ROUND(CP39,2) -> 355653.37 | P39: =ROUND(CQ39*I39,2) -> 355653.37 | Q39: =ROUND(CR39*I39,2) -> 0 | R39: =ROUND(CS39*I39,2) -> 0 | S39: =ROUND(CT39*I39,2) -> 0 | T39: =ROUND(CU39*I39,2) -> 0 | U39: =CV39*I39 -> 0 | V39: =CW39*I39 -> 0 | W39: =ROUND(CX39*I39,2) -> 0 | X39: =ROUND(CY39,2) -> 0 | Y39: =ROUND(CZ39,2) -> 0 | AA39: 42145827 | AB39: =ROUND((AC39+AD39+AF39),6) -> 131.172 | AC39: =ROUND(((ES39*1.02)),6) -> 131.172 | AD39: =ROUND((ET39),6) -> 0 | AE39: =ROUND((EU39),6) -> 0 | AF39: =ROUND((EV39),6) -> 0 | AG39: =ROUND((AP39),6) -> 0 | AH39: =(EW39) -> 0 | AI39: =(EX39) -> 0 | AJ39: =ROUND((AS39),6) -> 0 | AK39: 128.6 | AL39: 128.6 | AM39: 0 | AN39: 0 | AO39: 0 | AP39: 0 | AQ39: 0 | AR39: 0 | AS39: 0 | AT39: 0 | AU39: 0 | AV39: 1 | AW39: 1 | AZ39: 1 | BA39: 1 | BB39: 1 | BC39: 5.23 | BH39: 3 | BI39: 1 | BM39: 113 | BN39: 0 | BP39: 0 | BQ39: 30 | BR39: 0 | BS39: 1 | BT39: 1 | BU39: 1 | BV39: 1 | BW39: 1 | BX39: 1 | BZ39: 0 | CA39: 0 | CF39: 0 | CG39: 0 | CM39: 0 | CO39: 0 | CP39: =(P39+Q39+S39) -> 355653.37 | CQ39: =(AC39*BC39*AW39) -> 686.02956 | CR39: =(AD39*BB39*AV39) -> 0 | CS39: =(AE39*BS39*AV39) -> 0 | CT39: =(AF39*BA39*AV39) -> 0 | CU39: =AG39 -> 0 | CV39: =(AH39*AV39) -> 0 | CW39: =AI39 -> 0 | CX39: =AJ39 -> 0 | CY39: =S39*(BZ39/100) -> 0 | CZ39: =S39*(CA39/100) -> 0 | DD39: *1,02 | DN39: 100 | DO39: 64 | DP39: 1.025 | DQ39: 1 | DU39: 1005 | DV39: м2 | DW39: м2 | DX39: 1 | EE39: 21987465 | EF39: 30 | EG39: Строительные работы | EH39: 0 | EJ39: 1 | EK39: 113 | EL39: ТСН-2001.3-15. 15-25...15-29 | EM39: ТСН-2001.3-15-5 | EQ39: 0 | ER39: 128.6 | ES39: 128.6 | ET39: 0 | EU39: 0 | EV39: 0 | EW39: 0 | EX39: 0 | FQ39: 0 | FR39: =ROUND(IF(AND(BH39=3,BI39=3),P39,0),2) -> 0 | FS39: 0 | FX39: 100 | FY39: 64 | GD39: 0 | GF39: 1493592268 | GG39: 2 | GH39: 0 | GI39: 3 | GJ39: 0 | GK39: =ROUND(R39*(R12)/100,2) -> 0 | GL39: =ROUND(IF(AND(BH39=3,BI39=3,FS39<>0),P39,0),2) -> 0 | GM39: =ROUND(O39+X39+Y39+GK39,2)+GX39 -> 355653.37 | GN39: =IF(OR(BI39=0,BI39=1),ROUND(O39+X39+Y39+GK39,2),0) -> 355653.37 | GO39: =IF(BI39=2,ROUND(O39+X39+Y39+GK39,2),0) -> 0 | GP39: =IF(BI39=4,ROUND(O39+X39+Y39+GK39,2)+GX39,0) -> 0 | GR39: 0 | GS39: 0 | GT39: 0 | GV39: =ROUND(GT39,6) -> 0 | GW39: 1 | GX39: =ROUND(GV39*GW39*I39,2) -> 0 | HA39: 0 | HB39: 0 | IK39: 0
A41: 51 | B41: =B28 -> 1 | C41: =A28 -> 5 | D41: =ROW(A28) -> 28 | F41: =IF(F28<>"",F28,"") -> Новый подраздел | G41: =IF(G28<>"",G28,"") -> Потолки 1 этаж | H41: 0 | O41: =ROUND(AB41,2) -> 1260290.2 | P41: =ROUND(AC41,2) -> 770334.34 | Q41: =ROUND(AD41,2) -> 6332.06 | R41: =ROUND(AE41,2) -> 191.88 | S41: =ROUND(AF41,2) -> 483623.85 | T41: =ROUND(AG41,2) -> 0 | U41: =AH41 -> 2096.956 | V41: =AI41 -> 0 | W41: =ROUND(AJ41,2) -> 0 | X41: =ROUND(AK41,2) -> 386446.17 | Y41: =ROUND(AL41,2) -> 212794.49 | AB41: =ROUND(SUMIF(AA32:AA39,"=42145827",O32:O39),2) -> 1260290.2 | AC41: =ROUND(SUMIF(AA32:AA39,"=42145827",P32:P39),2) -> 770334.34 | AD41: =ROUND(SUMIF(AA32:AA39,"=42145827",Q32:Q39),2) -> 6332.06 | AE41: =ROUND(SUMIF(AA32:AA39,"=42145827",R32:R39),2) -> 191.88 | AF41: =ROUND(SUMIF(AA32:AA39,"=42145827",S32:S39),2) -> 483623.85 | AG41: =ROUND(SUMIF(AA32:AA39,"=42145827",T32:T39),2) -> 0 | AH41: =SUMIF(AA32:AA39,"=42145827",U32:U39) -> 2096.956 | AI41: =SUMIF(AA32:AA39,"=42145827",V32:V39) -> 0 | AJ41: =ROUND(SUMIF(AA32:AA39,"=42145827",W32:W39),2) -> 0 | AK41: =ROUND(SUMIF(AA32:AA39,"=42145827",X32:X39),2) -> 386446.17 | AL41: =ROUND(SUMIF(AA32:AA39,"=42145827",Y32:Y39),2) -> 212794.49 | AO41: =ROUND(BX41,2) -> 0 | AP41: =ROUND(BY41,2) -> 0 | AQ41: =ROUND(BZ41,2) -> 0 | AR41: =ROUND(CA41,2) -> 1859851.4 | AS41: =ROUND(CB41,2) -> 1859851.4 | AT41: =ROUND(CC41,2) -> 0 | AU41: =ROUND(CD41,2) -> 0 | AV41: =ROUND(CE41,2) -> 770334.34 | ... BC41: =ROUND(CL41,2) -> 0 | BX41: =ROUND(SUMIF(AA32:AA39,"=42145827",FQ32:FQ39),2) -> 0 | BY41: =ROUND(SUMIF(AA32:AA39,"=42145827",FR32:FR39),2) -> 0 | BZ41: =ROUND(SUMIF(AA32:AA39,"=42145827",GL32:GL39),2) -> 0 | CA41: =ROUND(SUMIF(AA32:AA39,"=42145827",GM32:GM39),2) -> 1859851.4 | CB41: =ROUND(SUMIF(AA32:AA39,"=42145827",GN32:GN39),2) -> 1859851.4 | CC41: =ROUND(SUMIF(AA32:AA39,"=42145827",GO32:GO39),2) -> 0 | CD41: =ROUND(SUMIF(AA32:AA39,"=42145827",GP32:GP39),2) -> 0 | CE41: =AC41-BX41 -> 770334.34 | CF41: =AC41-BY41 -> 770334.34 | CG41: =BX41-BZ41 -> 0 | CH41: =AC41-BX41-BY41+BZ41 -> 770334.34 | CI41: =BY41-BZ41 -> 0 | CJ41: =ROUND(SUMIF(AA32:AA39,"=42145827",GX32:GX39),2) -> 0 | CK41: =ROUND(SUMIF(AA32:AA39,"=42145827",GY32:GY39),2) -> 0 | CL41: =ROUND(SUMIF(AA32:AA39,"=42145827",GZ32:GZ39),2) -> 0 | GX41: 0
A43: 50 | B43: 0 | C43: 0 | D43: 1 | E43: 201 | F43: =ROUND(Source!O41,O43) -> 1260290.2 | G43: ПЗ | H43: Прямые затраты | K43: 201 | L43: 1 | M43: 3 | O43: 2
A44: 50 | B44: 0 | C44: 0 | D44: 1 | E44: 202 | F44: =ROUND(Source!P41,O44) -> 770334.34 | G44: СтМатОб | H44: Стоимость материальных ресурсов (всего) | K44: 202 | L44: 2 | M44: 3 | O44: 2
A45: 50 | B45: 0 | C45: 0 | D45: 1 | E45: 222 | F45: =ROUND(Source!AO41,O45) -> 0 | G45: СтМатОбЗак | H45: Стоимость материалов и оборудования заказчика | K45: 222 | L45: 3 | M45: 3 | O45: 2
A46: 50 | B46: 0 | C46: 0 | D46: 1 | E46: 225 | F46: =ROUND(Source!AV41,O46) -> 770334.34 | G46: СтМатОбПод | H46: Стоимость материалов и оборудования подрядчика | K46: 225 | L46: 4 | M46: 3 | O46: 2
A47: 50 | B47: 0 | C47: 0 | D47: 1 | E47: 226 | F47: =ROUND(Source!AW41,O47) -> 770334.34 | G47: СтМат | H47: Стоимость материалов (всего) | K47: 226 | L47: 5 | M47: 3 | O47: 2
A48: 50 | B48: 0 | C48: 0 | D48: 1 | E48: 227 | F48: =ROUND(Source!AX41,O48) -> 0 | G48: СтМатЗак | H48: Стоимость материалов заказчика | K48: 227 | L48: 6 | M48: 3 | O48: 2
A49: 50 | B49: 0 | C49: 0 | D49: 1 | E49: 228 | F49: =ROUND(Source!AY41,O49) -> 770334.34 | G49: СтМатПод | H49: Стоимость материалов подрядчика | K49: 228 | L49: 7 | M49: 3 | O49: 2
A50: 50 | B50: 0 | C50: 0 | D50: 1 | E50: 216 | F50: =ROUND(Source!AP41,O50) -> 0 | G50: Оборуд | H50: Стоимость оборудования (всего) | K50: 216 | L50: 8 | M50: 3 | O50: 2
A51: 50 | B51: 0 | C51: 0 | D51: 1 | E51: 223 | F51: =ROUND(Source!AQ41,O51) -> 0 | G51: ОборудЗак | H51: Стоимость оборудования заказчика | K51: 223 | L51: 9 | M51: 3 | O51: 2
A52: 50 | B52: 0 | C52: 0 | D52: 1 | E52: 229 | F52: =ROUND(Source!AZ41,O52) -> 0 | G52: ОборудПод | H52: Стоимость оборудования подрядчика | K52: 229 | L52: 10 | M52: 3 | O52: 2
A53: 50 | B53: 0 | C53: 0 | D53: 1 | E53: 203 | F53: =ROUND(Source!Q41,O53) -> 6332.06 | G53: ЭММ | H53: Эксплуатация машин | K53: 203 | L53: 11 | M53: 3 | O53: 2
A54: 50 | B54: 0 | C54: 0 | D54: 1 | E54: 231 | F54: =ROUND(Source!BB41,O54) -> 0 | G54: ЭММсНРиСП | H54: Эксплуатация машин по ТСН-2001.16 | K54: 231 | L54: 12 | M54: 3 | O54: 2
A55: 50 | B55: 0 | C55: 0 | D55: 1 | E55: 204 | F55: =ROUND(Source!R41,O55) -> 191.88 | G55: ЗПМ | H55: ЗП машинистов | K55: 204 | L55: 13 | M55: 3 | O55: 2
A56: 50 | B56: 0 | C56: 0 | D56: 1 | E56: 205 | F56: =ROUND(Source!S41,O56) -> 483623.85 | G56: ОЗП | H56: Основная ЗП рабочих | K56: 205 | L56: 14 | M56: 3 | O56: 2
A57: 50 | B57: 0 | C57: 0 | D57: 1 | E57: 232 | F57: =ROUND(Source!BC41,O57) -> 0 | G57: ОЗПсНРиСП | H57: Основная ЗП рабочих по ТСН-2001.16 | K57: 232 | L57: 15 | M57: 3 | O57: 2
A58: 50 | B58: 0 | C58: 0 | D58: 1 | E58: 214 | F58: =ROUND(Source!AS41,O58) -> 1859851.4 | G58: Строит | H58: Строительные работы с НР и СП | K58: 214 | L58: 16 | M58: 3 | O58: 2
A59: 50 | B59: 0 | C59: 0 | D59: 1 | E59: 215 | F59: =ROUND(Source!AT41,O59) -> 0 | G59: Монтаж | H59: Монтажные работы с НР и СП | K59: 215 | L59: 17 | M59: 3 | O59: 2
A60: 50 | B60: 0 | C60: 0 | D60: 1 | E60: 217 | F60: =ROUND(Source!AU41,O60) -> 0 | G60: Прочие | H60: Прочие работы с НР и СП | K60: 217 | L60: 18 | M60: 3 | O60: 2
A61: 50 | B61: 0 | C61: 0 | D61: 1 | E61: 230 | F61: =ROUND(Source!BA41,O61) -> 0 | G61: ПрочиеЗатр | H61: Прочие затраты по ТСН-2001.16 | K61: 230 | L61: 19 | M61: 3 | O61: 2
A62: 50 | B62: 0 | C62: 0 | D62: 1 | E62: 206 | F62: =ROUND(Source!T41,O62) -> 0 | G62: ВозврМат | H62: Возврат материалов | K62: 206 | L62: 20 | M62: 3 | O62: 2
A63: 50 | B63: 0 | C63: 0 | D63: 1 | E63: 207 | F63: =Source!U41 -> 2096.956 | G63: ТрудСтр | H63: Трудозатраты строителей | K63: 207 | L63: 21 | M63: 3 | O63: -1
...

Sheet SourceObSm
A1: 0 | B1: Smeta.RU (495) 974-1589 | D1: _OBSM_ | F1: 0 | G1: 0 | H1: 0 | I1: Smeta.RU | K1: 0 | L1: 29412 | M1: 10
A12: 1 | B12: 50 | C12: 0 | E12: 0 | F12: Сперанского АР (ТСН-2001 (Мосгосэкспертиза)) | G12: Сперанского АР (ТСН-2001 (Мосгосэкспертиза)) | I12: 0 | K12: 0 | O12: 0 | P12: 0 | Q12: 0 | R12: 167 | V12: 0 | BH12: Сметные нормы списания | BI12: Коды ОКП для ТСН-2001 | BJ12: 1 | BK12: 1 | BL12: 0 | BM12: 0 | BN12: 1 | BO12: 0 | BP12: 6 | BQ12: 2 | BR12: 1 | BS12: 1 | BT12: 0 | BU12: 0 | BV12: 0 | BW12: 0 | BX12: 0 | BY12: ТСН 2001- Ремонт | BZ12: Типовой расчет для ТСН-2001 (Ремонт) | CA12: ТСН-2001 | CB12: ТСН-2001 | CC12: ТСН-2001 | CD12: ТСН-2001 | CF12: 0 | CG12: 0 | CH12: 8 | CK12: 40 | EC12: 0
A14: 22 | B14: 0 | C14: 0 | D14: 42145827 | E14: 0 | F14: 3
A16: 3 | B16: 1 | C16: Новая локальная смета | D16: Новая локальная смета | E16: =(Source!F686)/1000 -> 24477.578 | F16: =(Source!F687)/1000 -> 0 | G16: =(Source!F678)/1000 -> 0 | H16: =(Source!F688)/1000+(Source!F689)/1000 -> 77.8565 | I16: =E16+F16+G16+H16 -> 24555.435 | J16: =(Source!F684)/1000 -> 5692.751 | AI16: 0 | AJ16: 0 | AN16: 0 | AT16: 17229053 | AU16: 11131627 | AV16: 0 | AW16: 0 | AX16: 0 | AY16: 404675.32 | AZ16: 8337.02 | BA16: 5692751 | BB16: 24477578 | BC16: 0 | BD16: 77856.5 | BE16: 0 | BF16: 25382.578 | BG16: 0 | BH16: 0 | BI16: 4807414.1 | BJ16: 2505044.5 | BK16: 24555435
A18: 51 | E18: =SUMIF(A16:A17,3,E16:E17) -> 24477.578 | F18: =SUMIF(A16:A17,3,F16:F17) -> 0 | G18: =SUMIF(A16:A17,3,G16:G17) -> 0 | H18: =SUMIF(A16:A17,3,H16:H17) -> 77.8565 | I18: =SUMIF(A16:A17,3,I16:I17) -> 24555.435 | J18: =SUMIF(A16:A17,3,J16:J17) -> 5692.751
A20: 50 | B20: 0 | C20: 0 | D20: 1 | E20: 201 | F20: 17229053 | G20: ПЗ | H20: Прямые затраты | K20: 201 | L20: 1 | M20: 3 | O20: 2
A21: 50 | B21: 0 | C21: 0 | D21: 1 | E21: 202 | F21: 11131627 | G21: СтМатОб | H21: Стоимость материальных ресурсов (всего) | K21: 202 | L21: 2 | M21: 3 | O21: 2
A22: 50 | B22: 0 | C22: 0 | D22: 1 | E22: 222 | F22: 0 | G22: СтМатОбЗак | H22: Стоимость материалов и оборудования заказчика | K22: 222 | L22: 3 | M22: 3 | O22: 2
A23: 50 | B23: 0 | C23: 0 | D23: 1 | E23: 225 | F23: 11131627 | G23: СтМатОбПод | H23: Стоимость материалов и оборудования подрядчика | K23: 225 | L23: 4 | M23: 3 | O23: 2
A24: 50 | B24: 0 | C24: 0 | D24: 1 | E24: 226 | F24: 11131627 | G24: СтМат | H24: Стоимость материалов (всего) | K24: 226 | L24: 5 | M24: 3 | O24: 2
A25: 50 | B25: 0 | C25: 0 | D25: 1 | E25: 227 | F25: 0 | G25: СтМатЗак | H25: Стоимость материалов заказчика | K25: 227 | L25: 6 | M25: 3 | O25: 2
A26: 50 | B26: 0 | C26: 0 | D26: 1 | E26: 228 | F26: 11131627 | G26: СтМатПод | H26: Стоимость материалов подрядчика | K26: 228 | L26: 7 | M26: 3 | O26: 2
A27: 50 | B27: 0 | C27: 0 | D27: 1 | E27: 216 | F27: 0 | G27: Оборуд | H27: Стоимость оборудования (всего) | K27: 216 | L27: 8 | M27: 3 | O27: 2
A28: 50 | B28: 0 | C28: 0 | D28: 1 | E28: 223 | F28: 0 | G28: ОборудЗак | H28: Стоимость оборудования заказчика | K28: 223 | L28: 9 | M28: 3 | O28: 2
A29: 50 | B29: 0 | C29: 0 | D29: 1 | E29: 229 | F29: 0 | G29: ОборудПод | H29: Стоимость оборудования подрядчика | K29: 229 | L29: 10 | M29: 3 | O29: 2
A30: 50 | B30: 0 | C30: 0 | D30: 1 | E30: 203 | F30: 404675.32 | G30: ЭММ | H30: Эксплуатация машин | K30: 203 | L30: 11 | M30: 3 | O30: 2
A31: 50 | B31: 0 | C31: 0 | D31: 1 | E31: 231 | F31: 0 | G31: ЭММсНРиСП | H31: Эксплуатация машин по ТСН-2001.16 | K31: 231 | L31: 12 | M31: 3 | O31: 2
... A45: 50 | B45: 0 | C45: 0 | D45: 1 | E45: 224 | F45: 24555435 | G45: Всего | H45: Всего с НР и СП | K45: 224 | L45: 26 | M45: 3 | O45: 2
A47: -1
A50: 75 | B50: Уровень цен | C50: 2018 | D50: 0 | E50: 1 | G50: 0 | H50: 2 | I50: 1 | J50: 1 | K50: 98 | L50: 69 | M50: 0 | N50: 42145827 | O50: 1
A51: 1 | B51: Сборник индексов | C51: ТСН-2001 ремонт | D51: 2018 | E51: 1 | F51: 1 | G51: 1 | H51: 0 | I51: 2 | J51: 1 | K51: 1 | L51: 1 | M51: 1 | N51: 1 | O51: 1 | P51: 1 | Q51: 1 | AA51: 136

Sheet SmtRes

Sheet EtalonRes
