Workbook

Sheet Данные
A3: № п/п | B3: Марка | C3: Объем ж/б, м3 | H3: № п/п | I3: Марка | J3: Объем ж/б, м3
A4: 1 | B4: КС7.3 | C4: 0.05 | H4: 1 | I4: П1 | J4: 0.9
A5: 2 | B5: КС7.9 | C5: 0.15 | H5: 2 | I5: П2 | J5: 1.05
A6: 3 | B6: КС10.3 | C6: 0.08 | H6: 3 | I6: П3 | J6: 1.2
A7: 4 | B7: КС10.6 | C7: 0.16 | H7: 4 | I7: П4 | J7: 1.08
A8: 5 | B8: КС10.9 | C8: 0.24 | H8: 5 | I8: П5 | J8: 1.58
A9: 6 | B9: КС13.6 | C9: 0.2 | H9: 6 | I9: П6 | J9: 1.8
A10: 7 | B10: КС15.6 | C10: 0.265 | H10: 7 | I10: П7 | J10: 2.02
A11: 8 | B11: КС15.9 | C11: 0.4 | H11: 8 | I11: П8 | J11: 2.25
A12: 9 | B12: КС15.18 | C12: 0.804 | H12: 9 | I12: П9 | J12: 1.84
A13: 10 | B13: КС20.6 | C13: 0.39 | H13: 10 | I13: П10 | J13: 2.1
A14: 11 | B14: КС20.9 | C14: 0.59 | H14: 11 | I14: П11 | J14: 2.36
A15: 12 | B15: КС25.6 | C15: 0.48 | H15: 12 | I15: П12 | J15: 2.63
... A22: 19 | B22: КС15.18а | C22: 0.75 | H22: 19 | I22: П21 | J22: 0.44
A23: 20 | B23: КС20.12а | C23: 0.67 | H23: 20 | I23: П23
A24: 21 | B24: КС25.12а | C24: 0.87 | H24: 21 | I24: П24 | J24: 0.58
A25: 22 | B25: КС13.9б | C25: 0.24 | H25: 22 | I25: П25 | J25: 0.5
A26: 23 | B26: КС15.6б | C26: 0.22 | H26: 23 | I26: П26
A27: 24 | B27: КС15.9б | C27: 0.32 | H27: 24 | I27: П27 | J27: 0.77
A28: 25 | B28: КС15.18б | C28: 0.72 | H28: 25 | I28: П28 | J28: 0.68
A29: 26 | B29: КС20.6б | C29: 0.3 | H29: 26 | I29: П29 | J29: 0.29
A30: 27 | B30: КС20.9б | C30: 0.44 | H30: 27 | I30: П30 | J30: 0.17
A31: 28 | B31: КС20.12б | C31: 0.64 | H31: 28 | I31: П31 | J31: 0.22
A32: 29 | B32: КС20.18б | C32: 1.02 | H32: 29 | I32: П19 | J32: 0.29
A33: 30 | B33: КС25.12б | C33: 0.76 | H33: 30 | I33: П32 | J33: 0.37
A34: 31 | B34: ПП10-1 | C34: 0.1 | H34: 31 | I34: П33 | J34: 0.5
A35: 32 | B35: ПП10-2 | C35: 0.1 | H35: 32 | I35: П34 | J35: 0.16
A36: 33 | B36: ПП13-1 | C36: 0.18 | H36: 33 | I36: П35 | J36: 0.24
A37: 34 | B37: ПП13-2 | C37: 0.18 | H37: 34 | I37: П36 | J37: 0.11
A38: 35 | B38: 1ПП15-1 | C38: 0.27 | H38: 35 | I38: П37 | J38: 0.22
... A50: 47 | B50: **2ПП25-2 | C50: 0.92 | H50: 45 | I50: КЦ 7.9 | J50: 0.15
A51: 48 | B51: ПН10 | C51: 0.18
A52: 49 | B52: ПН15 | C52: 0.38
A53: 50 | B53: ПН20 | C53: 0.59
A54: 51 | B54: ПН25 | C54: 0.98
A55: 52 | B55: К06 | C55: 0.02
A56: 53 | B56: П010 | C56: 0.32
A57: 54 | B57: ПД6 | C57: 0.85
A58: 55 | B58: ПД10 | C58: 0.99
A61: ЛЮК | C61: Л
C62: Т
D64: Кирпичная кладка, ряд | E64: 1000 | F64: =0.7*3.14*0.065*0.12 -> 0.0171444
E65: 1500 | F65: =0.7*3.14*0.065*0.12 -> 0.0171444
E66: 2000 | F66: =0.7*3.14*0.065*0.12 -> 0.0171444

Sheet Колодцы диаметром 1,0м
C1: диаметр | D1: Д. 1000 мм
C2: № по плану
C3: кол-во
D4: кол | E4: объем | F4: кол | G4: объем | H4: кол | I4: объем | J4: кол | K4: объем | L4: кол | M4: объем | N4: кол | O4: объем
A5: Расход материалов | B5: =Данные!B4 -> КС7.3 | E5: =D5*Данные!C4 -> 0 | G5: =Данные!C4*F5 -> 0 | I5: =Данные!C4*H5 -> 0 | K5: =Данные!C4*J5 -> 0 | M5: =Данные!C4*L5 -> 0 | O5: =Данные!C4*N5 -> 0
B6: =Данные!B5 -> КС7.9 | E6: =D6*Данные!C5 -> 0 | G6: =Данные!C5*F6 -> 0 | I6: =Данные!C5*H6 -> 0 | K6: =Данные!C5*J6 -> 0 | M6: =Данные!C5*L6 -> 0 | O6: =Данные!C5*N6 -> 0
B7: =Данные!B6 -> КС10.3 | E7: =D7*Данные!C6 -> 0 | G7: =Данные!C6*F7 -> 0 | I7: =Данные!C6*H7 -> 0 | K7: =Данные!C6*J7 -> 0 | M7: =Данные!C6*L7 -> 0 | O7: =Данные!C6*N7 -> 0
B8: =Данные!B7 -> КС10.6 | E8: =D8*Данные!C7 -> 0 | G8: =Данные!C7*F8 -> 0 | I8: =Данные!C7*H8 -> 0 | K8: =Данные!C7*J8 -> 0 | M8: =Данные!C7*L8 -> 0 | O8: =Данные!C7*N8 -> 0
B9: =Данные!B8 -> КС10.9 | E9: =D9*Данные!C8 -> 0 | G9: =Данные!C8*F9 -> 0 | I9: =Данные!C8*H9 -> 0 | K9: =Данные!C8*J9 -> 0 | M9: =Данные!C8*L9 -> 0 | O9: =Данные!C8*N9 -> 0
B10: =Данные!B9 -> КС13.6 | E10: =D10*Данные!C9 -> 0 | G10: =Данные!C9*F10 -> 0 | I10: =Данные!C9*H10 -> 0 | K10: =Данные!C9*J10 -> 0 | M10: =Данные!C9*L10 -> 0 | O10: =Данные!C9*N10 -> 0
B11: =Данные!B10 -> КС15.6 | E11: =D11*Данные!C10 -> 0 | G11: =Данные!C10*F11 -> 0 | I11: =Данные!C10*H11 -> 0 | K11: =Данные!C10*J11 -> 0 | M11: =Данные!C10*L11 -> 0 | O11: =Данные!C10*N11 -> 0
B12: =Данные!B11 -> КС15.9 | E12: =D12*Данные!C11 -> 0 | G12: =Данные!C11*F12 -> 0 | I12: =Данные!C11*H12 -> 0 | K12: =Данные!C11*J12 -> 0 | M12: =Данные!C11*L12 -> 0 | O12: =Данные!C11*N12 -> 0
B13: =Данные!B12 -> КС15.18 | E13: =D13*Данные!C12 -> 0 | G13: =Данные!C12*F13 -> 0 | I13: =Данные!C12*H13 -> 0 | K13: =Данные!C12*J13 -> 0 | M13: =Данные!C12*L13 -> 0 | O13: =Данные!C12*N13 -> 0
B14: =Данные!B13 -> КС20.6 | E14: =D14*Данные!C13 -> 0 | G14: =Данные!C13*F14 -> 0 | I14: =Данные!C13*H14 -> 0 | K14: =Данные!C13*J14 -> 0 | M14: =Данные!C13*L14 -> 0 | O14: =Данные!C13*N14 -> 0
B15: =Данные!B14 -> КС20.9 | E15: =D15*Данные!C14 -> 0 | G15: =Данные!C14*F15 -> 0 | I15: =Данные!C14*H15 -> 0 | K15: =Данные!C14*J15 -> 0 | M15: =Данные!C14*L15 -> 0 | O15: =Данные!C14*N15 -> 0
B16: =Данные!B15 -> КС25.6 | E16: =D16*Данные!C15 -> 0 | G16: =Данные!C15*F16 -> 0 | I16: =Данные!C15*H16 -> 0 | K16: =Данные!C15*J16 -> 0 | M16: =Данные!C15*L16 -> 0 | O16: =Данные!C15*N16 -> 0
B17: =Данные!B16 -> *КС13.9 | E17: =D17*Данные!C16 -> 0 | G17: =Данные!C16*F17 -> 0 | I17: =Данные!C16*H17 -> 0 | K17: =Данные!C16*J17 -> 0 | M17: =Данные!C16*L17 -> 0 | O17: =Данные!C16*N17 -> 0
... B59: =Данные!B58 -> ПД10 | E59: =D59*Данные!C58 -> 0 | G59: =Данные!C58*F59 -> 0 | I59: =Данные!C58*H59 -> 0 | K59: =Данные!C58*J59 -> 0 | M59: =Данные!C58*L59 -> 0 | O59: =Данные!C58*N59 -> 0
B60: кирп.кладка ряд | E60: =D60*Данные!F64 -> 0 | G60: =Данные!F64*F60 -> 0 | I60: =Данные!F64*H60 -> 0 | K60: =J60*Данные!F64 -> 0 | M60: =Данные!F64*L60 -> 0 | O60: =N60*Данные!F64 -> 0
B61: люк
A62: Итого | C62: ж/б, м3 | E62: =SUM(E5:E59)*D3 -> 0 | G62: =SUM(G5:G59)*F3 -> 0 | I62: =SUM(I5:I59)*H3 -> 0 | K62: =SUM(K5:K59)*J3 -> 0 | M62: =SUM(M5:M59)*L3 -> 0 | O62: =SUM(O5:O59)*N3 -> 0
C63: кладка, м3 | E63: =E60*D3 -> 0 | G63: =G60*F3 -> 0 | I63: =I60*H3 -> 0 | K63: =K60*J3 -> 0 | M63: =M60*L3 -> 0 | O63: =O60*N3 -> 0
C64: люк, шт. | E64: =E61*D3 -> 0 | G64: =G61*F3 -> 0 | I64: =I61*H3 -> 0 | K64: =K61*J3 -> 0 | M64: =M61*L3 -> 0 | O64: =O61*N3 -> 0
A66: Итого | C66: ж/б, м3 | D66: =E62+G62+I62+K62+M62+O62 -> 0
C67: кладка, м3 | D67: =E63+G63+I63+K63+M63+O63 -> 0
C68: люк, шт. | D68: =E64+G64+I64+K64+M64+O64 -> 0

Sheet Колодцы диаметром 1,5 м
C1: диаметр | D1: Д. 1500 мм
C2: № по плану
C3: кол-во
D4: кол | E4: объем | F4: кол | G4: объем | H4: кол | I4: объем | J4: кол | K4: объем | L4: кол | M4: объем | N4: кол | O4: объем
A5: Расход материалов | B5: =Данные!B4 -> КС7.3 | E5: =D5*Данные!C4 -> 0 | G5: =Данные!C4*F5 -> 0 | I5: =Данные!C4*H5 -> 0 | K5: =Данные!C4*J5 -> 0 | M5: =Данные!C4*L5 -> 0 | O5: =Данные!C4*N5 -> 0
B6: =Данные!B5 -> КС7.9 | E6: =D6*Данные!C5 -> 0 | G6: =Данные!C5*F6 -> 0 | I6: =Данные!C5*H6 -> 0 | K6: =Данные!C5*J6 -> 0 | M6: =Данные!C5*L6 -> 0 | O6: =Данные!C5*N6 -> 0
B7: =Данные!B6 -> КС10.3 | E7: =D7*Данные!C6 -> 0 | G7: =Данные!C6*F7 -> 0 | I7: =Данные!C6*H7 -> 0 | K7: =Данные!C6*J7 -> 0 | M7: =Данные!C6*L7 -> 0 | O7: =Данные!C6*N7 -> 0
B8: =Данные!B7 -> КС10.6 | E8: =D8*Данные!C7 -> 0 | G8: =Данные!C7*F8 -> 0 | I8: =Данные!C7*H8 -> 0 | K8: =Данные!C7*J8 -> 0 | M8: =Данные!C7*L8 -> 0 | O8: =Данные!C7*N8 -> 0
B9: =Данные!B8 -> КС10.9 | E9: =D9*Данные!C8 -> 0 | G9: =Данные!C8*F9 -> 0 | I9: =Данные!C8*H9 -> 0 | K9: =Данные!C8*J9 -> 0 | M9: =Данные!C8*L9 -> 0 | O9: =Данные!C8*N9 -> 0
B10: =Данные!B9 -> КС13.6 | E10: =D10*Данные!C9 -> 0 | G10: =Данные!C9*F10 -> 0 | I10: =Данные!C9*H10 -> 0 | K10: =Данные!C9*J10 -> 0 | M10: =Данные!C9*L10 -> 0 | O10: =Данные!C9*N10 -> 0
B11: =Данные!B10 -> КС15.6 | E11: =D11*Данные!C10 -> 0 | G11: =Данные!C10*F11 -> 0 | I11: =Данные!C10*H11 -> 0 | K11: =Данные!C10*J11 -> 0 | M11: =Данные!C10*L11 -> 0 | O11: =Данные!C10*N11 -> 0
B12: =Данные!B11 -> КС15.9 | E12: =D12*Данные!C11 -> 0 | G12: =Данные!C11*F12 -> 0 | I12: =Данные!C11*H12 -> 0 | K12: =Данные!C11*J12 -> 0 | M12: =Данные!C11*L12 -> 0 | O12: =Данные!C11*N12 -> 0
B13: =Данные!B12 -> КС15.18 | E13: =D13*Данные!C12 -> 0 | G13: =Данные!C12*F13 -> 0 | I13: =Данные!C12*H13 -> 0 | K13: =Данные!C12*J13 -> 0 | M13: =Данные!C12*L13 -> 0 | O13: =Данные!C12*N13 -> 0
B14: =Данные!B13 -> КС20.6 | E14: =D14*Данные!C13 -> 0 | G14: =Данные!C13*F14 -> 0 | I14: =Данные!C13*H14 -> 0 | K14: =Данные!C13*J14 -> 0 | M14: =Данные!C13*L14 -> 0 | O14: =Данные!C13*N14 -> 0
B15: =Данные!B14 -> КС20.9 | E15: =D15*Данные!C14 -> 0 | G15: =Данные!C14*F15 -> 0 | I15: =Данные!C14*H15 -> 0 | K15: =Данные!C14*J15 -> 0 | M15: =Данные!C14*L15 -> 0 | O15: =Данные!C14*N15 -> 0
B16: =Данные!B15 -> КС25.6 | E16: =D16*Данные!C15 -> 0 | G16: =Данные!C15*F16 -> 0 | I16: =Данные!C15*H16 -> 0 | K16: =Данные!C15*J16 -> 0 | M16: =Данные!C15*L16 -> 0 | O16: =Данные!C15*N16 -> 0
B17: =Данные!B16 -> *КС13.9 | E17: =D17*Данные!C16 -> 0 | G17: =Данные!C16*F17 -> 0 | I17: =Данные!C16*H17 -> 0 | K17: =Данные!C16*J17 -> 0 | M17: =Данные!C16*L17 -> 0 | O17: =Данные!C16*N17 -> 0
... B59: =Данные!B58 -> ПД10 | E59: =D59*Данные!C58 -> 0 | G59: =Данные!C58*F59 -> 0 | I59: =Данные!C58*H59 -> 0 | K59: =Данные!C58*J59 -> 0 | M59: =Данные!C58*L59 -> 0 | O59: =Данные!C58*N59 -> 0
B60: кирп.кладка ряд | E60: =D60*Данные!F65 -> 0 | G60: =F60*Данные!H67 -> 0 | I60: =H60*Данные!J67 -> 0 | K60: =J60*Данные!L65 -> 0 | M60: =L60*Данные!N65 -> 0 | O60: =N60*Данные!P65 -> 0
B61: люк
A62: Итого | C62: ж/б, м3 | E62: =SUM(E5:E59)*D3 -> 0 | G62: =SUM(G5:G59)*F3 -> 0 | I62: =SUM(I5:I59)*H3 -> 0 | K62: =SUM(K5:K59)*J3 -> 0 | M62: =SUM(M5:M59)*L3 -> 0 | O62: =SUM(O5:O59)*N3 -> 0
C63: кладка, м3 | E63: =E60*D3 -> 0 | G63: =G60*F3 -> 0 | I63: =I60*H3 -> 0 | K63: =K60*J3 -> 0 | M63: =M60*L3 -> 0 | O63: =O60*N3 -> 0
C64: люк, шт. | E64: =E61*D3 -> 0 | G64: =G61*F3 -> 0 | I64: =I61*H3 -> 0 | K64: =K61*J3 -> 0 | M64: =M61*L3 -> 0 | O64: =O61*N3 -> 0
A66: Итого | C66: ж/б, м3 | D66: =E62+G62+I62+K62+M62+O62 -> 0
C67: кладка, м3 | D67: =E63+G63+I63+K63+M63+O63 -> 0
C68: люк, шт. | D68: =E64+G64+I64+K64+M64+O64 -> 0

Sheet Колодцы диаметром 2,0 м
C1: диаметр | D1: Д. 2000 мм
C2: № по плану
C3: кол-во
D4: кол | E4: объем | F4: кол | G4: объем | H4: кол | I4: объем | J4: кол | K4: объем | L4: кол | M4: объем | N4: кол | O4: объем
A5: Расход материалов | B5: =Данные!B4 -> КС7.3 | E5: =D5*Данные!C4 -> 0 | G5: =Данные!C4*F5 -> 0 | I5: =Данные!C4*H5 -> 0 | K5: =Данные!C4*J5 -> 0 | M5: =Данные!C4*L5 -> 0 | O5: =Данные!C4*N5 -> 0
B6: =Данные!B5 -> КС7.9 | E6: =D6*Данные!C5 -> 0 | G6: =Данные!C5*F6 -> 0 | I6: =Данные!C5*H6 -> 0 | K6: =Данные!C5*J6 -> 0 | M6: =Данные!C5*L6 -> 0 | O6: =Данные!C5*N6 -> 0
B7: =Данные!B6 -> КС10.3 | E7: =D7*Данные!C6 -> 0 | G7: =Данные!C6*F7 -> 0 | I7: =Данные!C6*H7 -> 0 | K7: =Данные!C6*J7 -> 0 | M7: =Данные!C6*L7 -> 0 | O7: =Данные!C6*N7 -> 0
B8: =Данные!B7 -> КС10.6 | E8: =D8*Данные!C7 -> 0 | G8: =Данные!C7*F8 -> 0 | I8: =Данные!C7*H8 -> 0 | K8: =Данные!C7*J8 -> 0 | M8: =Данные!C7*L8 -> 0 | O8: =Данные!C7*N8 -> 0
B9: =Данные!B8 -> КС10.9 | E9: =D9*Данные!C8 -> 0 | G9: =Данные!C8*F9 -> 0 | I9: =Данные!C8*H9 -> 0 | K9: =Данные!C8*J9 -> 0 | M9: =Данные!C8*L9 -> 0 | O9: =Данные!C8*N9 -> 0
B10: =Данные!B9 -> КС13.6 | E10: =D10*Данные!C9 -> 0 | G10: =Данные!C9*F10 -> 0 | I10: =Данные!C9*H10 -> 0 | K10: =Данные!C9*J10 -> 0 | M10: =Данные!C9*L10 -> 0 | O10: =Данные!C9*N10 -> 0
B11: =Данные!B10 -> КС15.6 | E11: =D11*Данные!C10 -> 0 | G11: =Данные!C10*F11 -> 0 | I11: =Данные!C10*H11 -> 0 | K11: =Данные!C10*J11 -> 0 | M11: =Данные!C10*L11 -> 0 | O11: =Данные!C10*N11 -> 0
B12: =Данные!B11 -> КС15.9 | E12: =D12*Данные!C11 -> 0 | G12: =Данные!C11*F12 -> 0 | I12: =Данные!C11*H12 -> 0 | K12: =Данные!C11*J12 -> 0 | M12: =Данные!C11*L12 -> 0 | O12: =Данные!C11*N12 -> 0
B13: =Данные!B12 -> КС15.18 | E13: =D13*Данные!C12 -> 0 | G13: =Данные!C12*F13 -> 0 | I13: =Данные!C12*H13 -> 0 | K13: =Данные!C12*J13 -> 0 | M13: =Данные!C12*L13 -> 0 | O13: =Данные!C12*N13 -> 0
B14: =Данные!B13 -> КС20.6 | E14: =D14*Данные!C13 -> 0 | G14: =Данные!C13*F14 -> 0 | I14: =Данные!C13*H14 -> 0 | K14: =Данные!C13*J14 -> 0 | M14: =Данные!C13*L14 -> 0 | O14: =Данные!C13*N14 -> 0
B15: =Данные!B14 -> КС20.9 | E15: =D15*Данные!C14 -> 0 | G15: =Данные!C14*F15 -> 0 | I15: =Данные!C14*H15 -> 0 | K15: =Данные!C14*J15 -> 0 | M15: =Данные!C14*L15 -> 0 | O15: =Данные!C14*N15 -> 0
B16: =Данные!B15 -> КС25.6 | E16: =D16*Данные!C15 -> 0 | G16: =Данные!C15*F16 -> 0 | I16: =Данные!C15*H16 -> 0 | K16: =Данные!C15*J16 -> 0 | M16: =Данные!C15*L16 -> 0 | O16: =Данные!C15*N16 -> 0
B17: =Данные!B16 -> *КС13.9 | E17: =D17*Данные!C16 -> 0 | G17: =Данные!C16*F17 -> 0 | I17: =Данные!C16*H17 -> 0 | K17: =Данные!C16*J17 -> 0 | M17: =Данные!C16*L17 -> 0 | O17: =Данные!C16*N17 -> 0
... B38: =Данные!B37 -> ПП13-2 | E38: =D38*Данные!C37 -> 0 | G38: =Данные!C37*F38 -> 0 | I38: =Данные!C37*H38 -> 0 | K38: =Данные!C37*J38 -> 0 | M38: =Данные!C37*L38 -> 0 | O38: =Данные!C37*N38 -> 0
B39: =Данные!B38 -> 1ПП15-1 | E39: =D39*Данные!C38 -> 0 | G39: =Данные!C38*F39 -> 0 | I39: =Данные!C38*H39 -> 0 | K39: =Данные!C38*J39 -> 0 | M39: =Данные!C38*L39 -> 0 | O39: =Данные!C38*N39 -> 0 | Z39: колодцы д. 1500 мм
B40: =Данные!B39 -> 1ПП15-2 | E40: =D40*Данные!C39 -> 0 | G40: =Данные!C39*F40 -> 0 | I40: =Данные!C39*H40 -> 0 | K40: =Данные!C39*J40 -> 0 | M40: =Данные!C39*L40 -> 0 | O40: =Данные!C39*N40 -> 0 | X40: Итого | Z40: ж/б, м3 | AA40: =#REF!+#REF!+#REF!+#REF!+#REF!+#REF!+#REF!+#REF!+#REF!+#REF!+#REF!+#REF!+#REF!+#REF!+#REF!+#REF!+#REF!+#REF!+#REF!+#REF!+#REF!+#REF!+#REF!+#REF!+#REF!+O62+M62+K62+I62+G62+E62 -> #REF!
B41: =Данные!B40 -> *2ПП15-1 | E41: =D41*Данные!C40 -> 0 | G41: =Данные!C40*F41 -> 0 | I41: =Данные!C40*H41 -> 0 | K41: =Данные!C40*J41 -> 0 | M41: =Данные!C40*L41 -> 0 | O41: =Данные!C40*N41 -> 0 | Z41: кладка, м3 | AA41: =O63+M63+K63+I63+G63+E63+#REF!+#REF!+#REF!+#REF!+#REF!+#REF!+#REF!+#REF!+#REF!+#REF!+#REF!+#REF!+#REF!+#REF!+#REF!+#REF!+#REF!+#REF!+#REF!+#REF!+#REF!+#REF!+#REF!+#REF!+#REF!+#REF! -> #REF!
B42: =Данные!B41 -> *2ПП15-2 | E42: =D42*Данные!C41 -> 0 | G42: =Данные!C41*F42 -> 0 | I42: =Данные!C41*H42 -> 0 | K42: =Данные!C41*J42 -> 0 | M42: =Данные!C41*L42 -> 0 | O42: =Данные!C41*N42 -> 0 | Z42: люк, шт. | AA42: =#REF!+#REF!+#REF!+#REF!+#REF!+#REF!+#REF!+#REF!+#REF!+#REF!+#REF!+#REF!+#REF!+#REF!+#REF!+#REF!+#REF!+#REF!+#REF!+#REF!+#REF!+#REF!+#REF!+#REF!+#REF!+#REF!+O64+M64+K64+I64+G64+E64 -> #REF!
B43: =Данные!B42 -> 3ПП15-1 | E43: =D43*Данные!C42 -> 0 | G43: =Данные!C42*F43 -> 0 | I43: =Данные!C42*H43 -> 0 | K43: =Данные!C42*J43 -> 0 | M43: =Данные!C42*L43 -> 0 | O43: =Данные!C42*N43 -> 0
B44: =Данные!B43 -> 3ПП15-2 | E44: =D44*Данные!C43 -> 0 | G44: =Данные!C43*F44 -> 0 | I44: =Данные!C43*H44 -> 0 | K44: =Данные!C43*J44 -> 0 | M44: =Данные!C43*L44 -> 0 | O44: =Данные!C43*N44 -> 0
B45: =Данные!B44 -> *1ПП20-1 | E45: =D45*Данные!C44 -> 0 | G45: =Данные!C44*F45 -> 0 | I45: =Данные!C44*H45 -> 0 | K45: =Данные!C44*J45 -> 0 | M45: =Данные!C44*L45 -> 0 | O45: =Данные!C44*N45 -> 0
B46: =Данные!B45 -> *1ПП20-2 | E46: =D46*Данные!C45 -> 0 | G46: =Данные!C45*F46 -> 0 | I46: =Данные!C45*H46 -> 0 | K46: =Данные!C45*J46 -> 0 | M46: =Данные!C45*L46 -> 0 | O46: =Данные!C45*N46 -> 0
B47: =Данные!B46 -> 2ПП20-1 | E47: =D47*Данные!C46 -> 0 | G47: =Данные!C46*F47 -> 0 | I47: =Данные!C46*H47 -> 0 | K47: =Данные!C46*J47 -> 0 | M47: =Данные!C46*L47 -> 0 | O47: =Данные!C46*N47 -> 0
B48: =Данные!B47 -> 2ПП20-2 | E48: =D48*Данные!C47 -> 0 | G48: =Данные!C47*F48 -> 0 | I48: =Данные!C47*H48 -> 0 | K48: =Данные!C47*J48 -> 0 | M48: =Данные!C47*L48 -> 0 | O48: =Данные!C47*N48 -> 0
B49: =Данные!B48 -> **4ПП20-2 | E49: =D49*Данные!C48 -> 0 | G49: =Данные!C48*F49 -> 0 | I49: =Данные!C48*H49 -> 0 | K49: =Данные!C48*J49 -> 0 | M49: =Данные!C48*L49 -> 0 | O49: =Данные!C48*N49 -> 0
B50: =Данные!B49 -> **1ПП25-2 | E50: =D50*Данные!C49 -> 0 | G50: =Данные!C49*F50 -> 0 | I50: =Данные!C49*H50 -> 0 | K50: =Данные!C49*J50 -> 0 | M50: =Данные!C49*L50 -> 0 | O50: =Данные!C49*N50 -> 0
B51: =Данные!B50 -> **2ПП25-2 | E51: =D51*Данные!C50 -> 0 | G51: =Данные!C50*F51 -> 0 | I51: =Данные!C50*H51 -> 0 | K51: =Данные!C50*J51 -> 0 | M51: =Данные!C50*L51 -> 0 | O51: =Данные!C50*N51 -> 0
B52: =Данные!B51 -> ПН10 | E52: =D52*Данные!C51 -> 0 | G52: =Данные!C51*F52 -> 0 | I52: =Данные!C51*H52 -> 0 | K52: =Данные!C51*J52 -> 0 | M52: =Данные!C51*L52 -> 0 | O52: =Данные!C51*N52 -> 0
B53: =Данные!B52 -> ПН15 | E53: =D53*Данные!C52 -> 0 | G53: =Данные!C52*F53 -> 0 | I53: =Данные!C52*H53 -> 0 | K53: =Данные!C52*J53 -> 0 | M53: =Данные!C52*L53 -> 0 | O53: =Данные!C52*N53 -> 0
B54: =Данные!B53 -> ПН20 | E54: =D54*Данные!C53 -> 0 | G54: =Данные!C53*F54 -> 0 | I54: =Данные!C53*H54 -> 0 | K54: =Данные!C53*J54 -> 0 | M54: =Данные!C53*L54 -> 0 | O54: =Данные!C53*N54 -> 0
... B59: =Данные!B58 -> ПД10 | E59: =D59*Данные!C58 -> 0 | G59: =Данные!C58*F59 -> 0 | I59: =Данные!C58*H59 -> 0 | K59: =Данные!C58*J59 -> 0 | M59: =Данные!C58*L59 -> 0 | O59: =Данные!C58*N59 -> 0
B60: кирп.кладка ряд | E60: =D60*Данные!F66 -> 0 | G60: =F60*Данные!H68 -> 0 | I60: =H60*Данные!J68 -> 0 | K60: =J60*Данные!L66 -> 0 | M60: =L60*Данные!N66 -> 0 | O60: =N60*Данные!P66 -> 0
B61: люк
A62: Итого | C62: ж/б, м3 | E62: =SUM(E5:E59)*D3 -> 0 | G62: =SUM(G5:G59)*F3 -> 0 | I62: =SUM(I5:I59)*H3 -> 0 | K62: =SUM(K5:K59)*J3 -> 0 | M62: =SUM(M5:M59)*L3 -> 0 | O62: =SUM(O5:O59)*N3 -> 0
C63: кладка, м3 | E63: =E60*D3 -> 0 | G63: =G60*F3 -> 0 | I63: =I60*H3 -> 0 | K63: =K60*J3 -> 0 | M63: =M60*L3 -> 0 | O63: =O60*N3 -> 0
C64: люк, шт. | E64: =E61*D3 -> 0 | G64: =G61*F3 -> 0 | I64: =I61*H3 -> 0 | K64: =K61*J3 -> 0 | M64: =M61*L3 -> 0 | O64: =O61*N3 -> 0
A66: Итого | C66: ж/б, м3 | D66: =E62+G62+I62+K62+M62+O62 -> 0
C67: кладка, м3 | D67: =E63+G63+I63+K63+M63+O63 -> 0
C68: люк, шт. | D68: =E64+G64+I64+K64+M64+O64 -> 0

Sheet Земля по круглым колодцам
A2: Исходные данные: | O2: ИТОГО
A3: d колодца, м
A4: h заложения, м
A5: N колодцев, шт.
A6: Откосы, град.
A7: h пес. основания, м
A8: Плотность грунта, т/м3
A9: b рабочей зоны, м
A10: На 1 колодец:
A11: a нижн, м | B11: =B3+B9*2 -> 0 | C11: =C3+C9*2 -> 0 | D11: =D3+D9*2 -> 0 | E11: =E3+E9*2 -> 0 | F11: =F3+F9*2 -> 0 | G11: =G3+G9*2 -> 0 | H11: =H3+H9*2 -> 0 | I11: =I3+I9*2 -> 0 | ... N11: =N3+N9*2 -> 0 | O11: =SUM(B11:N11) -> 0
A12: a верхн, м | B12: =ROUND(B11+TAN(B6*PI()/180)*B4*2,2) -> 0 | C12: =ROUND(C11+TAN(C6*PI()/180)*C4*2,2) -> 0 | D12: =ROUND(D11+TAN(D6*PI()/180)*D4*2,2) -> 0 | E12: =ROUND(E11+TAN(E6*PI()/180)*E4*2,2) -> 0 | F12: =ROUND(F11+TAN(F6*PI()/180)*F4*2,2) -> 0 | G12: =ROUND(G11+TAN(G6*PI()/180)*G4*2,2) -> 0 | H12: =ROUND(H11+TAN(H6*PI()/180)*H4*2,2) -> 0 | I12: =ROUND(I11+TAN(I6*PI()/180)*I4*2,2) -> 0 | ... N12: =ROUND(N11+TAN(N6*PI()/180)*N4*2,2) -> 0 | O12: =SUM(B12:N12) -> 0
A13: V земли, м3 | B13: =ROUND((B12+B11)/2*B4*(B11+B12)/2,2) -> 0 | C13: =ROUND((C12+C11)/2*C4*(C11+C12)/2,2) -> 0 | D13: =ROUND((D12+D11)/2*D4*(D11+D12)/2,2) -> 0 | E13: =ROUND((E12+E11)/2*E4*(E11+E12)/2,2) -> 0 | F13: =ROUND((F12+F11)/2*F4*(F11+F12)/2,2) -> 0 | G13: =ROUND((G12+G11)/2*G4*(G11+G12)/2,2) -> 0 | H13: =ROUND((H12+H11)/2*H4*(H11+H12)/2,2) -> 0 | I13: =ROUND((I12+I11)/2*I4*(I11+I12)/2,2) -> 0 | ... N13: =ROUND((N12+N11)/2*N4*(N11+N12)/2,2) -> 0 | O13: =SUM(B13:N13) -> 0
A14: S осн, м2 | B14: =B11^2 -> 0 | C14: =C11^2 -> 0 | D14: =D11^2 -> 0 | E14: =E11^2 -> 0 | F14: =F11^2 -> 0 | G14: =G11^2 -> 0 | H14: =H11^2 -> 0 | I14: =I11^2 -> 0 | ... N14: =N11^2 -> 0 | O14: =SUM(B14:N14) -> 0
A15: S верха, м2 | B15: =B12^2 -> 0 | C15: =C12^2 -> 0 | D15: =D12^2 -> 0 | E15: =E12^2 -> 0 | F15: =F12^2 -> 0 | G15: =G12^2 -> 0 | H15: =H12^2 -> 0 | I15: =I12^2 -> 0 | ... N15: =N12^2 -> 0 | O15: =SUM(B15:N15) -> 0
A16: V колодца, м3 | B16: =3.14*(B3)^2/4*B4 -> 0 | C16: =3.14*(C3)^2/4*C4 -> 0 | D16: =3.14*(D3)^2/4*D4 -> 0 | E16: =3.14*(E3)^2/4*E4 -> 0 | F16: =3.14*(F3)^2/4*F4 -> 0 | G16: =3.14*(G3)^2/4*G4 -> 0 | H16: =3.14*(H3)^2/4*H4 -> 0 | I16: =3.14*(I3)^2/4*I4 -> 0 | ... N16: =3.14*(N3)^2/4*N4 -> 0 | O16: =SUM(B16:N16) -> 0
A17: V земли - V колодца, м3 | B17: =B13-B16 -> 0 | C17: =C13-C16 -> 0 | D17: =D13-D16 -> 0 | E17: =E13-E16 -> 0 | F17: =F13-F16 -> 0 | G17: =G13-G16 -> 0 | H17: =H13-H16 -> 0 | I17: =I13-I16 -> 0 | ... N17: =N13-N16 -> 0 | O17: =SUM(B17:N17) -> 0
A18: V песка, м3 | B18: =B14*B7 -> 0 | C18: =C14*C7 -> 0 | D18: =D14*D7 -> 0 | E18: =E14*E7 -> 0 | F18: =F14*F7 -> 0 | G18: =G14*G7 -> 0 | H18: =H14*H7 -> 0 | I18: =I14*I7 -> 0 | ... N18: =N14*N7 -> 0 | O18: =SUM(B18:N18) -> 0
A19: V засыпки, м3 | B19: =B17-B18 -> 0 | C19: =C17-C18 -> 0 | D19: =D17-D18 -> 0 | E19: =E17-E18 -> 0 | F19: =F17-F18 -> 0 | G19: =G17-G18 -> 0 | H19: =H17-H18 -> 0 | I19: =I17-I18 -> 0 | ... N19: =N17-N18 -> 0 | O19: =SUM(B19:N19) -> 0
A20: V лишнего грунта, м3 | B20: =B16+B18 -> 0 | C20: =C16+C18 -> 0 | D20: =D16+D18 -> 0 | E20: =E16+E18 -> 0 | F20: =F16+F18 -> 0 | G20: =G16+G18 -> 0 | H20: =H16+H18 -> 0 | I20: =I16+I18 -> 0 | ... N20: =N16+N18 -> 0 | O20: =SUM(B20:N20) -> 0
A21: G лишнего грунта, т | B21: =B20*B8 -> 0 | C21: =C20*C8 -> 0 | D21: =D20*D8 -> 0 | E21: =E20*E8 -> 0 | F21: =F20*F8 -> 0 | G21: =G20*G8 -> 0 | H21: =H20*H8 -> 0 | I21: =I20*I8 -> 0 | ... N21: =N20*N8 -> 0 | O21: =SUM(B21:N21) -> 0
A22: Периметр, м | B22: =PI()*B3 -> 0 | C22: =PI()*C3 -> 0 | D22: =PI()*D3 -> 0 | E22: =PI()*E3 -> 0 | F22: =PI()*F3 -> 0 | G22: =PI()*G3 -> 0 | H22: =PI()*H3 -> 0 | I22: =PI()*I3 -> 0 | ... N22: =PI()*N3 -> 0 | O22: =SUM(B22:N22) -> 0
A23: На все колодцы:
A24: V земли, м3 | B24: =B13*B5 -> 0 | C24: =C13*C5 -> 0 | D24: =D13*D5 -> 0 | E24: =E13*E5 -> 0 | F24: =F13*F5 -> 0 | G24: =G13*G5 -> 0 | H24: =H13*H5 -> 0 | I24: =I13*I5 -> 0 | ... N24: =N13*N5 -> 0 | O24: =SUM(B24:N24) -> 0
A25: S осн, м2 | B25: =B14*B5 -> 0 | C25: =C14*C5 -> 0 | D25: =D14*D5 -> 0 | E25: =E14*E5 -> 0 | F25: =F14*F5 -> 0 | G25: =G14*G5 -> 0 | H25: =H14*H5 -> 0 | I25: =I14*I5 -> 0 | ... N25: =N14*N5 -> 0 | O25: =SUM(B25:N25) -> 0
A26: S верха, м2 | B26: =B15*B5 -> 0 | C26: =C15*C5 -> 0 | D26: =D15*D5 -> 0 | E26: =E15*E5 -> 0 | F26: =F15*F5 -> 0 | G26: =G15*G5 -> 0 | H26: =H15*H5 -> 0 | I26: =I15*I5 -> 0 | ... N26: =N15*N5 -> 0 | O26: =SUM(B26:N26) -> 0
A27: V колодца, м3 | B27: =B16*B5 -> 0 | C27: =C16*C5 -> 0 | D27: =D16*D5 -> 0 | E27: =E16*E5 -> 0 | F27: =F16*F5 -> 0 | G27: =G16*G5 -> 0 | H27: =H16*H5 -> 0 | I27: =I16*I5 -> 0 | ... N27: =N16*N5 -> 0 | O27: =SUM(B27:N27) -> 0
A28: V земли - V колодца, м3 | B28: =B17*B5 -> 0 | C28: =C17*C5 -> 0 | D28: =D17*D5 -> 0 | E28: =E17*E5 -> 0 | F28: =F17*F5 -> 0 | G28: =G17*G5 -> 0 | H28: =H17*H5 -> 0 | I28: =I17*I5 -> 0 | ... N28: =N17*N5 -> 0 | O28: =SUM(B28:N28) -> 0
A29: V песка, м3 | B29: =B18*B5 -> 0 | C29: =C18*C5 -> 0 | D29: =D18*D5 -> 0 | E29: =E18*E5 -> 0 | F29: =F18*F5 -> 0 | G29: =G18*G5 -> 0 | H29: =H18*H5 -> 0 | I29: =I18*I5 -> 0 | ... N29: =N18*N5 -> 0 | O29: =SUM(B29:N29) -> 0
A30: V засыпки, м3 | B30: =B19*B5 -> 0 | C30: =C19*C5 -> 0 | D30: =D19*D5 -> 0 | E30: =E19*E5 -> 0 | F30: =F19*F5 -> 0 | G30: =G19*G5 -> 0 | H30: =H19*H5 -> 0 | I30: =I19*I5 -> 0 | ... N30: =N19*N5 -> 0 | O30: =SUM(B30:N30) -> 0
A31: V лишнего грунта, м3 | B31: =B20*B5 -> 0 | C31: =C20*C5 -> 0 | D31: =D20*D5 -> 0 | E31: =E20*E5 -> 0 | F31: =F20*F5 -> 0 | G31: =G20*G5 -> 0 | H31: =H20*H5 -> 0 | I31: =I20*I5 -> 0 | ... N31: =N20*N5 -> 0 | O31: =SUM(B31:N31) -> 0
A32: G лишнего грунта, т | B32: =B21*B5 -> 0 | C32: =C21*C5 -> 0 | D32: =D21*D5 -> 0 | E32: =E21*E5 -> 0 | F32: =F21*F5 -> 0 | G32: =G21*G5 -> 0 | H32: =H21*H5 -> 0 | I32: =I21*I5 -> 0 | ... N32: =N21*N5 -> 0 | O32: =SUM(B32:N32) -> 0
A33: Периметр, м | B33: =B22*B5 -> 0 | C33: =C22*C5 -> 0 | D33: =D22*D5 -> 0 | E33: =E22*E5 -> 0 | F33: =F22*F5 -> 0 | G33: =G22*G5 -> 0 | H33: =H22*H5 -> 0 | I33: =I22*I5 -> 0 | ... N33: =N22*N5 -> 0 | O33: =SUM(B33:N33) -> 0
A35: h засыпки труб, м | B35: - пользовательские значения, вводятся вручную'
A36: a верхн засыпки, м | B36: - расчетные значения, расчитываются автоматически

Sheet Земля по прямоуг.колодцам
A3: Исходные данные: | O3: ИТОГО
A4: а колодца, м
A5: b колодца, м
A6: h заложения, м
A7: b рабочей зоны, м
A8: N колодцев, шт.
A9: Откосы, град.
A10: h пес. основания, м
A11: Плотность грунта, т/м3
A12: На 1 колодец:
A13: a(a) нижн, м | B13: =B4+B7*2 -> 0 | C13: =C4+C7*2 -> 0 | D13: =D4+D7*2 -> 0 | E13: =E4+E7*2 -> 0 | F13: =F4+F7*2 -> 0 | G13: =G4+G7*2 -> 0 | H13: =H4+H7*2 -> 0 | I13: =I4+I7*2 -> 0 | ... N13: =N4+N7*2 -> 0 | O13: =SUM(B13:N13) -> 0
A14: a(a) верхн, м | B14: =ROUND(B13+TAN(B9*PI()/180)*B6*2,2) -> 0 | C14: =ROUND(C13+TAN(C9*PI()/180)*C6*2,2) -> 0 | D14: =ROUND(D13+TAN(D9*PI()/180)*D6*2,2) -> 0 | E14: =ROUND(E13+TAN(E9*PI()/180)*E6*2,2) -> 0 | F14: =ROUND(F13+TAN(F9*PI()/180)*F6*2,2) -> 0 | G14: =ROUND(G13+TAN(G9*PI()/180)*G6*2,2) -> 0 | H14: =ROUND(H13+TAN(H9*PI()/180)*H6*2,2) -> 0 | I14: =ROUND(I13+TAN(I9*PI()/180)*I6*2,2) -> 0 | ... N14: =ROUND(N13+TAN(N9*PI()/180)*N6*2,2) -> 0 | O14: =SUM(B14:N14) -> 0
A15: a(b) нижн, м | B15: =B5+B7*2 -> 0 | C15: =C5+C7*2 -> 0 | D15: =D5+D7*2 -> 0 | E15: =E5+E7*2 -> 0 | F15: =F5+F7*2 -> 0 | G15: =G5+G7*2 -> 0 | H15: =H5+H7*2 -> 0 | I15: =I5+I7*2 -> 0 | ... N15: =N5+N7*2 -> 0 | O15: =SUM(B15:N15) -> 0
A16: a(b) верхн, м | B16: =ROUND(B15+TAN(B9*PI()/180)*B6*2,2) -> 0 | C16: =ROUND(C15+TAN(C9*PI()/180)*C6*2,2) -> 0 | D16: =ROUND(D15+TAN(D9*PI()/180)*D6*2,2) -> 0 | E16: =ROUND(E15+TAN(E9*PI()/180)*E6*2,2) -> 0 | F16: =ROUND(F15+TAN(F9*PI()/180)*F6*2,2) -> 0 | G16: =ROUND(G15+TAN(G9*PI()/180)*G6*2,2) -> 0 | H16: =ROUND(H15+TAN(H9*PI()/180)*H6*2,2) -> 0 | I16: =ROUND(I15+TAN(I9*PI()/180)*I6*2,2) -> 0 | ... N16: =ROUND(N15+TAN(N9*PI()/180)*N6*2,2) -> 0 | O16: =SUM(B16:N16) -> 0
A17: S осн, м2 | B17: =B13*B15 -> 0 | C17: =C13*C15 -> 0 | D17: =D13*D15 -> 0 | E17: =E13*E15 -> 0 | F17: =F13*F15 -> 0 | G17: =G13*G15 -> 0 | H17: =H13*H15 -> 0 | I17: =I13*I15 -> 0 | ... N17: =N13*N15 -> 0 | O17: =SUM(B17:N17) -> 0
A18: S верха, м2 | B18: =B14*B16 -> 0 | C18: =C14*C16 -> 0 | D18: =D14*D16 -> 0 | E18: =E14*E16 -> 0 | F18: =F14*F16 -> 0 | G18: =G14*G16 -> 0 | H18: =H14*H16 -> 0 | I18: =I14*I16 -> 0 | ... N18: =N14*N16 -> 0 | O18: =SUM(B18:N18) -> 0
A19: V котлована, м3 | B19: =ROUND((B14+B13)/2*B6*(B15+B16)/2,2) -> 0 | C19: =ROUND((C14+C13)/2*C6*(C15+C16)/2,2) -> 0 | D19: =ROUND((D14+D13)/2*D6*(D15+D16)/2,2) -> 0 | E19: =ROUND((E14+E13)/2*E6*(E15+E16)/2,2) -> 0 | F19: =ROUND((F14+F13)/2*F6*(F15+F16)/2,2) -> 0 | G19: =ROUND((G14+G13)/2*G6*(G15+G16)/2,2) -> 0 | H19: =ROUND((H14+H13)/2*H6*(H15+H16)/2,2) -> 0 | I19: =ROUND((I14+I13)/2*I6*(I15+I16)/2,2) -> 0 | ... N19: =ROUND((N14+N13)/2*N6*(N15+N16)/2,2) -> 0 | O19: =SUM(B19:N19) -> 0
A20: V колодца, м3 | B20: =B4*B5*B6 -> 0 | C20: =C4*C5*C6 -> 0 | D20: =D4*D5*D6 -> 0 | E20: =E4*E5*E6 -> 0 | F20: =F4*F5*F6 -> 0 | G20: =G4*G5*G6 -> 0 | H20: =H4*H5*H6 -> 0 | I20: =I4*I5*I6 -> 0 | ... N20: =N4*N5*N6 -> 0 | O20: =SUM(B20:N20) -> 0
A21: V земли - V колодца, м3 | B21: =B19-B20 -> 0 | C21: =C19-C20 -> 0 | D21: =D19-D20 -> 0 | E21: =E19-E20 -> 0 | F21: =F19-F20 -> 0 | G21: =G19-G20 -> 0 | H21: =H19-H20 -> 0 | I21: =I19-I20 -> 0 | ... N21: =N19-N20 -> 0 | O21: =SUM(B21:N21) -> 0
A22: V песка, м3 | B22: =B17*B10 -> 0 | C22: =C17*C10 -> 0 | D22: =D17*D10 -> 0 | E22: =E17*E10 -> 0 | F22: =F17*F10 -> 0 | G22: =G17*G10 -> 0 | H22: =H17*H10 -> 0 | I22: =I17*I10 -> 0 | ... N22: =N17*N10 -> 0 | O22: =SUM(B22:N22) -> 0
A23: V засыпки, м3 | B23: =B21-B22 -> 0 | C23: =C21-C22 -> 0 | D23: =D21-D22 -> 0 | E23: =E21-E22 -> 0 | F23: =F21-F22 -> 0 | G23: =G21-G22 -> 0 | H23: =H21-H22 -> 0 | I23: =I21-I22 -> 0 | ... N23: =N21-N22 -> 0 | O23: =SUM(B23:N23) -> 0
A24: V лишнего грунта, м3 | B24: =B20+B22 -> 0 | C24: =C20+C22 -> 0 | D24: =D20+D22 -> 0 | E24: =E20+E22 -> 0 | F24: =F20+F22 -> 0 | G24: =G20+G22 -> 0 | H24: =H20+H22 -> 0 | I24: =I20+I22 -> 0 | ... N24: =N20+N22 -> 0 | O24: =SUM(B24:N24) -> 0
A25: G лишнего грунта, т | B25: =B24*B11 -> 0 | C25: =C24*C11 -> 0 | D25: =D24*D11 -> 0 | E25: =E24*E11 -> 0 | F25: =F24*F11 -> 0 | G25: =G24*G11 -> 0 | H25: =H24*H11 -> 0 | I25: =I24*I11 -> 0 | ... N25: =N24*N11 -> 0 | O25: =SUM(B25:N25) -> 0
A26: Периметр, м | B26: =B4*2+B5*2 -> 0 | C26: =C4*2+C5*2 -> 0 | D26: =D4*2+D5*2 -> 0 | E26: =E4*2+E5*2 -> 0 | F26: =F4*2+F5*2 -> 0 | G26: =G4*2+G5*2 -> 0 | H26: =H4*2+H5*2 -> 0 | I26: =I4*2+I5*2 -> 0 | ... N26: =N4*2+N5*2 -> 0 | O26: =SUM(B26:N26) -> 0
A27: На все колодцы:
A28: S осн, м2 | B28: =B17*B8 -> 0 | C28: =C17*C8 -> 0 | D28: =D17*D8 -> 0 | E28: =E17*E8 -> 0 | F28: =F17*F8 -> 0 | G28: =G17*G8 -> 0 | H28: =H17*H8 -> 0 | I28: =I17*I8 -> 0 | ... N28: =N17*N8 -> 0 | O28: =SUM(B28:N28) -> 0
A29: S верха, м2 | B29: =B20*B8 -> 0 | C29: =C20*C8 -> 0 | D29: =D20*D8 -> 0 | E29: =E20*E8 -> 0 | F29: =F20*F8 -> 0 | G29: =G20*G8 -> 0 | H29: =H20*H8 -> 0 | I29: =I20*I8 -> 0 | ... N29: =N20*N8 -> 0 | O29: =SUM(B29:N29) -> 0
A30: V котлована, м3 | B30: =B19*B8 -> 0 | C30: =C19*C8 -> 0 | D30: =D19*D8 -> 0 | E30: =E19*E8 -> 0 | F30: =F19*F8 -> 0 | G30: =G19*G8 -> 0 | H30: =H19*H8 -> 0 | I30: =I19*I8 -> 0 | ... N30: =N19*N8 -> 0 | O30: =SUM(B30:N30) -> 0
A31: V колодца, м3 | B31: =B20*B8 -> 0 | C31: =C20*C8 -> 0 | D31: =D20*D8 -> 0 | E31: =E20*E8 -> 0 | F31: =F20*F8 -> 0 | G31: =G20*G8 -> 0 | H31: =H20*H8 -> 0 | I31: =I20*I8 -> 0 | ... N31: =N20*N8 -> 0 | O31: =SUM(B31:N31) -> 0
A32: V земли - V колодца, м3 | B32: =B21*B8 -> 0 | C32: =C21*C8 -> 0 | D32: =D21*D8 -> 0 | E32: =E21*E8 -> 0 | F32: =F21*F8 -> 0 | G32: =G21*G8 -> 0 | H32: =H21*H8 -> 0 | I32: =I21*I8 -> 0 | ... N32: =N21*N8 -> 0 | O32: =SUM(B32:N32) -> 0
A33: V песка, м3 | B33: =B22*B8 -> 0 | C33: =C22*C8 -> 0 | D33: =D22*D8 -> 0 | E33: =E22*E8 -> 0 | F33: =F22*F8 -> 0 | G33: =G22*G8 -> 0 | H33: =H22*H8 -> 0 | I33: =I22*I8 -> 0 | ... N33: =N22*N8 -> 0 | O33: =SUM(B33:N33) -> 0
A34: V засыпки, м3 | B34: =B23*B8 -> 0 | C34: =C23*C8 -> 0 | D34: =D23*D8 -> 0 | E34: =E23*E8 -> 0 | F34: =F23*F8 -> 0 | G34: =G23*G8 -> 0 | H34: =H23*H8 -> 0 | I34: =I23*I8 -> 0 | ... N34: =N23*N8 -> 0 | O34: =SUM(B34:N34) -> 0
A35: V лишнего грунта, м3 | B35: =B24*B8 -> 0 | C35: =C24*C8 -> 0 | D35: =D24*D8 -> 0 | E35: =E24*E8 -> 0 | F35: =F24*F8 -> 0 | G35: =G24*G8 -> 0 | H35: =H24*H8 -> 0 | I35: =I24*I8 -> 0 | ... N35: =N24*N8 -> 0 | O35: =SUM(B35:N35) -> 0
A36: G лишнего грунта, т | B36: =B25*B8 -> 0 | C36: =C25*C8 -> 0 | D36: =D25*D8 -> 0 | E36: =E25*E8 -> 0 | F36: =F25*F8 -> 0 | G36: =G25*G8 -> 0 | H36: =H25*H8 -> 0 | I36: =I25*I8 -> 0 | ... N36: =N25*N8 -> 0 | O36: =SUM(B36:N36) -> 0
A37: Периметр, м | B37: =B26*B8 -> 0 | C37: =C26*C8 -> 0 | D37: =D26*D8 -> 0 | E37: =E26*E8 -> 0 | F37: =F26*F8 -> 0 | G37: =G26*G8 -> 0 | H37: =H26*H8 -> 0 | I37: =I26*I8 -> 0 | ... N37: =N26*N8 -> 0 | O37: =SUM(B37:N37) -> 0
A39: h засыпки труб, м | B39: - пользовательские значения, вводятся вручную'
A40: a верхн засыпки, м | B40: - расчетные значения, расчитываются автоматически

Sheet Колодцы прямоугольные
C2: № по плану
C3: кол-во
D4: кол | E4: объем | F4: кол | G4: объем | H4: кол | I4: объем | J4: кол | K4: объем | L4: кол | M4: объем | N4: кол | O4: объем
A5: Расход материалов | B5: П1 | E5: =D5*Данные!J4 -> 0 | G5: =F5*Данные!J4 -> 0 | I5: =H5*Данные!J4 -> 0 | K5: =Данные!J4*J5 -> 0 | M5: =Данные!J4*L5 -> 0 | O5: =Данные!J4*N5 -> 0
B6: П2 | E6: =D6*Данные!J5 -> 0 | G6: =F6*Данные!J5 -> 0 | I6: =H6*Данные!J5 -> 0 | K6: =Данные!J5*J6 -> 0 | M6: =Данные!J5*L6 -> 0 | O6: =Данные!J5*N6 -> 0
B7: П3 | E7: =D7*Данные!J6 -> 0 | G7: =F7*Данные!J6 -> 0 | I7: =H7*Данные!J6 -> 0 | K7: =Данные!J6*J7 -> 0 | M7: =Данные!J6*L7 -> 0 | O7: =Данные!J6*N7 -> 0
B8: П4 | E8: =D8*Данные!J7 -> 0 | G8: =F8*Данные!J7 -> 0 | I8: =H8*Данные!J7 -> 0 | K8: =Данные!J7*J8 -> 0 | M8: =Данные!J7*L8 -> 0 | O8: =Данные!J7*N8 -> 0
B9: П5 | E9: =D9*Данные!J8 -> 0 | G9: =F9*Данные!J8 -> 0 | I9: =H9*Данные!J8 -> 0 | K9: =Данные!J8*J9 -> 0 | M9: =Данные!J8*L9 -> 0 | O9: =Данные!J8*N9 -> 0
B10: П6 | E10: =D10*Данные!J9 -> 0 | G10: =F10*Данные!J9 -> 0 | I10: =H10*Данные!J9 -> 0 | K10: =Данные!J9*J10 -> 0 | M10: =Данные!J9*L10 -> 0 | O10: =Данные!J9*N10 -> 0
B11: П7 | E11: =D11*Данные!J10 -> 0 | G11: =F11*Данные!J10 -> 0 | I11: =H11*Данные!J10 -> 0 | K11: =Данные!J10*J11 -> 0 | M11: =Данные!J10*L11 -> 0 | O11: =Данные!J10*N11 -> 0
B12: П8 | E12: =D12*Данные!J11 -> 0 | G12: =F12*Данные!J11 -> 0 | I12: =H12*Данные!J11 -> 0 | K12: =Данные!J11*J12 -> 0 | M12: =Данные!J11*L12 -> 0 | O12: =Данные!J11*N12 -> 0
B13: П9 | E13: =D13*Данные!J12 -> 0 | G13: =F13*Данные!J12 -> 0 | I13: =H13*Данные!J12 -> 0 | K13: =Данные!J12*J13 -> 0 | M13: =Данные!J12*L13 -> 0 | O13: =Данные!J12*N13 -> 0
B14: П10 | E14: =D14*Данные!J13 -> 0 | G14: =F14*Данные!J13 -> 0 | I14: =H14*Данные!J13 -> 0 | K14: =Данные!J13*J14 -> 0 | M14: =Данные!J13*L14 -> 0 | O14: =Данные!J13*N14 -> 0
B15: П11 | E15: =D15*Данные!J14 -> 0 | G15: =F15*Данные!J14 -> 0 | I15: =H15*Данные!J14 -> 0 | K15: =Данные!J14*J15 -> 0 | M15: =Данные!J14*L15 -> 0 | O15: =Данные!J14*N15 -> 0
B16: П12 | E16: =D16*Данные!J15 -> 0 | G16: =F16*Данные!J15 -> 0 | I16: =H16*Данные!J15 -> 0 | K16: =Данные!J15*J16 -> 0 | M16: =Данные!J15*L16 -> 0 | O16: =Данные!J15*N16 -> 0
B17: П13 | E17: =D17*Данные!J16 -> 0 | G17: =F17*Данные!J16 -> 0 | I17: =H17*Данные!J16 -> 0 | K17: =Данные!J16*J17 -> 0 | M17: =Данные!J16*L17 -> 0 | O17: =Данные!J16*N17 -> 0
... B51: КЦ 7.9 | E51: =D51*Данные!J50 -> 0 | G51: =F51*Данные!J50 -> 0 | I51: =H51*Данные!J50 -> 0 | K51: =Данные!J50*J51 -> 0 | M51: =Данные!J50*L51 -> 0 | O51: =Данные!J50*N51 -> 0
B52: кирп.кладка ряд | E52: =D52*Данные!F64 -> 0 | G52: =Данные!F64*F52 -> 0 | I52: =Данные!F64*H52 -> 0 | K52: =J52*Данные!F64 -> 0 | M52: =Данные!F64*L52 -> 0 | O52: =Данные!F64*N52 -> 0
B53: люк
A54: Итого | C54: ж/б, м3 | E54: =SUM(E5:E51)*D3 -> 0 | G54: =SUM(G5:G51)*F3 -> 0 | I54: =SUM(I5:I51)*H3 -> 0 | K54: =SUM(K5:K51)*J3 -> 0 | M54: =SUM(M5:M51)*L3 -> 0 | O54: =SUM(O5:O51)*N3 -> 0
C55: кладка, м3 | E55: =E52*D3 -> 0 | G55: =G52*F3 -> 0 | I55: =I52*H3 -> 0 | K55: =K52*J3 -> 0 | M55: =M52*L3 -> 0 | O55: =O52*N3 -> 0
C56: люк, шт. | E56: =E53*D3 -> 0 | G56: =G53*F3 -> 0 | I56: =I53*H3 -> 0 | K56: =K53*J3 -> 0 | M56: =M53*L3 -> 0 | O56: =O53*N3 -> 0
A58: Итого | C58: ж/б, м3 | D58: =E54+G54+I54+K54+M54+O54 -> 0
C59: кладка, м3 | D59: =E55+G55+I55+K55+M55+O55 -> 0
C60: люк, шт. | D60: =E56+G56+I56+K56+M56+O56 -> 0
