Workbook

Sheet Смета по ТСН-2001
A1: КАК ДОБАВИТЬ В ШАПКУ ДОКУМЕНТА ШАБЛОН ТАКОГО ВИДА:
K2: Форма № 1б
B4: "СОГЛАСОВАНО" | G4: "УТВЕРЖДАЮ"
B5: ООО " "
B6: Генеральный директор
B7: ____________________С.И.Иванов
B8: =CONCATENATE("______________________ ", IF([1]Source!AL12<>"", [1]Source!AL12, "")) -> ______________________ | G8: =CONCATENATE("______________________ ", IF([1]Source!AH12<>"", [1]Source!AH12, "")) -> ______________________
B9: "_____"________________ 2013 г. | G9: "_____"________________ 2013 г.
A13: КАК ДОБАВИТЬ ПОДПИСИ В ШАБЛОН ТАКОГО ВИДА:
C15: Коммерческий директор | G15: Генеральный директор
C17: ОАО " " | G17: ООО " "
C20: __________________________Петров А.П. | G20: __________________________Иванов С.И.

Sheet Source
A1: 0 | B1: Smeta.RU (495) 974-1589 | D1: _PS_ | F1: 0 | G1: 0 | H1: 0 | I1: Smeta.RU | K1: 1 | L1: 44960
A12: 1 | B12: 442 | C12: 0 | D12: =ROW(A415) -> 415 | E12: 0 | F12: Новый объект | G12: 555 | I12: 0 | O12: 0 | P12: 0 | Q12: 0 | R12: 175 | S12: 169 | V12: 0 | BH12: Сметные нормы списания | BI12: Коды ОКП для ТСН-2001 | BJ12: 1 | BK12: 1 | BL12: 0 | BM12: 0 | BN12: 1 | BO12: 0 | BP12: 6 | BQ12: 2 | BR12: 1 | BS12: 1 | BT12: 0 | BU12: 0 | BV12: 0 | BW12: 0 | BX12: 0 | BY12: ТСН 2001- Ремонт | BZ12: Типовой расчет для ТСН-2001 (Ремонт) | CA12: ТСН-2001 | CB12: ТСН-2001 | CC12: ТСН-2001 | CD12: ТСН-2001 | CE12: Поправки для ТСН-2001 | CF12: 0 | CG12: 0 | CH12: 8 | EC12: 0
A15: 15 | B15: 1
A18: 52 | B18: =B415 -> 442 | C18: =C415 -> 1 | D18: =D415 -> 12 | E18: =E415 -> 0 | F18: =F415 -> Новый объект | G18: =G415 -> 555 | O18: =O415 -> 181776.26 | P18: =P415 -> 175852.49 | Q18: =Q415 -> 506.33 | R18: =R415 -> 77.63 | S18: =S415 -> 5417.44 | T18: =T415 -> 0 | U18: =U415 -> 459.32293 | V18: =V415 -> 0 | ... DN18: =DN415 -> 0
A20: 3 | B20: 1 | D20: =ROW(A393) -> 393 | G20: ТЕКУЩИЙ РЕМОНТ В ПОМЕЩЕНИИ №555, КОРПУС 1 | I20: 0 | K20: -1 | V20: 0 | BX20: 0 | CF20: 0 | CG20: 0
A22: 52 | B22: =B393 -> 1 | C22: =C393 -> 3 | D22: =D393 -> 20 | E22: =E393 -> 0 | F22: =F393 | G22: =G393 -> ТЕКУЩИЙ РЕМОНТ В ПОМЕЩЕНИИ №555, КОРПУС 1 | O22: =O393 -> 181776.26 | P22: =P393 -> 175852.49 | Q22: =Q393 -> 506.33 | R22: =R393 -> 77.63 | S22: =S393 -> 5417.44 | T22: =T393 -> 0 | U22: =U393 -> 459.32293 | V22: =V393 -> 0 | ... DN22: =DN393 -> 0
A24: 4 | B24: 1 | D24: =ROW(A49) -> 49 | F24: РАЗДЕЛ 1. | G24: ДЕМОНТАЖНЫЕ РАБОТЫ | I24: 0 | K24: -1 | V24: 0 | BX24: 0 | CJ24: 0
A26: 52 | B26: =B49 -> 1 | C26: =C49 -> 4 | D26: =D49 -> 24 | E26: =E49 -> 0 | F26: =F49 -> РАЗДЕЛ 1. | G26: =G49 -> ДЕМОНТАЖНЫЕ РАБОТЫ | O26: =O49 -> 655.96 | P26: =P49 -> 0 | Q26: =Q49 -> 1.84 | R26: =R49 -> 0.26 | S26: =S49 -> 654.12 | T26: =T49 -> 0 | U26: =U49 -> 61.52557 | V26: =V49 -> 0 | ... DN26: =DN49 -> 0
A28: 17 | B28: 1 | C28: =ROW(SmtRes!A2) -> 2 | D28: =ROW(EtalonRes!A2) -> 2 | E28: 1 | F28: 6.56-12-1 | G28: ДЕМОНТАЖ ДВЕРНЫХ КОРОБОК В КАМЕННЫХ СТЕНАХ С ОТБИВКОЙ ШТУКАТУРКИ В ОТКОСАХ | H28: 100 шт. | I28: 0.01 | J28: 0 | O28: =ROUND(CP28,2) -> 20.62 | P28: =ROUND(CQ28*I28,2) -> 0 | Q28: =ROUND(CR28*I28,2) -> 0 | R28: =ROUND(CS28*I28,2) -> 0 | S28: =ROUND(CT28*I28,2) -> 20.62 | T28: =ROUND(CU28*I28,2) -> 0 | U28: =CV28*I28 -> 1.9603 | V28: =CW28*I28 -> 0 | W28: =ROUND(CX28*I28,2) -> 0 | X28: =ROUND(CY28,2) -> 16.5 | Y28: =ROUND(CZ28,2) -> 11.34 | AA28: 22529512 | AB28: =ROUND((AC28+AD28+AF28),6) -> 2062.24 | AC28: =ROUND((ES28),6) -> 0 | AD28: =ROUND((((ET28)-(EU28))+AE28),6) -> 0 | AE28: =ROUND((EU28),6) -> 0 | AF28: =ROUND((EV28),6) -> 2062.24 | AG28: =ROUND((AP28),6) -> 0 | AH28: =(EW28) -> 196.03 | AI28: =(EX28) -> 0 | AJ28: =ROUND((AS28),6) -> 0 | AK28: 2062.24 | AL28: 0 | AM28: 0 | AN28: 0 | AO28: 2062.24 | AP28: 0 | AQ28: 196.03 | AR28: 0 | AS28: 0 | AT28: 80 | AU28: 55 | AV28: 1 | AW28: 1 | AZ28: 1 | BA28: 1 | BB28: 1 | BC28: 1 | BH28: 0 | BI28: 1 | BJ28: ТСН-2001.6. База. Сб.56, т.12, поз.1 | BM28: 431 | BN28: 0 | BP28: 0 | BQ28: 60 | BS28: 1 | BT28: 1 | BU28: 1 | BV28: 1 | BW28: 1 | BX28: 1 | BZ28: 80 | CA28: 55 | CF28: 0 | CG28: 0 | CM28: 0 | CO28: 0 | CP28: =(P28+Q28+S28) -> 20.62 | CQ28: =((AC28*AW28))*BC28 -> 0 | CR28: =((AD28*AV28))*BB28 -> 0 | CS28: =((AE28*AV28))*BS28 -> 0 | CT28: =((AF28*AV28))*BA28 -> 2062.24 | CU28: =AG28 -> 0 | CV28: =(AH28*AV28) -> 196.03 | CW28: =AI28 -> 0 | CX28: =AJ28 -> 0 | CY28: =((S28*BZ28)/100) -> 16.496 | CZ28: =((S28*CA28)/100) -> 11.341 | DN28: 0 | DO28: 0 | DP28: 1 | DQ28: 1 | DU28: 1010 | DV28: 100 шт. | DW28: 100 шт. | DX28: 100 | EE28: 21121121 | EF28: 60 | EG28: Ремонтно-строительные работы | EH28: 0 | EJ28: 1 | EK28: 431 | EL28: ТСН-2001.6-56. 56-12...56-15 | EM28: ТСН-2001.6-56-3 | EQ28: 0 | ER28: 2062.24 | ES28: 0 | ET28: 0 | EU28: 0 | EV28: 2062.24 | EW28: 196.03 | EX28: 0 | EY28: 0 | EZ28: 0 | FQ28: 0 | FR28: =ROUND(IF(AND(BH28=3,BI28=3),P28,0),2) -> 0 | FS28: 0 | FX28: 80 | FY28: 55 | GG28: 2 | GH28: 1 | GI28: -2 | GJ28: 0 | GK28: =ROUND(R28*(R12)/100,2) -> 0 | GL28: =ROUND(IF(AND(BH28=3,BI28=3,FS28<>0),P28,0),2) -> 0 | GM28: =O28+X28+Y28+GK28 -> 48.46 | GN28: =ROUND(IF(OR(BI28=0,BI28=1),O28+X28+Y28+GK28,0),2) -> 48.46 | GO28: =ROUND(IF(BI28=2,O28+X28+Y28+GK28,0),2) -> 0 | GP28: =ROUND(IF(BI28=4,O28+X28+Y28+GK28,0),2) -> 0 | GR28: 0
A29: 17 | B29: 1 | C29: =ROW(SmtRes!A4) -> 4 | D29: =ROW(EtalonRes!A4) -> 4 | E29: 1 | F29: =F28 -> 6.56-12-1 | G29: =G28 -> ДЕМОНТАЖ ДВЕРНЫХ КОРОБОК В КАМЕННЫХ СТЕНАХ С ОТБИВКОЙ ШТУКАТУРКИ В ОТКОСАХ | H29: =H28 -> 100 шт. | I29: =I28 -> 0.01 | J29: =J28 -> 0 | O29: =ROUND(CP29,2) -> 292.43 | P29: =ROUND(CQ29*I29,2) -> 0 | Q29: =ROUND(CR29*I29,2) -> 0 | R29: =ROUND(CS29*I29,2) -> 0 | S29: =ROUND(CT29*I29,2) -> 292.43 | T29: =ROUND(CU29*I29,2) -> 0 | U29: =CV29*I29 -> 1.9603 | V29: =CW29*I29 -> 0 | W29: =ROUND(CX29*I29,2) -> 0 | X29: =ROUND(CY29,2) -> 210.55 | Y29: =ROUND(CZ29,2) -> 128.67 | AA29: 22529510 | AB29: =ROUND((AC29+AD29+AF29),6) -> 2062.24 | AC29: =ROUND((ES29),6) -> 0 | AD29: =ROUND((((ET29)-(EU29))+AE29),6) -> 0 | AE29: =ROUND((EU29),6) -> 0 | AF29: =ROUND((EV29),6) -> 2062.24 | AG29: =ROUND((AP29),6) -> 0 | AH29: =(EW29) -> 196.03 | AI29: =(EX29) -> 0 | AJ29: =ROUND((AS29),6) -> 0 | AK29: 2062.24 | AL29: 0 | AM29: 0 | AN29: 0 | AO29: 2062.24 | AP29: 0 | AQ29: 196.03 | AR29: 0 | AS29: 0 | AT29: 72 | AU29: 44 | AV29: 1 | AW29: 1 | AZ29: 1 | BA29: 14.18 | BB29: 1 | BC29: 1 | BH29: 0 | BI29: 1 | BJ29: =BJ28 -> ТСН-2001.6. База. Сб.56, т.12, поз.1 | BM29: 431 | BN29: 0 | BO29: 6.56-12-1 | BP29: 1 | BQ29: 60 | BS29: 14.18 | BT29: 1 | BU29: 1 | BV29: 1 | BW29: 1 | BX29: 1 | BZ29: 72 | CA29: 44 | CF29: 0 | CG29: 0 | CM29: 0 | CO29: 0 | CP29: =(P29+Q29+S29) -> 292.43 | CQ29: =((AC29*AW29))*BC29 -> 0 | CR29: =((AD29*AV29))*BB29 -> 0 | CS29: =((AE29*AV29))*BS29 -> 0 | CT29: =((AF29*AV29))*BA29 -> 29242.563 | CU29: =AG29 -> 0 | CV29: =(AH29*AV29) -> 196.03 | CW29: =AI29 -> 0 | CX29: =AJ29 -> 0 | CY29: =S29*(BZ29/100) -> 210.5496 | CZ29: =S29*(CA29/100) -> 128.6692 | DN29: 80 | DO29: 55 | DP29: 1.047 | DQ29: 1 | DU29: =DU28 -> 1010 | DV29: =DV28 -> 100 шт. | DW29: =DW28 -> 100 шт. | DX29: =DX28 -> 100 | DY29: =DY28 -> 0 | DZ29: =DZ28 -> 0 | EA29: =EA28 -> 0 | EB29: =EB28 -> 0 | ... EM29: =EM28 -> ТСН-2001.6-56-3 | EQ29: 0 | ER29: 2062.24 | ES29: 0 | ET29: 0 | EU29: 0 | EV29: 2062.24 | EW29: 196.03 | EX29: 0 | EY29: 0 | FQ29: 0 | FR29: =ROUND(IF(AND(BH29=3,BI29=3),P29,0),2) -> 0 | FS29: 0 | FX29: 72 | FY29: 44 | GG29: 2 | GH29: 1 | GI29: 2 | GJ29: 0 | GK29: =ROUND(R29*(S12)/100,2) -> 0 | GL29: =ROUND(IF(AND(BH29=3,BI29=3,FS29<>0),P29,0),2) -> 0 | GM29: =O29+X29+Y29+GK29 -> 631.65 | GN29: =ROUND(IF(OR(BI29=0,BI29=1),O29+X29+Y29+GK29,0),2) -> 631.65 | GO29: =ROUND(IF(BI29=2,O29+X29+Y29+GK29,0),2) -> 0 | GP29: =ROUND(IF(BI29=4,O29+X29+Y29+GK29,0),2) -> 0 | GR29: 0
A30: 17 | B30: 1 | C30: =ROW(SmtRes!A6) -> 6 | D30: =ROW(EtalonRes!A6) -> 6 | E30: 2 | F30: 6.56-14-1 | G30: СНЯТИЕ НАЛИЧНИКОВ | H30: 100 м | I30: 0.1 | J30: 0 | O30: =ROUND(CP30,2) -> 4.38 | P30: =ROUND(CQ30*I30,2) -> 0 | Q30: =ROUND(CR30*I30,2) -> 0 | R30: =ROUND(CS30*I30,2) -> 0 | S30: =ROUND(CT30*I30,2) -> 4.38 | T30: =ROUND(CU30*I30,2) -> 0 | U30: =CV30*I30 -> 0.421 | V30: =CW30*I30 -> 0 | W30: =ROUND(CX30*I30,2) -> 0 | X30: =ROUND(CY30,2) -> 3.5 | Y30: =ROUND(CZ30,2) -> 2.41 | AA30: 22529512 | AB30: =ROUND((AC30+AD30+AF30),6) -> 43.83 | AC30: =ROUND((ES30),6) -> 0 | AD30: =ROUND((((ET30)-(EU30))+AE30),6) -> 0 | AE30: =ROUND((EU30),6) -> 0 | AF30: =ROUND((EV30),6) -> 43.83 | AG30: =ROUND((AP30),6) -> 0 | AH30: =(EW30) -> 4.21 | AI30: =(EX30) -> 0 | AJ30: =ROUND((AS30),6) -> 0 | AK30: 43.83 | AL30: 0 | AM30: 0 | AN30: 0 | AO30: 43.83 | AP30: 0 | AQ30: 4.21 | AR30: 0 | AS30: 0 | AT30: 80 | AU30: 55 | AV30: 1 | AW30: 1 | AZ30: 1 | BA30: 1 | BB30: 1 | BC30: 1 | BH30: 0 | BI30: 1 | BJ30: ТСН-2001.6. База. Сб.56, т.14, поз.1 | BM30: 431 | BN30: 0 | BP30: 0 | BQ30: 60 | BS30: 1 | BT30: 1 | BU30: 1 | BV30: 1 | BW30: 1 | BX30: 1 | BZ30: 80 | CA30: 55 | CF30: 0 | CG30: 0 | CM30: 0 | CO30: 0 | CP30: =(P30+Q30+S30) -> 4.38 | CQ30: =((AC30*AW30))*BC30 -> 0 | CR30: =((AD30*AV30))*BB30 -> 0 | CS30: =((AE30*AV30))*BS30 -> 0 | CT30: =((AF30*AV30))*BA30 -> 43.83 | CU30: =AG30 -> 0 | CV30: =(AH30*AV30) -> 4.21 | CW30: =AI30 -> 0 | CX30: =AJ30 -> 0 | CY30: =((S30*BZ30)/100) -> 3.504 | CZ30: =((S30*CA30)/100) -> 2.409 | DN30: 0 | DO30: 0 | DP30: 1 | DQ30: 1 | DU30: 1003 | DV30: 100 м | DW30: 100 м | DX30: 100 | EE30: 21121121 | EF30: 60 | EG30: Ремонтно-строительные работы | EH30: 0 | EJ30: 1 | EK30: 431 | EL30: ТСН-2001.6-56. 56-12...56-15 | EM30: ТСН-2001.6-56-3 | EQ30: 0 | ER30: 43.83 | ES30: 0 | ET30: 0 | EU30: 0 | EV30: 43.83 | EW30: 4.21 | EX30: 0 | EY30: 0 | EZ30: 0 | FQ30: 0 | FR30: =ROUND(IF(AND(BH30=3,BI30=3),P30,0),2) -> 0 | FS30: 0 | FX30: 80 | FY30: 55 | GG30: 2 | GH30: 1 | GI30: -2 | GJ30: 0 | GK30: =ROUND(R30*(R12)/100,2) -> 0 | GL30: =ROUND(IF(AND(BH30=3,BI30=3,FS30<>0),P30,0),2) -> 0 | GM30: =O30+X30+Y30+GK30 -> 10.29 | GN30: =ROUND(IF(OR(BI30=0,BI30=1),O30+X30+Y30+GK30,0),2) -> 10.29 | GO30: =ROUND(IF(BI30=2,O30+X30+Y30+GK30,0),2) -> 0 | GP30: =ROUND(IF(BI30=4,O30+X30+Y30+GK30,0),2) -> 0 | GR30: 0
A31: 17 | B31: 1 | C31: =ROW(SmtRes!A8) -> 8 | D31: =ROW(EtalonRes!A8) -> 8 | E31: 2 | F31: =F30 -> 6.56-14-1 | G31: =G30 -> СНЯТИЕ НАЛИЧНИКОВ | H31: =H30 -> 100 м | I31: =I30 -> 0.1 | J31: =J30 -> 0 | O31: =ROUND(CP31,2) -> 62.15 | P31: =ROUND(CQ31*I31,2) -> 0 | Q31: =ROUND(CR31*I31,2) -> 0 | R31: =ROUND(CS31*I31,2) -> 0 | S31: =ROUND(CT31*I31,2) -> 62.15 | T31: =ROUND(CU31*I31,2) -> 0 | U31: =CV31*I31 -> 0.421 | V31: =CW31*I31 -> 0 | W31: =ROUND(CX31*I31,2) -> 0 | X31: =ROUND(CY31,2) -> 44.75 | Y31: =ROUND(CZ31,2) -> 27.35 | AA31: 22529510 | AB31: =ROUND((AC31+AD31+AF31),6) -> 43.83 | AC31: =ROUND((ES31),6) -> 0 | AD31: =ROUND((((ET31)-(EU31))+AE31),6) -> 0 | AE31: =ROUND((EU31),6) -> 0 | AF31: =ROUND((EV31),6) -> 43.83 | AG31: =ROUND((AP31),6) -> 0 | AH31: =(EW31) -> 4.21 | AI31: =(EX31) -> 0 | AJ31: =ROUND((AS31),6) -> 0 | AK31: 43.83 | AL31: 0 | AM31: 0 | AN31: 0 | AO31: 43.83 | AP31: 0 | AQ31: 4.21 | AR31: 0 | AS31: 0 | AT31: 72 | AU31: 44 | AV31: 1 | AW31: 1 | AZ31: 1 | BA31: 14.18 | BB31: 1 | BC31: 1 | BH31: 0 | BI31: 1 | BJ31: =BJ30 -> ТСН-2001.6. База. Сб.56, т.14, поз.1 | BM31: 431 | BN31: 0 | BO31: 6.56-14-1 | BP31: 1 | BQ31: 60 | BS31: 14.18 | BT31: 1 | BU31: 1 | BV31: 1 | BW31: 1 | BX31: 1 | BZ31: 72 | CA31: 44 | CF31: 0 | CG31: 0 | CM31: 0 | CO31: 0 | CP31: =(P31+Q31+S31) -> 62.15 | CQ31: =((AC31*AW31))*BC31 -> 0 | CR31: =((AD31*AV31))*BB31 -> 0 | CS31: =((AE31*AV31))*BS31 -> 0 | CT31: =((AF31*AV31))*BA31 -> 621.5094 | CU31: =AG31 -> 0 | CV31: =(AH31*AV31) -> 4.21 | CW31: =AI31 -> 0 | CX31: =AJ31 -> 0 | CY31: =S31*(BZ31/100) -> 44.748 | CZ31: =S31*(CA31/100) -> 27.346 | DN31: 80 | DO31: 55 | DP31: 1.047 | DQ31: 1 | DU31: =DU30 -> 1003 | DV31: =DV30 -> 100 м | DW31: =DW30 -> 100 м | DX31: =DX30 -> 100 | DY31: =DY30 -> 0 | DZ31: =DZ30 -> 0 | EA31: =EA30 -> 0 | EB31: =EB30 -> 0 | ... EM31: =EM30 -> ТСН-2001.6-56-3 | EQ31: 0 | ER31: 43.83 | ES31: 0 | ET31: 0 | EU31: 0 | EV31: 43.83 | EW31: 4.21 | EX31: 0 | EY31: 0 | FQ31: 0 | FR31: =ROUND(IF(AND(BH31=3,BI31=3),P31,0),2) -> 0 | FS31: 0 | FX31: 72 | FY31: 44 | GG31: 2 | GH31: 1 | GI31: 2 | GJ31: 0 | GK31: =ROUND(R31*(S12)/100,2) -> 0 | GL31: =ROUND(IF(AND(BH31=3,BI31=3,FS31<>0),P31,0),2) -> 0 | GM31: =O31+X31+Y31+GK31 -> 134.25 | GN31: =ROUND(IF(OR(BI31=0,BI31=1),O31+X31+Y31+GK31,0),2) -> 134.25 | GO31: =ROUND(IF(BI31=2,O31+X31+Y31+GK31,0),2) -> 0 | GP31: =ROUND(IF(BI31=4,O31+X31+Y31+GK31,0),2) -> 0 | GR31: 0
A32: 17 | B32: 1 | C32: =ROW(SmtRes!A9) -> 9 | D32: =ROW(EtalonRes!A9) -> 9 | E32: 3 | F32: 6.56-38-1 | G32: РАЗБОРКА ДЕРЕВЯННЫХ ЗАПОЛНЕНИЙ ПРОЕМОВ ОКОННЫХ С ПОДОКОННЫМИ ДОСКАМИ | H32: 100 м2 | I32: 0.018 | J32: 0 | O32: =ROUND(CP32,2) -> 31.56 | P32: =ROUND(CQ32*I32,2) -> 0 | Q32: =ROUND(CR32*I32,2) -> 0 | R32: =ROUND(CS32*I32,2) -> 0 | S32: =ROUND(CT32*I32,2) -> 31.56 | T32: =ROUND(CU32*I32,2) -> 0 | U32: =CV32*I32 -> 2.97702 | V32: =CW32*I32 -> 0 | W32: =ROUND(CX32*I32,2) -> 0 | X32: =ROUND(CY32,2) -> 25.25 | Y32: =ROUND(CZ32,2) -> 17.36 | AA32: 22529512 | AB32: =ROUND((AC32+AD32+AF32),6) -> 1753.13 | AC32: =ROUND((ES32),6) -> 0 | AD32: =ROUND((((ET32)-(EU32))+AE32),6) -> 0 | AE32: =ROUND((EU32),6) -> 0 | AF32: =ROUND((EV32),6) -> 1753.13 | AG32: =ROUND((AP32),6) -> 0 | AH32: =(EW32) -> 165.39 | AI32: =(EX32) -> 0 | AJ32: =ROUND((AS32),6) -> 0 | AK32: 1753.13 | AL32: 0 | AM32: 0 | AN32: 0 | AO32: 1753.13 | AP32: 0 | AQ32: 165.39 | AR32: 0 | AS32: 0 | AT32: 80 | AU32: 55 | AV32: 1 | AW32: 1 | AZ32: 1 | BA32: 1 | BB32: 1 | BC32: 1 | BH32: 0 | BI32: 1 | BJ32: ТСН-2001.6. База. Сб.56, т.38, поз.1 | BM32: 438 | BN32: 0 | BP32: 0 | BQ32: 60 | BS32: 1 | BT32: 1 | BU32: 1 | BV32: 1 | BW32: 1 | BX32: 1 | BZ32: 80 | CA32: 55 | CF32: 0 | CG32: 0 | CM32: 0 | CO32: 0 | CP32: =(P32+Q32+S32) -> 31.56 | CQ32: =((AC32*AW32))*BC32 -> 0 | CR32: =((AD32*AV32))*BB32 -> 0 | CS32: =((AE32*AV32))*BS32 -> 0 | CT32: =((AF32*AV32))*BA32 -> 1753.13 | CU32: =AG32 -> 0 | CV32: =(AH32*AV32) -> 165.39 | CW32: =AI32 -> 0 | CX32: =AJ32 -> 0 | CY32: =((S32*BZ32)/100) -> 25.248 | CZ32: =((S32*CA32)/100) -> 17.358 | DN32: 0 | DO32: 0 | DP32: 1 | DQ32: 1 | DU32: 1005 | DV32: 100 м2 | DW32: 100 м2 | DX32: 100 | EE32: 21121128 | EF32: 60 | EG32: Ремонтно-строительные работы | EH32: 0 | EJ32: 1 | EK32: 438 | EL32: ТСН-2001.6-56. 56-38 | EM32: ТСН-2001.6-56-10 | EQ32: 0 | ER32: 1753.13 | ES32: 0 | ET32: 0 | EU32: 0 | EV32: 1753.13 | EW32: 165.39 | EX32: 0 | EY32: 0 | EZ32: 0 | FQ32: 0 | FR32: =ROUND(IF(AND(BH32=3,BI32=3),P32,0),2) -> 0 | FS32: 0 | FX32: 80 | FY32: 55 | GG32: 2 | GH32: 1 | GI32: -2 | GJ32: 0 | GK32: =ROUND(R32*(R12)/100,2) -> 0 | GL32: =ROUND(IF(AND(BH32=3,BI32=3,FS32<>0),P32,0),2) -> 0 | GM32: =O32+X32+Y32+GK32 -> 74.17 | GN32: =ROUND(IF(OR(BI32=0,BI32=1),O32+X32+Y32+GK32,0),2) -> 74.17 | GO32: =ROUND(IF(BI32=2,O32+X32+Y32+GK32,0),2) -> 0 | GP32: =ROUND(IF(BI32=4,O32+X32+Y32+GK32,0),2) -> 0 | GR32: 0
A33: 17 | B33: 1 | C33: =ROW(SmtRes!A10) -> 10 | D33: =ROW(EtalonRes!A10) -> 10 | E33: 3 | F33: =F32 -> 6.56-38-1 | G33: =G32 -> РАЗБОРКА ДЕРЕВЯННЫХ ЗАПОЛНЕНИЙ ПРОЕМОВ ОКОННЫХ С ПОДОКОННЫМИ ДОСКАМИ | H33: =H32 -> 100 м2 | I33: =I32 -> 0.018 | J33: =J32 -> 0 | O33: =ROUND(CP33,2) -> 447.47 | P33: =ROUND(CQ33*I33,2) -> 0 | Q33: =ROUND(CR33*I33,2) -> 0 | R33: =ROUND(CS33*I33,2) -> 0 | S33: =ROUND(CT33*I33,2) -> 447.47 | T33: =ROUND(CU33*I33,2) -> 0 | U33: =CV33*I33 -> 2.97702 | V33: =CW33*I33 -> 0 | W33: =ROUND(CX33*I33,2) -> 0 | X33: =ROUND(CY33,2) -> 322.18 | Y33: =ROUND(CZ33,2) -> 196.89 | AA33: 22529510 | AB33: =ROUND((AC33+AD33+AF33),6) -> 1753.13 | AC33: =ROUND((ES33),6) -> 0 | AD33: =ROUND((((ET33)-(EU33))+AE33),6) -> 0 | AE33: =ROUND((EU33),6) -> 0 | AF33: =ROUND((EV33),6) -> 1753.13 | AG33: =ROUND((AP33),6) -> 0 | AH33: =(EW33) -> 165.39 | AI33: =(EX33) -> 0 | AJ33: =ROUND((AS33),6) -> 0 | AK33: 1753.13 | AL33: 0 | AM33: 0 | AN33: 0 | AO33: 1753.13 | AP33: 0 | AQ33: 165.39 | AR33: 0 | AS33: 0 | AT33: 72 | AU33: 44 | AV33: 1 | AW33: 1 | AZ33: 1 | BA33: 14.18 | BB33: 1 | BC33: 1 | BH33: 0 | BI33: 1 | BJ33: =BJ32 -> ТСН-2001.6. База. Сб.56, т.38, поз.1 | BM33: 438 | BN33: 0 | BO33: 6.56-38-1 | BP33: 1 | BQ33: 60 | BS33: 14.18 | BT33: 1 | BU33: 1 | BV33: 1 | BW33: 1 | BX33: 1 | BZ33: 72 | CA33: 44 | CF33: 0 | CG33: 0 | CM33: 0 | CO33: 0 | CP33: =(P33+Q33+S33) -> 447.47 | CQ33: =((AC33*AW33))*BC33 -> 0 | CR33: =((AD33*AV33))*BB33 -> 0 | CS33: =((AE33*AV33))*BS33 -> 0 | CT33: =((AF33*AV33))*BA33 -> 24859.383 | CU33: =AG33 -> 0 | CV33: =(AH33*AV33) -> 165.39 | CW33: =AI33 -> 0 | CX33: =AJ33 -> 0 | CY33: =S33*(BZ33/100) -> 322.1784 | CZ33: =S33*(CA33/100) -> 196.8868 | DN33: 80 | DO33: 55 | DP33: 1.047 | DQ33: 1 | DU33: =DU32 -> 1005 | DV33: =DV32 -> 100 м2 | DW33: =DW32 -> 100 м2 | DX33: =DX32 -> 100 | DY33: =DY32 -> 0 | DZ33: =DZ32 -> 0 | EA33: =EA32 -> 0 | EB33: =EB32 -> 0 | ... EM33: =EM32 -> ТСН-2001.6-56-10 | EQ33: 0 | ER33: 1753.13 | ES33: 0 | ET33: 0 | EU33: 0 | EV33: 1753.13 | EW33: 165.39 | EX33: 0 | EY33: 0 | FQ33: 0 | FR33: =ROUND(IF(AND(BH33=3,BI33=3),P33,0),2) -> 0 | FS33: 0 | FX33: 72 | FY33: 44 | GG33: 2 | GH33: 1 | GI33: 2 | GJ33: 0 | GK33: =ROUND(R33*(S12)/100,2) -> 0 | GL33: =ROUND(IF(AND(BH33=3,BI33=3,FS33<>0),P33,0),2) -> 0 | GM33: =O33+X33+Y33+GK33 -> 966.54 | GN33: =ROUND(IF(OR(BI33=0,BI33=1),O33+X33+Y33+GK33,0),2) -> 966.54 | GO33: =ROUND(IF(BI33=2,O33+X33+Y33+GK33,0),2) -> 0 | GP33: =ROUND(IF(BI33=4,O33+X33+Y33+GK33,0),2) -> 0 | GR33: 0
A34: 17 | B34: 1 | C34: =ROW(SmtRes!A12) -> 12 | D34: =ROW(EtalonRes!A12) -> 12 | E34: 4 | F34: 6.55-1-6 | G34: РАЗБОРКА ДЕРЕВЯННЫХ ПЕРЕГОРОДОК КАРКАСНЫХ, ОБШИТЫХ ДРЕВЕСНОВОЛОКНИСТЫМИ ПЛИТАМИ | H34: 100 м2 | I34: 0.217 | J34: 0 | O34: =ROUND(CP34,2) -> 117.47 | P34: =ROUND(CQ34*I34,2) -> 0 | Q34: =ROUND(CR34*I34,2) -> 0 | R34: =ROUND(CS34*I34,2) -> 0 | S34: =ROUND(CT34*I34,2) -> 117.47 | T34: =ROUND(CU34*I34,2) -> 0 | U34: =CV34*I34 -> 11.49449 | V34: =CW34*I34 -> 0 | W34: =ROUND(CX34*I34,2) -> 0 | X34: =ROUND(CY34,2) -> 93.98 | Y34: =ROUND(CZ34,2) -> 64.61 | AA34: 22529512 | AB34: =ROUND((AC34+AD34+AF34),6) -> 541.35 | AC34: =ROUND((ES34),6) -> 0 | AD34: =ROUND((((ET34)-(EU34))+AE34),6) -> 0 | AE34: =ROUND((EU34),6) -> 0 | AF34: =ROUND((EV34),6) -> 541.35 | AG34: =ROUND((AP34),6) -> 0 | AH34: =(EW34) -> 52.97 | AI34: =(EX34) -> 0 | AJ34: =ROUND((AS34),6) -> 0 | AK34: 541.35 | AL34: 0 | AM34: 0 | AN34: 0 | AO34: 541.35 | AP34: 0 | AQ34: 52.97 | AR34: 0 | AS34: 0 | AT34: 80 | AU34: 55 | AV34: 1 | AW34: 1 | AZ34: 1 | BA34: 1 | BB34: 1 | BC34: 1 | BH34: 0 | BI34: 1 | BJ34: ТСН-2001.6. База. Сб.55, т.1, поз.6 | BM34: 427 | BN34: 0 | BP34: 0 | BQ34: 60 | BS34: 1 | BT34: 1 | BU34: 1 | BV34: 1 | BW34: 1 | BX34: 1 | BZ34: 80 | CA34: 55 | CF34: 0 | CG34: 0 | CM34: 0 | CO34: 0 | CP34: =(P34+Q34+S34) -> 117.47 | CQ34: =((AC34*AW34))*BC34 -> 0 | CR34: =((AD34*AV34))*BB34 -> 0 | CS34: =((AE34*AV34))*BS34 -> 0 | CT34: =((AF34*AV34))*BA34 -> 541.35 | CU34: =AG34 -> 0 | CV34: =(AH34*AV34) -> 52.97 | CW34: =AI34 -> 0 | CX34: =AJ34 -> 0 | CY34: =((S34*BZ34)/100) -> 93.976 | CZ34: =((S34*CA34)/100) -> 64.6085 | DN34: 0 | DO34: 0 | DP34: 1 | DQ34: 1 | DU34: 1005 | DV34: 100 м2 | DW34: 100 м2 | DX34: 100 | EE34: 21121117 | EF34: 60 | EG34: Ремонтно-строительные работы | EH34: 0 | EJ34: 1 | EK34: 427 | EL34: ТСН-2001.6-55. 55-1...55-4 | EM34: ТСН-2001.6-55-1 | EQ34: 0 | ER34: 541.35 | ES34: 0 | ET34: 0 | EU34: 0 | EV34: 541.35 | EW34: 52.97 | EX34: 0 | EY34: 0 | EZ34: 0 | FQ34: 0 | FR34: =ROUND(IF(AND(BH34=3,BI34=3),P34,0),2) -> 0 | FS34: 0 | FX34: 80 | FY34: 55 | GG34: 2 | GH34: 1 | GI34: -2 | GJ34: 0 | GK34: =ROUND(R34*(R12)/100,2) -> 0 | GL34: =ROUND(IF(AND(BH34=3,BI34=3,FS34<>0),P34,0),2) -> 0 | GM34: =O34+X34+Y34+GK34 -> 276.06 | GN34: =ROUND(IF(OR(BI34=0,BI34=1),O34+X34+Y34+GK34,0),2) -> 276.06 | GO34: =ROUND(IF(BI34=2,O34+X34+Y34+GK34,0),2) -> 0 | GP34: =ROUND(IF(BI34=4,O34+X34+Y34+GK34,0),2) -> 0 | GR34: 0
A35: 17 | B35: 1 | C35: =ROW(SmtRes!A14) -> 14 | D35: =ROW(EtalonRes!A14) -> 14 | E35: 4 | F35: =F34 -> 6.55-1-6 | G35: =G34 -> РАЗБОРКА ДЕРЕВЯННЫХ ПЕРЕГОРОДОК КАРКАСНЫХ, ОБШИТЫХ ДРЕВЕСНОВОЛОКНИСТЫМИ ПЛИТАМИ | H35: =H34 -> 100 м2 | I35: =I34 -> 0.217 | J35: =J34 -> 0 | O35: =ROUND(CP35,2) -> 1665.77 | P35: =ROUND(CQ35*I35,2) -> 0 | Q35: =ROUND(CR35*I35,2) -> 0 | R35: =ROUND(CS35*I35,2) -> 0 | S35: =ROUND(CT35*I35,2) -> 1665.77 | T35: =ROUND(CU35*I35,2) -> 0 | U35: =CV35*I35 -> 11.49449 | V35: =CW35*I35 -> 0 | W35: =ROUND(CX35*I35,2) -> 0 | X35: =ROUND(CY35,2) -> 1199.35 | Y35: =ROUND(CZ35,2) -> 732.94 | AA35: 22529510 | AB35: =ROUND((AC35+AD35+AF35),6) -> 541.35 | AC35: =ROUND((ES35),6) -> 0 | AD35: =ROUND((((ET35)-(EU35))+AE35),6) -> 0 | AE35: =ROUND((EU35),6) -> 0 | AF35: =ROUND((EV35),6) -> 541.35 | AG35: =ROUND((AP35),6) -> 0 | AH35: =(EW35) -> 52.97 | AI35: =(EX35) -> 0 | AJ35: =ROUND((AS35),6) -> 0 | AK35: 541.35 | AL35: 0 | AM35: 0 | AN35: 0 | AO35: 541.35 | AP35: 0 | AQ35: 52.97 | AR35: 0 | AS35: 0 | AT35: 72 | AU35: 44 | AV35: 1 | AW35: 1 | AZ35: 1 | BA35: 14.18 | BB35: 1 | BC35: 1 | BH35: 0 | BI35: 1 | BJ35: =BJ34 -> ТСН-2001.6. База. Сб.55, т.1, поз.6 | BM35: 427 | BN35: 0 | BO35: 6.55-1-6 | BP35: 1 | BQ35: 60 | BS35: 14.18 | BT35: 1 | BU35: 1 | BV35: 1 | BW35: 1 | BX35: 1 | BZ35: 72 | CA35: 44 | CF35: 0 | CG35: 0 | CM35: 0 | CO35: 0 | CP35: =(P35+Q35+S35) -> 1665.77 | CQ35: =((AC35*AW35))*BC35 -> 0 | CR35: =((AD35*AV35))*BB35 -> 0 | CS35: =((AE35*AV35))*BS35 -> 0 | CT35: =((AF35*AV35))*BA35 -> 7676.343 | CU35: =AG35 -> 0 | CV35: =(AH35*AV35) -> 52.97 | CW35: =AI35 -> 0 | CX35: =AJ35 -> 0 | CY35: =S35*(BZ35/100) -> 1199.3544 | CZ35: =S35*(CA35/100) -> 732.9388 | DN35: 80 | DO35: 55 | DP35: 1.047 | DQ35: 1 | DU35: =DU34 -> 1005 | DV35: =DV34 -> 100 м2 | DW35: =DW34 -> 100 м2 | DX35: =DX34 -> 100 | DY35: =DY34 -> 0 | DZ35: =DZ34 -> 0 | EA35: =EA34 -> 0 | EB35: =EB34 -> 0 | ... EM35: =EM34 -> ТСН-2001.6-55-1 | EQ35: 0 | ER35: 541.35 | ES35: 0 | ET35: 0 | EU35: 0 | EV35: 541.35 | EW35: 52.97 | EX35: 0 | EY35: 0 | FQ35: 0 | FR35: =ROUND(IF(AND(BH35=3,BI35=3),P35,0),2) -> 0 | FS35: 0 | FX35: 72 | FY35: 44 | GG35: 2 | GH35: 1 | GI35: 2 | GJ35: 0 | GK35: =ROUND(R35*(S12)/100,2) -> 0 | GL35: =ROUND(IF(AND(BH35=3,BI35=3,FS35<>0),P35,0),2) -> 0 | GM35: =O35+X35+Y35+GK35 -> 3598.06 | GN35: =ROUND(IF(OR(BI35=0,BI35=1),O35+X35+Y35+GK35,0),2) -> 3598.06 | GO35: =ROUND(IF(BI35=2,O35+X35+Y35+GK35,0),2) -> 0 | GP35: =ROUND(IF(BI35=4,O35+X35+Y35+GK35,0),2) -> 0 | GR35: 0
A36: 17 | B36: 1 | C36: =ROW(SmtRes!A17) -> 17 | D36: =ROW(EtalonRes!A17) -> 17 | E36: 5 | F36: 6.65-22-1 | G36: РАЗБОРКА ВЕНТИЛЯЦИОННЫХ КОРОБОВ | H36: 100 м2 | I36: 0.32 | J36: 0 | O36: =ROUND(CP36,2) -> 301.05 | P36: =ROUND(CQ36*I36,2) -> 0 | Q36: =ROUND(CR36*I36,2) -> 1.45 | R36: =ROUND(CS36*I36,2) -> 0.06 | S36: =ROUND(CT36*I36,2) -> 299.6 | T36: =ROUND(CU36*I36,2) -> 0 | U36: =CV36*I36 -> 28 | V36: =CW36*I36 -> 0 | W36: =ROUND(CX36*I36,2) -> 0 | X36: =ROUND(CY36,2) -> 239.68 | Y36: =ROUND(CZ36,2) -> 164.78 | AA36: 22529512 | AB36: =ROUND((AC36+AD36+AF36),6) -> 940.78 | AC36: =ROUND((ES36),6) -> 0 | AD36: =ROUND((((ET36)-(EU36))+AE36),6) -> 4.53 | AE36: =ROUND((EU36),6) -> 0.19 | AF36: =ROUND((EV36),6) -> 936.25 | AG36: =ROUND((AP36),6) -> 0 | AH36: =(EW36) -> 87.5 | AI36: =(EX36) -> 0 | AJ36: =ROUND((AS36),6) -> 0 | AK36: 940.78 | AL36: 0 | AM36: 4.53 | AN36: 0.19 | AO36: 936.25 | AP36: 0 | AQ36: 87.5 | AR36: 0 | AS36: 0 | AT36: 80 | AU36: 55 | AV36: 1 | AW36: 1 | AZ36: 1 | BA36: 1 | BB36: 1 | BC36: 1 | BH36: 0 | BI36: 1 | BJ36: ТСН-2001.6. База. Сб.65, т.22, поз.1 | BM36: 620 | BN36: 0 | BP36: 0 | BQ36: 60 | BS36: 1 | BT36: 1 | BU36: 1 | BV36: 1 | BW36: 1 | BX36: 1 | BZ36: 80 | CA36: 55 | CF36: 0 | CG36: 0 | CM36: 0 | CO36: 0 | CP36: =(P36+Q36+S36) -> 301.05 | CQ36: =((AC36*AW36))*BC36 -> 0 | CR36: =((AD36*AV36))*BB36 -> 4.53 | CS36: =((AE36*AV36))*BS36 -> 0.19 | CT36: =((AF36*AV36))*BA36 -> 936.25 | CU36: =AG36 -> 0 | CV36: =(AH36*AV36) -> 87.5 | CW36: =AI36 -> 0 | CX36: =AJ36 -> 0 | CY36: =((S36*BZ36)/100) -> 239.68 | CZ36: =((S36*CA36)/100) -> 164.78 | DN36: 0 | DO36: 0 | DP36: 1 | DQ36: 1 | DU36: 1005 | DV36: 100 м2 | DW36: 100 м2 | DX36: 100 | EE36: 21121310 | EF36: 60 | EG36: Ремонтно-строительные работы | EH36: 0 | EJ36: 1 | EK36: 620 | EL36: ТСН-2001.6-65. 65-22, 65-23 | EM36: ТСН-2001.6-65-5 | EQ36: 0 | ER36: 940.78 | ES36: 0 | ET36: 4.53 | EU36: 0.19 | EV36: 936.25 | EW36: 87.5 | EX36: 0 | EY36: 0 | EZ36: 0 | FQ36: 0 | FR36: =ROUND(IF(AND(BH36=3,BI36=3),P36,0),2) -> 0 | FS36: 0 | FX36: 80 | FY36: 55 | GG36: 2 | GH36: 1 | GI36: -2 | GJ36: 0 | GK36: =ROUND(R36*(R12)/100,2) -> 0.11 | GL36: =ROUND(IF(AND(BH36=3,BI36=3,FS36<>0),P36,0),2) -> 0 | GM36: =O36+X36+Y36+GK36 -> 705.62 | GN36: =ROUND(IF(OR(BI36=0,BI36=1),O36+X36+Y36+GK36,0),2) -> 705.62 | GO36: =ROUND(IF(BI36=2,O36+X36+Y36+GK36,0),2) -> 0 | GP36: =ROUND(IF(BI36=4,O36+X36+Y36+GK36,0),2) -> 0 | GR36: 0
A37: 17 | B37: 1 | C37: =ROW(SmtRes!A20) -> 20 | D37: =ROW(EtalonRes!A20) -> 20 | E37: 5 | F37: =F36 -> 6.65-22-1 | G37: =G36 -> РАЗБОРКА ВЕНТИЛЯЦИОННЫХ КОРОБОВ | H37: =H36 -> 100 м2 | I37: =I36 -> 0.32 | J37: =J36 -> 0 | O37: =ROUND(CP37,2) -> 4262.93 | P37: =ROUND(CQ37*I37,2) -> 0 | Q37: =ROUND(CR37*I37,2) -> 14.6 | R37: =ROUND(CS37*I37,2) -> 0.86 | S37: =ROUND(CT37*I37,2) -> 4248.33 | T37: =ROUND(CU37*I37,2) -> 0 | U37: =CV37*I37 -> 28 | V37: =CW37*I37 -> 0 | W37: =ROUND(CX37*I37,2) -> 0 | X37: =ROUND(CY37,2) -> 3058.8 | Y37: =ROUND(CZ37,2) -> 1869.27 | AA37: 22529510 | AB37: =ROUND((AC37+AD37+AF37),6) -> 940.78 | AC37: =ROUND((ES37),6) -> 0 | AD37: =ROUND((((ET37)-(EU37))+AE37),6) -> 4.53 | AE37: =ROUND((EU37),6) -> 0.19 | AF37: =ROUND((EV37),6) -> 936.25 | AG37: =ROUND((AP37),6) -> 0 | AH37: =(EW37) -> 87.5 | AI37: =(EX37) -> 0 | AJ37: =ROUND((AS37),6) -> 0 | AK37: 940.78 | AL37: 0 | AM37: 4.53 | AN37: 0.19 | AO37: 936.25 | AP37: 0 | AQ37: 87.5 | AR37: 0 | AS37: 0 | AT37: 72 | AU37: 44 | AV37: 1 | AW37: 1 | AZ37: 1 | BA37: 14.18 | BB37: 10.07 | BC37: 1 | BH37: 0 | BI37: 1 | BJ37: =BJ36 -> ТСН-2001.6. База. Сб.65, т.22, поз.1 | BM37: 620 | BN37: 0 | BO37: 6.65-22-1 | BP37: 1 | BQ37: 60 | BS37: 14.18 | BT37: 1 | BU37: 1 | BV37: 1 | BW37: 1 | BX37: 1 | BZ37: 72 | CA37: 44 | CF37: 0 | CG37: 0 | CM37: 0 | CO37: 0 | CP37: =(P37+Q37+S37) -> 4262.93 | CQ37: =((AC37*AW37))*BC37 -> 0 | CR37: =((AD37*AV37))*BB37 -> 45.6171 | CS37: =((AE37*AV37))*BS37 -> 2.6942 | CT37: =((AF37*AV37))*BA37 -> 13276.025 | CU37: =AG37 -> 0 | CV37: =(AH37*AV37) -> 87.5 | CW37: =AI37 -> 0 | CX37: =AJ37 -> 0 | CY37: =S37*(BZ37/100) -> 3058.7976 | CZ37: =S37*(CA37/100) -> 1869.2652 | DN37: 80 | DO37: 55 | DP37: 1.047 | DQ37: 1 | DU37: =DU36 -> 1005 | DV37: =DV36 -> 100 м2 | DW37: =DW36 -> 100 м2 | DX37: =DX36 -> 100 | DY37: =DY36 -> 0 | DZ37: =DZ36 -> 0 | EA37: =EA36 -> 0 | EB37: =EB36 -> 0 | ... EM37: =EM36 -> ТСН-2001.6-65-5 | EQ37: 0 | ER37: 940.78 | ES37: 0 | ET37: 4.53 | EU37: 0.19 | EV37: 936.25 | EW37: 87.5 | EX37: 0 | EY37: 0 | FQ37: 0 | FR37: =ROUND(IF(AND(BH37=3,BI37=3),P37,0),2) -> 0 | FS37: 0 | FX37: 72 | FY37: 44 | GG37: 2 | GH37: 1 | GI37: 2 | GJ37: 0 | GK37: =ROUND(R37*(S12)/100,2) -> 1.45 | GL37: =ROUND(IF(AND(BH37=3,BI37=3,FS37<>0),P37,0),2) -> 0 | GM37: =O37+X37+Y37+GK37 -> 9192.45 | GN37: =ROUND(IF(OR(BI37=0,BI37=1),O37+X37+Y37+GK37,0),2) -> 9192.45 | GO37: =ROUND(IF(BI37=2,O37+X37+Y37+GK37,0),2) -> 0 | GP37: =ROUND(IF(BI37=4,O37+X37+Y37+GK37,0),2) -> 0 | GR37: 0
A38: 17 | B38: 1 | C38: =ROW(SmtRes!A22) -> 22 | D38: =ROW(EtalonRes!A22) -> 22 | E38: 6 | F38: 6.57-3-1 | G38: РАЗБОРКА ДЕРЕВЯННЫХ ПЛИНТУСОВ | H38: 100 м | I38: 0.168 | J38: 0 | O38: =ROUND(CP38,2) -> 6.47 | P38: =ROUND(CQ38*I38,2) -> 0 | Q38: =ROUND(CR38*I38,2) -> 0 | R38: =ROUND(CS38*I38,2) -> 0 | S38: =ROUND(CT38*I38,2) -> 6.47 | T38: =ROUND(CU38*I38,2) -> 0 | U38: =CV38*I38 -> 0.63336 | V38: =CW38*I38 -> 0 | W38: =ROUND(CX38*I38,2) -> 0 | X38: =ROUND(CY38,2) -> 5.18 | Y38: =ROUND(CZ38,2) -> 3.56 | AA38: 22529512 | AB38: =ROUND((AC38+AD38+AF38),6) -> 38.53 | AC38: =ROUND((ES38),6) -> 0 | AD38: =ROUND((((ET38)-(EU38))+AE38),6) -> 0 | AE38: =ROUND((EU38),6) -> 0 | AF38: =ROUND((EV38),6) -> 38.53 | AG38: =ROUND((AP38),6) -> 0 | AH38: =(EW38) -> 3.77 | AI38: =(EX38) -> 0 | AJ38: =ROUND((AS38),6) -> 0 | AK38: 38.53 | AL38: 0 | AM38: 0 | AN38: 0 | AO38: 38.53 | AP38: 0 | AQ38: 3.77 | AR38: 0 | AS38: 0 | AT38: 80 | AU38: 55 | AV38: 1 | AW38: 1 | AZ38: 1 | BA38: 1 | BB38: 1 | BC38: 1 | BH38: 0 | BI38: 1 | BJ38: ТСН-2001.6. База. Сб.57, т.3, поз.1 | BM38: 439 | BN38: 0 | BP38: 0 | BQ38: 60 | BS38: 1 | BT38: 1 | BU38: 1 | BV38: 1 | BW38: 1 | BX38: 1 | BZ38: 80 | CA38: 55 | CF38: 0 | CG38: 0 | CM38: 0 | CO38: 0 | CP38: =(P38+Q38+S38) -> 6.47 | CQ38: =((AC38*AW38))*BC38 -> 0 | CR38: =((AD38*AV38))*BB38 -> 0 | CS38: =((AE38*AV38))*BS38 -> 0 | CT38: =((AF38*AV38))*BA38 -> 38.53 | CU38: =AG38 -> 0 | CV38: =(AH38*AV38) -> 3.77 | CW38: =AI38 -> 0 | CX38: =AJ38 -> 0 | CY38: =((S38*BZ38)/100) -> 5.176 | CZ38: =((S38*CA38)/100) -> 3.5585 | DN38: 0 | DO38: 0 | DP38: 1 | DQ38: 1 | DU38: 1003 | DV38: 100 м | DW38: 100 м | DX38: 100 | EE38: 21121129 | EF38: 60 | EG38: Ремонтно-строительные работы | EH38: 0 | EJ38: 1 | EK38: 439 | EL38: ТСН-2001.6-57. 57-1...57-5 | EM38: ТСН-2001.6-57-1 | EQ38: 0 | ER38: 38.53 | ES38: 0 | ET38: 0 | EU38: 0 | EV38: 38.53 | EW38: 3.77 | EX38: 0 | EY38: 0 | EZ38: 0 | FQ38: 0 | FR38: =ROUND(IF(AND(BH38=3,BI38=3),P38,0),2) -> 0 | FS38: 0 | FX38: 80 | FY38: 55 | GG38: 2 | GH38: 1 | GI38: -2 | GJ38: 0 | GK38: =ROUND(R38*(R12)/100,2) -> 0 | GL38: =ROUND(IF(AND(BH38=3,BI38=3,FS38<>0),P38,0),2) -> 0 | GM38: =O38+X38+Y38+GK38 -> 15.21 | GN38: =ROUND(IF(OR(BI38=0,BI38=1),O38+X38+Y38+GK38,0),2) -> 15.21 | GO38: =ROUND(IF(BI38=2,O38+X38+Y38+GK38,0),2) -> 0 | GP38: =ROUND(IF(BI38=4,O38+X38+Y38+GK38,0),2) -> 0 | GR38: 0
A39: 17 | B39: 1 | C39: =ROW(SmtRes!A24) -> 24 | D39: =ROW(EtalonRes!A24) -> 24 | E39: 6 | F39: =F38 -> 6.57-3-1 | G39: =G38 -> РАЗБОРКА ДЕРЕВЯННЫХ ПЛИНТУСОВ | H39: =H38 -> 100 м | I39: =I38 -> 0.168 | J39: =J38 -> 0 | O39: =ROUND(CP39,2) -> 91.79 | P39: =ROUND(CQ39*I39,2) -> 0 | Q39: =ROUND(CR39*I39,2) -> 0 | R39: =ROUND(CS39*I39,2) -> 0 | S39: =ROUND(CT39*I39,2) -> 91.79 | T39: =ROUND(CU39*I39,2) -> 0 | U39: =CV39*I39 -> 0.63336 | V39: =CW39*I39 -> 0 | W39: =ROUND(CX39*I39,2) -> 0 | X39: =ROUND(CY39,2) -> 66.09 | Y39: =ROUND(CZ39,2) -> 40.39 | AA39: 22529510 | AB39: =ROUND((AC39+AD39+AF39),6) -> 38.53 | AC39: =ROUND((ES39),6) -> 0 | AD39: =ROUND((((ET39)-(EU39))+AE39),6) -> 0 | AE39: =ROUND((EU39),6) -> 0 | AF39: =ROUND((EV39),6) -> 38.53 | AG39: =ROUND((AP39),6) -> 0 | AH39: =(EW39) -> 3.77 | AI39: =(EX39) -> 0 | AJ39: =ROUND((AS39),6) -> 0 | AK39: 38.53 | AL39: 0 | AM39: 0 | AN39: 0 | AO39: 38.53 | AP39: 0 | AQ39: 3.77 | AR39: 0 | AS39: 0 | AT39: 72 | AU39: 44 | AV39: 1 | AW39: 1 | AZ39: 1 | BA39: 14.18 | BB39: 1 | BC39: 1 | BH39: 0 | BI39: 1 | BJ39: =BJ38 -> ТСН-2001.6. База. Сб.57, т.3, поз.1 | BM39: 439 | BN39: 0 | BO39: 6.57-3-1 | BP39: 1 | BQ39: 60 | BS39: 14.18 | BT39: 1 | BU39: 1 | BV39: 1 | BW39: 1 | BX39: 1 | BZ39: 72 | CA39: 44 | CF39: 0 | CG39: 0 | CM39: 0 | CO39: 0 | CP39: =(P39+Q39+S39) -> 91.79 | CQ39: =((AC39*AW39))*BC39 -> 0 | CR39: =((AD39*AV39))*BB39 -> 0 | CS39: =((AE39*AV39))*BS39 -> 0 | CT39: =((AF39*AV39))*BA39 -> 546.3554 | CU39: =AG39 -> 0 | CV39: =(AH39*AV39) -> 3.77 | CW39: =AI39 -> 0 | CX39: =AJ39 -> 0 | CY39: =S39*(BZ39/100) -> 66.0888 | CZ39: =S39*(CA39/100) -> 40.3876 | DN39: 80 | DO39: 55 | DP39: 1.047 | DQ39: 1 | DU39: =DU38 -> 1003 | DV39: =DV38 -> 100 м | DW39: =DW38 -> 100 м | DX39: =DX38 -> 100 | DY39: =DY38 -> 0 | DZ39: =DZ38 -> 0 | EA39: =EA38 -> 0 | EB39: =EB38 -> 0 | ... EM39: =EM38 -> ТСН-2001.6-57-1 | EQ39: 0 | ER39: 38.53 | ES39: 0 | ET39: 0 | EU39: 0 | EV39: 38.53 | EW39: 3.77 | EX39: 0 | EY39: 0 | FQ39: 0 | FR39: =ROUND(IF(AND(BH39=3,BI39=3),P39,0),2) -> 0 | FS39: 0 | FX39: 72 | FY39: 44 | GG39: 2 | GH39: 1 | GI39: 2 | GJ39: 0 | GK39: =ROUND(R39*(S12)/100,2) -> 0 | GL39: =ROUND(IF(AND(BH39=3,BI39=3,FS39<>0),P39,0),2) -> 0 | GM39: =O39+X39+Y39+GK39 -> 198.27 | GN39: =ROUND(IF(OR(BI39=0,BI39=1),O39+X39+Y39+GK39,0),2) -> 198.27 | GO39: =ROUND(IF(BI39=2,O39+X39+Y39+GK39,0),2) -> 0 | GP39: =ROUND(IF(BI39=4,O39+X39+Y39+GK39,0),2) -> 0 | GR39: 0
A40: 17 | B40: 1 | C40: =ROW(SmtRes!A26) -> 26 | D40: =ROW(EtalonRes!A26) -> 26 | E40: 7 | F40: 6.57-2-2 | G40: РАЗБОРКА ПАРКЕТА | H40: 100 м2 | I40: 0.154 | J40: 0 | O40: =ROUND(CP40,2) -> 63.82 | P40: =ROUND(CQ40*I40,2) -> 0 | Q40: =ROUND(CR40*I40,2) -> 0 | R40: =ROUND(CS40*I40,2) -> 0 | S40: =ROUND(CT40*I40,2) -> 63.82 | T40: =ROUND(CU40*I40,2) -> 0 | U40: =CV40*I40 -> 6.2447 | V40: =CW40*I40 -> 0 | W40: =ROUND(CX40*I40,2) -> 0 | X40: =ROUND(CY40,2) -> 51.06 | Y40: =ROUND(CZ40,2) -> 35.1 | AA40: 22529512 | AB40: =ROUND((AC40+AD40+AF40),6) -> 414.42 | AC40: =ROUND((ES40),6) -> 0 | AD40: =ROUND((((ET40)-(EU40))+AE40),6) -> 0 | AE40: =ROUND((EU40),6) -> 0 | AF40: =ROUND((EV40),6) -> 414.42 | AG40: =ROUND((AP40),6) -> 0 | AH40: =(EW40) -> 40.55 | AI40: =(EX40) -> 0 | AJ40: =ROUND((AS40),6) -> 0 | AK40: 414.42 | AL40: 0 | AM40: 0 | AN40: 0 | AO40: 414.42 | AP40: 0 | AQ40: 40.55 | AR40: 0 | AS40: 0 | AT40: 80 | AU40: 55 | AV40: 1 | AW40: 1 | AZ40: 1 | BA40: 1 | BB40: 1 | BC40: 1 | BH40: 0 | BI40: 1 | BJ40: ТСН-2001.6. База. Сб.57, т.2, поз.2 | BM40: 439 | BN40: 0 | BP40: 0 | BQ40: 60 | BS40: 1 | BT40: 1 | BU40: 1 | BV40: 1 | BW40: 1 | BX40: 1 | BZ40: 80 | CA40: 55 | CF40: 0 | CG40: 0 | CM40: 0 | CO40: 0 | CP40: =(P40+Q40+S40) -> 63.82 | CQ40: =((AC40*AW40))*BC40 -> 0 | CR40: =((AD40*AV40))*BB40 -> 0 | CS40: =((AE40*AV40))*BS40 -> 0 | CT40: =((AF40*AV40))*BA40 -> 414.42 | CU40: =AG40 -> 0 | CV40: =(AH40*AV40) -> 40.55 | CW40: =AI40 -> 0 | CX40: =AJ40 -> 0 | CY40: =((S40*BZ40)/100) -> 51.056 | CZ40: =((S40*CA40)/100) -> 35.101 | DN40: 0 | DO40: 0 | DP40: 1 | DQ40: 1 | DU40: 1005 | DV40: 100 м2 | DW40: 100 м2 | DX40: 100 | EE40: 21121129 | EF40: 60 | EG40: Ремонтно-строительные работы | EH40: 0 | EJ40: 1 | EK40: 439 | EL40: ТСН-2001.6-57. 57-1...57-5 | EM40: ТСН-2001.6-57-1 | EQ40: 0 | ER40: 414.42 | ES40: 0 | ET40: 0 | EU40: 0 | EV40: 414.42 | EW40: 40.55 | EX40: 0 | EY40: 0 | EZ40: 0 | FQ40: 0 | FR40: =ROUND(IF(AND(BH40=3,BI40=3),P40,0),2) -> 0 | FS40: 0 | FX40: 80 | FY40: 55 | GG40: 2 | GH40: 1 | GI40: -2 | GJ40: 0 | GK40: =ROUND(R40*(R12)/100,2) -> 0 | GL40: =ROUND(IF(AND(BH40=3,BI40=3,FS40<>0),P40,0),2) -> 0 | GM40: =O40+X40+Y40+GK40 -> 149.98 | GN40: =ROUND(IF(OR(BI40=0,BI40=1),O40+X40+Y40+GK40,0),2) -> 149.98 | GO40: =ROUND(IF(BI40=2,O40+X40+Y40+GK40,0),2) -> 0 | GP40: =ROUND(IF(BI40=4,O40+X40+Y40+GK40,0),2) -> 0 | GR40: 0
A41: 17 | B41: 1 | C41: =ROW(SmtRes!A28) -> 28 | D41: =ROW(EtalonRes!A28) -> 28 | E41: 7 | F41: =F40 -> 6.57-2-2 | G41: =G40 -> РАЗБОРКА ПАРКЕТА | H41: =H40 -> 100 м2 | I41: =I40 -> 0.154 | J41: =J40 -> 0 | O41: =ROUND(CP41,2) -> 904.98 | P41: =ROUND(CQ41*I41,2) -> 0 | Q41: =ROUND(CR41*I41,2) -> 0 | R41: =ROUND(CS41*I41,2) -> 0 | S41: =ROUND(CT41*I41,2) -> 904.98 | T41: =ROUND(CU41*I41,2) -> 0 | U41: =CV41*I41 -> 6.2447 | V41: =CW41*I41 -> 0 | W41: =ROUND(CX41*I41,2) -> 0 | X41: =ROUND(CY41,2) -> 651.59 | Y41: =ROUND(CZ41,2) -> 398.19 | AA41: 22529510 | AB41: =ROUND((AC41+AD41+AF41),6) -> 414.42 | AC41: =ROUND((ES41),6) -> 0 | AD41: =ROUND((((ET41)-(EU41))+AE41),6) -> 0 | AE41: =ROUND((EU41),6) -> 0 | AF41: =ROUND((EV41),6) -> 414.42 | AG41: =ROUND((AP41),6) -> 0 | AH41: =(EW41) -> 40.55 | AI41: =(EX41) -> 0 | AJ41: =ROUND((AS41),6) -> 0 | AK41: 414.42 | AL41: 0 | AM41: 0 | AN41: 0 | AO41: 414.42 | AP41: 0 | AQ41: 40.55 | AR41: 0 | AS41: 0 | AT41: 72 | AU41: 44 | AV41: 1 | AW41: 1 | AZ41: 1 | BA41: 14.18 | BB41: 1 | BC41: 1 | BH41: 0 | BI41: 1 | BJ41: =BJ40 -> ТСН-2001.6. База. Сб.57, т.2, поз.2 | BM41: 439 | BN41: 0 | BO41: 6.57-2-2 | BP41: 1 | BQ41: 60 | BS41: 14.18 | BT41: 1 | BU41: 1 | BV41: 1 | BW41: 1 | BX41: 1 | BZ41: 72 | CA41: 44 | CF41: 0 | CG41: 0 | CM41: 0 | CO41: 0 | CP41: =(P41+Q41+S41) -> 904.98 | CQ41: =((AC41*AW41))*BC41 -> 0 | CR41: =((AD41*AV41))*BB41 -> 0 | CS41: =((AE41*AV41))*BS41 -> 0 | CT41: =((AF41*AV41))*BA41 -> 5876.4756 | CU41: =AG41 -> 0 | CV41: =(AH41*AV41) -> 40.55 | CW41: =AI41 -> 0 | CX41: =AJ41 -> 0 | CY41: =S41*(BZ41/100) -> 651.5856 | CZ41: =S41*(CA41/100) -> 398.1912 | DN41: 80 | DO41: 55 | DP41: 1.047 | DQ41: 1 | DU41: =DU40 -> 1005 | DV41: =DV40 -> 100 м2 | DW41: =DW40 -> 100 м2 | DX41: =DX40 -> 100 | DY41: =DY40 -> 0 | DZ41: =DZ40 -> 0 | EA41: =EA40 -> 0 | EB41: =EB40 -> 0 | ... EM41: =EM40 -> ТСН-2001.6-57-1 | EQ41: 0 | ER41: 414.42 | ES41: 0 | ET41: 0 | EU41: 0 | EV41: 414.42 | EW41: 40.55 | EX41: 0 | EY41: 0 | FQ41: 0 | FR41: =ROUND(IF(AND(BH41=3,BI41=3),P41,0),2) -> 0 | FS41: 0 | FX41: 72 | FY41: 44 | GG41: 2 | GH41: 1 | GI41: 2 | GJ41: 0 | GK41: =ROUND(R41*(S12)/100,2) -> 0 | GL41: =ROUND(IF(AND(BH41=3,BI41=3,FS41<>0),P41,0),2) -> 0 | GM41: =O41+X41+Y41+GK41 -> 1954.76 | GN41: =ROUND(IF(OR(BI41=0,BI41=1),O41+X41+Y41+GK41,0),2) -> 1954.76 | GO41: =ROUND(IF(BI41=2,O41+X41+Y41+GK41,0),2) -> 0 | GP41: =ROUND(IF(BI41=4,O41+X41+Y41+GK41,0),2) -> 0 | GR41: 0
A42: 17 | B42: 1 | C42: =ROW(SmtRes!A30) -> 30 | D42: =ROW(EtalonRes!A30) -> 30 | E42: 8 | F42: 6.54-1-6 | G42: РАЗБОРКА ПОДВЕСНЫХ ПОТОЛКОВ ИЗ ПЛИТ "АРМСТРОНГ" | H42: 100 м2 | I42: 0.154 | J42: 0 | O42: =ROUND(CP42,2) -> 102.55 | P42: =ROUND(CQ42*I42,2) -> 0 | Q42: =ROUND(CR42*I42,2) -> 0.39 | R42: =ROUND(CS42*I42,2) -> 0.2 | S42: =ROUND(CT42*I42,2) -> 102.16 | T42: =ROUND(CU42*I42,2) -> 0 | U42: =CV42*I42 -> 9.0244 | V42: =CW42*I42 -> 0 | W42: =ROUND(CX42*I42,2) -> 0 | X42: =ROUND(CY42,2) -> 81.73 | Y42: =ROUND(CZ42,2) -> 56.19 | AA42: 22529512 | AB42: =ROUND((AC42+AD42+AF42),6) -> 665.85 | AC42: =ROUND((ES42),6) -> 0 | AD42: =ROUND((((ET42)-(EU42))+AE42),6) -> 2.5 | AE42: =ROUND((EU42),6) -> 1.31 | AF42: =ROUND((EV42),6) -> 663.35 | AG42: =ROUND((AP42),6) -> 0 | AH42: =(EW42) -> 58.6 | AI42: =(EX42) -> 0 | AJ42: =ROUND((AS42),6) -> 0 | AK42: 665.85 | AL42: 0 | AM42: 2.5 | AN42: 1.31 | AO42: 663.35 | AP42: 0 | AQ42: 58.6 | AR42: 0 | AS42: 0 | AT42: 80 | AU42: 55 | AV42: 1 | AW42: 1 | AZ42: 1 | BA42: 1 | BB42: 1 | BC42: 1 | BH42: 0 | BI42: 1 | BJ42: ТСН-2001.6. База. Сб.54, т.1, поз.6 | BM42: 419 | BN42: 0 | BP42: 0 | BQ42: 60 | BS42: 1 | BT42: 1 | BU42: 1 | BV42: 1 | BW42: 1 | BX42: 1 | BZ42: 80 | CA42: 55 | CF42: 0 | CG42: 0 | CM42: 0 | CO42: 0 | CP42: =(P42+Q42+S42) -> 102.55 | CQ42: =((AC42*AW42))*BC42 -> 0 | CR42: =((AD42*AV42))*BB42 -> 2.5 | CS42: =((AE42*AV42))*BS42 -> 1.31 | CT42: =((AF42*AV42))*BA42 -> 663.35 | CU42: =AG42 -> 0 | CV42: =(AH42*AV42) -> 58.6 | CW42: =AI42 -> 0 | CX42: =AJ42 -> 0 | CY42: =((S42*BZ42)/100) -> 81.728 | CZ42: =((S42*CA42)/100) -> 56.188 | DN42: 0 | DO42: 0 | DP42: 1 | DQ42: 1 | DU42: 1005 | DV42: 100 м2 | DW42: 100 м2 | DX42: 100 | EE42: 21121109 | EF42: 60 | EG42: Ремонтно-строительные работы | EH42: 0 | EJ42: 1 | EK42: 419 | EL42: ТСН-2001.6-54. 54-1...54-5 | EM42: ТСН-2001.6-54-2 | EQ42: 0 | ER42: 665.85 | ES42: 0 | ET42: 2.5 | EU42: 1.31 | EV42: 663.35 | EW42: 58.6 | EX42: 0 | EY42: 0 | EZ42: 0 | FQ42: 0 | FR42: =ROUND(IF(AND(BH42=3,BI42=3),P42,0),2) -> 0 | FS42: 0 | FX42: 80 | FY42: 55 | GG42: 2 | GH42: 1 | GI42: -2 | GJ42: 0 | GK42: =ROUND(R42*(R12)/100,2) -> 0.35 | GL42: =ROUND(IF(AND(BH42=3,BI42=3,FS42<>0),P42,0),2) -> 0 | GM42: =O42+X42+Y42+GK42 -> 240.82 | GN42: =ROUND(IF(OR(BI42=0,BI42=1),O42+X42+Y42+GK42,0),2) -> 240.82 | GO42: =ROUND(IF(BI42=2,O42+X42+Y42+GK42,0),2) -> 0 | GP42: =ROUND(IF(BI42=4,O42+X42+Y42+GK42,0),2) -> 0 | GR42: 0
A43: 17 | B43: 1 | C43: =ROW(SmtRes!A32) -> 32 | D43: =ROW(EtalonRes!A32) -> 32 | E43: 8 | F43: =F42 -> 6.54-1-6 | G43: =G42 -> РАЗБОРКА ПОДВЕСНЫХ ПОТОЛКОВ ИЗ ПЛИТ "АРМСТРОНГ" | H43: =H42 -> 100 м2 | I43: =I42 -> 0.154 | J43: =J42 -> 0 | O43: =ROUND(CP43,2) -> 1452.11 | P43: =ROUND(CQ43*I43,2) -> 0 | Q43: =ROUND(CR43*I43,2) -> 3.54 | R43: =ROUND(CS43*I43,2) -> 2.86 | S43: =ROUND(CT43*I43,2) -> 1448.57 | T43: =ROUND(CU43*I43,2) -> 0 | U43: =CV43*I43 -> 9.0244 | V43: =CW43*I43 -> 0 | W43: =ROUND(CX43*I43,2) -> 0 | X43: =ROUND(CY43,2) -> 1042.97 | Y43: =ROUND(CZ43,2) -> 637.37 | AA43: 22529510 | AB43: =ROUND((AC43+AD43+AF43),6) -> 665.85 | AC43: =ROUND((ES43),6) -> 0 | AD43: =ROUND((((ET43)-(EU43))+AE43),6) -> 2.5 | AE43: =ROUND((EU43),6) -> 1.31 | AF43: =ROUND((EV43),6) -> 663.35 | AG43: =ROUND((AP43),6) -> 0 | AH43: =(EW43) -> 58.6 | AI43: =(EX43) -> 0 | AJ43: =ROUND((AS43),6) -> 0 | AK43: 665.85 | AL43: 0 | AM43: 2.5 | AN43: 1.31 | AO43: 663.35 | AP43: 0 | AQ43: 58.6 | AR43: 0 | AS43: 0 | AT43: 72 | AU43: 44 | AV43: 1 | AW43: 1 | AZ43: 1 | BA43: 14.18 | BB43: 9.2 | BC43: 1 | BH43: 0 | BI43: 1 | BJ43: =BJ42 -> ТСН-2001.6. База. Сб.54, т.1, поз.6 | BM43: 419 | BN43: 0 | BO43: 6.54-1-6 | BP43: 1 | BQ43: 60 | BS43: 14.18 | BT43: 1 | BU43: 1 | BV43: 1 | BW43: 1 | BX43: 1 | BZ43: 72 | CA43: 44 | CF43: 0 | CG43: 0 | CM43: 0 | CO43: 0 | CP43: =(P43+Q43+S43) -> 1452.11 | CQ43: =((AC43*AW43))*BC43 -> 0 | CR43: =((AD43*AV43))*BB43 -> 23 | CS43: =((AE43*AV43))*BS43 -> 18.5758 | CT43: =((AF43*AV43))*BA43 -> 9406.303 | CU43: =AG43 -> 0 | CV43: =(AH43*AV43) -> 58.6 | CW43: =AI43 -> 0 | CX43: =AJ43 -> 0 | CY43: =S43*(BZ43/100) -> 1042.9704 | CZ43: =S43*(CA43/100) -> 637.3708 | DN43: 80 | DO43: 55 | DP43: 1.047 | DQ43: 1 | DU43: =DU42 -> 1005 | DV43: =DV42 -> 100 м2 | DW43: =DW42 -> 100 м2 | DX43: =DX42 -> 100 | DY43: =DY42 -> 0 | DZ43: =DZ42 -> 0 | EA43: =EA42 -> 0 | EB43: =EB42 -> 0 | ... EM43: =EM42 -> ТСН-2001.6-54-2 | EQ43: 0 | ER43: 665.85 | ES43: 0 | ET43: 2.5 | EU43: 1.31 | EV43: 663.35 | EW43: 58.6 | EX43: 0 | EY43: 0 | FQ43: 0 | FR43: =ROUND(IF(AND(BH43=3,BI43=3),P43,0),2) -> 0 | FS43: 0 | FX43: 72 | FY43: 44 | GG43: 2 | GH43: 1 | GI43: 2 | GJ43: 0 | GK43: =ROUND(R43*(S12)/100,2) -> 4.83 | GL43: =ROUND(IF(AND(BH43=3,BI43=3,FS43<>0),P43,0),2) -> 0 | GM43: =O43+X43+Y43+GK43 -> 3137.28 | GN43: =ROUND(IF(OR(BI43=0,BI43=1),O43+X43+Y43+GK43,0),2) -> 3137.28 | GO43: =ROUND(IF(BI43=2,O43+X43+Y43+GK43,0),2) -> 0 | GP43: =ROUND(IF(BI43=4,O43+X43+Y43+GK43,0),2) -> 0 | GR43: 0
A44: 17 | B44: 1 | C44: =ROW(SmtRes!A33) -> 33 | D44: =ROW(EtalonRes!A33) -> 33 | E44: 9 | F44: 6.67-7-5 | G44: ДЕМОНТАЖ СВЕТИЛЬНИКОВ С ЛЮМИНЕСЦЕНТНЫМИ ЛАМПАМИ | H44: 100 шт. | I44: 0.03 | J44: 0 | O44: =ROUND(CP44,2) -> 5.65 | P44: =ROUND(CQ44*I44,2) -> 0 | Q44: =ROUND(CR44*I44,2) -> 0 | R44: =ROUND(CS44*I44,2) -> 0 | S44: =ROUND(CT44*I44,2) -> 5.65 | T44: =ROUND(CU44*I44,2) -> 0 | U44: =CV44*I44 -> 0.5367 | V44: =CW44*I44 -> 0 | W44: =ROUND(CX44*I44,2) -> 0 | X44: =ROUND(CY44,2) -> 4.52 | Y44: =ROUND(CZ44,2) -> 3.11 | AA44: 22529512 | AB44: =ROUND((AC44+AD44+AF44),6) -> 188.2 | AC44: =ROUND((ES44),6) -> 0 | AD44: =ROUND((((ET44)-(EU44))+AE44),6) -> 0 | AE44: =ROUND((EU44),6) -> 0 | AF44: =ROUND((EV44),6) -> 188.2 | AG44: =ROUND((AP44),6) -> 0 | AH44: =(EW44) -> 17.89 | AI44: =(EX44) -> 0 | AJ44: =ROUND((AS44),6) -> 0 | AK44: 188.2 | AL44: 0 | AM44: 0 | AN44: 0 | AO44: 188.2 | AP44: 0 | AQ44: 17.89 | AR44: 0 | AS44: 0 | AT44: 80 | AU44: 55 | AV44: 1 | AW44: 1 | AZ44: 1 | BA44: 1 | BB44: 1 | BC44: 1 | BH44: 0 | BI44: 1 | BJ44: ТСН-2001.6. База. Сб.67, т.7, поз.5 | BM44: 652 | BN44: 0 | BP44: 0 | BQ44: 60 | BS44: 1 | BT44: 1 | BU44: 1 | BV44: 1 | BW44: 1 | BX44: 1 | BZ44: 80 | CA44: 55 | CF44: 0 | CG44: 0 | CM44: 0 | CO44: 0 | CP44: =(P44+Q44+S44) -> 5.65 | CQ44: =((AC44*AW44))*BC44 -> 0 | CR44: =((AD44*AV44))*BB44 -> 0 | CS44: =((AE44*AV44))*BS44 -> 0 | CT44: =((AF44*AV44))*BA44 -> 188.2 | CU44: =AG44 -> 0 | CV44: =(AH44*AV44) -> 17.89 | CW44: =AI44 -> 0 | CX44: =AJ44 -> 0 | CY44: =((S44*BZ44)/100) -> 4.52 | CZ44: =((S44*CA44)/100) -> 3.1075 | DN44: 0 | DO44: 0 | DP44: 1 | DQ44: 1 | DU44: 1010 | DV44: 100 шт. | DW44: 100 шт. | DX44: 100 | EE44: 21121342 | EF44: 60 | EG44: Ремонтно-строительные работы | EH44: 0 | EJ44: 1 | EK44: 652 | EL44: ТСН-2001.6-67. 67-1...67-8 | EM44: ТСН-2001.6-67-1 | EQ44: 0 | ER44: 188.2 | ES44: 0 | ET44: 0 | EU44: 0 | EV44: 188.2 | EW44: 17.89 | EX44: 0 | EY44: 0 | EZ44: 0 | FQ44: 0 | FR44: =ROUND(IF(AND(BH44=3,BI44=3),P44,0),2) -> 0 | FS44: 0 | FX44: 80 | FY44: 55 | GG44: 2 | GH44: 1 | GI44: -2 | GJ44: 0 | GK44: =ROUND(R44*(R12)/100,2) -> 0 | GL44: =ROUND(IF(AND(BH44=3,BI44=3,FS44<>0),P44,0),2) -> 0 | GM44: =O44+X44+Y44+GK44 -> 13.28 | GN44: =ROUND(IF(OR(BI44=0,BI44=1),O44+X44+Y44+GK44,0),2) -> 13.28 | GO44: =ROUND(IF(BI44=2,O44+X44+Y44+GK44,0),2) -> 0 | GP44: =ROUND(IF(BI44=4,O44+X44+Y44+GK44,0),2) -> 0 | GR44: 0
A45: 17 | B45: 1 | C45: =ROW(SmtRes!A34) -> 34 | D45: =ROW(EtalonRes!A34) -> 34 | E45: 9 | F45: =F44 -> 6.67-7-5 | G45: =G44 -> ДЕМОНТАЖ СВЕТИЛЬНИКОВ С ЛЮМИНЕСЦЕНТНЫМИ ЛАМПАМИ | H45: =H44 -> 100 шт. | I45: =I44 -> 0.03 | J45: =J44 -> 0 | O45: =ROUND(CP45,2) -> 80.06 | P45: =ROUND(CQ45*I45,2) -> 0 | Q45: =ROUND(CR45*I45,2) -> 0 | R45: =ROUND(CS45*I45,2) -> 0 | S45: =ROUND(CT45*I45,2) -> 80.06 | T45: =ROUND(CU45*I45,2) -> 0 | U45: =CV45*I45 -> 0.5367 | V45: =CW45*I45 -> 0 | W45: =ROUND(CX45*I45,2) -> 0 | X45: =ROUND(CY45,2) -> 57.64 | Y45: =ROUND(CZ45,2) -> 35.23 | AA45: 22529510 | AB45: =ROUND((AC45+AD45+AF45),6) -> 188.2 | AC45: =ROUND((ES45),6) -> 0 | AD45: =ROUND((((ET45)-(EU45))+AE45),6) -> 0 | AE45: =ROUND((EU45),6) -> 0 | AF45: =ROUND((EV45),6) -> 188.2 | AG45: =ROUND((AP45),6) -> 0 | AH45: =(EW45) -> 17.89 | AI45: =(EX45) -> 0 | AJ45: =ROUND((AS45),6) -> 0 | AK45: 188.2 | AL45: 0 | AM45: 0 | AN45: 0 | AO45: 188.2 | AP45: 0 | AQ45: 17.89 | AR45: 0 | AS45: 0 | AT45: 72 | AU45: 44 | AV45: 1 | AW45: 1 | AZ45: 1 | BA45: 14.18 | BB45: 1 | BC45: 1 | BH45: 0 | BI45: 1 | BJ45: =BJ44 -> ТСН-2001.6. База. Сб.67, т.7, поз.5 | BM45: 652 | BN45: 0 | BO45: 6.67-7-5 | BP45: 1 | BQ45: 60 | BS45: 14.18 | BT45: 1 | BU45: 1 | BV45: 1 | BW45: 1 | BX45: 1 | BZ45: 72 | CA45: 44 | CF45: 0 | CG45: 0 | CM45: 0 | CO45: 0 | CP45: =(P45+Q45+S45) -> 80.06 | CQ45: =((AC45*AW45))*BC45 -> 0 | CR45: =((AD45*AV45))*BB45 -> 0 | CS45: =((AE45*AV45))*BS45 -> 0 | CT45: =((AF45*AV45))*BA45 -> 2668.676 | CU45: =AG45 -> 0 | CV45: =(AH45*AV45) -> 17.89 | CW45: =AI45 -> 0 | CX45: =AJ45 -> 0 | CY45: =S45*(BZ45/100) -> 57.6432 | CZ45: =S45*(CA45/100) -> 35.2264 | DN45: 80 | DO45: 55 | DP45: 1.047 | DQ45: 1 | DU45: =DU44 -> 1010 | DV45: =DV44 -> 100 шт. | DW45: =DW44 -> 100 шт. | DX45: =DX44 -> 100 | DY45: =DY44 -> 0 | DZ45: =DZ44 -> 0 | EA45: =EA44 -> 0 | EB45: =EB44 -> 0 | ... EM45: =EM44 -> ТСН-2001.6-67-1 | EQ45: 0 | ER45: 188.2 | ES45: 0 | ET45: 0 | EU45: 0 | EV45: 188.2 | EW45: 17.89 | EX45: 0 | EY45: 0 | FQ45: 0 | FR45: =ROUND(IF(AND(BH45=3,BI45=3),P45,0),2) -> 0 | FS45: 0 | FX45: 72 | FY45: 44 | GG45: 2 | GH45: 1 | GI45: 2 | GJ45: 0 | GK45: =ROUND(R45*(S12)/100,2) -> 0 | GL45: =ROUND(IF(AND(BH45=3,BI45=3,FS45<>0),P45,0),2) -> 0 | GM45: =O45+X45+Y45+GK45 -> 172.93 | GN45: =ROUND(IF(OR(BI45=0,BI45=1),O45+X45+Y45+GK45,0),2) -> 172.93 | GO45: =ROUND(IF(BI45=2,O45+X45+Y45+GK45,0),2) -> 0 | GP45: =ROUND(IF(BI45=4,O45+X45+Y45+GK45,0),2) -> 0 | GR45: 0
A46: 17 | B46: 1 | C46: =ROW(SmtRes!A35) -> 35 | D46: =ROW(EtalonRes!A35) -> 35 | E46: 10 | F46: 6.67-7-1 | G46: ДЕМОНТАЖ РОЗЕТОК | H46: 100 шт. | I46: 0.04 | J46: 0 | O46: =ROUND(CP46,2) -> 2.39 | P46: =ROUND(CQ46*I46,2) -> 0 | Q46: =ROUND(CR46*I46,2) -> 0 | R46: =ROUND(CS46*I46,2) -> 0 | S46: =ROUND(CT46*I46,2) -> 2.39 | T46: =ROUND(CU46*I46,2) -> 0 | U46: =CV46*I46 -> 0.2336 | V46: =CW46*I46 -> 0 | W46: =ROUND(CX46*I46,2) -> 0 | X46: =ROUND(CY46,2) -> 1.91 | Y46: =ROUND(CZ46,2) -> 1.31 | AA46: 22529512 | AB46: =ROUND((AC46+AD46+AF46),6) -> 59.68 | AC46: =ROUND((ES46),6) -> 0 | AD46: =ROUND((((ET46)-(EU46))+AE46),6) -> 0 | AE46: =ROUND((EU46),6) -> 0 | AF46: =ROUND((EV46),6) -> 59.68 | AG46: =ROUND((AP46),6) -> 0 | AH46: =(EW46) -> 5.84 | AI46: =(EX46) -> 0 | AJ46: =ROUND((AS46),6) -> 0 | AK46: 59.68 | AL46: 0 | AM46: 0 | AN46: 0 | AO46: 59.68 | AP46: 0 | AQ46: 5.84 | AR46: 0 | AS46: 0 | AT46: 80 | AU46: 55 | AV46: 1 | AW46: 1 | AZ46: 1 | BA46: 1 | BB46: 1 | BC46: 1 | BH46: 0 | BI46: 1 | BJ46: ТСН-2001.6. База. Сб.67, т.7, поз.1 | BM46: 652 | BN46: 0 | BP46: 0 | BQ46: 60 | BS46: 1 | BT46: 1 | BU46: 1 | BV46: 1 | BW46: 1 | BX46: 1 | BZ46: 80 | CA46: 55 | CF46: 0 | CG46: 0 | CM46: 0 | CO46: 0 | CP46: =(P46+Q46+S46) -> 2.39 | CQ46: =((AC46*AW46))*BC46 -> 0 | CR46: =((AD46*AV46))*BB46 -> 0 | CS46: =((AE46*AV46))*BS46 -> 0 | CT46: =((AF46*AV46))*BA46 -> 59.68 | CU46: =AG46 -> 0 | CV46: =(AH46*AV46) -> 5.84 | CW46: =AI46 -> 0 | CX46: =AJ46 -> 0 | CY46: =((S46*BZ46)/100) -> 1.912 | CZ46: =((S46*CA46)/100) -> 1.3145 | DN46: 0 | DO46: 0 | DP46: 1 | DQ46: 1 | DU46: 1010 | DV46: 100 шт. | DW46: 100 шт. | DX46: 100 | EE46: 21121342 | EF46: 60 | EG46: Ремонтно-строительные работы | EH46: 0 | EJ46: 1 | EK46: 652 | EL46: ТСН-2001.6-67. 67-1...67-8 | EM46: ТСН-2001.6-67-1 | EQ46: 0 | ER46: 59.68 | ES46: 0 | ET46: 0 | EU46: 0 | EV46: 59.68 | EW46: 5.84 | EX46: 0 | EY46: 0 | EZ46: 0 | FQ46: 0 | FR46: =ROUND(IF(AND(BH46=3,BI46=3),P46,0),2) -> 0 | FS46: 0 | FX46: 80 | FY46: 55 | GG46: 2 | GH46: 1 | GI46: -2 | GJ46: 0 | GK46: =ROUND(R46*(R12)/100,2) -> 0 | GL46: =ROUND(IF(AND(BH46=3,BI46=3,FS46<>0),P46,0),2) -> 0 | GM46: =O46+X46+Y46+GK46 -> 5.61 | GN46: =ROUND(IF(OR(BI46=0,BI46=1),O46+X46+Y46+GK46,0),2) -> 5.61 | GO46: =ROUND(IF(BI46=2,O46+X46+Y46+GK46,0),2) -> 0 | GP46: =ROUND(IF(BI46=4,O46+X46+Y46+GK46,0),2) -> 0 | GR46: 0
A47: 17 | B47: 1 | C47: =ROW(SmtRes!A36) -> 36 | D47: =ROW(EtalonRes!A36) -> 36 | E47: 10 | F47: =F46 -> 6.67-7-1 | G47: =G46 -> ДЕМОНТАЖ РОЗЕТОК | H47: =H46 -> 100 шт. | I47: =I46 -> 0.04 | J47: =J46 -> 0 | O47: =ROUND(CP47,2) -> 33.85 | P47: =ROUND(CQ47*I47,2) -> 0 | Q47: =ROUND(CR47*I47,2) -> 0 | R47: =ROUND(CS47*I47,2) -> 0 | S47: =ROUND(CT47*I47,2) -> 33.85 | T47: =ROUND(CU47*I47,2) -> 0 | U47: =CV47*I47 -> 0.2336 | V47: =CW47*I47 -> 0 | W47: =ROUND(CX47*I47,2) -> 0 | X47: =ROUND(CY47,2) -> 24.37 | Y47: =ROUND(CZ47,2) -> 14.89 | AA47: 22529510 | AB47: =ROUND((AC47+AD47+AF47),6) -> 59.68 | AC47: =ROUND((ES47),6) -> 0 | AD47: =ROUND((((ET47)-(EU47))+AE47),6) -> 0 | AE47: =ROUND((EU47),6) -> 0 | AF47: =ROUND((EV47),6) -> 59.68 | AG47: =ROUND((AP47),6) -> 0 | AH47: =(EW47) -> 5.84 | AI47: =(EX47) -> 0 | AJ47: =ROUND((AS47),6) -> 0 | AK47: 59.68 | AL47: 0 | AM47: 0 | AN47: 0 | AO47: 59.68 | AP47: 0 | AQ47: 5.84 | AR47: 0 | AS47: 0 | AT47: 72 | AU47: 44 | AV47: 1 | AW47: 1 | AZ47: 1 | BA47: 14.18 | BB47: 1 | BC47: 1 | BH47: 0 | BI47: 1 | BJ47: =BJ46 -> ТСН-2001.6. База. Сб.67, т.7, поз.1 | BM47: 652 | BN47: 0 | BO47: 6.67-7-1 | BP47: 1 | BQ47: 60 | BS47: 14.18 | BT47: 1 | BU47: 1 | BV47: 1 | BW47: 1 | BX47: 1 | BZ47: 72 | CA47: 44 | CF47: 0 | CG47: 0 | CM47: 0 | CO47: 0 | CP47: =(P47+Q47+S47) -> 33.85 | CQ47: =((AC47*AW47))*BC47 -> 0 | CR47: =((AD47*AV47))*BB47 -> 0 | CS47: =((AE47*AV47))*BS47 -> 0 | CT47: =((AF47*AV47))*BA47 -> 846.2624 | CU47: =AG47 -> 0 | CV47: =(AH47*AV47) -> 5.84 | CW47: =AI47 -> 0 | CX47: =AJ47 -> 0 | CY47: =S47*(BZ47/100) -> 24.372 | CZ47: =S47*(CA47/100) -> 14.894 | DN47: 80 | DO47: 55 | DP47: 1.047 | DQ47: 1 | DU47: =DU46 -> 1010 | DV47: =DV46 -> 100 шт. | DW47: =DW46 -> 100 шт. | DX47: =DX46 -> 100 | DY47: =DY46 -> 0 | DZ47: =DZ46 -> 0 | EA47: =EA46 -> 0 | EB47: =EB46 -> 0 | ... EM47: =EM46 -> ТСН-2001.6-67-1 | EQ47: 0 | ER47: 59.68 | ES47: 0 | ET47: 0 | EU47: 0 | EV47: 59.68 | EW47: 5.84 | EX47: 0 | EY47: 0 | FQ47: 0 | FR47: =ROUND(IF(AND(BH47=3,BI47=3),P47,0),2) -> 0 | FS47: 0 | FX47: 72 | FY47: 44 | GG47: 2 | GH47: 1 | GI47: 2 | GJ47: 0 | GK47: =ROUND(R47*(S12)/100,2) -> 0 | GL47: =ROUND(IF(AND(BH47=3,BI47=3,FS47<>0),P47,0),2) -> 0 | GM47: =O47+X47+Y47+GK47 -> 73.11 | GN47: =ROUND(IF(OR(BI47=0,BI47=1),O47+X47+Y47+GK47,0),2) -> 73.11 | GO47: =ROUND(IF(BI47=2,O47+X47+Y47+GK47,0),2) -> 0 | GP47: =ROUND(IF(BI47=4,O47+X47+Y47+GK47,0),2) -> 0 | GR47: 0
A49: 51 | B49: =B24 -> 1 | C49: =A24 -> 4 | D49: =ROW(A24) -> 24 | F49: =IF(F24<>"",F24,"") -> РАЗДЕЛ 1. | G49: =IF(G24<>"",G24,"") -> ДЕМОНТАЖНЫЕ РАБОТЫ | O49: =ROUND(AB49,2) -> 655.96 | P49: =ROUND(AC49,2) -> 0 | Q49: =ROUND(AD49,2) -> 1.84 | R49: =ROUND(AE49,2) -> 0.26 | S49: =ROUND(AF49,2) -> 654.12 | T49: =ROUND(AG49,2) -> 0 | U49: =AH49 -> 61.52557 | V49: =AI49 -> 0 | W49: =ROUND(AJ49,2) -> 0 | X49: =ROUND(AK49,2) -> 523.31 | Y49: =ROUND(AL49,2) -> 359.77 | AB49: =ROUND(SUMIF(AA28:AA47,"=22529512",O28:O47),2) -> 655.96 | AC49: =ROUND(SUMIF(AA28:AA47,"=22529512",P28:P47),2) -> 0 | AD49: =ROUND(SUMIF(AA28:AA47,"=22529512",Q28:Q47),2) -> 1.84 | AE49: =ROUND(SUMIF(AA28:AA47,"=22529512",R28:R47),2) -> 0.26 | AF49: =ROUND(SUMIF(AA28:AA47,"=22529512",S28:S47),2) -> 654.12 | AG49: =ROUND(SUMIF(AA28:AA47,"=22529512",T28:T47),2) -> 0 | AH49: =SUMIF(AA28:AA47,"=22529512",U28:U47) -> 61.52557 | AI49: =SUMIF(AA28:AA47,"=22529512",V28:V47) -> 0 | AJ49: =ROUND(SUMIF(AA28:AA47,"=22529512",W28:W47),2) -> 0 | AK49: =ROUND(SUMIF(AA28:AA47,"=22529512",X28:X47),2) -> 523.31 | AL49: =ROUND(SUMIF(AA28:AA47,"=22529512",Y28:Y47),2) -> 359.77 | AO49: =ROUND(BB49,2) -> 0 | AP49: =ROUND(BC49,2) -> 0 | AQ49: =ROUND(BD49,2) -> 0 | AR49: =ROUND(BE49,2) -> 1539.5 | AS49: =ROUND(BF49,2) -> 1539.5 | AT49: =ROUND(BG49,2) -> 0 | AU49: =ROUND(BH49,2) -> 0 | BB49: =ROUND(SUMIF(AA28:AA47,"=22529512",FQ28:FQ47),2) -> 0 | BC49: =ROUND(SUMIF(AA28:AA47,"=22529512",FR28:FR47),2) -> 0 | BD49: =ROUND(SUMIF(AA28:AA47,"=22529512",GL28:GL47),2) -> 0 | BE49: =ROUND(SUMIF(AA28:AA47,"=22529512",GM28:GM47),2) -> 1539.5 | BF49: =ROUND(SUMIF(AA28:AA47,"=22529512",GN28:GN47),2) -> 1539.5 | BG49: =ROUND(SUMIF(AA28:AA47,"=22529512",GO28:GO47),2) -> 0 | BH49: =ROUND(SUMIF(AA28:AA47,"=22529512",GP28:GP47),2) -> 0 | BO49: =ROUND(CB49,2) -> 9293.54 | BP49: =ROUND(CC49,2) -> 0 | BQ49: =ROUND(CD49,2) -> 18.14 | BR49: =ROUND(CE49,2) -> 3.72 | BS49: =ROUND(CF49,2) -> 9275.4 | BT49: =ROUND(CG49,2) -> 0 | BU49: =CH49 -> 61.52557 | BV49: =CI49 -> 0 | BW49: =ROUND(CJ49,2) -> 0 | BX49: =ROUND(CK49,2) -> 6678.29 | BY49: =ROUND(CL49,2) -> 4081.19 | CB49: =ROUND(SUMIF(AA28:AA47,"=22529510",O28:O47),2) -> 9293.54 | CC49: =ROUND(SUMIF(AA28:AA47,"=22529510",P28:P47),2) -> 0 | CD49: =ROUND(SUMIF(AA28:AA47,"=22529510",Q28:Q47),2) -> 18.14 | CE49: =ROUND(SUMIF(AA28:AA47,"=22529510",R28:R47),2) -> 3.72 | CF49: =ROUND(SUMIF(AA28:AA47,"=22529510",S28:S47),2) -> 9275.4 | CG49: =ROUND(SUMIF(AA28:AA47,"=22529510",T28:T47),2) -> 0 | CH49: =SUMIF(AA28:AA47,"=22529510",U28:U47) -> 61.52557 | CI49: =SUMIF(AA28:AA47,"=22529510",V28:V47) -> 0 | CJ49: =ROUND(SUMIF(AA28:AA47,"=22529510",W28:W47),2) -> 0 | CK49: =ROUND(SUMIF(AA28:AA47,"=22529510",X28:X47),2) -> 6678.29 | CL49: =ROUND(SUMIF(AA28:AA47,"=22529510",Y28:Y47),2) -> 4081.19 | CO49: =ROUND(DB49,2) -> 0 | CP49: =ROUND(DC49,2) -> 0 | CQ49: =ROUND(DD49,2) -> 0 | CR49: =ROUND(DE49,2) -> 20059.3 | CS49: =ROUND(DF49,2) -> 20059.3 | CT49: =ROUND(DG49,2) -> 0 | CU49: =ROUND(DH49,2) -> 0 | DB49: =ROUND(SUMIF(AA28:AA47,"=22529510",FQ28:FQ47),2) -> 0 | DC49: =ROUND(SUMIF(AA28:AA47,"=22529510",FR28:FR47),2) -> 0 | DD49: =ROUND(SUMIF(AA28:AA47,"=22529510",GL28:GL47),2) -> 0 | DE49: =ROUND(SUMIF(AA28:AA47,"=22529510",GM28:GM47),2) -> 20059.3 | DF49: =ROUND(SUMIF(AA28:AA47,"=22529510",GN28:GN47),2) -> 20059.3 | DG49: =ROUND(SUMIF(AA28:AA47,"=22529510",GO28:GO47),2) -> 0 | DH49: =ROUND(SUMIF(AA28:AA47,"=22529510",GP28:GP47),2) -> 0 | DN49: 0
A51: 50 | B51: 0 | C51: 0 | D51: 1 | E51: 201 | F51: =ROUND(Source!O49,O51) -> 655.96 | G51: ПЗ | H51: Прямые затраты | K51: 201 | L51: 1 | M51: 3 | O51: 2 | P51: =ROUND(Source!BO49,O51) -> 9293.54
A52: 50 | B52: 0 | C52: 0 | D52: 1 | E52: 202 | F52: =ROUND(Source!P49,O52) -> 0 | G52: СтМат | H52: Стоимость материальных ресурсов | K52: 202 | L52: 2 | M52: 3 | O52: 2 | P52: =ROUND(Source!BP49,O52) -> 0
A53: 50 | B53: 0 | C53: 0 | D53: 1 | E53: 222 | F53: =ROUND(Source!AO49,O53) -> 0 | G53: СтМатЗак | H53: Стоимость материалов заказчика | K53: 222 | L53: 3 | M53: 3 | O53: 2 | P53: =ROUND(Source!CO49,O53) -> 0
A54: 50 | B54: 0 | C54: 0 | D54: 1 | E54: 216 | F54: =ROUND(Source!AP49,O54) -> 0 | G54: Оборуд | H54: Стоимость оборудования | K54: 216 | L54: 4 | M54: 3 | O54: 2 | P54: =ROUND(Source!CP49,O54) -> 0
A55: 50 | B55: 0 | C55: 0 | D55: 1 | E55: 223 | F55: =ROUND(Source!AQ49,O55) -> 0 | G55: ОборудЗак | H55: Стоимость оборудования заказчика | K55: 223 | L55: 5 | M55: 3 | O55: 2 | P55: =ROUND(Source!CQ49,O55) -> 0
A56: 50 | B56: 0 | C56: 0 | D56: 1 | E56: 203 | F56: =ROUND(Source!Q49,O56) -> 1.84 | G56: ЭММ | H56: Эксплуатация машин | K56: 203 | L56: 6 | M56: 3 | O56: 2 | P56: =ROUND(Source!BQ49,O56) -> 18.14
A57: 50 | B57: 0 | C57: 0 | D57: 1 | E57: 204 | F57: =ROUND(Source!R49,O57) -> 0.26 | G57: ЗПМ | H57: ЗП машинистов | K57: 204 | L57: 7 | M57: 3 | O57: 2 | P57: =ROUND(Source!BR49,O57) -> 3.72
A58: 50 | B58: 0 | C58: 0 | D58: 1 | E58: 205 | F58: =ROUND(Source!S49,O58) -> 654.12 | G58: ОЗП | H58: Основная ЗП рабочих | K58: 205 | L58: 8 | M58: 3 | O58: 2 | P58: =ROUND(Source!BS49,O58) -> 9275.4
A59: 50 | B59: 0 | C59: 0 | D59: 1 | E59: 214 | F59: =ROUND(Source!AS49,O59) -> 1539.5 | G59: Строит | H59: Строительные работы с НР и СП | K59: 214 | L59: 9 | M59: 3 | O59: 2 | P59: =ROUND(Source!CS49,O59) -> 20059.3
A60: 50 | B60: 0 | C60: 0 | D60: 1 | E60: 215 | F60: =ROUND(Source!AT49,O60) -> 0 | G60: Монтаж | H60: Монтажные работы с НР и СП | K60: 215 | L60: 10 | M60: 3 | O60: 2 | P60: =ROUND(Source!CT49,O60) -> 0
A61: 50 | B61: 0 | C61: 0 | D61: 1 | E61: 217 | F61: =ROUND(Source!AU49,O61) -> 0 | G61: Прочие | H61: Прочие работы с НР и СП | K61: 217 | L61: 11 | M61: 3 | O61: 2 | P61: =ROUND(Source!CU49,O61) -> 0
...

Sheet SourceObSm
A1: 0 | B1: Smeta.RU (495) 974-1589 | D1: _OBSM_ | F1: 0 | G1: 0 | H1: 0 | I1: Smeta.RU | K1: 1 | L1: 44960
A12: 1 | B12: 45 | C12: 0 | E12: 0 | F12: Новый объект | G12: 555 | I12: 0 | O12: 0 | P12: 0 | Q12: 0 | R12: 175 | S12: 169 | V12: 0 | BH12: Сметные нормы списания | BI12: Коды ОКП для ТСН-2001 | BJ12: 1 | BK12: 1 | BL12: 0 | BM12: 0 | BN12: 1 | BO12: 0 | BP12: 6 | BQ12: 2 | BR12: 1 | BS12: 1 | BT12: 0 | BU12: 0 | BV12: 0 | BW12: 0 | BX12: 0 | BY12: ТСН 2001- Ремонт | BZ12: Типовой расчет для ТСН-2001 (Ремонт) | CA12: ТСН-2001 | CB12: ТСН-2001 | CC12: ТСН-2001 | CD12: ТСН-2001 | CE12: Поправки для ТСН-2001 | CF12: 0 | CG12: 0 | CH12: 8 | EC12: 0
A14: 22 | B14: 0 | C14: 0 | D14: 22529512 | E14: 22529510 | F14: 3
A16: 3 | B16: 1 | D16: ТЕКУЩИЙ РЕМОНТ В ПОМЕЩЕНИИ №555, КОРПУС 1 | E16: 158.6 | F16: 32.24 | G16: 0 | H16: 0 | I16: 190.84 | J16: 5.42 | T16: 330.27 | U16: 58.66 | V16: 0 | W16: 0 | X16: 388.93 | Y16: 76.82 | AI16: 0 | AJ16: -1 | AN16: 0 | AT16: 181776.26 | AU16: 175852.49 | AV16: 0 | AW16: 0 | AX16: 0 | AY16: 506.33 | AZ16: 77.63 | BA16: 5417.44 | BB16: 158603.4 | BC16: 32240.68 | BD16: 0 | BE16: 0 | BF16: 459.32293 | BG16: 0 | BH16: 0 | BI16: 5316.45 | BJ16: 3615.49 | BK16: 190844.08 | BR16: 290815.68 | BS16: 210439.73 | BT16: 0 | BU16: 0 | BV16: 0 | BW16: 3556.81 | BX16: 1100.72 | BY16: 76819.14 | BZ16: 330271.37 | CA16: 58662.76 | CB16: 0 | CC16: 0 | CD16: 459.32293 | CE16: 0 | CF16: 0 | CG16: 62457.81 | CH16: 33800.44 | CI16: 388934.13
A18: 51 | E18: 158.6 | F18: 32.24 | G18: 0 | H18: 0 | I18: 190.84 | J18: 5.42 | T18: 330.27 | U18: 58.66 | V18: 0 | W18: 0 | X18: 388.93 | Y18: 76.82
A20: 50 | B20: 0 | C20: 0 | D20: 1 | E20: 201 | F20: 181776.26 | G20: ПЗ | H20: Прямые затраты | K20: 201 | L20: 1 | M20: 3 | O20: 2 | P20: 290815.68
A21: 50 | B21: 0 | C21: 0 | D21: 1 | E21: 202 | F21: 175852.49 | G21: СтМат | H21: Стоимость материальных ресурсов | K21: 202 | L21: 2 | M21: 3 | O21: 2 | P21: 210439.73
A22: 50 | B22: 0 | C22: 0 | D22: 1 | E22: 222 | F22: 0 | G22: СтМатЗак | H22: Стоимость материалов заказчика | K22: 222 | L22: 3 | M22: 3 | O22: 2 | P22: 0
A23: 50 | B23: 0 | C23: 0 | D23: 1 | E23: 216 | F23: 0 | G23: Оборуд | H23: Стоимость оборудования | K23: 216 | L23: 4 | M23: 3 | O23: 2 | P23: 0
A24: 50 | B24: 0 | C24: 0 | D24: 1 | E24: 223 | F24: 0 | G24: ОборудЗак | H24: Стоимость оборудования заказчика | K24: 223 | L24: 5 | M24: 3 | O24: 2 | P24: 0
A25: 50 | B25: 0 | C25: 0 | D25: 1 | E25: 203 | F25: 506.33 | G25: ЭММ | H25: Эксплуатация машин | K25: 203 | L25: 6 | M25: 3 | O25: 2 | P25: 3556.81
A26: 50 | B26: 0 | C26: 0 | D26: 1 | E26: 204 | F26: 77.63 | G26: ЗПМ | H26: ЗП машинистов | K26: 204 | L26: 7 | M26: 3 | O26: 2 | P26: 1100.72
A27: 50 | B27: 0 | C27: 0 | D27: 1 | E27: 205 | F27: 5417.44 | G27: ОЗП | H27: Основная ЗП рабочих | K27: 205 | L27: 8 | M27: 3 | O27: 2 | P27: 76819.14
